{"text_format":"1","workbook":"xlsx","n_sheets":14,"sheets":["L'épicerie","La livraison","Panier","Produits frais ","Alimentaire conditionné","Alimentaire vrac","Boissons en vrac","Boissons conditionnées","Hygiène","Entretien","Zéro déchets","Import","🥜 Tous les produits","Données"],"not_rendered":{"charts":0,"images":16,"macros":1,"external_links":0,"defined_names":11,"comments":1,"pivot_tables":0},"unopened":[],"bounds":{"document_bytes":16777216,"sheet_cells":100000,"rows_first":2000,"rows_last":500,"rows_between":2000,"halvings":0,"cell_chars":16384,"cell_head_chars":4096},"cells_cut":0,"cells_raw":0,"read":"whole","date_system":"1900"}

{"sheet":"L'épicerie","index":0,"n_rows":23,"n_cols":2,"rows_kept":23,"cut":false,"hidden":false,"merged":[]}
[null,"                         Ce que je propose à l'épicerie "]
[]
[null,"Je suis fière de vous proposer un mode de consommation durable et responsable. \nGrain de Luce offre une large gamme de produits en vrac pour que vous puissiez acheter \nuniquement ce dont vous avez besoin, sans gaspillage ni emballage superflu."]
[]
[null,"🍀 Je suis convaincue que chaque petit geste compte! 🍀"]
[]
[null,"➡️ En choisissant de consommer en vrac, vous contribuez à réduire votre empreinte environnementale \net à soutenir une économie locale et équitable. \nJe travaille en étroite collaboration avec des fournisseurs locaux et régionaux pour offrir des produits de qualité."]
[]
[]
[]
[]
[null,"Chez Grain de Luce, vous trouverez en vrac:"]
[]
[null," 🥜 Des produits secs sucrés et salés"]
[]
[null," 🪺 Des produits frais"]
[]
[null," 🧴 Des produits d’hygiène et cosmétiques"]
[]
[null," 🧽 Des produits ménagers "]
[]
[null,"♻️ Des accessoires zéro déchet "]
[null," 🍯 Des produits sucrés et salés conditionnés. "]

{"sheet":"La livraison","index":1,"n_rows":19,"n_cols":16384,"rows_kept":19,"cut":false,"hidden":false,"merged":[]}
[null,"               🛵 Ouverture du service de livraison Grain de Luce 🛵",null,null,null,null,null,null,null,null,null,"                         Ce que je propose à l'épicerie ","                         Ce que je propose à l'épicerie ","                         Ce que je propose à l'épicerie ","                         Ce que je propose à l'épicerie ","                         Ce que je propose à l'épicerie ","                         Ce que je propose à l'épicerie ","                         Ce que je propose à l'épicerie ","                         Ce que je propose à l'épicerie ","                         Ce que je propose à l'épicerie ","                         Ce que je propose à l'épicerie ","                         Ce que je propose à l'épicerie ","                         Ce que je propose à l'épicerie ","                         Ce que je propose à l'épicerie ","                         Ce que je propose à l'épicerie ","                         Ce que je propose à l'épicerie ","                         Ce que je propose à l'épicerie ","                         Ce que je propose à l'épicerie ","                         Ce que je propose à l'épicerie ","                         Ce que je propose à l'épicerie ","                         Ce que je propose à l'épicerie ","                         Ce que je propose à l'épicerie ","                         Ce que je propose à l'épicerie ","                         Ce que je propose à l'épicerie ","                         Ce que je propose à l'épicerie ","                         Ce que je propose à l'épicerie ","                         Ce que je propose à l'épicerie ","                         Ce que je propose à l'épicerie ","                         Ce que je propose à l'épicerie ","                         Ce que je propose à l'épicerie ","                         Ce que je propose à l'épicerie ","                         Ce que je propose à l'épicerie ","                         Ce que je propose à l'épicerie ","                         Ce que je propose à l'épicerie ","                         Ce que je propose à l'épicerie ","                         Ce que je propose à l'épicerie ","                         Ce que je propose à l'épicerie ","                         Ce que je propose à l'épicerie ","                         Ce que je propose à l'épicerie ","                         Ce que je propose à l'épicerie ","                         Ce que je propose à l'épicerie ","                         Ce que je propose à l'épicerie ","                         Ce que je propose à l'épicerie ","                         Ce que je propose à l'épicerie ","                         Ce que je propose à l'épicerie ","                         Ce que je propose à l'épicerie ","                         Ce que je propose à l'épicerie ","                         Ce que je propose à l'épicerie ","                         Ce que je propose à l'épicerie ","                         Ce que je propose à l'épicerie ","                         Ce que je propose à l'épicerie ","                         Ce que je propose à l'épicerie ","                         Ce que je propose à l'épicerie ","                         Ce que je propose à l'épicerie ","                         Ce que je propose à l'épicerie ","                         Ce que je propose à l'épicerie ","                         Ce que je propose à l'épicerie ","                         Ce que je propose à l'épicerie ","                         Ce que je propose à l'épicerie ","                         Ce que je propose à l'épicerie ","                         Ce que je propose à l'épicerie ","                         Ce que je propose à l'épicerie ","                         Ce que je propose à l'épicerie ","                         Ce que je propose à l'épicerie ","                         Ce que je propose à l'épicerie ","                         Ce que je propose à l'épicerie ","                         Ce que je propose à l'épicerie ","                         Ce que je propose à l'épicerie ","                         Ce que je propose à l'épicerie ","                         Ce que je propose à l'épicerie ","                         Ce que je propose à l'épicerie ","                         Ce que je propose à l'épicerie ","                         Ce que je propose à l'épicerie ","                         Ce que je propose à l'épicerie ","                         Ce que je propose à l'épicerie ","                         Ce que je propose à l'épicerie ","                         Ce que je propose à l'épicerie ","                         Ce que je propose à l'épicerie ","                         Ce que je propose à l'épicerie ","                         Ce que je propose à l'épicerie ","                         Ce que je propose à l'épicerie ","                         Ce que je propose à l'épicerie ","                         Ce que je propose à l'épicerie ","                         Ce que je propose à l'épicerie ","                         Ce que je propose à l'épicerie ","                         Ce que je propose à l'épicerie ","                         Ce que je propose à l'épicerie ","                         Ce que je propose à l'épicerie ","                         Ce que je propose à l'épicerie ","                         Ce que je propose à l'épicerie ","                         Ce que je propose à l'épicerie ","                         Ce que je propose à l'épicerie ","                         Ce que je propose à l'épicerie ","                         Ce que je propose à l'épicerie ","                         Ce que je propose à l'épicerie ","                         Ce que je propose à l'épicerie ","                         Ce que je propose à l'épicerie ","                         Ce que je propose à l'épicerie ","                         Ce que je propose à l'épicerie ","                         Ce que je propose à l'épicerie ","                         Ce que je propose à l'épicerie ","                         Ce que je propose à l'épicerie ","                         Ce que je propose à l'épicerie ","                         Ce que je propose à l'épicerie ","                         Ce que je propose à l'épicerie ","                         Ce que je propose à l'épicerie ","                         Ce que je propose à l'épicerie ","                         Ce que je propose à l'épicerie ","                         Ce que je propose à l'épicerie ","                         Ce que je propose à l'épicerie ","                         Ce que je propose à l'épicerie ","                         Ce que je propose à l'épicerie ","                         Ce que je propose à l'épicerie ","                         Ce que je propose à l'épicerie ","                         Ce que je propose à l'épicerie ","                         Ce que je propose à l'épicerie ","                         Ce que je propose à l'épicerie ","                         Ce que je propose à l'épicerie ","                         Ce que je propose à l'épicerie ","                         Ce que je propose à l'épicerie ","                         Ce que je propose à l'épicerie ","                         Ce que je propose à l'épicerie ","                         Ce que je propose à l'épicerie ","                         Ce que je propose à l'épicerie ","                         Ce que je propose à l'épicerie ","                         Ce que je propose à l'épicerie ","                         Ce que je propose à l'épicerie ","                         Ce que je propose à l'épicerie ","                         Ce que je propose à l'épicerie ","                         Ce que je propose à l'épicerie ","                         Ce que je propose à l'épicerie ","                         Ce que je propose à l'épicerie ","                         Ce que je propose à l'épicerie ","                         Ce que je propose à l'épicerie ","                         Ce que je propose à l'épicerie ","                         Ce que je propose à l'épicerie ","                         Ce que je propose à l'épicerie ","                         Ce que je propose à l'épicerie ","                         Ce que je propose à l'épicerie ","                         Ce que je propose à l'épicerie ","                         Ce que je propose à l'épicerie ","                         Ce que je propose à l'épicerie ","                         Ce que je propose à l'épicerie ","                         Ce que je propose à l'épicerie ","                         Ce que je propose à l'épicerie ","                         Ce que je propose à l'épicerie ","                         Ce que je propose à l'épicerie ","                         Ce que je propose à l'épicerie ","                         Ce que je propose à l'épicerie ","                         Ce que je propose à l'épicerie ","                         Ce que je propose à l'épicerie ","                         Ce que je propose à l'épicerie ","                         Ce que je propose à l'épicerie ","                         Ce que je propose à l'épicerie ","                         Ce que je propose à l'épicerie ","                         Ce que je propose à l'épicerie ","                         Ce que je propose à l'épicerie ","                         Ce que je propose à l'épicerie ","                         Ce que je propose à l'épicerie ","                         Ce que je propose à l'épicerie ","                         Ce que je propose à l'épicerie ","                         Ce que je propose à l'épicerie ","                         Ce que je propose à l'épicerie ","                         Ce que je propose à l'épicerie ","                         Ce que je propose à l'épicerie ","                         Ce que je propose à l'épicerie ","                         Ce que je propose à l'épicerie ","                         Ce que je propose à l'épicerie ","                         Ce que je propose à l'épicerie ","                         Ce que je propose à l'épicerie ","                         Ce que je propose à l'épicerie ","                         Ce que je propose à l'épicerie ","                         Ce que je propose à l'épicerie ","                         Ce que je propose à l'épicerie ","                         Ce que je propose à l'épicerie ","                         Ce que je propose à l'épicerie ","                         Ce que je propose à l'épicerie ","                         Ce que je propose à l'épicerie ","                         Ce que je propose à l'épicerie ","                         Ce que je propose à l'épicerie ","                         Ce que je propose à l'épicerie ","                         Ce que je propose à l'épicerie ","                         Ce que je propose à l'épicerie ","                         Ce que je propose à l'épicerie ","                         Ce que je propose à l'épicerie ","                         Ce que je propose à l'épicerie ","                         Ce que je propose à l'épicerie ","                         Ce que je propose à l'épicerie ","                         Ce que je propose à l'épicerie ","                         Ce que je propose à l'épicerie ","                         Ce que je propose à l'épicerie ","                         Ce que je propose à l'épicerie ","                         Ce que je propose à l'épicerie ","                         Ce que je propose à l'épicerie ","                         Ce que je propose à l'épicerie ","                         Ce que je propose à l'épicerie ","                         Ce que je propose à l'épicerie ","                         Ce que je propose à l'épicerie ","                         Ce que je propose à l'épicerie ","                         Ce que je propose à l'épicerie ","                         Ce que je propose à l'épicerie ","                         Ce que je propose à l'épicerie ","                         Ce que je propose à l'épicerie ","                         Ce que je propose à l'épicerie ","                         Ce que je propose à l'épicerie ","                         Ce que je propose à l'épicerie ","                         Ce que je propose à l'épicerie ","                         Ce que je propose à l'épicerie ","                         Ce que je propose à l'épicerie ","                         Ce que je propose à l'épicerie ","                         Ce que je propose à l'épicerie ","                         Ce que je propose à l'épicerie ","                         Ce que je propose à l'épicerie ","                         Ce que je propose à l'épicerie ","                         Ce que je propose à l'épicerie ","                         Ce que je propose à l'épicerie ","                         Ce que je propose à l'épicerie ","                         Ce que je propose à l'épicerie ","                         Ce que je propose à l'épicerie ","                         Ce que je propose à l'épicerie ","                         Ce que je propose à l'épicerie ","                         Ce que je propose à l'épicerie ","                         Ce que je propose à l'épicerie ","                         Ce que je propose à l'épicerie ","                         Ce que je propose à l'épicerie ","                         Ce que je propose à l'épicerie ","                         Ce que je propose à l'épicerie ","                         Ce que je propose à l'épicerie ","                         Ce que je propose à l'épicerie ","                         Ce que je propose à l'épicerie ","                         Ce que je propose à l'épicerie ","                         Ce que je propose à l'épicerie ","                         Ce que je propose à l'épicerie ","                         Ce que je propose à l'épicerie ","                         Ce que je propose à l'épicerie ","                         Ce que je propose à l'épicerie ","                         Ce que je propose à l'épicerie ","                         Ce que je propose à l'épicerie ","                         Ce que je propose à l'épicerie ","                         Ce que je propose à l'épicerie ","                         Ce que je propose à l'épicerie ","                         Ce que je propose à l'épicerie ","                         Ce que je propose à l'épicerie ","                         Ce que je propose à l'épicerie ","                         Ce que je propose à l'épicerie ","                         Ce que je propose à l'épicerie ","                         Ce que je propose à l'épicerie ","                         Ce que je propose à l'épicerie ","                         Ce que je propose à l'épicerie ","                         Ce que je propose à l'épicerie ","                         Ce que je propose à l'épicerie ","                         Ce que je propose à l'épicerie ","                         Ce que je propose à l'épicerie ","                         Ce que je propose à l'épicerie ","                         Ce que je propose à l'épicerie ","                         Ce que je propose à l'épicerie ","                         Ce que je propose à l'épicerie ","                         Ce que je propose à l'épicerie ","                         Ce que je propose à l'épicerie ","                         Ce que je propose à l'épicerie ","                         Ce que je propose à l'épicerie ","                         Ce que je propose à l'épicerie ","                         Ce que je propose à l'épicerie ","                         Ce que je propose à l'épicerie ","                         Ce que je propose à l'épicerie ","                         Ce que je propose à l'épicerie ","                         Ce que je propose à l'épicerie ","                         Ce que je propose à l'épicerie ","                         Ce que je propose à l'épicerie ","                         Ce que je propose à l'épicerie ","                         Ce que je propose à l'épicerie ","                         Ce que je propose à l'épicerie ","                         Ce que je propose à l'épicerie ","                         Ce que je propose à l'épicerie ","                         Ce que je propose à l'épicerie ","                         Ce que je propose à l'épicerie ","                         Ce que je propose à l'épicerie ","                         Ce que je propose à l'épicerie ","                         Ce que je propose à l'épicerie ","                         Ce que je propose à l'épicerie ","                         Ce que je propose à l'épicerie ","                         Ce que je propose à l'épicerie ","                         Ce que je propose à l'épicerie ","                         Ce que je propose à l'épicerie ","                         Ce que je propose à l'épicerie ","                         Ce que je propose à l'épicerie ","                         Ce que je propose à l'épicerie ","                         Ce que je propose à l'épicerie ","                         Ce que je propose à l'épicerie ","                         Ce que je propose à l'épicerie ","                         Ce que je propose à l'épicerie ","                         Ce que je propose à l'épicerie ","                         Ce que je propose à l'épicerie ","                         Ce que je propose à l'épicerie ","                         Ce que je propose à l'épicerie ","                         Ce que je propose à l'épicerie ","                         Ce que je propose à l'épicerie ","                         Ce que je propose à l'épicerie ","                         Ce que je propose à l'épicerie ","                         Ce que je propose à l'épicerie ","                         Ce que je propose à l'épicerie ","                         Ce que je propose à l'épicerie ","                         Ce que je propose à l'épicerie ","                         Ce que je propose à l'épicerie ","                         Ce que je propose à l'épicerie ","                         Ce que je propose à l'épicerie ","                         Ce que je propose à l'épicerie ","                         Ce que je propose à l'épicerie ","                         Ce que je propose à l'épicerie ","                         Ce que je propose à l'épicerie ","                         Ce que je propose à l'épicerie ","                         Ce que je propose à l'épicerie ","                         Ce que je propose à l'épicerie ","                         Ce que je propose à l'épicerie ","                         Ce que je propose à l'épicerie ","                         Ce que je propose à l'épicerie ","                         Ce que je propose à l'épicerie ","                         Ce que je propose à l'épicerie ","                         Ce que je propose à l'épicerie ","                         Ce que je propose à l'épicerie ","                         Ce que je propose à l'épicerie ","                         Ce que je propose à l'épicerie ","                         Ce que je propose à l'épicerie ","                         Ce que je propose à l'épicerie ","                         Ce que je propose à l'épicerie ","                         Ce que je propose à l'épicerie ","                         Ce que je propose à l'épicerie ","                         Ce que je propose à l'épicerie ","                         Ce que je propose à l'épicerie ","                         Ce que je propose à l'épicerie ","                         Ce que je propose à l'épicerie ","                         Ce que je propose à l'épicerie ","                         Ce que je propose à l'épicerie ","                         Ce que je propose à l'épicerie ","                         Ce que je propose à l'épicerie ","                         Ce que je propose à l'épicerie ","                         Ce que je propose à l'épicerie ","                         Ce que je propose à l'épicerie ","                         Ce que je propose à l'épicerie ","                         Ce que je propose à l'épicerie ","                         Ce que je propose à l'épicerie ","                         Ce que je propose à l'épicerie ","                         Ce que je propose à l'épicerie ","                         Ce que je propose à l'épicerie ","                         Ce que je propose à l'épicerie ","                         Ce que je propose à l'épicerie ","                         Ce que je propose à l'épicerie ","                         Ce que je propose à l'épicerie ","                         Ce que je propose à l'épicerie ","                         Ce que je propose à l'épicerie ","                         Ce que je propose à l'épicerie ","                         Ce que je propose à l'épicerie ","                         Ce que je propose à l'épicerie ","                         Ce que je propose à l'épicerie ","                         Ce que je propose à l'épicerie ","                         Ce que je propose à l'épicerie ","                         Ce que je propose à l'épicerie ","                         Ce que je propose à l'épicerie ","                         Ce que je propose à l'épicerie ","                         Ce que je propose à l'épicerie ","                         Ce que je propose à l'épicerie ","                         Ce que je propose à l'épicerie ","                         Ce que je propose à l'épicerie ","                         Ce que je propose à l'épicerie ","                         Ce que je propose à l'épicerie ","                         Ce que je propose à l'épicerie ","                         Ce que je propose à l'épicerie ","                         Ce que je propose à l'épicerie ","                         Ce que je propose à l'épicerie ","                         Ce que je propose à l'épicerie ","                         Ce que je propose à l'épicerie ","                         Ce que je propose à l'épicerie ","                         Ce que je propose à l'épicerie ","                         Ce que je propose à l'épicerie ","                         Ce que je propose à l'épicerie ","                         Ce que je propose à l'épicerie ","                         Ce que je propose à l'épicerie ","                         Ce que je propose à l'épicerie ","                         Ce que je propose à l'épicerie ","                         Ce que je propose à l'épicerie ","                         Ce que je propose à l'épicerie ","                         Ce que je propose à l'épicerie ","                         Ce que je propose à l'épicerie ","                         Ce que je propose à l'épicerie ","                         Ce que je propose à l'épicerie ","                         Ce que je propose à l'épicerie ","                         Ce que je propose à l'épicerie ","                         Ce que je propose à l'épicerie ","                         Ce que je propose à l'épicerie ","                         Ce que je propose à l'épicerie ","                         Ce que je propose à l'épicerie ","                         Ce que je propose à l'épicerie ","                         Ce que je propose à l'épicerie ","                         Ce que je propose à l'épicerie ","                         Ce que je propose à l'épicerie ","                         Ce que je propose à l'épicerie ","                         Ce que je propose à l'épicerie ","                         Ce que je propose à l'épicerie ","                         Ce que je propose à l'épicerie ","                         Ce que je propose à l'épicerie ","                         Ce que je propose à l'épicerie ","                         Ce que je propose à l'épicerie ","                         Ce que je propose à l'épicerie ","                         Ce que je propose à l'épicerie ","                         Ce que je propose à l'épicerie ","                         Ce que je propose à l'épicerie ","                         Ce que je propose à l'épicerie ","                         Ce que je propose à l'épicerie ","                         Ce que je propose à l'épicerie ","                         Ce que je propose à l'épicerie ","                         Ce que je propose à l'épicerie ","                         Ce que je propose à l'épicerie ","                         Ce que je propose à l'épicerie ","                         Ce que je propose à l'épicerie ","                         Ce que je propose à l'épicerie ","                         Ce que je propose à l'épicerie ","                         Ce que je propose à l'épicerie ","                         Ce que je propose à l'épicerie ","                         Ce que je propose à l'épicerie ","                         Ce que je propose à l'épicerie ","                         Ce que je propose à l'épicerie ","                         Ce que je propose à l'épicerie ","                         Ce que je propose à l'épicerie ","                         Ce que je propose à l'épicerie ","                         Ce que je propose à l'épicerie ","                         Ce que je propose à l'épicerie ","                         Ce que je propose à l'épicerie ","                         Ce que je propose à l'épicerie ","                         Ce que je propose à l'épicerie ","                         Ce que je propose à l'épicerie ","                         Ce que je propose à l'épicerie ","                         Ce que je propose à l'épicerie ","                         Ce que je propose à l'épicerie ","                         Ce que je propose à l'épicerie ","                         Ce que je propose à l'épicerie ","                         Ce que je propose à l'épicerie ","                         Ce que je propose à l'épicerie ","                         Ce que je propose à l'épicerie ","                         Ce que je propose à l'épicerie ","                         Ce que je propose à l'épicerie ","                         Ce que je propose à l'épicerie ","                         Ce que je propose à l'épicerie ","                         Ce que je propose à l'épicerie ","                         Ce que je propose à l'épicerie ","                         Ce que je propose à l'épicerie ","                         Ce que je propose à l'épicerie ","                         Ce que je propose à l'épicerie ","                         Ce que je propose à l'épicerie ","                         Ce que je propose à l'épicerie ","                         Ce que je propose à l'épicerie ","                         Ce que je propose à l'épicerie ","                         Ce que je propose à l'épicerie ","                         Ce que je propose à l'épicerie ","                         Ce que je propose à l'épicerie ","                         Ce que je propose à l'épicerie ","                         Ce que je propose à l'épicerie ","                         Ce que je propose à l'épicerie ","                         Ce que je propose à l'épicerie ","                         Ce que je propose à l'épicerie ","                         Ce que je propose à l'épicerie ","                         Ce que je propose à l'épicerie ","                         Ce que je propose à l'épicerie ","                         Ce que je propose à l'épicerie ","                         Ce que je propose à l'épicerie ","                         Ce que je propose à l'épicerie ","                         Ce que je propose à l'épicerie ","                         Ce que je propose à l'épicerie ","                         Ce que je propose à l'épicerie ","                         Ce que je propose à l'épicerie ","                         Ce que je propose à l'épicerie ","                         Ce que je propose à l'épicerie ","                         Ce que je propose à l'épicerie ","                         Ce que je propose à l'épicerie ","                         Ce que je propose à l'épicerie ","                         Ce que je propose à l'épicerie ","                         Ce que je propose à l'épicerie ","                         Ce que je propose à l'épicerie ","                         Ce que je propose à l'épicerie ","                         Ce que je propose à l'épicerie ","                         Ce que je propose à l'épicerie ","                         Ce que je propose à l'épicerie ","                         Ce que je propose à l'épicerie ","                         Ce que je propose à l'épicerie ","                         Ce que je propose à l'épicerie ","                         Ce que je propose à l'épicerie ","                         Ce que je propose à l'épicerie ","                         Ce que je propose à l'épicerie ","                         Ce que je propose à l'épicerie ","                         Ce que je propose à l'épicerie ","                         Ce que je propose à l'épicerie ","                         Ce que je propose à l'épicerie ","                         Ce que je propose à l'épicerie ","                         Ce que je propose à l'épicerie ","                         Ce que je propose à l'épicerie ","                         Ce que je propose à l'épicerie ","                         Ce que je propose à l'épicerie ","                         Ce que je propose à l'épicerie ","                         Ce que je propose à l'épicerie ","                         Ce que je propose à l'épicerie ","                         Ce que je propose à l'épicerie ","                         Ce que je propose à l'épicerie ","                         Ce que je propose à l'épicerie ","                         Ce que je propose à l'épicerie ","                         Ce que je propose à l'épicerie ","                         Ce que je propose à l'épicerie ","                         Ce que je propose à l'épicerie ","                         Ce que je propose à l'épicerie ","                         Ce que je propose à l'épicerie ","                         Ce que je propose à l'épicerie ","                         Ce que je propose à l'épicerie ","                         Ce que je propose à l'épicerie ","                         Ce que je propose à l'épicerie ","                         Ce que je propose à l'épicerie ","                         Ce que je propose à l'épicerie ","                         Ce que je propose à l'épicerie ","                         Ce que je propose à l'épicerie ","                         Ce que je propose à l'épicerie ","                         Ce que je propose à l'épicerie ","                         Ce que je propose à l'épicerie ","                         Ce que je propose à l'épicerie ","                         Ce que je propose à l'épicerie ","                         Ce que je propose à l'épicerie ","                         Ce que je propose à l'épicerie ","                         Ce que je propose à l'épicerie ","                         Ce que je propose à l'épicerie ","                         Ce que je propose à l'épicerie ","                         Ce que je propose à l'épicerie ","                         Ce que je propose à l'épicerie ","                         Ce que je propose à l'épicerie ","                         Ce que je propose à l'épicerie ","                         Ce que je propose à l'épicerie ","                         Ce que je propose à l'épicerie ","                         Ce que je propose à l'épicerie ","                         Ce que je propose à l'épicerie ","                         Ce que je propose à l'épicerie ","                         Ce que je propose à l'épicerie ","                         Ce que je propose à l'épicerie ","                         Ce que je propose à l'épicerie ","                         Ce que je propose à l'épicerie ","                         Ce que je propose à l'épicerie ","                         Ce que je propose à l'épicerie ","                         Ce que je propose à l'épicerie ","                         Ce que je propose à l'épicerie ","                         Ce que je propose à l'épicerie ","                         Ce que je propose à l'épicerie ","                         Ce que je propose à l'épicerie ","                         Ce que je propose à l'épicerie ","                         Ce que je propose à l'épicerie ","                         Ce que je propose à l'épicerie ","                         Ce que je propose à l'épicerie ","                         Ce que je propose à l'épicerie ","                         Ce que je propose à l'épicerie ","                         Ce que je propose à l'épicerie ","                         Ce que je propose à l'épicerie ","                         Ce que je propose à l'épicerie ","                         Ce que je propose à l'épicerie ","                         Ce que je propose à l'épicerie ","                         Ce que je propose à l'épicerie ","                         Ce que je propose à l'épicerie ","                         Ce que je propose à l'épicerie ","                         Ce que je propose à l'épicerie ","                         Ce que je propose à l'épicerie ","                         Ce que je propose à l'épicerie ","                         Ce que je propose à l'épicerie ","                         Ce que je propose à l'épicerie ","                         Ce que je propose à l'épicerie ","                         Ce que je propose à l'épicerie ","                         Ce que je propose à l'épicerie ","                         Ce que je propose à l'épicerie ","                         Ce que je propose à l'épicerie ","                         Ce que je propose à l'épicerie ","                         Ce que je propose à l'épicerie ","                         Ce que je propose à l'épicerie ","                         Ce que je propose à l'épicerie ","                         Ce que je propose à l'épicerie ","                         Ce que je propose à l'épicerie ","                         Ce que je propose à l'épicerie ","                         Ce que je propose à l'épicerie ","                         Ce que je propose à l'épicerie ","                         Ce que je propose à l'épicerie ","                         Ce que je propose à l'épicerie ","                         Ce que je propose à l'épicerie ","                         Ce que je propose à l'épicerie ","                         Ce que je propose à l'épicerie ","                         Ce que je propose à l'épicerie ","                         Ce que je propose à l'épicerie ","                         Ce que je propose à l'épicerie ","                         Ce que je propose à l'épicerie ","                         Ce que je propose à l'épicerie ","                         Ce que je propose à l'épicerie ","                         Ce que je propose à l'épicerie ","                         Ce que je propose à l'épicerie ","                         Ce que je propose à l'épicerie ","                         Ce que je propose à l'épicerie ","                         Ce que je propose à l'épicerie ","                         Ce que je propose à l'épicerie ","                         Ce que je propose à l'épicerie ","                         Ce que je propose à l'épicerie ","                         Ce que je propose à l'épicerie ","                         Ce que je propose à l'épicerie ","                         Ce que je propose à l'épicerie ","                         Ce que je propose à l'épicerie ","                         Ce que je propose à l'épicerie ","                         Ce que je propose à l'épicerie ","                         Ce que je propose à l'épicerie ","                         Ce que je propose à l'épicerie ","                         Ce que je propose à l'épicerie ","                         Ce que je propose à l'épicerie ","                         Ce que je propose à l'épicerie ","                         Ce que je propose à l'épicerie ","                         Ce que je propose à l'épicerie ","                         Ce que je propose à l'épicerie ","                         Ce que je propose à l'épicerie ","                         Ce que je propose à l'épicerie ","                         Ce que je propose à l'épicerie ","                         Ce que je propose à l'épicerie ","                         Ce que je propose à l'épicerie ","                         Ce que je propose à l'épicerie ","                         Ce que je propose à l'épicerie ","                         Ce que je propose à l'épicerie ","                         Ce que je propose à l'épicerie ","                         Ce que je propose à l'épicerie ","                         Ce que je propose à l'épicerie ","                         Ce que je propose à l'épicerie ","                         Ce que je propose à l'épicerie ","                         Ce que je propose à l'épicerie ","                         Ce que je propose à l'épicerie ","                         Ce que je propose à l'épicerie ","                         Ce que je propose à l'épicerie ","                         Ce que je propose à l'épicerie ","                         Ce que je propose à l'épicerie ","                         Ce que je propose à l'épicerie ","                         Ce que je propose à l'épicerie ","                         Ce que je propose à l'épicerie ","                         Ce que je propose à l'épicerie ","                         Ce que je propose à l'épicerie ","                         Ce que je propose à l'épicerie ","                         Ce que je propose à l'épicerie ","                         Ce que je propose à l'épicerie ","                         Ce que je propose à l'épicerie ","                         Ce que je propose à l'épicerie ","                         Ce que je propose à l'épicerie ","                         Ce que je propose à l'épicerie ","                         Ce que je propose à l'épicerie ","                         Ce que je propose à l'épicerie ","                         Ce que je propose à l'épicerie ","                         Ce que je propose à l'épicerie ","                         Ce que je propose à l'épicerie ","                         Ce que je propose à l'épicerie ","                         Ce que je propose à l'épicerie ","                         Ce que je propose à l'épicerie ","                         Ce que je propose à l'épicerie ","                         Ce que je propose à l'épicerie ","                         Ce que je propose à l'épicerie ","                         Ce que je propose à l'épicerie ","                         Ce que je propose à l'épicerie ","                         Ce que je propose à l'épicerie ","                         Ce que je propose à l'épicerie ","                         Ce que je propose à l'épicerie ","                         Ce que je propose à l'épicerie ","                         Ce que je propose à l'épicerie ","                         Ce que je propose à l'épicerie ","                         Ce que je propose à l'épicerie ","                         Ce que je propose à l'épicerie ","                         Ce que je propose à l'épicerie ","                         Ce que je propose à l'épicerie ","                         Ce que je propose à l'épicerie ","                         Ce que je propose à l'épicerie ","                         Ce que je propose à l'épicerie ","                         Ce que je propose à l'épicerie ","                         Ce que je propose à l'épicerie ","                         Ce que je propose à l'épicerie ","                         Ce que je propose à l'épicerie ","                         Ce que je propose à l'épicerie ","                         Ce que je propose à l'épicerie ","                         Ce que je propose à l'épicerie ","                         Ce que je propose à l'épicerie ","                         Ce que je propose à l'épicerie ","                         Ce que je propose à l'épicerie ","                         Ce que je propose à l'épicerie ","                         Ce que je propose à l'épicerie ","                         Ce que je propose à l'épicerie ","                         Ce que je propose à l'épicerie ","                         Ce que je propose à l'épicerie ","                         Ce que je propose à l'épicerie ","                         Ce que je propose à l'épicerie ","                         Ce que je propose à l'épicerie ","                         Ce que je propose à l'épicerie ","                         Ce que je propose à l'épicerie ","                         Ce que je propose à l'épicerie ","                         Ce que je propose à l'épicerie ","                         Ce que je propose à l'épicerie ","                         Ce que je propose à l'épicerie ","                         Ce que je propose à l'épicerie ","                         Ce que je propose à l'épicerie ","                         Ce que je propose à l'épicerie ","                         Ce que je propose à l'épicerie ","                         Ce que je propose à l'épicerie ","                         Ce que je propose à l'épicerie ","                         Ce que je propose à l'épicerie ","                         Ce que je propose à l'épicerie ","                         Ce que je propose à l'épicerie ","                         Ce que je propose à l'épicerie ","                         Ce que je propose à l'épicerie ","                         Ce que je propose à l'épicerie ","                         Ce que je propose à l'épicerie ","                         Ce que je propose à l'épicerie ","                         Ce que je propose à l'épicerie ","                         Ce que je propose à l'épicerie ","                         Ce que je propose à l'épicerie ","                         Ce que je propose à l'épicerie ","                         Ce que je propose à l'épicerie ","                         Ce que je propose à l'épicerie ","                         Ce que je propose à l'épicerie ","                         Ce que je propose à l'épicerie ","                         Ce que je propose à l'épicerie ","                         Ce que je propose à l'épicerie ","                         Ce que je propose à l'épicerie ","                         Ce que je propose à l'épicerie ","                         Ce que je propose à l'épicerie ","                         Ce que je propose à l'épicerie ","                         Ce que je propose à l'épicerie ","                         Ce que je propose à l'épicerie ","                         Ce que je propose à l'épicerie ","                         Ce que je propose à l'épicerie ","                         Ce que je propose à l'épicerie ","                         Ce que je propose à l'épicerie ","                         Ce que je propose à l'épicerie ","                         Ce que je propose à l'épicerie ","                         Ce que je propose à l'épicerie ","                         Ce que je propose à l'épicerie ","                         Ce que je propose à l'épicerie ","                         Ce que je propose à l'épicerie ","                         Ce que je propose à l'épicerie ","                         Ce que je propose à l'épicerie ","                         Ce que je propose à l'épicerie ","                         Ce que je propose à l'épicerie ","                         Ce que je propose à l'épicerie ","                         Ce que je propose à l'épicerie ","                         Ce que je propose à l'épicerie ","                         Ce que je propose à l'épicerie ","                         Ce que je propose à l'épicerie ","                         Ce que je propose à l'épicerie ","                         Ce que je propose à l'épicerie ","                         Ce que je propose à l'épicerie ","                         Ce que je propose à l'épicerie ","                         Ce que je propose à l'épicerie ","                         Ce que je propose à l'épicerie ","                         Ce que je propose à l'épicerie ","                         Ce que je propose à l'épicerie ","                         Ce que je propose à l'épicerie ","                         Ce que je propose à l'épicerie ","                         Ce que je propose à l'épicerie ","                         Ce que je propose à l'épicerie ","                         Ce que je propose à l'épicerie ","                         Ce que je propose à l'épicerie ","                         Ce que je propose à l'épicerie ","                         Ce que je propose à l'épicerie ","                         Ce que je propose à l'épicerie ","                         Ce que je propose à l'épicerie ","                         Ce que je propose à l'épicerie ","                         Ce que je propose à l'épicerie ","                         Ce que je propose à l'épicerie ","                         Ce que je propose à l'épicerie ","                         Ce que je propose à l'épicerie ","                         Ce que je propose à l'épicerie ","                         Ce que je propose à l'épicerie ","                         Ce que je propose à l'épicerie ","                         Ce que je propose à l'épicerie ","                         Ce que je propose à l'épicerie ","                         Ce que je propose à l'épicerie ","                         Ce que je propose à l'épicerie ","                         Ce que je propose à l'épicerie ","                         Ce que je propose à l'épicerie ","                         Ce que je propose à l'épicerie ","                         Ce que je propose à l'épicerie ","                         Ce que je propose à l'épicerie ","                         Ce que je propose à l'épicerie ","                         Ce que je propose à l'épicerie ","                         Ce que je propose à l'épicerie ","                         Ce que je propose à l'épicerie ","                         Ce que je propose à l'épicerie ","                         Ce que je propose à l'épicerie ","                         Ce que je propose à l'épicerie ","                         Ce que je propose à l'épicerie ","                         Ce que je propose à l'épicerie ","                         Ce que je propose à l'épicerie ","                         Ce que je propose à l'épicerie ","                         Ce que je propose à l'épicerie ","                         Ce que je propose à l'épicerie ","                         Ce que je propose à l'épicerie ","                         Ce que je propose à l'épicerie ","                         Ce que je propose à l'épicerie ","                         Ce que je propose à l'épicerie ","                         Ce que je propose à l'épicerie ","                         Ce que je propose à l'épicerie ","                         Ce que je propose à l'épicerie ","                         Ce que je propose à l'épicerie ","                         Ce que je propose à l'épicerie ","                         Ce que je propose à l'épicerie ","                         Ce que je propose à l'épicerie ","                         Ce que je propose à l'épicerie ","                         Ce que je propose à l'épicerie ","                         Ce que je propose à l'épicerie ","                         Ce que je propose à l'épicerie ","                         Ce que je propose à l'épicerie ","                         Ce que je propose à l'épicerie ","                         Ce que je propose à l'épicerie ","                         Ce que je propose à l'épicerie ","                         Ce que je propose à l'épicerie ","                         Ce que je propose à l'épicerie ","                         Ce que je propose à l'épicerie ","                         Ce que je propose à l'épicerie ","                         Ce que je propose à l'épicerie ","                         Ce que je propose à l'épicerie ","                         Ce que je propose à l'épicerie ","                         Ce que je propose à l'épicerie ","                         Ce que je propose à l'épicerie ","                         Ce que je propose à l'épicerie ","                         Ce que je propose à l'épicerie ","                         Ce que je propose à l'épicerie ","                         Ce que je propose à l'épicerie ","                         Ce que je propose à l'épicerie ","                         Ce que je propose à l'épicerie ","                         Ce que je propose à l'épicerie ","                         Ce que je propose à l'épicerie ","                         Ce que je propose à l'épicerie ","                         Ce que je propose à l'épicerie ","                         Ce que je propose à l'épicerie ","                         Ce que je propose à l'épicerie ","                         Ce que je propose à l'épicerie ","                         Ce que je propose à l'épicerie ","                         Ce que je propose à l'épicerie ","                         Ce que je propose à l'épicerie ","                         Ce que je propose à l'épicerie ","                         Ce que je propose à l'épicerie ","                         Ce que je propose à l'épicerie ","                         Ce que je propose à l'épicerie ","                         Ce que je propose à l'épicerie ","                         Ce que je propose à l'épicerie ","                         Ce que je propose à l'épicerie ","                         Ce que je propose à l'épicerie ","                         Ce que je propose à l'épicerie ","                         Ce que je propose à l'épicerie ","                         Ce que je propose à l'épicerie ","                         Ce que je propose à l'épicerie ","                         Ce que je propose à l'épicerie ","                         Ce que je propose à l'épicerie ","                         Ce que je propose à l'épicerie ","                         Ce que je propose à l'épicerie ","                         Ce que je propose à l'épicerie ","                         Ce que je propose à l'épicerie ","                         Ce que je propose à l'épicerie ","                         Ce que je propose à l'épicerie ","                         Ce que je propose à l'épicerie ","                         Ce que je propose à l'épicerie ","                         Ce que je propose à l'épicerie ","                         Ce que je propose à l'épicerie ","                         Ce que je propose à l'épicerie ","                         Ce que je propose à l'épicerie ","                         Ce que je propose à l'épicerie ","                         Ce que je propose à l'épicerie ","                         Ce que je propose à l'épicerie ","                         Ce que je propose à l'épicerie ","                         Ce que je propose à l'épicerie ","                         Ce que je propose à l'épicerie ","                         Ce que je propose à l'épicerie ","                         Ce que je propose à l'épicerie ","                         Ce que je propose à l'épicerie ","                         Ce que je propose à l'épicerie ","                         Ce que je propose à l'épicerie ","                         Ce que je propose à l'épicerie ","                         Ce que je propose à l'épicerie ","                         Ce que je propose à l'épicerie ","                         Ce que je propose à l'épicerie ","                         Ce que je propose à l'épicerie ","                         Ce que je propose à l'épicerie ","                         Ce que je propose à l'épicerie ","                         Ce que je propose à l'épicerie ","                         Ce que je propose à l'épicerie ","                         Ce que je propose à l'épicerie ","                         Ce que je propose à l'épicerie ","                         Ce que je propose à l'épicerie ","                         Ce que je propose à l'épicerie ","                         Ce que je propose à l'épicerie ","                         Ce que je propose à l'épicerie ","                         Ce que je propose à l'épicerie ","                         Ce que je propose à l'épicerie ","                         Ce que je propose à l'épicerie ","                         Ce que je propose à l'épicerie ","                         Ce que je propose à l'épicerie ","                         Ce que je propose à l'épicerie ","                         Ce que je propose à l'épicerie ","                         Ce que je propose à l'épicerie ","                         Ce que je propose à l'épicerie ","                         Ce que je propose à l'épicerie ","                         Ce que je propose à l'épicerie ","                         Ce que je propose à l'épicerie ","                         Ce que je propose à l'épicerie ","                         Ce que je propose à l'épicerie ","                         Ce que je propose à l'épicerie ","                         Ce que je propose à l'épicerie ","                         Ce que je propose à l'épicerie ","                         Ce que je propose à l'épicerie ","                         Ce que je propose à l'épicerie ","                         Ce que je propose à l'épicerie ","                         Ce que je propose à l'épicerie ","                         Ce que je propose à l'épicerie ","                         Ce que je propose à l'épicerie ","                         Ce que je propose à l'épicerie ","                         Ce que je propose à l'épicerie ","                         Ce que je propose à l'épicerie ","                         Ce que je propose à l'épicerie ","                         Ce que je propose à l'épicerie ","                         Ce que je propose à l'épicerie ","                         Ce que je propose à l'épicerie ","                         Ce que je propose à l'épicerie ","                         Ce que je propose à l'épicerie ","                         Ce que je propose à l'épicerie ","                         Ce que je propose à l'épicerie ","                         Ce que je propose à l'épicerie ","                         Ce que je propose à l'épicerie ","                         Ce que je propose à l'épicerie ","                         Ce que je propose à l'épicerie ","                         Ce que je propose à l'épicerie ","                         Ce que je propose à l'épicerie ","                         Ce que je propose à l'épicerie ","                         Ce que je propose à l'épicerie ","                         Ce que je propose à l'épicerie ","                         Ce que je propose à l'épicerie ","                         Ce que je propose à l'épicerie ","                         Ce que je propose à l'épicerie ","                         Ce que je propose à l'épicerie ","                         Ce que je propose à l'épicerie ","                         Ce que je propose à l'épicerie ","                         Ce que je propose à l'épicerie ","                         Ce que je propose à l'épicerie ","                         Ce que je propose à l'épicerie ","                         Ce que je propose à l'épicerie ","                         Ce que je propose à l'épicerie ","                         Ce que je propose à l'épicerie ","                         Ce que je propose à l'épicerie ","                         Ce que je propose à l'épicerie ","                         Ce que je propose à l'épicerie ","                         Ce que je propose à l'épicerie ","                         Ce que je propose à l'épicerie ","                         Ce que je propose à l'épicerie ","                         Ce que je propose à l'épicerie ","                         Ce que je propose à l'épicerie ","                         Ce que je propose à l'épicerie ","                         Ce que je propose à l'épicerie ","                         Ce que je propose à l'épicerie ","                         Ce que je propose à l'épicerie ","                         Ce que je propose à l'épicerie ","                         Ce que je propose à l'épicerie ","                         Ce que je propose à l'épicerie ","                         Ce que je propose à l'épicerie ","                         Ce que je propose à l'épicerie ","                         Ce que je propose à l'épicerie ","                         Ce que je propose à l'épicerie ","                         Ce que je propose à l'épicerie ","                         Ce que je propose à l'épicerie ","                         Ce que je propose à l'épicerie ","                         Ce que je propose à l'épicerie ","                         Ce que je propose à l'épicerie ","                         Ce que je propose à l'épicerie ","                         Ce que je propose à l'épicerie ","                         Ce que je propose à l'épicerie ","                         Ce que je propose à l'épicerie ","                         Ce que je propose à l'épicerie ","                         Ce que je propose à l'épicerie ","                         Ce que je propose à l'épicerie ","                         Ce que je propose à l'épicerie ","                         Ce que je propose à l'épicerie ","                         Ce que je propose à l'épicerie ","                         Ce que je propose à l'épicerie ","                         Ce que je propose à l'épicerie ","                         Ce que je propose à l'épicerie ","                         Ce que je propose à l'épicerie ","                         Ce que je propose à l'épicerie ","                         Ce que je propose à l'épicerie ","                         Ce que je propose à l'épicerie ","                         Ce que je propose à l'épicerie ","                         Ce que je propose à l'épicerie ","                         Ce que je propose à l'épicerie ","                         Ce que je propose à l'épicerie ","                         Ce que je propose à l'épicerie ","                         Ce que je propose à l'épicerie ","                         Ce que je propose à l'épicerie ","                         Ce que je propose à l'épicerie ","                         Ce que je propose à l'épicerie ","                         Ce que je propose à l'épicerie ","                         Ce que je propose à l'épicerie ","                         Ce que je propose à l'épicerie ","                         Ce que je propose à l'épicerie ","                         Ce que je propose à l'épicerie ","                         Ce que je propose à l'épicerie ","                         Ce que je propose à l'épicerie ","                         Ce que je propose à l'épicerie ","                         Ce que je propose à l'épicerie ","                         Ce que je propose à l'épicerie ","                         Ce que je propose à l'épicerie ","                         Ce que je propose à l'épicerie ","                         Ce que je propose à l'épicerie ","                         Ce que je propose à l'épicerie ","                         Ce que je propose à l'épicerie ","                         Ce que je propose à l'épicerie ","                         Ce que je propose à l'épicerie ","                         Ce que je propose à l'épicerie ","                         Ce que je propose à l'épicerie ","                         Ce que je propose à l'épicerie ","                         Ce que je propose à l'épicerie ","                         Ce que je propose à l'épicerie ","                         Ce que je propose à l'épicerie ","                         Ce que je propose à l'épicerie ","                         Ce que je propose à l'épicerie ","                         Ce que je propose à l'épicerie ","                         Ce que je propose à l'épicerie ","                         Ce que je propose à l'épicerie ","                         Ce que je propose à l'épicerie ","                         Ce que je propose à l'épicerie ","                         Ce que je propose à l'épicerie ","                         Ce que je propose à l'épicerie ","                         Ce que je propose à l'épicerie ","                         Ce que je propose à l'épicerie ","                         Ce que je propose à l'épicerie ","                         Ce que je propose à l'épicerie ","                         Ce que je propose à l'épicerie ","                         Ce que je propose à l'épicerie ","                         Ce que je propose à l'épicerie ","                         Ce que je propose à l'épicerie ","                         Ce que je propose à l'épicerie ","                         Ce que je propose à l'épicerie ","                         Ce que je propose à l'épicerie ","                         Ce que je propose à l'épicerie ","                         Ce que je propose à l'épicerie ","                         Ce que je propose à l'épicerie ","                         Ce que je propose à l'épicerie ","                         Ce que je propose à l'épicerie ","                         Ce que je propose à l'épicerie ","                         Ce que je propose à l'épicerie ","                         Ce que je propose à l'épicerie ","                         Ce que je propose à l'épicerie ","                         Ce que je propose à l'épicerie ","                         Ce que je propose à l'épicerie ","                         Ce que je propose à l'épicerie ","                         Ce que je propose à l'épicerie ","                         Ce que je propose à l'épicerie ","                         Ce que je propose à l'épicerie ","                         Ce que je propose à l'épicerie ","                         Ce que je propose à l'épicerie ","                         Ce que je propose à l'épicerie ","                         Ce que je propose à l'épicerie ","                         Ce que je propose à l'épicerie ","                         Ce que je propose à l'épicerie ","                         Ce que je propose à l'épicerie ","                         Ce que je propose à l'épicerie ","                         Ce que je propose à l'épicerie ","                         Ce que je propose à l'épicerie ","                         Ce que je propose à l'épicerie ","                         Ce que je propose à l'épicerie ","                         Ce que je propose à l'épicerie ","                         Ce que je propose à l'épicerie ","                         Ce que je propose à l'épicerie ","                         Ce que je propose à l'épicerie ","                         Ce que je propose à l'épicerie ","                         Ce que je propose à l'épicerie ","                         Ce que je propose à l'épicerie ","                         Ce que je propose à l'épicerie ","                         Ce que je propose à l'épicerie ","                         Ce que je propose à l'épicerie ","                         Ce que je propose à l'épicerie ","                         Ce que je propose à l'épicerie ","                         Ce que je propose à l'épicerie ","                         Ce que je propose à l'épicerie ","                         Ce que je propose à l'épicerie ","                         Ce que je propose à l'épicerie ","                         Ce que je propose à l'épicerie ","                         Ce que je propose à l'épicerie ","                         Ce que je propose à l'épicerie ","                         Ce que je propose à l'épicerie ","                         Ce que je propose à l'épicerie ","                         Ce que je propose à l'épicerie ","                         Ce que je propose à l'épicerie ","                         Ce que je propose à l'épicerie ","                         Ce que je propose à l'épicerie ","                         Ce que je propose à l'épicerie ","                         Ce que je propose à l'épicerie ","                         Ce que je propose à l'épicerie ","                         Ce que je propose à l'épicerie ","                         Ce que je propose à l'épicerie ","                         Ce que je propose à l'épicerie ","                         Ce que je propose à l'épicerie ","                         Ce que je propose à l'épicerie ","                         Ce que je propose à l'épicerie ","                         Ce que je propose à l'épicerie ","                         Ce que je propose à l'épicerie ","                         Ce que je propose à l'épicerie ","                         Ce que je propose à l'épicerie ","                         Ce que je propose à l'épicerie ","                         Ce que je propose à l'épicerie ","                         Ce que je propose à l'épicerie ","                         Ce que je propose à l'épicerie ","                         Ce que je propose à l'épicerie ","                         Ce que je propose à l'épicerie ","                         Ce que je propose à l'épicerie ","                         Ce que je propose à l'épicerie ","                         Ce que je propose à l'épicerie ","                         Ce que je propose à l'épicerie ","                         Ce que je propose à l'épicerie ","                         Ce que je propose à l'épicerie ","                         Ce que je propose à l'épicerie ","                         Ce que je propose à l'épicerie ","                         Ce que je propose à l'épicerie ","                         Ce que je propose à l'épicerie ","                         Ce que je propose à l'épicerie ","                         Ce que je propose à l'épicerie ","                         Ce que je propose à l'épicerie ","                         Ce que je propose à l'épicerie ","                         Ce que je propose à l'épicerie ","                         Ce que je propose à l'épicerie ","                         Ce que je propose à l'épicerie ","                         Ce que je propose à l'épicerie ","                         Ce que je propose à l'épicerie ","                         Ce que je propose à l'épicerie ","                         Ce que je propose à l'épicerie ","                         Ce que je propose à l'épicerie ","                         Ce que je propose à l'épicerie ","                         Ce que je propose à l'épicerie ","                         Ce que je propose à l'épicerie ","                         Ce que je propose à l'épicerie ","                         Ce que je propose à l'épicerie ","                         Ce que je propose à l'épicerie ","                         Ce que je propose à l'épicerie ","                         Ce que je propose à l'épicerie ","                         Ce que je propose à l'épicerie ","                         Ce que je propose à l'épicerie ","                         Ce que je propose à l'épicerie ","                         Ce que je propose à l'épicerie ","                         Ce que je propose à l'épicerie ","                         Ce que je propose à l'épicerie ","                         Ce que je propose à l'épicerie ","                         Ce que je propose à l'épicerie ","                         Ce que je propose à l'épicerie ","                         Ce que je propose à l'épicerie ","                         Ce que je propose à l'épicerie ","                         Ce que je propose à l'épicerie ","                         Ce que je propose à l'épicerie ","                         Ce que je propose à l'épicerie ","                         Ce que je propose à l'épicerie ","                         Ce que je propose à l'épicerie ","                         Ce que je propose à l'épicerie ","                         Ce que je propose à l'épicerie ","                         Ce que je propose à l'épicerie ","                         Ce que je propose à l'épicerie ","                         Ce que je propose à l'épicerie ","                         Ce que je propose à l'épicerie ","                         Ce que je propose à l'épicerie ","                         Ce que je propose à l'épicerie ","                         Ce que je propose à l'épicerie ","                         Ce que je propose à l'épicerie ","                         Ce que je propose à l'épicerie ","                         Ce que je propose à l'épicerie ","                         Ce que je propose à l'épicerie ","                         Ce que je propose à l'épicerie ","                         Ce que je propose à l'épicerie ","                         Ce que je propose à l'épicerie ","                         Ce que je propose à l'épicerie ","                         Ce que je propose à l'épicerie ","                         Ce que je propose à l'épicerie ","                         Ce que je propose à l'épicerie ","                         Ce que je propose à l'épicerie ","                         Ce que je propose à l'épicerie ","                         Ce que je propose à l'épicerie ","                         Ce que je propose à l'épicerie ","                         Ce que je propose à l'épicerie ","                         Ce que je propose à l'épicerie ","                         Ce que je propose à l'épicerie ","                         Ce que je propose à l'épicerie ","                         Ce que je propose à l'épicerie ","                         Ce que je propose à l'épicerie ","                         Ce que je propose à l'épicerie ","                         Ce que je propose à l'épicerie ","                         Ce que je propose à l'épicerie ","                         Ce que je propose à l'épicerie ","                         Ce que je propose à l'épicerie ","                         Ce que je propose à l'épicerie ","                         Ce que je propose à l'épicerie ","                         Ce que je propose à l'épicerie ","                         Ce que je propose à l'épicerie ","                         Ce que je propose à l'épicerie ","                         Ce que je propose à l'épicerie ","                         Ce que je propose à l'épicerie ","                         Ce que je propose à l'épicerie ","                         Ce que je propose à l'épicerie ","                         Ce que je propose à l'épicerie ","                         Ce que je propose à l'épicerie ","                         Ce que je propose à l'épicerie ","                         Ce que je propose à l'épicerie ","                         Ce que je propose à l'épicerie ","                         Ce que je propose à l'épicerie ","                         Ce que je propose à l'épicerie ","                         Ce que je propose à l'épicerie ","                         Ce que je propose à l'épicerie ","                         Ce que je propose à l'épicerie ","                         Ce que je propose à l'épicerie ","                         Ce que je propose à l'épicerie ","                         Ce que je propose à l'épicerie ","                         Ce que je propose à l'épicerie ","                         Ce que je propose à l'épicerie ","                         Ce que je propose à l'épicerie ","                         Ce que je propose à l'épicerie ","                         Ce que je propose à l'épicerie ","                         Ce que je propose à l'épicerie ","                         Ce que je propose à l'épicerie ","                         Ce que je propose à l'épicerie ","                         Ce que je propose à l'épicerie ","                         Ce que je propose à l'épicerie ","                         Ce que je propose à l'épicerie ","                         Ce que je propose à l'épicerie ","                         Ce que je propose à l'épicerie ","                         Ce que je propose à l'épicerie ","                         Ce que je propose à l'épicerie ","                         Ce que je propose à l'épicerie ","                         Ce que je propose à l'épicerie ","                         Ce que je propose à l'épicerie ","                         Ce que je propose à l'épicerie ","                         Ce que je propose à l'épicerie ","                         Ce que je propose à l'épicerie ","                         Ce que je propose à l'épicerie ","                         Ce que je propose à l'épicerie ","                         Ce que je propose à l'épicerie ","                         Ce que je propose à l'épicerie ","                         Ce que je propose à l'épicerie ","                         Ce que je propose à l'épicerie ","                         Ce que je propose à l'épicerie ","                         Ce que je propose à l'épicerie ","                         Ce que je propose à l'épicerie ","                         Ce que je propose à l'épicerie ","                         Ce que je propose à l'épicerie ","                         Ce que je propose à l'épicerie ","                         Ce que je propose à l'épicerie ","                         Ce que je propose à l'épicerie ","                         Ce que je propose à l'épicerie ","                         Ce que je propose à l'épicerie ","                         Ce que je propose à l'épicerie ","                         Ce que je propose à l'épicerie ","                         Ce que je propose à l'épicerie ","                         Ce que je propose à l'épicerie ","                         Ce que je propose à l'épicerie ","                         Ce que je propose à l'épicerie ","                         Ce que je propose à l'épicerie ","                         Ce que je propose à l'épicerie ","                         Ce que je propose à l'épicerie ","                         Ce que je propose à l'épicerie ","                         Ce que je propose à l'épicerie ","                         Ce que je propose à l'épicerie ","                         Ce que je propose à l'épicerie ","                         Ce que je propose à l'épicerie ","                         Ce que je propose à l'épicerie ","                         Ce que je propose à l'épicerie ","                         Ce que je propose à l'épicerie ","                         Ce que je propose à l'épicerie ","                         Ce que je propose à l'épicerie ","                         Ce que je propose à l'épicerie ","                         Ce que je propose à l'épicerie ","                         Ce que je propose à l'épicerie ","                         Ce que je propose à l'épicerie ","                         Ce que je propose à l'épicerie ","                         Ce que je propose à l'épicerie ","                         Ce que je propose à l'épicerie ","                         Ce que je propose à l'épicerie ","                         Ce que je propose à l'épicerie ","                         Ce que je propose à l'épicerie ","                         Ce que je propose à l'épicerie ","                         Ce que je propose à l'épicerie ","                         Ce que je propose à l'épicerie ","                         Ce que je propose à l'épicerie ","                         Ce que je propose à l'épicerie ","                         Ce que je propose à l'épicerie ","                         Ce que je propose à l'épicerie ","                         Ce que je propose à l'épicerie ","                         Ce que je propose à l'épicerie ","                         Ce que je propose à l'épicerie ","                         Ce que je propose à l'épicerie ","                         Ce que je propose à l'épicerie ","                         Ce que je propose à l'épicerie ","                         Ce que je propose à l'épicerie ","                         Ce que je propose à l'épicerie ","                         Ce que je propose à l'épicerie ","                         Ce que je propose à l'épicerie ","                         Ce que je propose à l'épicerie ","                         Ce que je propose à l'épicerie ","                         Ce que je propose à l'épicerie ","                         Ce que je propose à l'épicerie ","                         Ce que je propose à l'épicerie ","                         Ce que je propose à l'épicerie ","                         Ce que je propose à l'épicerie ","                         Ce que je propose à l'épicerie ","                         Ce que je propose à l'épicerie ","                         Ce que je propose à l'épicerie ","                         Ce que je propose à l'épicerie ","                         Ce que je propose à l'épicerie ","                         Ce que je propose à l'épicerie ","                         Ce que je propose à l'épicerie ","                         Ce que je propose à l'épicerie ","                         Ce que je propose à l'épicerie ","                         Ce que je propose à l'épicerie ","                         Ce que je propose à l'épicerie ","                         Ce que je propose à l'épicerie ","                         Ce que je propose à l'épicerie ","                         Ce que je propose à l'épicerie ","                         Ce que je propose à l'épicerie ","                         Ce que je propose à l'épicerie ","                         Ce que je propose à l'épicerie ","                         Ce que je propose à l'épicerie ","                         Ce que je propose à l'épicerie ","                         Ce que je propose à l'épicerie ","                         Ce que je propose à l'épicerie ","                         Ce que je propose à l'épicerie ","                         Ce que je propose à l'épicerie ","                         Ce que je propose à l'épicerie ","                         Ce que je propose à l'épicerie ","                         Ce que je propose à l'épicerie ","                         Ce que je propose à l'épicerie ","                         Ce que je propose à l'épicerie ","                         Ce que je propose à l'épicerie ","                         Ce que je propose à l'épicerie ","                         Ce que je propose à l'épicerie ","                         Ce que je propose à l'épicerie ","                         Ce que je propose à l'épicerie ","                         Ce que je propose à l'épicerie ","                         Ce que je propose à l'épicerie ","                         Ce que je propose à l'épicerie ","                         Ce que je propose à l'épicerie ","                         Ce que je propose à l'épicerie ","                         Ce que je propose à l'épicerie ","                         Ce que je propose à l'épicerie ","                         Ce que je propose à l'épicerie ","                         Ce que je propose à l'épicerie ","                         Ce que je propose à l'épicerie ","                         Ce que je propose à l'épicerie ","                         Ce que je propose à l'épicerie ","                         Ce que je propose à l'épicerie ","                         Ce que je propose à l'épicerie ","                         Ce que je propose à l'épicerie ","                         Ce que je propose à l'épicerie ","                         Ce que je propose à l'épicerie ","                         Ce que je propose à l'épicerie ","                         Ce que je propose à l'épicerie ","                         Ce que je propose à l'épicerie ","                         Ce que je propose à l'épicerie ","                         Ce que je propose à l'épicerie ","                         Ce que je propose à l'épicerie ","                         Ce que je propose à l'épicerie ","                         Ce que je propose à l'épicerie ","                         Ce que je propose à l'épicerie ","                         Ce que je propose à l'épicerie ","                         Ce que je propose à l'épicerie ","                         Ce que je propose à l'épicerie ","                         Ce que je propose à l'épicerie ","                         Ce que je propose à l'épicerie ","                         Ce que je propose à l'épicerie ","                         Ce que je propose à l'épicerie ","                         Ce que je propose à l'épicerie ","                         Ce que je propose à l'épicerie ","                         Ce que je propose à l'épicerie ","                         Ce que je propose à l'épicerie ","                         Ce que je propose à l'épicerie ","                         Ce que je propose à l'épicerie ","                         Ce que je propose à l'épicerie ","                         Ce que je propose à l'épicerie ","                         Ce que je propose à l'épicerie ","                         Ce que je propose à l'épicerie ","                         Ce que je propose à l'épicerie ","                         Ce que je propose à l'épicerie ","                         Ce que je propose à l'épicerie ","                         Ce que je propose à l'épicerie ","                         Ce que je propose à l'épicerie ","                         Ce que je propose à l'épicerie ","                         Ce que je propose à l'épicerie ","                         Ce que je propose à l'épicerie ","                         Ce que je propose à l'épicerie ","                         Ce que je propose à l'épicerie ","                         Ce que je propose à l'épicerie ","                         Ce que je propose à l'épicerie ","                         Ce que je propose à l'épicerie ","                         Ce que je propose à l'épicerie ","                         Ce que je propose à l'épicerie ","                         Ce que je propose à l'épicerie ","                         Ce que je propose à l'épicerie ","                         Ce que je propose à l'épicerie ","                         Ce que je propose à l'épicerie ","                         Ce que je propose à l'épicerie ","                         Ce que je propose à l'épicerie ","                         Ce que je propose à l'épicerie ","                         Ce que je propose à l'épicerie ","                         Ce que je propose à l'épicerie ","                         Ce que je propose à l'épicerie ","                         Ce que je propose à l'épicerie ","                         Ce que je propose à l'épicerie ","                         Ce que je propose à l'épicerie ","                         Ce que je propose à l'épicerie ","                         Ce que je propose à l'épicerie ","                         Ce que je propose à l'épicerie ","                         Ce que je propose à l'épicerie ","                         Ce que je propose à l'épicerie ","                         Ce que je propose à l'épicerie ","                         Ce que je propose à l'épicerie ","                         Ce que je propose à l'épicerie ","                         Ce que je propose à l'épicerie ","                         Ce que je propose à l'épicerie ","                         Ce que je propose à l'épicerie ","                         Ce que je propose à l'épicerie ","                         Ce que je propose à l'épicerie ","                         Ce que je propose à l'épicerie ","                         Ce que je propose à l'épicerie ","                         Ce que je propose à l'épicerie ","                         Ce que je propose à l'épicerie ","                         Ce que je propose à l'épicerie ","                         Ce que je propose à l'épicerie ","                         Ce que je propose à l'épicerie ","                         Ce que je propose à l'épicerie ","                         Ce que je propose à l'épicerie ","                         Ce que je propose à l'épicerie ","                         Ce que je propose à l'épicerie ","                         Ce que je propose à l'épicerie ","                         Ce que je propose à l'épicerie ","                         Ce que je propose à l'épicerie ","                         Ce que je propose à l'épicerie ","                         Ce que je propose à l'épicerie ","                         Ce que je propose à l'épicerie ","                         Ce que je propose à l'épicerie ","                         Ce que je propose à l'épicerie ","                         Ce que je propose à l'épicerie ","                         Ce que je propose à l'épicerie ","                         Ce que je propose à l'épicerie ","                         Ce que je propose à l'épicerie ","                         Ce que je propose à l'épicerie ","                         Ce que je propose à l'épicerie ","                         Ce que je propose à l'épicerie ","                         Ce que je propose à l'épicerie ","                         Ce que je propose à l'épicerie ","                         Ce que je propose à l'épicerie ","                         Ce que je propose à l'épicerie ","                         Ce que je propose à l'épicerie ","                         Ce que je propose à l'épicerie ","                         Ce que je propose à l'épicerie ","                         Ce que je propose à l'épicerie ","                         Ce que je propose à l'épicerie ","                         Ce que je propose à l'épicerie ","                         Ce que je propose à l'épicerie ","                         Ce que je propose à l'épicerie ","                         Ce que je propose à l'épicerie ","                         Ce que je propose à l'épicerie ","                         Ce que je propose à l'épicerie ","                         Ce que je propose à l'épicerie ","                         Ce que je propose à l'épicerie ","                         Ce que je propose à l'épicerie ","                         Ce que je propose à l'épicerie ","                         Ce que je propose à l'épicerie ","                         Ce que je propose à l'épicerie ","                         Ce que je propose à l'épicerie ","                         Ce que je propose à l'épicerie ","                         Ce que je propose à l'épicerie ","                         Ce que je propose à l'épicerie ","                         Ce que je propose à l'épicerie ","                         Ce que je propose à l'épicerie ","                         Ce que je propose à l'épicerie ","                         Ce que je propose à l'épicerie ","                         Ce que je propose à l'épicerie ","                         Ce que je propose à l'épicerie ","                         Ce que je propose à l'épicerie ","                         Ce que je propose à l'épicerie ","                         Ce que je propose à l'épicerie ","                         Ce que je propose à l'épicerie ","                         Ce que je propose à l'épicerie ","                         Ce que je propose à l'épicerie ","                         Ce que je propose à l'épicerie ","                         Ce que je propose à l'épicerie ","                         Ce que je propose à l'épicerie ","                         Ce que je propose à l'épicerie ","                         Ce que je propose à l'épicerie ","                         Ce que je propose à l'épicerie ","                         Ce que je propose à l'épicerie ","                         Ce que je propose à l'épicerie ","                         Ce que je propose à l'épicerie ","                         Ce que je propose à l'épicerie ","                         Ce que je propose à l'épicerie ","                         Ce que je propose à l'épicerie ","                         Ce que je propose à l'épicerie ","                         Ce que je propose à l'épicerie ","                         Ce que je propose à l'épicerie ","                         Ce que je propose à l'épicerie ","                         Ce que je propose à l'épicerie ","                         Ce que je propose à l'épicerie ","                         Ce que je propose à l'épicerie ","                         Ce que je propose à l'épicerie ","                         Ce que je propose à l'épicerie ","                         Ce que je propose à l'épicerie ","                         Ce que je propose à l'épicerie ","                         Ce que je propose à l'épicerie ","                         Ce que je propose à l'épicerie ","                         Ce que je propose à l'épicerie ","                         Ce que je propose à l'épicerie ","                         Ce que je propose à l'épicerie ","                         Ce que je propose à l'épicerie ","                         Ce que je propose à l'épicerie ","                         Ce que je propose à l'épicerie ","                         Ce que je propose à l'épicerie ","                         Ce que je propose à l'épicerie ","                         Ce que je propose à l'épicerie ","                         Ce que je propose à l'épicerie ","                         Ce que je propose à l'épicerie ","                         Ce que je propose à l'épicerie ","                         Ce que je propose à l'épicerie ","                         Ce que je propose à l'épicerie ","                         Ce que je propose à l'épicerie ","                         Ce que je propose à l'épicerie ","                         Ce que je propose à l'épicerie ","                         Ce que je propose à l'épicerie ","                         Ce que je propose à l'épicerie ","                         Ce que je propose à l'épicerie ","                         Ce que je propose à l'épicerie ","                         Ce que je propose à l'épicerie ","                         Ce que je propose à l'épicerie ","                         Ce que je propose à l'épicerie ","                         Ce que je propose à l'épicerie ","                         Ce que je propose à l'épicerie ","                         Ce que je propose à l'épicerie ","                         Ce que je propose à l'épicerie ","                         Ce que je propose à l'épicerie ","                         Ce que je propose à l'épicerie ","                         Ce que je propose à l'épicerie ","                         Ce que je propose à l'épicerie ","                         Ce que je propose à l'épicerie ","                         Ce que je propose à l'épicerie ","                         Ce que je propose à l'épicerie ","                         Ce que je propose à l'épicerie ","                         Ce que je propose à l'épicerie ","                         Ce que je propose à l'épicerie ","                         Ce que je propose à l'épicerie ","                         Ce que je propose à l'épicerie ","                         Ce que je propose à l'épicerie ","                         Ce que je propose à l'épicerie ","                         Ce que je propose à l'épicerie ","                         Ce que je propose à l'épicerie ","                         Ce que je propose à l'épicerie ","                         Ce que je propose à l'épicerie ","                         Ce que je propose à l'épicerie ","                         Ce que je propose à l'épicerie ","                         Ce que je propose à l'épicerie ","                         Ce que je propose à l'épicerie ","                         Ce que je propose à l'épicerie ","                         Ce que je propose à l'épicerie ","                         Ce que je propose à l'épicerie ","                         Ce que je propose à l'épicerie ","                         Ce que je propose à l'épicerie ","                         Ce que je propose à l'épicerie ","                         Ce que je propose à l'épicerie ","                         Ce que je propose à l'épicerie ","                         Ce que je propose à l'épicerie ","                         Ce que je propose à l'épicerie ","                         Ce que je propose à l'épicerie ","                         Ce que je propose à l'épicerie ","                         Ce que je propose à l'épicerie ","                         Ce que je propose à l'épicerie ","                         Ce que je propose à l'épicerie ","                         Ce que je propose à l'épicerie ","                         Ce que je propose à l'épicerie ","                         Ce que je propose à l'épicerie ","                         Ce que je propose à l'épicerie ","                         Ce que je propose à l'épicerie ","                         Ce que je propose à l'épicerie ","                         Ce que je propose à l'épicerie ","                         Ce que je propose à l'épicerie ","                         Ce que je propose à l'épicerie ","                         Ce que je propose à l'épicerie ","                         Ce que je propose à l'épicerie ","                         Ce que je propose à l'épicerie ","                         Ce que je propose à l'épicerie ","                         Ce que je propose à l'épicerie ","                         Ce que je propose à l'épicerie ","                         Ce que je propose à l'épicerie ","                         Ce que je propose à l'épicerie ","                         Ce que je propose à l'épicerie ","                         Ce que je propose à l'épicerie ","                         Ce que je propose à l'épicerie ","                         Ce que je propose à l'épicerie ","                         Ce que je propose à l'épicerie ","                         Ce que je propose à l'épicerie ","                         Ce que je propose à l'épicerie ","                         Ce que je propose à l'épicerie ","                         Ce que je propose à l'épicerie ","                         Ce que je propose à l'épicerie ","                         Ce que je propose à l'épicerie ","                         Ce que je propose à l'épicerie ","                         Ce que je propose à l'épicerie ","                         Ce que je propose à l'épicerie ","                         Ce que je propose à l'épicerie ","                         Ce que je propose à l'épicerie ","                         Ce que je propose à l'épicerie ","                         Ce que je propose à l'épicerie ","                         Ce que je propose à l'épicerie ","                         Ce que je propose à l'épicerie ","                         Ce que je propose à l'épicerie ","                         Ce que je propose à l'épicerie ","                         Ce que je propose à l'épicerie ","                         Ce que je propose à l'épicerie ","                         Ce que je propose à l'épicerie ","                         Ce que je propose à l'épicerie ","                         Ce que je propose à l'épicerie ","                         Ce que je propose à l'épicerie ","                         Ce que je propose à l'épicerie ","                         Ce que je propose à l'épicerie ","                         Ce que je propose à l'épicerie ","                         Ce que je propose à l'épicerie ","                         Ce que je propose à l'épicerie ","                         Ce que je propose à l'épicerie ","                         Ce que je propose à l'épicerie ","                         Ce que je propose à l'épicerie ","                         Ce que je propose à l'épicerie ","                         Ce que je propose à l'épicerie ","                         Ce que je propose à l'épicerie ","                         Ce que je propose à l'épicerie ","                         Ce que je propose à l'épicerie ","                         Ce que je propose à l'épicerie ","                         Ce que je propose à l'épicerie ","                         Ce que je propose à l'épicerie ","                         Ce que je propose à l'épicerie ","                         Ce que je propose à l'épicerie ","                         Ce que je propose à l'épicerie ","                         Ce que je propose à l'épicerie ","                         Ce que je propose à l'épicerie ","                         Ce que je propose à l'épicerie ","                         Ce que je propose à l'épicerie ","                         Ce que je propose à l'épicerie ","                         Ce que je propose à l'épicerie ","                         Ce que je propose à l'épicerie ","                         Ce que je propose à l'épicerie ","                         Ce que je propose à l'épicerie ","                         Ce que je propose à l'épicerie ","                         Ce que je propose à l'épicerie ","                         Ce que je propose à l'épicerie ","                         Ce que je propose à l'épicerie ","                         Ce que je propose à l'épicerie ","                         Ce que je propose à l'épicerie ","                         Ce que je propose à l'épicerie ","                         Ce que je propose à l'épicerie ","                         Ce que je propose à l'épicerie ","                         Ce que je propose à l'épicerie ","                         Ce que je propose à l'épicerie ","                         Ce que je propose à l'épicerie ","                         Ce que je propose à l'épicerie ","                         Ce que je propose à l'épicerie ","                         Ce que je propose à l'épicerie ","                         Ce que je propose à l'épicerie ","                         Ce que je propose à l'épicerie ","                         Ce que je propose à l'épicerie ","                         Ce que je propose à l'épicerie ","                         Ce que je propose à l'épicerie ","                         Ce que je propose à l'épicerie ","                         Ce que je propose à l'épicerie ","                         Ce que je propose à l'épicerie ","                         Ce que je propose à l'épicerie ","                         Ce que je propose à l'épicerie ","                         Ce que je propose à l'épicerie ","                         Ce que je propose à l'épicerie ","                         Ce que je propose à l'épicerie ","                         Ce que je propose à l'épicerie ","                         Ce que je propose à l'épicerie ","                         Ce que je propose à l'épicerie ","                         Ce que je propose à l'épicerie ","                         Ce que je propose à l'épicerie ","                         Ce que je propose à l'épicerie ","                         Ce que je propose à l'épicerie ","                         Ce que je propose à l'épicerie ","                         Ce que je propose à l'épicerie ","                         Ce que je propose à l'épicerie ","                         Ce que je propose à l'épicerie ","                         Ce que je propose à l'épicerie ","                         Ce que je propose à l'épicerie ","                         Ce que je propose à l'épicerie ","                         Ce que je propose à l'épicerie ","                         Ce que je propose à l'épicerie ","                         Ce que je propose à l'épicerie ","                         Ce que je propose à l'épicerie ","                         Ce que je propose à l'épicerie ","                         Ce que je propose à l'épicerie ","                         Ce que je propose à l'épicerie ","                         Ce que je propose à l'épicerie ","                         Ce que je propose à l'épicerie ","                         Ce que je propose à l'épicerie ","                         Ce que je propose à l'épicerie ","                         Ce que je propose à l'épicerie ","                         Ce que je propose à l'épicerie ","                         Ce que je propose à l'épicerie ","                         Ce que je propose à l'épicerie ","                         Ce que je propose à l'épicerie ","                         Ce que je propose à l'épicerie ","                         Ce que je propose à l'épicerie ","                         Ce que je propose à l'épicerie ","                         Ce que je propose à l'épicerie ","                         Ce que je propose à l'épicerie ","                         Ce que je propose à l'épicerie ","                         Ce que je propose à l'épicerie ","                         Ce que je propose à l'épicerie ","                         Ce que je propose à l'épicerie ","                         Ce que je propose à l'épicerie ","                         Ce que je propose à l'épicerie ","                         Ce que je propose à l'épicerie ","                         Ce que je propose à l'épicerie ","                         Ce que je propose à l'épicerie ","                         Ce que je propose à l'épicerie ","                         Ce que je propose à l'épicerie ","                         Ce que je propose à l'épicerie ","                         Ce que je propose à l'épicerie ","                         Ce que je propose à l'épicerie ","                         Ce que je propose à l'épicerie ","                         Ce que je propose à l'épicerie ","                         Ce que je propose à l'épicerie ","                         Ce que je propose à l'épicerie ","                         Ce que je propose à l'épicerie ","                         Ce que je propose à l'épicerie ","                         Ce que je propose à l'épicerie ","                         Ce que je propose à l'épicerie ","                         Ce que je propose à l'épicerie ","                         Ce que je propose à l'épicerie ","                         Ce que je propose à l'épicerie ","                         Ce que je propose à l'épicerie ","                         Ce que je propose à l'épicerie ","                         Ce que je propose à l'épicerie ","                         Ce que je propose à l'épicerie ","                         Ce que je propose à l'épicerie ","                         Ce que je propose à l'épicerie ","                         Ce que je propose à l'épicerie ","                         Ce que je propose à l'épicerie ","                         Ce que je propose à l'épicerie ","                         Ce que je propose à l'épicerie ","                         Ce que je propose à l'épicerie ","                         Ce que je propose à l'épicerie ","                         Ce que je propose à l'épicerie ","                         Ce que je propose à l'épicerie ","                         Ce que je propose à l'épicerie ","                         Ce que je propose à l'épicerie ","                         Ce que je propose à l'épicerie ","                         Ce que je propose à l'épicerie ","                         Ce que je propose à l'épicerie ","                         Ce que je propose à l'épicerie ","                         Ce que je propose à l'épicerie ","                         Ce que je propose à l'épicerie ","                         Ce que je propose à l'épicerie ","                         Ce que je propose à l'épicerie ","                         Ce que je propose à l'épicerie ","                         Ce que je propose à l'épicerie ","                         Ce que je propose à l'épicerie ","                         Ce que je propose à l'épicerie ","                         Ce que je propose à l'épicerie ","                         Ce que je propose à l'épicerie ","                         Ce que je propose à l'épicerie ","                         Ce que je propose à l'épicerie ","                         Ce que je propose à l'épicerie ","                         Ce que je propose à l'épicerie ","                         Ce que je propose à l'épicerie ","                         Ce que je propose à l'épicerie ","                         Ce que je propose à l'épicerie ","                         Ce que je propose à l'épicerie ","                         Ce que je propose à l'épicerie ","                         Ce que je propose à l'épicerie ","                         Ce que je propose à l'épicerie ","                         Ce que je propose à l'épicerie ","                         Ce que je propose à l'épicerie ","                         Ce que je propose à l'épicerie ","                         Ce que je propose à l'épicerie ","                         Ce que je propose à l'épicerie ","                         Ce que je propose à l'épicerie ","                         Ce que je propose à l'épicerie ","                         Ce que je propose à l'épicerie ","                         Ce que je propose à l'épicerie ","                         Ce que je propose à l'épicerie ","                         Ce que je propose à l'épicerie ","                         Ce que je propose à l'épicerie ","                         Ce que je propose à l'épicerie ","                         Ce que je propose à l'épicerie ","                         Ce que je propose à l'épicerie ","                         Ce que je propose à l'épicerie ","                         Ce que je propose à l'épicerie ","                         Ce que je propose à l'épicerie ","                         Ce que je propose à l'épicerie ","                         Ce que je propose à l'épicerie ","                         Ce que je propose à l'épicerie ","                         Ce que je propose à l'épicerie ","                         Ce que je propose à l'épicerie ","                         Ce que je propose à l'épicerie ","                         Ce que je propose à l'épicerie ","                         Ce que je propose à l'épicerie ","                         Ce que je propose à l'épicerie ","                         Ce que je propose à l'épicerie ","                         Ce que je propose à l'épicerie ","                         Ce que je propose à l'épicerie ","                         Ce que je propose à l'épicerie ","                         Ce que je propose à l'épicerie ","                         Ce que je propose à l'épicerie ","                         Ce que je propose à l'épicerie ","                         Ce que je propose à l'épicerie ","                         Ce que je propose à l'épicerie ","                         Ce que je propose à l'épicerie ","                         Ce que je propose à l'épicerie ","                         Ce que je propose à l'épicerie ","                         Ce que je propose à l'épicerie ","                         Ce que je propose à l'épicerie ","                         Ce que je propose à l'épicerie ","                         Ce que je propose à l'épicerie ","                         Ce que je propose à l'épicerie ","                         Ce que je propose à l'épicerie ","                         Ce que je propose à l'épicerie ","                         Ce que je propose à l'épicerie ","                         Ce que je propose à l'épicerie ","                         Ce que je propose à l'épicerie ","                         Ce que je propose à l'épicerie ","                         Ce que je propose à l'épicerie ","                         Ce que je propose à l'épicerie ","                         Ce que je propose à l'épicerie ","                         Ce que je propose à l'épicerie ","                         Ce que je propose à l'épicerie ","                         Ce que je propose à l'épicerie ","                         Ce que je propose à l'épicerie ","                         Ce que je propose à l'épicerie ","                         Ce que je propose à l'épicerie ","                         Ce que je propose à l'épicerie ","                         Ce que je propose à l'épicerie ","                         Ce que je propose à l'épicerie ","                         Ce que je propose à l'épicerie ","                         Ce que je propose à l'épicerie ","                         Ce que je propose à l'épicerie ","                         Ce que je propose à l'épicerie ","                         Ce que je propose à l'épicerie ","                         Ce que je propose à l'épicerie ","                         Ce que je propose à l'épicerie ","                         Ce que je propose à l'épicerie ","                         Ce que je propose à l'épicerie ","                         Ce que je propose à l'épicerie ","                         Ce que je propose à l'épicerie ","                         Ce que je propose à l'épicerie ","                         Ce que je propose à l'épicerie ","                         Ce que je propose à l'épicerie ","                         Ce que je propose à l'épicerie ","                         Ce que je propose à l'épicerie ","                         Ce que je propose à l'épicerie ","                         Ce que je propose à l'épicerie ","                         Ce que je propose à l'épicerie ","                         Ce que je propose à l'épicerie ","                         Ce que je propose à l'épicerie ","                         Ce que je propose à l'épicerie ","                         Ce que je propose à l'épicerie ","                         Ce que je propose à l'épicerie ","                         Ce que je propose à l'épicerie ","                         Ce que je propose à l'épicerie ","                         Ce que je propose à l'épicerie ","                         Ce que je propose à l'épicerie ","                         Ce que je propose à l'épicerie ","                         Ce que je propose à l'épicerie ","                         Ce que je propose à l'épicerie ","                         Ce que je propose à l'épicerie ","                         Ce que je propose à l'épicerie ","                         Ce que je propose à l'épicerie ","                         Ce que je propose à l'épicerie ","                         Ce que je propose à l'épicerie ","                         Ce que je propose à l'épicerie ","                         Ce que je propose à l'épicerie ","                         Ce que je propose à l'épicerie ","                         Ce que je propose à l'épicerie ","                         Ce que je propose à l'épicerie ","                         Ce que je propose à l'épicerie ","                         Ce que je propose à l'épicerie ","                         Ce que je propose à l'épicerie ","                         Ce que je propose à l'épicerie ","                         Ce que je propose à l'épicerie ","                         Ce que je propose à l'épicerie ","                         Ce que je propose à l'épicerie ","                         Ce que je propose à l'épicerie ","                         Ce que je propose à l'épicerie ","                         Ce que je propose à l'épicerie ","                         Ce que je propose à l'épicerie ","                         Ce que je propose à l'épicerie ","                         Ce que je propose à l'épicerie ","                         Ce que je propose à l'épicerie ","                         Ce que je propose à l'épicerie ","                         Ce que je propose à l'épicerie ","                         Ce que je propose à l'épicerie ","                         Ce que je propose à l'épicerie ","                         Ce que je propose à l'épicerie ","                         Ce que je propose à l'épicerie ","                         Ce que je propose à l'épicerie ","                         Ce que je propose à l'épicerie ","                         Ce que je propose à l'épicerie ","                         Ce que je propose à l'épicerie ","                         Ce que je propose à l'épicerie ","                         Ce que je propose à l'épicerie ","                         Ce que je propose à l'épicerie ","                         Ce que je propose à l'épicerie ","                         Ce que je propose à l'épicerie ","                         Ce que je propose à l'épicerie ","                         Ce que je propose à l'épicerie ","                         Ce que je propose à l'épicerie ","                         Ce que je propose à l'épicerie ","                         Ce que je propose à l'épicerie ","                         Ce que je propose à l'épicerie ","                         Ce que je propose à l'épicerie ","                         Ce que je propose à l'épicerie ","                         Ce que je propose à l'épicerie ","                         Ce que je propose à l'épicerie ","                         Ce que je propose à l'épicerie ","                         Ce que je propose à l'épicerie ","                         Ce que je propose à l'épicerie ","                         Ce que je propose à l'épicerie ","                         Ce que je propose à l'épicerie ","                         Ce que je propose à l'épicerie ","                         Ce que je propose à l'épicerie ","                         Ce que je propose à l'épicerie ","                         Ce que je propose à l'épicerie ","                         Ce que je propose à l'épicerie ","                         Ce que je propose à l'épicerie ","                         Ce que je propose à l'épicerie ","                         Ce que je propose à l'épicerie ","                         Ce que je propose à l'épicerie ","                         Ce que je propose à l'épicerie ","                         Ce que je propose à l'épicerie ","                         Ce que je propose à l'épicerie ","                         Ce que je propose à l'épicerie ","                         Ce que je propose à l'épicerie ","                         Ce que je propose à l'épicerie ","                         Ce que je propose à l'épicerie ","                         Ce que je propose à l'épicerie ","                         Ce que je propose à l'épicerie ","                         Ce que je propose à l'épicerie ","                         Ce que je propose à l'épicerie ","                         Ce que je propose à l'épicerie ","                         Ce que je propose à l'épicerie ","                         Ce que je propose à l'épicerie ","                         Ce que je propose à l'épicerie ","                         Ce que je propose à l'épicerie ","                         Ce que je propose à l'épicerie ","                         Ce que je propose à l'épicerie ","                         Ce que je propose à l'épicerie ","                         Ce que je propose à l'épicerie ","                         Ce que je propose à l'épicerie ","                         Ce que je propose à l'épicerie ","                         Ce que je propose à l'épicerie ","                         Ce que je propose à l'épicerie ","                         Ce que je propose à l'épicerie ","                         Ce que je propose à l'épicerie ","                         Ce que je propose à l'épicerie ","                         Ce que je propose à l'épicerie ","                         Ce que je propose à l'épicerie ","                         Ce que je propose à l'épicerie ","                         Ce que je propose à l'épicerie ","                         Ce que je propose à l'épicerie ","                         Ce que je propose à l'épicerie ","                         Ce que je propose à l'épicerie ","                         Ce que je propose à l'épicerie ","                         Ce que je propose à l'épicerie ","                         Ce que je propose à l'épicerie ","                         Ce que je propose à l'épicerie ","                         Ce que je propose à l'épicerie ","                         Ce que je propose à l'épicerie ","                         Ce que je propose à l'épicerie ","                         Ce que je propose à l'épicerie ","                         Ce que je propose à l'épicerie ","                         Ce que je propose à l'épicerie ","                         Ce que je propose à l'épicerie ","                         Ce que je propose à l'épicerie ","                         Ce que je propose à l'épicerie ","                         Ce que je propose à l'épicerie ","                         Ce que je propose à l'épicerie ","                         Ce que je propose à l'épicerie ","                         Ce que je propose à l'épicerie ","                         Ce que je propose à l'épicerie ","                         Ce que je propose à l'épicerie ","                         Ce que je propose à l'épicerie ","                         Ce que je propose à l'épicerie ","                         Ce que je propose à l'épicerie ","                         Ce que je propose à l'épicerie ","                         Ce que je propose à l'épicerie ","                         Ce que je propose à l'épicerie ","                         Ce que je propose à l'épicerie ","                         Ce que je propose à l'épicerie ","                         Ce que je propose à l'épicerie ","                         Ce que je propose à l'épicerie ","                         Ce que je propose à l'épicerie ","                         Ce que je propose à l'épicerie ","                         Ce que je propose à l'épicerie ","                         Ce que je propose à l'épicerie ","                         Ce que je propose à l'épicerie ","                         Ce que je propose à l'épicerie ","                         Ce que je propose à l'épicerie ","                         Ce que je propose à l'épicerie ","                         Ce que je propose à l'épicerie ","                         Ce que je propose à l'épicerie ","                         Ce que je propose à l'épicerie ","                         Ce que je propose à l'épicerie ","                         Ce que je propose à l'épicerie ","                         Ce que je propose à l'épicerie ","                         Ce que je propose à l'épicerie ","                         Ce que je propose à l'épicerie ","                         Ce que je propose à l'épicerie ","                         Ce que je propose à l'épicerie ","                         Ce que je propose à l'épicerie ","                         Ce que je propose à l'épicerie ","                         Ce que je propose à l'épicerie ","                         Ce que je propose à l'épicerie ","                         Ce que je propose à l'épicerie ","                         Ce que je propose à l'épicerie ","                         Ce que je propose à l'épicerie ","                         Ce que je propose à l'épicerie ","                         Ce que je propose à l'épicerie ","                         Ce que je propose à l'épicerie ","                         Ce que je propose à l'épicerie ","                         Ce que je propose à l'épicerie ","                         Ce que je propose à l'épicerie ","                         Ce que je propose à l'épicerie ","                         Ce que je propose à l'épicerie ","                         Ce que je propose à l'épicerie ","                         Ce que je propose à l'épicerie ","                         Ce que je propose à l'épicerie ","                         Ce que je propose à l'épicerie ","                         Ce que je propose à l'épicerie ","                         Ce que je propose à l'épicerie ","                         Ce que je propose à l'épicerie ","                         Ce que je propose à l'épicerie ","                         Ce que je propose à l'épicerie ","                         Ce que je propose à l'épicerie ","                         Ce que je propose à l'épicerie ","                         Ce que je propose à l'épicerie ","                         Ce que je propose à l'épicerie ","                         Ce que je propose à l'épicerie ","                         Ce que je propose à l'épicerie ","                         Ce que je propose à l'épicerie ","                         Ce que je propose à l'épicerie ","                         Ce que je propose à l'épicerie ","                         Ce que je propose à l'épicerie ","                         Ce que je propose à l'épicerie ","                         Ce que je propose à l'épicerie ","                         Ce que je propose à l'épicerie ","                         Ce que je propose à l'épicerie ","                         Ce que je propose à l'épicerie ","                         Ce que je propose à l'épicerie ","                         Ce que je propose à l'épicerie ","                         Ce que je propose à l'épicerie ","                         Ce que je propose à l'épicerie ","                         Ce que je propose à l'épicerie ","                         Ce que je propose à l'épicerie ","                         Ce que je propose à l'épicerie ","                         Ce que je propose à l'épicerie ","                         Ce que je propose à l'épicerie ","                         Ce que je propose à l'épicerie ","                         Ce que je propose à l'épicerie ","                         Ce que je propose à l'épicerie ","                         Ce que je propose à l'épicerie ","                         Ce que je propose à l'épicerie ","                         Ce que je propose à l'épicerie ","                         Ce que je propose à l'épicerie ","                         Ce que je propose à l'épicerie ","                         Ce que je propose à l'épicerie ","                         Ce que je propose à l'épicerie ","                         Ce que je propose à l'épicerie ","                         Ce que je propose à l'épicerie ","                         Ce que je propose à l'épicerie ","                         Ce que je propose à l'épicerie ","                         Ce que je propose à l'épicerie ","                         Ce que je propose à l'épicerie ","                         Ce que je propose à l'épicerie ","                         Ce que je propose à l'épicerie ","                         Ce que je propose à l'épicerie ","                         Ce que je propose à l'épicerie ","                         Ce que je propose à l'épicerie ","                         Ce que je propose à l'épicerie ","                         Ce que je propose à l'épicerie ","                         Ce que je propose à l'épicerie ","                         Ce que je propose à l'épicerie ","                         Ce que je propose à l'épicerie ","                         Ce que je propose à l'épicerie ","                         Ce que je propose à l'épicerie ","                         Ce que je propose à l'épicerie ","                         Ce que je propose à l'épicerie ","                         Ce que je propose à l'épicerie ","                         Ce que je propose à l'épicerie ","                         Ce que je propose à l'épicerie ","                         Ce que je propose à l'épicerie ","                         Ce que je propose à l'épicerie ","                         Ce que je propose à l'épicerie ","                         Ce que je propose à l'épicerie ","                         Ce que je propose à l'épicerie ","                         Ce que je propose à l'épicerie ","                         Ce que je propose à l'épicerie ","                         Ce que je propose à l'épicerie ","                         Ce que je propose à l'épicerie ","                         Ce que je propose à l'épicerie ","                         Ce que je propose à l'épicerie ","                         Ce que je propose à l'épicerie ","                         Ce que je propose à l'épicerie ","                         Ce que je propose à l'épicerie ","                         Ce que je propose à l'épicerie ","                         Ce que je propose à l'épicerie ","                         Ce que je propose à l'épicerie ","                         Ce que je propose à l'épicerie ","                         Ce que je propose à l'épicerie ","                         Ce que je propose à l'épicerie ","                         Ce que je propose à l'épicerie ","                         Ce que je propose à l'épicerie ","                         Ce que je propose à l'épicerie ","                         Ce que je propose à l'épicerie ","                         Ce que je propose à l'épicerie ","                         Ce que je propose à l'épicerie ","                         Ce que je propose à l'épicerie ","                         Ce que je propose à l'épicerie ","                         Ce que je propose à l'épicerie ","                         Ce que je propose à l'épicerie ","                         Ce que je propose à l'épicerie ","                         Ce que je propose à l'épicerie ","                         Ce que je propose à l'épicerie ","                         Ce que je propose à l'épicerie ","                         Ce que je propose à l'épicerie ","                         Ce que je propose à l'épicerie ","                         Ce que je propose à l'épicerie ","                         Ce que je propose à l'épicerie ","                         Ce que je propose à l'épicerie ","                         Ce que je propose à l'épicerie ","                         Ce que je propose à l'épicerie ","                         Ce que je propose à l'épicerie ","                         Ce que je propose à l'épicerie ","                         Ce que je propose à l'épicerie ","                         Ce que je propose à l'épicerie ","                         Ce que je propose à l'épicerie ","                         Ce que je propose à l'épicerie ","                         Ce que je propose à l'épicerie ","                         Ce que je propose à l'épicerie ","                         Ce que je propose à l'épicerie ","                         Ce que je propose à l'épicerie ","                         Ce que je propose à l'épicerie ","                         Ce que je propose à l'épicerie ","                         Ce que je propose à l'épicerie ","                         Ce que je propose à l'épicerie ","                         Ce que je propose à l'épicerie ","                         Ce que je propose à l'épicerie ","                         Ce que je propose à l'épicerie ","                         Ce que je propose à l'épicerie ","                         Ce que je propose à l'épicerie ","                         Ce que je propose à l'épicerie ","                         Ce que je propose à l'épicerie ","                         Ce que je propose à l'épicerie ","                         Ce que je propose à l'épicerie ","                         Ce que je propose à l'épicerie ","                         Ce que je propose à l'épicerie ","                         Ce que je propose à l'épicerie ","                         Ce que je propose à l'épicerie ","                         Ce que je propose à l'épicerie ","                         Ce que je propose à l'épicerie ","                         Ce que je propose à l'épicerie ","                         Ce que je propose à l'épicerie ","                         Ce que je propose à l'épicerie ","                         Ce que je propose à l'épicerie ","                         Ce que je propose à l'épicerie ","                         Ce que je propose à l'épicerie ","                         Ce que je propose à l'épicerie ","                         Ce que je propose à l'épicerie ","                         Ce que je propose à l'épicerie ","                         Ce que je propose à l'épicerie ","                         Ce que je propose à l'épicerie ","                         Ce que je propose à l'épicerie ","                         Ce que je propose à l'épicerie ","                         Ce que je propose à l'épicerie ","                         Ce que je propose à l'épicerie ","                         Ce que je propose à l'épicerie ","                         Ce que je propose à l'épicerie ","                         Ce que je propose à l'épicerie ","                         Ce que je propose à l'épicerie ","                         Ce que je propose à l'épicerie ","                         Ce que je propose à l'épicerie ","                         Ce que je propose à l'épicerie ","                         Ce que je propose à l'épicerie ","                         Ce que je propose à l'épicerie ","                         Ce que je propose à l'épicerie ","                         Ce que je propose à l'épicerie ","                         Ce que je propose à l'épicerie ","                         Ce que je propose à l'épicerie ","                         Ce que je propose à l'épicerie ","                         Ce que je propose à l'épicerie ","                         Ce que je propose à l'épicerie ","                         Ce que je propose à l'épicerie ","                         Ce que je propose à l'épicerie ","                         Ce que je propose à l'épicerie ","                         Ce que je propose à l'épicerie ","                         Ce que je propose à l'épicerie ","                         Ce que je propose à l'épicerie ","                         Ce que je propose à l'épicerie ","                         Ce que je propose à l'épicerie ","                         Ce que je propose à l'épicerie ","                         Ce que je propose à l'épicerie ","                         Ce que je propose à l'épicerie ","                         Ce que je propose à l'épicerie ","                         Ce que je propose à l'épicerie ","                         Ce que je propose à l'épicerie ","                         Ce que je propose à l'épicerie ","                         Ce que je propose à l'épicerie ","                         Ce que je propose à l'épicerie ","                         Ce que je propose à l'épicerie ","                         Ce que je propose à l'épicerie ","                         Ce que je propose à l'épicerie ","                         Ce que je propose à l'épicerie ","                         Ce que je propose à l'épicerie ","                         Ce que je propose à l'épicerie ","                         Ce que je propose à l'épicerie ","                         Ce que je propose à l'épicerie ","                         Ce que je propose à l'épicerie ","                         Ce que je propose à l'épicerie ","                         Ce que je propose à l'épicerie ","                         Ce que je propose à l'épicerie ","                         Ce que je propose à l'épicerie ","                         Ce que je propose à l'épicerie ","                         Ce que je propose à l'épicerie ","                         Ce que je propose à l'épicerie ","                         Ce que je propose à l'épicerie ","                         Ce que je propose à l'épicerie ","                         Ce que je propose à l'épicerie ","                         Ce que je propose à l'épicerie ","                         Ce que je propose à l'épicerie ","                         Ce que je propose à l'épicerie ","                         Ce que je propose à l'épicerie ","                         Ce que je propose à l'épicerie ","                         Ce que je propose à l'épicerie ","                         Ce que je propose à l'épicerie ","                         Ce que je propose à l'épicerie ","                         Ce que je propose à l'épicerie ","                         Ce que je propose à l'épicerie ","                         Ce que je propose à l'épicerie ","                         Ce que je propose à l'épicerie ","                         Ce que je propose à l'épicerie ","                         Ce que je propose à l'épicerie ","                         Ce que je propose à l'épicerie ","                         Ce que je propose à l'épicerie ","                         Ce que je propose à l'épicerie ","                         Ce que je propose à l'épicerie ","                         Ce que je propose à l'épicerie ","                         Ce que je propose à l'épicerie ","                         Ce que je propose à l'épicerie ","                         Ce que je propose à l'épicerie ","                         Ce que je propose à l'épicerie ","                         Ce que je propose à l'épicerie ","                         Ce que je propose à l'épicerie ","                         Ce que je propose à l'épicerie ","                         Ce que je propose à l'épicerie ","                         Ce que je propose à l'épicerie ","                         Ce que je propose à l'épicerie ","                         Ce que je propose à l'épicerie ","                         Ce que je propose à l'épicerie ","                         Ce que je propose à l'épicerie ","                         Ce que je propose à l'épicerie ","                         Ce que je propose à l'épicerie ","                         Ce que je propose à l'épicerie ","                         Ce que je propose à l'épicerie ","                         Ce que je propose à l'épicerie ","                         Ce que je propose à l'épicerie ","                         Ce que je propose à l'épicerie ","                         Ce que je propose à l'épicerie ","                         Ce que je propose à l'épicerie ","                         Ce que je propose à l'épicerie ","                         Ce que je propose à l'épicerie ","                         Ce que je propose à l'épicerie ","                         Ce que je propose à l'épicerie ","                         Ce que je propose à l'épicerie ","                         Ce que je propose à l'épicerie ","                         Ce que je propose à l'épicerie ","                         Ce que je propose à l'épicerie ","                         Ce que je propose à l'épicerie ","                         Ce que je propose à l'épicerie ","                         Ce que je propose à l'épicerie ","                         Ce que je propose à l'épicerie ","                         Ce que je propose à l'épicerie ","                         Ce que je propose à l'épicerie ","                         Ce que je propose à l'épicerie ","                         Ce que je propose à l'épicerie ","                         Ce que je propose à l'épicerie ","                         Ce que je propose à l'épicerie ","                         Ce que je propose à l'épicerie ","                         Ce que je propose à l'épicerie ","                         Ce que je propose à l'épicerie ","                         Ce que je propose à l'épicerie ","                         Ce que je propose à l'épicerie ","                         Ce que je propose à l'épicerie ","                         Ce que je propose à l'épicerie ","                         Ce que je propose à l'épicerie ","                         Ce que je propose à l'épicerie ","                         Ce que je propose à l'épicerie ","                         Ce que je propose à l'épicerie ","                         Ce que je propose à l'épicerie ","                         Ce que je propose à l'épicerie ","                         Ce que je propose à l'épicerie ","                         Ce que je propose à l'épicerie ","                         Ce que je propose à l'épicerie ","                         Ce que je propose à l'épicerie ","                         Ce que je propose à l'épicerie ","                         Ce que je propose à l'épicerie ","                         Ce que je propose à l'épicerie ","                         Ce que je propose à l'épicerie ","                         Ce que je propose à l'épicerie ","                         Ce que je propose à l'épicerie ","                         Ce que je propose à l'épicerie ","                         Ce que je propose à l'épicerie ","                         Ce que je propose à l'épicerie ","                         Ce que je propose à l'épicerie ","                         Ce que je propose à l'épicerie ","                         Ce que je propose à l'épicerie ","                         Ce que je propose à l'épicerie ","                         Ce que je propose à l'épicerie ","                         Ce que je propose à l'épicerie ","                         Ce que je propose à l'épicerie ","                         Ce que je propose à l'épicerie ","                         Ce que je propose à l'épicerie ","                         Ce que je propose à l'épicerie ","                         Ce que je propose à l'épicerie ","                         Ce que je propose à l'épicerie ","                         Ce que je propose à l'épicerie ","                         Ce que je propose à l'épicerie ","                         Ce que je propose à l'épicerie ","                         Ce que je propose à l'épicerie ","                         Ce que je propose à l'épicerie ","                         Ce que je propose à l'épicerie ","                         Ce que je propose à l'épicerie ","                         Ce que je propose à l'épicerie ","                         Ce que je propose à l'épicerie ","                         Ce que je propose à l'épicerie ","                         Ce que je propose à l'épicerie ","                         Ce que je propose à l'épicerie ","                         Ce que je propose à l'épicerie ","                         Ce que je propose à l'épicerie ","                         Ce que je propose à l'épicerie ","                         Ce que je propose à l'épicerie ","                         Ce que je propose à l'épicerie ","                         Ce que je propose à l'épicerie ","                         Ce que je propose à l'épicerie ","                         Ce que je propose à l'épicerie ","                         Ce que je propose à l'épicerie ","                         Ce que je propose à l'épicerie ","                         Ce que je propose à l'épicerie ","                         Ce que je propose à l'épicerie ","                         Ce que je propose à l'épicerie ","                         Ce que je propose à l'épicerie ","                         Ce que je propose à l'épicerie ","                         Ce que je propose à l'épicerie ","                         Ce que je propose à l'épicerie ","                         Ce que je propose à l'épicerie ","                         Ce que je propose à l'épicerie ","                         Ce que je propose à l'épicerie ","                         Ce que je propose à l'épicerie ","                         Ce que je propose à l'épicerie ","                         Ce que je propose à l'épicerie ","                         Ce que je propose à l'épicerie ","                         Ce que je propose à l'épicerie ","                         Ce que je propose à l'épicerie ","                         Ce que je propose à l'épicerie ","                         Ce que je propose à l'épicerie ","                         Ce que je propose à l'épicerie ","                         Ce que je propose à l'épicerie ","                         Ce que je propose à l'épicerie ","                         Ce que je propose à l'épicerie ","                         Ce que je propose à l'épicerie ","                         Ce que je propose à l'épicerie ","                         Ce que je propose à l'épicerie ","                         Ce que je propose à l'épicerie ","                         Ce que je propose à l'épicerie ","                         Ce que je propose à l'épicerie ","                         Ce que je propose à l'épicerie ","                         Ce que je propose à l'épicerie ","                         Ce que je propose à l'épicerie ","                         Ce que je propose à l'épicerie ","                         Ce que je propose à l'épicerie ","                         Ce que je propose à l'épicerie ","                         Ce que je propose à l'épicerie ","                         Ce que je propose à l'épicerie ","                         Ce que je propose à l'épicerie ","                         Ce que je propose à l'épicerie ","                         Ce que je propose à l'épicerie ","                         Ce que je propose à l'épicerie ","                         Ce que je propose à l'épicerie ","                         Ce que je propose à l'épicerie ","                         Ce que je propose à l'épicerie ","                         Ce que je propose à l'épicerie ","                         Ce que je propose à l'épicerie ","                         Ce que je propose à l'épicerie ","                         Ce que je propose à l'épicerie ","                         Ce que je propose à l'épicerie ","                         Ce que je propose à l'épicerie ","                         Ce que je propose à l'épicerie ","                         Ce que je propose à l'épicerie ","                         Ce que je propose à l'épicerie ","                         Ce que je propose à l'épicerie ","                         Ce que je propose à l'épicerie ","                         Ce que je propose à l'épicerie ","                         Ce que je propose à l'épicerie ","                         Ce que je propose à l'épicerie ","                         Ce que je propose à l'épicerie ","                         Ce que je propose à l'épicerie ","                         Ce que je propose à l'épicerie ","                         Ce que je propose à l'épicerie ","                         Ce que je propose à l'épicerie ","                         Ce que je propose à l'épicerie ","                         Ce que je propose à l'épicerie ","                         Ce que je propose à l'épicerie ","                         Ce que je propose à l'épicerie ","                         Ce que je propose à l'épicerie ","                         Ce que je propose à l'épicerie ","                         Ce que je propose à l'épicerie ","                         Ce que je propose à l'épicerie ","                         Ce que je propose à l'épicerie ","                         Ce que je propose à l'épicerie ","                         Ce que je propose à l'épicerie ","                         Ce que je propose à l'épicerie ","                         Ce que je propose à l'épicerie ","                         Ce que je propose à l'épicerie ","                         Ce que je propose à l'épicerie ","                         Ce que je propose à l'épicerie ","                         Ce que je propose à l'épicerie ","                         Ce que je propose à l'épicerie ","                         Ce que je propose à l'épicerie ","                         Ce que je propose à l'épicerie ","                         Ce que je propose à l'épicerie ","                         Ce que je propose à l'épicerie ","                         Ce que je propose à l'épicerie ","                         Ce que je propose à l'épicerie ","                         Ce que je propose à l'épicerie ","                         Ce que je propose à l'épicerie ","                         Ce que je propose à l'épicerie ","                         Ce que je propose à l'épicerie ","                         Ce que je propose à l'épicerie ","                         Ce que je propose à l'épicerie ","                         Ce que je propose à l'épicerie ","                         Ce que je propose à l'épicerie ","                         Ce que je propose à l'épicerie ","                         Ce que je propose à l'épicerie ","                         Ce que je propose à l'épicerie ","                         Ce que je propose à l'épicerie ","                         Ce que je propose à l'épicerie ","                         Ce que je propose à l'épicerie ","                         Ce que je propose à l'épicerie ","                         Ce que je propose à l'épicerie ","                         Ce que je propose à l'épicerie ","                         Ce que je propose à l'épicerie ","                         Ce que je propose à l'épicerie ","                         Ce que je propose à l'épicerie ","                         Ce que je propose à l'épicerie ","                         Ce que je propose à l'épicerie ","                         Ce que je propose à l'épicerie ","                         Ce que je propose à l'épicerie ","                         Ce que je propose à l'épicerie ","                         Ce que je propose à l'épicerie ","                         Ce que je propose à l'épicerie ","                         Ce que je propose à l'épicerie ","                         Ce que je propose à l'épicerie ","                         Ce que je propose à l'épicerie ","                         Ce que je propose à l'épicerie ","                         Ce que je propose à l'épicerie ","                         Ce que je propose à l'épicerie ","                         Ce que je propose à l'épicerie ","                         Ce que je propose à l'épicerie ","                         Ce que je propose à l'épicerie ","                         Ce que je propose à l'épicerie ","                         Ce que je propose à l'épicerie ","                         Ce que je propose à l'épicerie ","                         Ce que je propose à l'épicerie ","                         Ce que je propose à l'épicerie ","                         Ce que je propose à l'épicerie ","                         Ce que je propose à l'épicerie ","                         Ce que je propose à l'épicerie ","                         Ce que je propose à l'épicerie ","                         Ce que je propose à l'épicerie ","                         Ce que je propose à l'épicerie ","                         Ce que je propose à l'épicerie ","                         Ce que je propose à l'épicerie ","                         Ce que je propose à l'épicerie ","                         Ce que je propose à l'épicerie ","                         Ce que je propose à l'épicerie ","                         Ce que je propose à l'épicerie ","                         Ce que je propose à l'épicerie ","                         Ce que je propose à l'épicerie ","                         Ce que je propose à l'épicerie ","                         Ce que je propose à l'épicerie ","                         Ce que je propose à l'épicerie ","                         Ce que je propose à l'épicerie ","                         Ce que je propose à l'épicerie ","                         Ce que je propose à l'épicerie ","                         Ce que je propose à l'épicerie ","                         Ce que je propose à l'épicerie ","                         Ce que je propose à l'épicerie ","                         Ce que je propose à l'épicerie ","                         Ce que je propose à l'épicerie ","                         Ce que je propose à l'épicerie ","                         Ce que je propose à l'épicerie ","                         Ce que je propose à l'épicerie ","                         Ce que je propose à l'épicerie ","                         Ce que je propose à l'épicerie ","                         Ce que je propose à l'épicerie ","                         Ce que je propose à l'épicerie ","                         Ce que je propose à l'épicerie ","                         Ce que je propose à l'épicerie ","                         Ce que je propose à l'épicerie ","                         Ce que je propose à l'épicerie ","                         Ce que je propose à l'épicerie ","                         Ce que je propose à l'épicerie ","                         Ce que je propose à l'épicerie ","                         Ce que je propose à l'épicerie ","                         Ce que je propose à l'épicerie ","                         Ce que je propose à l'épicerie ","                         Ce que je propose à l'épicerie ","                         Ce que je propose à l'épicerie ","                         Ce que je propose à l'épicerie ","                         Ce que je propose à l'épicerie ","                         Ce que je propose à l'épicerie ","                         Ce que je propose à l'épicerie ","                         Ce que je propose à l'épicerie ","                         Ce que je propose à l'épicerie ","                         Ce que je propose à l'épicerie ","                         Ce que je propose à l'épicerie ","                         Ce que je propose à l'épicerie ","                         Ce que je propose à l'épicerie ","                         Ce que je propose à l'épicerie ","                         Ce que je propose à l'épicerie ","                         Ce que je propose à l'épicerie ","                         Ce que je propose à l'épicerie ","                         Ce que je propose à l'épicerie ","                         Ce que je propose à l'épicerie ","                         Ce que je propose à l'épicerie ","                         Ce que je propose à l'épicerie ","                         Ce que je propose à l'épicerie ","                         Ce que je propose à l'épicerie ","                         Ce que je propose à l'épicerie ","                         Ce que je propose à l'épicerie ","                         Ce que je propose à l'épicerie ","                         Ce que je propose à l'épicerie ","                         Ce que je propose à l'épicerie ","                         Ce que je propose à l'épicerie ","                         Ce que je propose à l'épicerie ","                         Ce que je propose à l'épicerie ","                         Ce que je propose à l'épicerie ","                         Ce que je propose à l'épicerie ","                         Ce que je propose à l'épicerie ","                         Ce que je propose à l'épicerie ","                         Ce que je propose à l'épicerie ","                         Ce que je propose à l'épicerie ","                         Ce que je propose à l'épicerie ","                         Ce que je propose à l'épicerie ","                         Ce que je propose à l'épicerie ","                         Ce que je propose à l'épicerie ","                         Ce que je propose à l'épicerie ","                         Ce que je propose à l'épicerie ","                         Ce que je propose à l'épicerie ","                         Ce que je propose à l'épicerie ","                         Ce que je propose à l'épicerie ","                         Ce que je propose à l'épicerie ","                         Ce que je propose à l'épicerie ","                         Ce que je propose à l'épicerie ","                         Ce que je propose à l'épicerie ","                         Ce que je propose à l'épicerie ","                         Ce que je propose à l'épicerie ","                         Ce que je propose à l'épicerie ","                         Ce que je propose à l'épicerie ","                         Ce que je propose à l'épicerie ","                         Ce que je propose à l'épicerie ","                         Ce que je propose à l'épicerie ","                         Ce que je propose à l'épicerie ","                         Ce que je propose à l'épicerie ","                         Ce que je propose à l'épicerie ","                         Ce que je propose à l'épicerie ","                         Ce que je propose à l'épicerie ","                         Ce que je propose à l'épicerie ","                         Ce que je propose à l'épicerie ","                         Ce que je propose à l'épicerie ","                         Ce que je propose à l'épicerie ","                         Ce que je propose à l'épicerie ","                         Ce que je propose à l'épicerie ","                         Ce que je propose à l'épicerie ","                         Ce que je propose à l'épicerie ","                         Ce que je propose à l'épicerie ","                         Ce que je propose à l'épicerie ","                         Ce que je propose à l'épicerie ","                         Ce que je propose à l'épicerie ","                         Ce que je propose à l'épicerie ","                         Ce que je propose à l'épicerie ","                         Ce que je propose à l'épicerie ","                         Ce que je propose à l'épicerie ","                         Ce que je propose à l'épicerie ","                         Ce que je propose à l'épicerie ","                         Ce que je propose à l'épicerie ","                         Ce que je propose à l'épicerie ","                         Ce que je propose à l'épicerie ","                         Ce que je propose à l'épicerie ","                         Ce que je propose à l'épicerie ","                         Ce que je propose à l'épicerie ","                         Ce que je propose à l'épicerie ","                         Ce que je propose à l'épicerie ","                         Ce que je propose à l'épicerie ","                         Ce que je propose à l'épicerie ","                         Ce que je propose à l'épicerie ","                         Ce que je propose à l'épicerie ","                         Ce que je propose à l'épicerie ","                         Ce que je propose à l'épicerie ","                         Ce que je propose à l'épicerie ","                         Ce que je propose à l'épicerie ","                         Ce que je propose à l'épicerie ","                         Ce que je propose à l'épicerie ","                         Ce que je propose à l'épicerie ","                         Ce que je propose à l'épicerie ","                         Ce que je propose à l'épicerie ","                         Ce que je propose à l'épicerie ","                         Ce que je propose à l'épicerie ","                         Ce que je propose à l'épicerie ","                         Ce que je propose à l'épicerie ","                         Ce que je propose à l'épicerie ","                         Ce que je propose à l'épicerie ","                         Ce que je propose à l'épicerie ","                         Ce que je propose à l'épicerie ","                         Ce que je propose à l'épicerie ","                         Ce que je propose à l'épicerie ","                         Ce que je propose à l'épicerie ","                         Ce que je propose à l'épicerie ","                         Ce que je propose à l'épicerie ","                         Ce que je propose à l'épicerie ","                         Ce que je propose à l'épicerie ","                         Ce que je propose à l'épicerie ","                         Ce que je propose à l'épicerie ","                         Ce que je propose à l'épicerie ","                         Ce que je propose à l'épicerie ","                         Ce que je propose à l'épicerie ","                         Ce que je propose à l'épicerie ","                         Ce que je propose à l'épicerie ","                         Ce que je propose à l'épicerie ","                         Ce que je propose à l'épicerie ","                         Ce que je propose à l'épicerie ","                         Ce que je propose à l'épicerie ","                         Ce que je propose à l'épicerie ","                         Ce que je propose à l'épicerie ","                         Ce que je propose à l'épicerie ","                         Ce que je propose à l'épicerie ","                         Ce que je propose à l'épicerie ","                         Ce que je propose à l'épicerie ","                         Ce que je propose à l'épicerie ","                         Ce que je propose à l'épicerie ","                         Ce que je propose à l'épicerie ","                         Ce que je propose à l'épicerie ","                         Ce que je propose à l'épicerie ","                         Ce que je propose à l'épicerie ","                         Ce que je propose à l'épicerie ","                         Ce que je propose à l'épicerie ","                         Ce que je propose à l'épicerie ","                         Ce que je propose à l'épicerie ","                         Ce que je propose à l'épicerie ","                         Ce que je propose à l'épicerie ","                         Ce que je propose à l'épicerie ","                         Ce que je propose à l'épicerie ","                         Ce que je propose à l'épicerie ","                         Ce que je propose à l'épicerie ","                         Ce que je propose à l'épicerie ","                         Ce que je propose à l'épicerie ","                         Ce que je propose à l'épicerie ","                         Ce que je propose à l'épicerie ","                         Ce que je propose à l'épicerie ","                         Ce que je propose à l'épicerie ","                         Ce que je propose à l'épicerie ","                         Ce que je propose à l'épicerie ","                         Ce que je propose à l'épicerie ","                         Ce que je propose à l'épicerie ","                         Ce que je propose à l'épicerie ","                         Ce que je propose à l'épicerie ","                         Ce que je propose à l'épicerie ","                         Ce que je propose à l'épicerie ","                         Ce que je propose à l'épicerie ","                         Ce que je propose à l'épicerie ","                         Ce que je propose à l'épicerie ","                         Ce que je propose à l'épicerie ","                         Ce que je propose à l'épicerie ","                         Ce que je propose à l'épicerie ","                         Ce que je propose à l'épicerie ","                         Ce que je propose à l'épicerie ","                         Ce que je propose à l'épicerie ","                         Ce que je propose à l'épicerie ","                         Ce que je propose à l'épicerie ","                         Ce que je propose à l'épicerie ","                         Ce que je propose à l'épicerie ","                         Ce que je propose à l'épicerie ","                         Ce que je propose à l'épicerie ","                         Ce que je propose à l'épicerie ","                         Ce que je propose à l'épicerie ","                         Ce que je propose à l'épicerie ","                         Ce que je propose à l'épicerie ","                         Ce que je propose à l'épicerie ","                         Ce que je propose à l'épicerie ","                         Ce que je propose à l'épicerie ","                         Ce que je propose à l'épicerie ","                         Ce que je propose à l'épicerie ","                         Ce que je propose à l'épicerie ","                         Ce que je propose à l'épicerie ","                         Ce que je propose à l'épicerie ","                         Ce que je propose à l'épicerie ","                         Ce que je propose à l'épicerie ","                         Ce que je propose à l'épicerie ","                         Ce que je propose à l'épicerie ","                         Ce que je propose à l'épicerie ","                         Ce que je propose à l'épicerie ","                         Ce que je propose à l'épicerie ","                         Ce que je propose à l'épicerie ","                         Ce que je propose à l'épicerie ","                         Ce que je propose à l'épicerie ","                         Ce que je propose à l'épicerie ","                         Ce que je propose à l'épicerie ","                         Ce que je propose à l'épicerie ","                         Ce que je propose à l'épicerie ","                         Ce que je propose à l'épicerie ","                         Ce que je propose à l'épicerie ","                         Ce que je propose à l'épicerie ","                         Ce que je propose à l'épicerie ","                         Ce que je propose à l'épicerie ","                         Ce que je propose à l'épicerie ","                         Ce que je propose à l'épicerie ","                         Ce que je propose à l'épicerie ","                         Ce que je propose à l'épicerie ","                         Ce que je propose à l'épicerie ","                         Ce que je propose à l'épicerie ","                         Ce que je propose à l'épicerie ","                         Ce que je propose à l'épicerie ","                         Ce que je propose à l'épicerie ","                         Ce que je propose à l'épicerie ","                         Ce que je propose à l'épicerie ","                         Ce que je propose à l'épicerie ","                         Ce que je propose à l'épicerie ","                         Ce que je propose à l'épicerie ","                         Ce que je propose à l'épicerie ","                         Ce que je propose à l'épicerie ","                         Ce que je propose à l'épicerie ","                         Ce que je propose à l'épicerie ","                         Ce que je propose à l'épicerie ","                         Ce que je propose à l'épicerie ","                         Ce que je propose à l'épicerie ","                         Ce que je propose à l'épicerie ","                         Ce que je propose à l'épicerie ","                         Ce que je propose à l'épicerie ","                         Ce que je propose à l'épicerie ","                         Ce que je propose à l'épicerie ","                         Ce que je propose à l'épicerie ","                         Ce que je propose à l'épicerie ","                         Ce que je propose à l'épicerie ","                         Ce que je propose à l'épicerie ","                         Ce que je propose à l'épicerie ","                         Ce que je propose à l'épicerie ","                         Ce que je propose à l'épicerie ","                         Ce que je propose à l'épicerie ","                         Ce que je propose à l'épicerie ","                         Ce que je propose à l'épicerie ","                         Ce que je propose à l'épicerie ","                         Ce que je propose à l'épicerie ","                         Ce que je propose à l'épicerie ","                         Ce que je propose à l'épicerie ","                         Ce que je propose à l'épicerie ","                         Ce que je propose à l'épicerie ","                         Ce que je propose à l'épicerie ","                         Ce que je propose à l'épicerie ","                         Ce que je propose à l'épicerie ","                         Ce que je propose à l'épicerie ","                         Ce que je propose à l'épicerie ","                         Ce que je propose à l'épicerie ","                         Ce que je propose à l'épicerie ","                         Ce que je propose à l'épicerie ","                         Ce que je propose à l'épicerie ","                         Ce que je propose à l'épicerie ","                         Ce que je propose à l'épicerie ","                         Ce que je propose à l'épicerie ","                         Ce que je propose à l'épicerie ","                         Ce que je propose à l'épicerie ","                         Ce que je propose à l'épicerie ","                         Ce que je propose à l'épicerie ","                         Ce que je propose à l'épicerie ","                         Ce que je propose à l'épicerie ","                         Ce que je propose à l'épicerie ","                         Ce que je propose à l'épicerie ","                         Ce que je propose à l'épicerie ","                         Ce que je propose à l'épicerie ","                         Ce que je propose à l'épicerie ","                         Ce que je propose à l'épicerie ","                         Ce que je propose à l'épicerie ","                         Ce que je propose à l'épicerie ","                         Ce que je propose à l'épicerie ","                         Ce que je propose à l'épicerie ","                         Ce que je propose à l'épicerie ","                         Ce que je propose à l'épicerie ","                         Ce que je propose à l'épicerie ","                         Ce que je propose à l'épicerie ","                         Ce que je propose à l'épicerie ","                         Ce que je propose à l'épicerie ","                         Ce que je propose à l'épicerie ","                         Ce que je propose à l'épicerie ","                         Ce que je propose à l'épicerie ","                         Ce que je propose à l'épicerie ","                         Ce que je propose à l'épicerie ","                         Ce que je propose à l'épicerie ","                         Ce que je propose à l'épicerie ","                         Ce que je propose à l'épicerie ","                         Ce que je propose à l'épicerie ","                         Ce que je propose à l'épicerie ","                         Ce que je propose à l'épicerie ","                         Ce que je propose à l'épicerie ","                         Ce que je propose à l'épicerie ","                         Ce que je propose à l'épicerie ","                         Ce que je propose à l'épicerie ","                         Ce que je propose à l'épicerie ","                         Ce que je propose à l'épicerie ","                         Ce que je propose à l'épicerie ","                         Ce que je propose à l'épicerie ","                         Ce que je propose à l'épicerie ","                         Ce que je propose à l'épicerie ","                         Ce que je propose à l'épicerie ","                         Ce que je propose à l'épicerie ","                         Ce que je propose à l'épicerie ","                         Ce que je propose à l'épicerie ","                         Ce que je propose à l'épicerie ","                         Ce que je propose à l'épicerie ","                         Ce que je propose à l'épicerie ","                         Ce que je propose à l'épicerie ","                         Ce que je propose à l'épicerie ","                         Ce que je propose à l'épicerie ","                         Ce que je propose à l'épicerie ","                         Ce que je propose à l'épicerie ","                         Ce que je propose à l'épicerie ","                         Ce que je propose à l'épicerie ","                         Ce que je propose à l'épicerie ","                         Ce que je propose à l'épicerie ","                         Ce que je propose à l'épicerie ","                         Ce que je propose à l'épicerie ","                         Ce que je propose à l'épicerie ","                         Ce que je propose à l'épicerie ","                         Ce que je propose à l'épicerie ","                         Ce que je propose à l'épicerie ","                         Ce que je propose à l'épicerie ","                         Ce que je propose à l'épicerie ","                         Ce que je propose à l'épicerie ","                         Ce que je propose à l'épicerie ","                         Ce que je propose à l'épicerie ","                         Ce que je propose à l'épicerie ","                         Ce que je propose à l'épicerie ","                         Ce que je propose à l'épicerie ","                         Ce que je propose à l'épicerie ","                         Ce que je propose à l'épicerie ","                         Ce que je propose à l'épicerie ","                         Ce que je propose à l'épicerie ","                         Ce que je propose à l'épicerie ","                         Ce que je propose à l'épicerie ","                         Ce que je propose à l'épicerie ","                         Ce que je propose à l'épicerie ","                         Ce que je propose à l'épicerie ","                         Ce que je propose à l'épicerie ","                         Ce que je propose à l'épicerie ","                         Ce que je propose à l'épicerie ","                         Ce que je propose à l'épicerie ","                         Ce que je propose à l'épicerie ","                         Ce que je propose à l'épicerie ","                         Ce que je propose à l'épicerie ","                         Ce que je propose à l'épicerie ","                         Ce que je propose à l'épicerie ","                         Ce que je propose à l'épicerie ","                         Ce que je propose à l'épicerie ","                         Ce que je propose à l'épicerie ","                         Ce que je propose à l'épicerie ","                         Ce que je propose à l'épicerie ","                         Ce que je propose à l'épicerie ","                         Ce que je propose à l'épicerie ","                         Ce que je propose à l'épicerie ","                         Ce que je propose à l'épicerie ","                         Ce que je propose à l'épicerie ","                         Ce que je propose à l'épicerie ","                         Ce que je propose à l'épicerie ","                         Ce que je propose à l'épicerie ","                         Ce que je propose à l'épicerie ","                         Ce que je propose à l'épicerie ","                         Ce que je propose à l'épicerie ","                         Ce que je propose à l'épicerie ","                         Ce que je propose à l'épicerie ","                         Ce que je propose à l'épicerie ","                         Ce que je propose à l'épicerie ","                         Ce que je propose à l'épicerie ","                         Ce que je propose à l'épicerie ","                         Ce que je propose à l'épicerie ","                         Ce que je propose à l'épicerie ","                         Ce que je propose à l'épicerie ","                         Ce que je propose à l'épicerie ","                         Ce que je propose à l'épicerie ","                         Ce que je propose à l'épicerie ","                         Ce que je propose à l'épicerie ","                         Ce que je propose à l'épicerie ","                         Ce que je propose à l'épicerie ","                         Ce que je propose à l'épicerie ","                         Ce que je propose à l'épicerie ","                         Ce que je propose à l'épicerie ","                         Ce que je propose à l'épicerie ","                         Ce que je propose à l'épicerie ","                         Ce que je propose à l'épicerie ","                         Ce que je propose à l'épicerie ","                         Ce que je propose à l'épicerie ","                         Ce que je propose à l'épicerie ","                         Ce que je propose à l'épicerie ","                         Ce que je propose à l'épicerie ","                         Ce que je propose à l'épicerie ","                         Ce que je propose à l'épicerie ","                         Ce que je propose à l'épicerie ","                         Ce que je propose à l'épicerie ","                         Ce que je propose à l'épicerie ","                         Ce que je propose à l'épicerie ","                         Ce que je propose à l'épicerie ","                         Ce que je propose à l'épicerie ","                         Ce que je propose à l'épicerie ","                         Ce que je propose à l'épicerie ","                         Ce que je propose à l'épicerie ","                         Ce que je propose à l'épicerie ","                         Ce que je propose à l'épicerie ","                         Ce que je propose à l'épicerie ","                         Ce que je propose à l'épicerie ","                         Ce que je propose à l'épicerie ","                         Ce que je propose à l'épicerie ","                         Ce que je propose à l'épicerie ","                         Ce que je propose à l'épicerie ","                         Ce que je propose à l'épicerie ","                         Ce que je propose à l'épicerie ","                         Ce que je propose à l'épicerie ","                         Ce que je propose à l'épicerie ","                         Ce que je propose à l'épicerie ","                         Ce que je propose à l'épicerie ","                         Ce que je propose à l'épicerie ","                         Ce que je propose à l'épicerie ","                         Ce que je propose à l'épicerie ","                         Ce que je propose à l'épicerie ","                         Ce que je propose à l'épicerie ","                         Ce que je propose à l'épicerie ","                         Ce que je propose à l'épicerie ","                         Ce que je propose à l'épicerie ","                         Ce que je propose à l'épicerie ","                         Ce que je propose à l'épicerie ","                         Ce que je propose à l'épicerie ","                         Ce que je propose à l'épicerie ","                         Ce que je propose à l'épicerie ","                         Ce que je propose à l'épicerie ","                         Ce que je propose à l'épicerie ","                         Ce que je propose à l'épicerie ","                         Ce que je propose à l'épicerie ","                         Ce que je propose à l'épicerie ","                         Ce que je propose à l'épicerie ","                         Ce que je propose à l'épicerie ","                         Ce que je propose à l'épicerie ","                         Ce que je propose à l'épicerie ","                         Ce que je propose à l'épicerie ","                         Ce que je propose à l'épicerie ","                         Ce que je propose à l'épicerie ","                         Ce que je propose à l'épicerie ","                         Ce que je propose à l'épicerie ","                         Ce que je propose à l'épicerie ","                         Ce que je propose à l'épicerie ","                         Ce que je propose à l'épicerie ","                         Ce que je propose à l'épicerie ","                         Ce que je propose à l'épicerie ","                         Ce que je propose à l'épicerie ","                         Ce que je propose à l'épicerie ","                         Ce que je propose à l'épicerie ","                         Ce que je propose à l'épicerie ","                         Ce que je propose à l'épicerie ","                         Ce que je propose à l'épicerie ","                         Ce que je propose à l'épicerie ","                         Ce que je propose à l'épicerie ","                         Ce que je propose à l'épicerie ","                         Ce que je propose à l'épicerie ","                         Ce que je propose à l'épicerie ","                         Ce que je propose à l'épicerie ","                         Ce que je propose à l'épicerie ","                         Ce que je propose à l'épicerie ","                         Ce que je propose à l'épicerie ","                         Ce que je propose à l'épicerie ","                         Ce que je propose à l'épicerie ","                         Ce que je propose à l'épicerie ","                         Ce que je propose à l'épicerie ","                         Ce que je propose à l'épicerie ","                         Ce que je propose à l'épicerie ","                         Ce que je propose à l'épicerie ","                         Ce que je propose à l'épicerie ","                         Ce que je propose à l'épicerie ","                         Ce que je propose à l'épicerie ","                         Ce que je propose à l'épicerie ","                         Ce que je propose à l'épicerie ","                         Ce que je propose à l'épicerie ","                         Ce que je propose à l'épicerie ","                         Ce que je propose à l'épicerie ","                         Ce que je propose à l'épicerie ","                         Ce que je propose à l'épicerie ","                         Ce que je propose à l'épicerie ","                         Ce que je propose à l'épicerie ","                         Ce que je propose à l'épicerie ","                         Ce que je propose à l'épicerie ","                         Ce que je propose à l'épicerie ","                         Ce que je propose à l'épicerie ","                         Ce que je propose à l'épicerie ","                         Ce que je propose à l'épicerie ","                         Ce que je propose à l'épicerie ","                         Ce que je propose à l'épicerie ","                         Ce que je propose à l'épicerie ","                         Ce que je propose à l'épicerie ","                         Ce que je propose à l'épicerie ","                         Ce que je propose à l'épicerie ","                         Ce que je propose à l'épicerie ","                         Ce que je propose à l'épicerie ","                         Ce que je propose à l'épicerie ","                         Ce que je propose à l'épicerie ","                         Ce que je propose à l'épicerie ","                         Ce que je propose à l'épicerie ","                         Ce que je propose à l'épicerie ","                         Ce que je propose à l'épicerie ","                         Ce que je propose à l'épicerie ","                         Ce que je propose à l'épicerie ","                         Ce que je propose à l'épicerie ","                         Ce que je propose à l'épicerie ","                         Ce que je propose à l'épicerie ","                         Ce que je propose à l'épicerie ","                         Ce que je propose à l'épicerie ","                         Ce que je propose à l'épicerie ","                         Ce que je propose à l'épicerie ","                         Ce que je propose à l'épicerie ","                         Ce que je propose à l'épicerie ","                         Ce que je propose à l'épicerie ","                         Ce que je propose à l'épicerie ","                         Ce que je propose à l'épicerie ","                         Ce que je propose à l'épicerie ","                         Ce que je propose à l'épicerie ","                         Ce que je propose à l'épicerie ","                         Ce que je propose à l'épicerie ","                         Ce que je propose à l'épicerie ","                         Ce que je propose à l'épicerie ","                         Ce que je propose à l'épicerie ","                         Ce que je propose à l'épicerie ","                         Ce que je propose à l'épicerie ","                         Ce que je propose à l'épicerie ","                         Ce que je propose à l'épicerie ","                         Ce que je propose à l'épicerie ","                         Ce que je propose à l'épicerie ","                         Ce que je propose à l'épicerie ","                         Ce que je propose à l'épicerie ","                         Ce que je propose à l'épicerie ","                         Ce que je propose à l'épicerie ","                         Ce que je propose à l'épicerie ","                         Ce que je propose à l'épicerie ","                         Ce que je propose à l'épicerie ","                         Ce que je propose à l'épicerie ","                         Ce que je propose à l'épicerie ","                         Ce que je propose à l'épicerie ","                         Ce que je propose à l'épicerie ","                         Ce que je propose à l'épicerie ","                         Ce que je propose à l'épicerie ","                         Ce que je propose à l'épicerie ","                         Ce que je propose à l'épicerie ","                         Ce que je propose à l'épicerie ","                         Ce que je propose à l'épicerie ","                         Ce que je propose à l'épicerie ","                         Ce que je propose à l'épicerie ","                         Ce que je propose à l'épicerie ","                         Ce que je propose à l'épicerie ","                         Ce que je propose à l'épicerie ","                         Ce que je propose à l'épicerie ","                         Ce que je propose à l'épicerie ","                         Ce que je propose à l'épicerie ","                         Ce que je propose à l'épicerie ","                         Ce que je propose à l'épicerie ","                         Ce que je propose à l'épicerie ","                         Ce que je propose à l'épicerie ","                         Ce que je propose à l'épicerie ","                         Ce que je propose à l'épicerie ","                         Ce que je propose à l'épicerie ","                         Ce que je propose à l'épicerie ","                         Ce que je propose à l'épicerie ","                         Ce que je propose à l'épicerie ","                         Ce que je propose à l'épicerie ","                         Ce que je propose à l'épicerie ","                         Ce que je propose à l'épicerie ","                         Ce que je propose à l'épicerie ","                         Ce que je propose à l'épicerie ","                         Ce que je propose à l'épicerie ","                         Ce que je propose à l'épicerie ","                         Ce que je propose à l'épicerie ","                         Ce que je propose à l'épicerie ","                         Ce que je propose à l'épicerie ","                         Ce que je propose à l'épicerie ","                         Ce que je propose à l'épicerie ","                         Ce que je propose à l'épicerie ","                         Ce que je propose à l'épicerie ","                         Ce que je propose à l'épicerie ","                         Ce que je propose à l'épicerie ","                         Ce que je propose à l'épicerie ","                         Ce que je propose à l'épicerie ","                         Ce que je propose à l'épicerie ","                         Ce que je propose à l'épicerie ","                         Ce que je propose à l'épicerie ","                         Ce que je propose à l'épicerie ","                         Ce que je propose à l'épicerie ","                         Ce que je propose à l'épicerie ","                         Ce que je propose à l'épicerie ","                         Ce que je propose à l'épicerie ","                         Ce que je propose à l'épicerie ","                         Ce que je propose à l'épicerie ","                         Ce que je propose à l'épicerie ","                         Ce que je propose à l'épicerie ","                         Ce que je propose à l'épicerie ","                         Ce que je propose à l'épicerie ","                         Ce que je propose à l'épicerie ","                         Ce que je propose à l'épicerie ","                         Ce que je propose à l'épicerie ","                         Ce que je propose à l'épicerie ","                         Ce que je propose à l'épicerie ","                         Ce que je propose à l'épicerie ","                         Ce que je propose à l'épicerie ","                         Ce que je propose à l'épicerie ","                         Ce que je propose à l'épicerie ","                         Ce que je propose à l'épicerie ","                         Ce que je propose à l'épicerie ","                         Ce que je propose à l'épicerie ","                         Ce que je propose à l'épicerie ","                         Ce que je propose à l'épicerie ","                         Ce que je propose à l'épicerie ","                         Ce que je propose à l'épicerie ","                         Ce que je propose à l'épicerie ","                         Ce que je propose à l'épicerie ","                         Ce que je propose à l'épicerie ","                         Ce que je propose à l'épicerie ","                         Ce que je propose à l'épicerie ","                         Ce que je propose à l'épicerie ","                         Ce que je propose à l'épicerie ","                         Ce que je propose à l'épicerie ","                         Ce que je propose à l'épicerie ","                         Ce que je propose à l'épicerie ","                         Ce que je propose à l'épicerie ","                         Ce que je propose à l'épicerie ","                         Ce que je propose à l'épicerie ","                         Ce que je propose à l'épicerie ","                         Ce que je propose à l'épicerie ","                         Ce que je propose à l'épicerie ","                         Ce que je propose à l'épicerie ","                         Ce que je propose à l'épicerie ","                         Ce que je propose à l'épicerie ","                         Ce que je propose à l'épicerie ","                         Ce que je propose à l'épicerie ","                         Ce que je propose à l'épicerie ","                         Ce que je propose à l'épicerie ","                         Ce que je propose à l'épicerie ","                         Ce que je propose à l'épicerie ","                         Ce que je propose à l'épicerie ","                         Ce que je propose à l'épicerie ","                         Ce que je propose à l'épicerie ","                         Ce que je propose à l'épicerie ","                         Ce que je propose à l'épicerie ","                         Ce que je propose à l'épicerie ","                         Ce que je propose à l'épicerie ","                         Ce que je propose à l'épicerie ","                         Ce que je propose à l'épicerie ","                         Ce que je propose à l'épicerie ","                         Ce que je propose à l'épicerie ","                         Ce que je propose à l'épicerie ","                         Ce que je propose à l'épicerie ","                         Ce que je propose à l'épicerie ","                         Ce que je propose à l'épicerie ","                         Ce que je propose à l'épicerie ","                         Ce que je propose à l'épicerie ","                         Ce que je propose à l'épicerie ","                         Ce que je propose à l'épicerie ","                         Ce que je propose à l'épicerie ","                         Ce que je propose à l'épicerie ","                         Ce que je propose à l'épicerie ","                         Ce que je propose à l'épicerie ","                         Ce que je propose à l'épicerie ","                         Ce que je propose à l'épicerie ","                         Ce que je propose à l'épicerie ","                         Ce que je propose à l'épicerie ","                         Ce que je propose à l'épicerie ","                         Ce que je propose à l'épicerie ","                         Ce que je propose à l'épicerie ","                         Ce que je propose à l'épicerie ","                         Ce que je propose à l'épicerie ","                         Ce que je propose à l'épicerie ","                         Ce que je propose à l'épicerie ","                         Ce que je propose à l'épicerie ","                         Ce que je propose à l'épicerie ","                         Ce que je propose à l'épicerie ","                         Ce que je propose à l'épicerie ","                         Ce que je propose à l'épicerie ","                         Ce que je propose à l'épicerie ","                         Ce que je propose à l'épicerie ","                         Ce que je propose à l'épicerie ","                         Ce que je propose à l'épicerie ","                         Ce que je propose à l'épicerie ","                         Ce que je propose à l'épicerie ","                         Ce que je propose à l'épicerie ","                         Ce que je propose à l'épicerie ","                         Ce que je propose à l'épicerie ","                         Ce que je propose à l'épicerie ","                         Ce que je propose à l'épicerie ","                         Ce que je propose à l'épicerie ","                         Ce que je propose à l'épicerie ","                         Ce que je propose à l'épicerie ","                         Ce que je propose à l'épicerie ","                         Ce que je propose à l'épicerie ","                         Ce que je propose à l'épicerie ","                         Ce que je propose à l'épicerie ","                         Ce que je propose à l'épicerie ","                         Ce que je propose à l'épicerie ","                         Ce que je propose à l'épicerie ","                         Ce que je propose à l'épicerie ","                         Ce que je propose à l'épicerie ","                         Ce que je propose à l'épicerie ","                         Ce que je propose à l'épicerie ","                         Ce que je propose à l'épicerie ","                         Ce que je propose à l'épicerie ","                         Ce que je propose à l'épicerie ","                         Ce que je propose à l'épicerie ","                         Ce que je propose à l'épicerie ","                         Ce que je propose à l'épicerie ","                         Ce que je propose à l'épicerie ","                         Ce que je propose à l'épicerie ","                         Ce que je propose à l'épicerie ","                         Ce que je propose à l'épicerie ","                         Ce que je propose à l'épicerie ","                         Ce que je propose à l'épicerie ","                         Ce que je propose à l'épicerie ","                         Ce que je propose à l'épicerie ","                         Ce que je propose à l'épicerie ","                         Ce que je propose à l'épicerie ","                         Ce que je propose à l'épicerie ","                         Ce que je propose à l'épicerie ","                         Ce que je propose à l'épicerie ","                         Ce que je propose à l'épicerie ","                         Ce que je propose à l'épicerie ","                         Ce que je propose à l'épicerie ","                         Ce que je propose à l'épicerie ","                         Ce que je propose à l'épicerie ","                         Ce que je propose à l'épicerie ","                         Ce que je propose à l'épicerie ","                         Ce que je propose à l'épicerie ","                         Ce que je propose à l'épicerie ","                         Ce que je propose à l'épicerie ","                         Ce que je propose à l'épicerie ","                         Ce que je propose à l'épicerie ","                         Ce que je propose à l'épicerie ","                         Ce que je propose à l'épicerie ","                         Ce que je propose à l'épicerie ","                         Ce que je propose à l'épicerie ","                         Ce que je propose à l'épicerie ","                         Ce que je propose à l'épicerie ","                         Ce que je propose à l'épicerie ","                         Ce que je propose à l'épicerie ","                         Ce que je propose à l'épicerie ","                         Ce que je propose à l'épicerie ","                         Ce que je propose à l'épicerie ","                         Ce que je propose à l'épicerie ","                         Ce que je propose à l'épicerie ","                         Ce que je propose à l'épicerie ","                         Ce que je propose à l'épicerie ","                         Ce que je propose à l'épicerie ","                         Ce que je propose à l'épicerie ","                         Ce que je propose à l'épicerie ","                         Ce que je propose à l'épicerie ","                         Ce que je propose à l'épicerie ","                         Ce que je propose à l'épicerie ","                         Ce que je propose à l'épicerie ","                         Ce que je propose à l'épicerie ","                         Ce que je propose à l'épicerie ","                         Ce que je propose à l'épicerie ","                         Ce que je propose à l'épicerie ","                         Ce que je propose à l'épicerie ","                         Ce que je propose à l'épicerie ","                         Ce que je propose à l'épicerie ","                         Ce que je propose à l'épicerie ","                         Ce que je propose à l'épicerie ","                         Ce que je propose à l'épicerie ","                         Ce que je propose à l'épicerie ","                         Ce que je propose à l'épicerie ","                         Ce que je propose à l'épicerie ","                         Ce que je propose à l'épicerie ","                         Ce que je propose à l'épicerie ","                         Ce que je propose à l'épicerie ","                         Ce que je propose à l'épicerie ","                         Ce que je propose à l'épicerie ","                         Ce que je propose à l'épicerie ","                         Ce que je propose à l'épicerie ","                         Ce que je propose à l'épicerie ","                         Ce que je propose à l'épicerie ","                         Ce que je propose à l'épicerie ","                         Ce que je propose à l'épicerie ","                         Ce que je propose à l'épicerie ","                         Ce que je propose à l'épicerie ","                         Ce que je propose à l'épicerie ","                         Ce que je propose à l'épicerie ","                         Ce que je propose à l'épicerie ","                         Ce que je propose à l'épicerie ","                         Ce que je propose à l'épicerie ","                         Ce que je propose à l'épicerie ","                         Ce que je propose à l'épicerie ","                         Ce que je propose à l'épicerie ","                         Ce que je propose à l'épicerie ","                         Ce que je propose à l'épicerie ","                         Ce que je propose à l'épicerie ","                         Ce que je propose à l'épicerie ","                         Ce que je propose à l'épicerie ","                         Ce que je propose à l'épicerie ","                         Ce que je propose à l'épicerie ","                         Ce que je propose à l'épicerie ","                         Ce que je propose à l'épicerie ","                         Ce que je propose à l'épicerie ","                         Ce que je propose à l'épicerie ","                         Ce que je propose à l'épicerie ","                         Ce que je propose à l'épicerie ","                         Ce que je propose à l'épicerie ","                         Ce que je propose à l'épicerie ","                         Ce que je propose à l'épicerie ","                         Ce que je propose à l'épicerie ","                         Ce que je propose à l'épicerie ","                         Ce que je propose à l'épicerie ","                         Ce que je propose à l'épicerie ","                         Ce que je propose à l'épicerie ","                         Ce que je propose à l'épicerie ","                         Ce que je propose à l'épicerie ","                         Ce que je propose à l'épicerie ","                         Ce que je propose à l'épicerie ","                         Ce que je propose à l'épicerie ","                         Ce que je propose à l'épicerie ","                         Ce que je propose à l'épicerie ","                         Ce que je propose à l'épicerie ","                         Ce que je propose à l'épicerie ","                         Ce que je propose à l'épicerie ","                         Ce que je propose à l'épicerie ","                         Ce que je propose à l'épicerie ","                         Ce que je propose à l'épicerie ","                         Ce que je propose à l'épicerie ","                         Ce que je propose à l'épicerie ","                         Ce que je propose à l'épicerie ","                         Ce que je propose à l'épicerie ","                         Ce que je propose à l'épicerie ","                         Ce que je propose à l'épicerie ","                         Ce que je propose à l'épicerie ","                         Ce que je propose à l'épicerie ","                         Ce que je propose à l'épicerie ","                         Ce que je propose à l'épicerie ","                         Ce que je propose à l'épicerie ","                         Ce que je propose à l'épicerie ","                         Ce que je propose à l'épicerie ","                         Ce que je propose à l'épicerie ","                         Ce que je propose à l'épicerie ","                         Ce que je propose à l'épicerie ","                         Ce que je propose à l'épicerie ","                         Ce que je propose à l'épicerie ","                         Ce que je propose à l'épicerie ","                         Ce que je propose à l'épicerie ","                         Ce que je propose à l'épicerie ","                         Ce que je propose à l'épicerie ","                         Ce que je propose à l'épicerie ","                         Ce que je propose à l'épicerie ","                         Ce que je propose à l'épicerie ","                         Ce que je propose à l'épicerie ","                         Ce que je propose à l'épicerie ","                         Ce que je propose à l'épicerie ","                         Ce que je propose à l'épicerie ","                         Ce que je propose à l'épicerie ","                         Ce que je propose à l'épicerie ","                         Ce que je propose à l'épicerie ","                         Ce que je propose à l'épicerie ","                         Ce que je propose à l'épicerie ","                         Ce que je propose à l'épicerie ","                         Ce que je propose à l'épicerie ","                         Ce que je propose à l'épicerie ","                         Ce que je propose à l'épicerie ","                         Ce que je propose à l'épicerie ","                         Ce que je propose à l'épicerie ","                         Ce que je propose à l'épicerie ","                         Ce que je propose à l'épicerie ","                         Ce que je propose à l'épicerie ","                         Ce que je propose à l'épicerie ","                         Ce que je propose à l'épicerie ","                         Ce que je propose à l'épicerie ","                         Ce que je propose à l'épicerie ","                         Ce que je propose à l'épicerie ","                         Ce que je propose à l'épicerie ","                         Ce que je propose à l'épicerie ","                         Ce que je propose à l'épicerie ","                         Ce que je propose à l'épicerie ","                         Ce que je propose à l'épicerie ","                         Ce que je propose à l'épicerie ","                         Ce que je propose à l'épicerie ","                         Ce que je propose à l'épicerie ","                         Ce que je propose à l'épicerie ","                         Ce que je propose à l'épicerie ","                         Ce que je propose à l'épicerie ","                         Ce que je propose à l'épicerie ","                         Ce que je propose à l'épicerie ","                         Ce que je propose à l'épicerie ","                         Ce que je propose à l'épicerie ","                         Ce que je propose à l'épicerie ","                         Ce que je propose à l'épicerie ","                         Ce que je propose à l'épicerie ","                         Ce que je propose à l'épicerie ","                         Ce que je propose à l'épicerie ","                         Ce que je propose à l'épicerie ","                         Ce que je propose à l'épicerie ","                         Ce que je propose à l'épicerie ","                         Ce que je propose à l'épicerie ","                         Ce que je propose à l'épicerie ","                         Ce que je propose à l'épicerie ","                         Ce que je propose à l'épicerie ","                         Ce que je propose à l'épicerie ","                         Ce que je propose à l'épicerie ","                         Ce que je propose à l'épicerie ","                         Ce que je propose à l'épicerie ","                         Ce que je propose à l'épicerie ","                         Ce que je propose à l'épicerie ","                         Ce que je propose à l'épicerie ","                         Ce que je propose à l'épicerie ","                         Ce que je propose à l'épicerie ","                         Ce que je propose à l'épicerie ","                         Ce que je propose à l'épicerie ","                         Ce que je propose à l'épicerie ","                         Ce que je propose à l'épicerie ","                         Ce que je propose à l'épicerie ","                         Ce que je propose à l'épicerie ","                         Ce que je propose à l'épicerie ","                         Ce que je propose à l'épicerie ","                         Ce que je propose à l'épicerie ","                         Ce que je propose à l'épicerie ","                         Ce que je propose à l'épicerie ","                         Ce que je propose à l'épicerie ","                         Ce que je propose à l'épicerie ","                         Ce que je propose à l'épicerie ","                         Ce que je propose à l'épicerie ","                         Ce que je propose à l'épicerie ","                         Ce que je propose à l'épicerie ","                         Ce que je propose à l'épicerie ","                         Ce que je propose à l'épicerie ","                         Ce que je propose à l'épicerie ","                         Ce que je propose à l'épicerie ","                         Ce que je propose à l'épicerie ","                         Ce que je propose à l'épicerie ","                         Ce que je propose à l'épicerie ","                         Ce que je propose à l'épicerie ","                         Ce que je propose à l'épicerie ","                         Ce que je propose à l'épicerie ","                         Ce que je propose à l'épicerie ","                         Ce que je propose à l'épicerie ","                         Ce que je propose à l'épicerie ","                         Ce que je propose à l'épicerie ","                         Ce que je propose à l'épicerie ","                         Ce que je propose à l'épicerie ","                         Ce que je propose à l'épicerie ","                         Ce que je propose à l'épicerie ","                         Ce que je propose à l'épicerie ","                         Ce que je propose à l'épicerie ","                         Ce que je propose à l'épicerie ","                         Ce que je propose à l'épicerie ","                         Ce que je propose à l'épicerie ","                         Ce que je propose à l'épicerie ","                         Ce que je propose à l'épicerie ","                         Ce que je propose à l'épicerie ","                         Ce que je propose à l'épicerie ","                         Ce que je propose à l'épicerie ","                         Ce que je propose à l'épicerie ","                         Ce que je propose à l'épicerie ","                         Ce que je propose à l'épicerie ","                         Ce que je propose à l'épicerie ","                         Ce que je propose à l'épicerie ","                         Ce que je propose à l'épicerie ","                         Ce que je propose à l'épicerie ","                         Ce que je propose à l'épicerie ","                         Ce que je propose à l'épicerie ","                         Ce que je propose à l'épicerie ","                         Ce que je propose à l'épicerie ","                         Ce que je propose à l'épicerie ","                         Ce que je propose à l'épicerie ","                         Ce que je propose à l'épicerie ","                         Ce que je propose à l'épicerie ","                         Ce que je propose à l'épicerie ","                         Ce que je propose à l'épicerie ","                         Ce que je propose à l'épicerie ","                         Ce que je propose à l'épicerie ","                         Ce que je propose à l'épicerie ","                         Ce que je propose à l'épicerie ","                         Ce que je propose à l'épicerie ","                         Ce que je propose à l'épicerie ","                         Ce que je propose à l'épicerie ","                         Ce que je propose à l'épicerie ","                         Ce que je propose à l'épicerie ","                         Ce que je propose à l'épicerie ","                         Ce que je propose à l'épicerie ","                         Ce que je propose à l'épicerie ","                         Ce que je propose à l'épicerie ","                         Ce que je propose à l'épicerie ","                         Ce que je propose à l'épicerie ","                         Ce que je propose à l'épicerie ","                         Ce que je propose à l'épicerie ","                         Ce que je propose à l'épicerie ","                         Ce que je propose à l'épicerie ","                         Ce que je propose à l'épicerie ","                         Ce que je propose à l'épicerie ","                         Ce que je propose à l'épicerie ","                         Ce que je propose à l'épicerie ","                         Ce que je propose à l'épicerie ","                         Ce que je propose à l'épicerie ","                         Ce que je propose à l'épicerie ","                         Ce que je propose à l'épicerie ","                         Ce que je propose à l'épicerie ","                         Ce que je propose à l'épicerie ","                         Ce que je propose à l'épicerie ","                         Ce que je propose à l'épicerie ","                         Ce que je propose à l'épicerie ","                         Ce que je propose à l'épicerie ","                         Ce que je propose à l'épicerie ","                         Ce que je propose à l'épicerie ","                         Ce que je propose à l'épicerie ","                         Ce que je propose à l'épicerie ","                         Ce que je propose à l'épicerie ","                         Ce que je propose à l'épicerie ","                         Ce que je propose à l'épicerie ","                         Ce que je propose à l'épicerie ","                         Ce que je propose à l'épicerie ","                         Ce que je propose à l'épicerie ","                         Ce que je propose à l'épicerie ","                         Ce que je propose à l'épicerie ","                         Ce que je propose à l'épicerie ","                         Ce que je propose à l'épicerie ","                         Ce que je propose à l'épicerie ","                         Ce que je propose à l'épicerie ","                         Ce que je propose à l'épicerie ","                         Ce que je propose à l'épicerie ","                         Ce que je propose à l'épicerie ","                         Ce que je propose à l'épicerie ","                         Ce que je propose à l'épicerie ","                         Ce que je propose à l'épicerie ","                         Ce que je propose à l'épicerie ","                         Ce que je propose à l'épicerie ","                         Ce que je propose à l'épicerie ","                         Ce que je propose à l'épicerie ","                         Ce que je propose à l'épicerie ","                         Ce que je propose à l'épicerie ","                         Ce que je propose à l'épicerie ","                         Ce que je propose à l'épicerie ","                         Ce que je propose à l'épicerie ","                         Ce que je propose à l'épicerie ","                         Ce que je propose à l'épicerie ","                         Ce que je propose à l'épicerie ","                         Ce que je propose à l'épicerie ","                         Ce que je propose à l'épicerie ","                         Ce que je propose à l'épicerie ","                         Ce que je propose à l'épicerie ","                         Ce que je propose à l'épicerie ","                         Ce que je propose à l'épicerie ","                         Ce que je propose à l'épicerie ","                         Ce que je propose à l'épicerie ","                         Ce que je propose à l'épicerie ","                         Ce que je propose à l'épicerie ","                         Ce que je propose à l'épicerie ","                         Ce que je propose à l'épicerie ","                         Ce que je propose à l'épicerie ","                         Ce que je propose à l'épicerie ","                         Ce que je propose à l'épicerie ","                         Ce que je propose à l'épicerie ","                         Ce que je propose à l'épicerie ","                         Ce que je propose à l'épicerie ","                         Ce que je propose à l'épicerie ","                         Ce que je propose à l'épicerie ","                         Ce que je propose à l'épicerie ","                         Ce que je propose à l'épicerie ","                         Ce que je propose à l'épicerie ","                         Ce que je propose à l'épicerie ","                         Ce que je propose à l'épicerie ","                         Ce que je propose à l'épicerie ","                         Ce que je propose à l'épicerie ","                         Ce que je propose à l'épicerie ","                         Ce que je propose à l'épicerie ","                         Ce que je propose à l'épicerie ","                         Ce que je propose à l'épicerie ","                         Ce que je propose à l'épicerie ","                         Ce que je propose à l'épicerie ","                         Ce que je propose à l'épicerie ","                         Ce que je propose à l'épicerie ","                         Ce que je propose à l'épicerie ","                         Ce que je propose à l'épicerie ","                         Ce que je propose à l'épicerie ","                         Ce que je propose à l'épicerie ","                         Ce que je propose à l'épicerie ","                         Ce que je propose à l'épicerie ","                         Ce que je propose à l'épicerie ","                         Ce que je propose à l'épicerie ","                         Ce que je propose à l'épicerie ","                         Ce que je propose à l'épicerie ","                         Ce que je propose à l'épicerie ","                         Ce que je propose à l'épicerie ","                         Ce que je propose à l'épicerie ","                         Ce que je propose à l'épicerie ","                         Ce que je propose à l'épicerie ","                         Ce que je propose à l'épicerie ","                         Ce que je propose à l'épicerie ","                         Ce que je propose à l'épicerie ","                         Ce que je propose à l'épicerie ","                         Ce que je propose à l'épicerie ","                         Ce que je propose à l'épicerie ","                         Ce que je propose à l'épicerie ","                         Ce que je propose à l'épicerie ","                         Ce que je propose à l'épicerie ","                         Ce que je propose à l'épicerie ","                         Ce que je propose à l'épicerie ","                         Ce que je propose à l'épicerie ","                         Ce que je propose à l'épicerie ","                         Ce que je propose à l'épicerie ","                         Ce que je propose à l'épicerie ","                         Ce que je propose à l'épicerie ","                         Ce que je propose à l'épicerie ","                         Ce que je propose à l'épicerie ","                         Ce que je propose à l'épicerie ","                         Ce que je propose à l'épicerie ","                         Ce que je propose à l'épicerie ","                         Ce que je propose à l'épicerie ","                         Ce que je propose à l'épicerie ","                         Ce que je propose à l'épicerie ","                         Ce que je propose à l'épicerie ","                         Ce que je propose à l'épicerie ","                         Ce que je propose à l'épicerie ","                         Ce que je propose à l'épicerie ","                         Ce que je propose à l'épicerie ","                         Ce que je propose à l'épicerie ","                         Ce que je propose à l'épicerie ","                         Ce que je propose à l'épicerie ","                         Ce que je propose à l'épicerie ","                         Ce que je propose à l'épicerie ","                         Ce que je propose à l'épicerie ","                         Ce que je propose à l'épicerie ","                         Ce que je propose à l'épicerie ","                         Ce que je propose à l'épicerie ","                         Ce que je propose à l'épicerie ","                         Ce que je propose à l'épicerie ","                         Ce que je propose à l'épicerie ","                         Ce que je propose à l'épicerie ","                         Ce que je propose à l'épicerie ","                         Ce que je propose à l'épicerie ","                         Ce que je propose à l'épicerie ","                         Ce que je propose à l'épicerie ","                         Ce que je propose à l'épicerie ","                         Ce que je propose à l'épicerie ","                         Ce que je propose à l'épicerie ","                         Ce que je propose à l'épicerie ","                         Ce que je propose à l'épicerie ","                         Ce que je propose à l'épicerie ","                         Ce que je propose à l'épicerie ","                         Ce que je propose à l'épicerie ","                         Ce que je propose à l'épicerie ","                         Ce que je propose à l'épicerie ","                         Ce que je propose à l'épicerie ","                         Ce que je propose à l'épicerie ","                         Ce que je propose à l'épicerie ","                         Ce que je propose à l'épicerie ","                         Ce que je propose à l'épicerie ","                         Ce que je propose à l'épicerie ","                         Ce que je propose à l'épicerie ","                         Ce que je propose à l'épicerie ","                         Ce que je propose à l'épicerie ","                         Ce que je propose à l'épicerie ","                         Ce que je propose à l'épicerie ","                         Ce que je propose à l'épicerie ","                         Ce que je propose à l'épicerie ","                         Ce que je propose à l'épicerie ","                         Ce que je propose à l'épicerie ","                         Ce que je propose à l'épicerie ","                         Ce que je propose à l'épicerie ","                         Ce que je propose à l'épicerie ","                         Ce que je propose à l'épicerie ","                         Ce que je propose à l'épicerie ","                         Ce que je propose à l'épicerie ","                         Ce que je propose à l'épicerie ","                         Ce que je propose à l'épicerie ","                         Ce que je propose à l'épicerie ","                         Ce que je propose à l'épicerie ","                         Ce que je propose à l'épicerie ","                         Ce que je propose à l'épicerie ","                         Ce que je propose à l'épicerie ","                         Ce que je propose à l'épicerie ","                         Ce que je propose à l'épicerie ","                         Ce que je propose à l'épicerie ","                         Ce que je propose à l'épicerie ","                         Ce que je propose à l'épicerie ","                         Ce que je propose à l'épicerie ","                         Ce que je propose à l'épicerie ","                         Ce que je propose à l'épicerie ","                         Ce que je propose à l'épicerie ","                         Ce que je propose à l'épicerie ","                         Ce que je propose à l'épicerie ","                         Ce que je propose à l'épicerie ","                         Ce que je propose à l'épicerie ","                         Ce que je propose à l'épicerie ","                         Ce que je propose à l'épicerie ","                         Ce que je propose à l'épicerie ","                         Ce que je propose à l'épicerie ","                         Ce que je propose à l'épicerie ","                         Ce que je propose à l'épicerie ","                         Ce que je propose à l'épicerie ","                         Ce que je propose à l'épicerie ","                         Ce que je propose à l'épicerie ","                         Ce que je propose à l'épicerie ","                         Ce que je propose à l'épicerie ","                         Ce que je propose à l'épicerie ","                         Ce que je propose à l'épicerie ","                         Ce que je propose à l'épicerie ","                         Ce que je propose à l'épicerie ","                         Ce que je propose à l'épicerie ","                         Ce que je propose à l'épicerie ","                         Ce que je propose à l'épicerie ","                         Ce que je propose à l'épicerie ","                         Ce que je propose à l'épicerie ","                         Ce que je propose à l'épicerie ","                         Ce que je propose à l'épicerie ","                         Ce que je propose à l'épicerie ","                         Ce que je propose à l'épicerie ","                         Ce que je propose à l'épicerie ","                         Ce que je propose à l'épicerie ","                         Ce que je propose à l'épicerie ","                         Ce que je propose à l'épicerie ","                         Ce que je propose à l'épicerie ","                         Ce que je propose à l'épicerie ","                         Ce que je propose à l'épicerie ","                         Ce que je propose à l'épicerie ","                         Ce que je propose à l'épicerie ","                         Ce que je propose à l'épicerie ","                         Ce que je propose à l'épicerie ","                         Ce que je propose à l'épicerie ","                         Ce que je propose à l'épicerie ","                         Ce que je propose à l'épicerie ","                         Ce que je propose à l'épicerie ","                         Ce que je propose à l'épicerie ","                         Ce que je propose à l'épicerie ","                         Ce que je propose à l'épicerie ","                         Ce que je propose à l'épicerie ","                         Ce que je propose à l'épicerie ","                         Ce que je propose à l'épicerie ","                         Ce que je propose à l'épicerie ","                         Ce que je propose à l'épicerie ","                         Ce que je propose à l'épicerie ","                         Ce que je propose à l'épicerie ","                         Ce que je propose à l'épicerie ","                         Ce que je propose à l'épicerie ","                         Ce que je propose à l'épicerie ","                         Ce que je propose à l'épicerie ","                         Ce que je propose à l'épicerie ","                         Ce que je propose à l'épicerie ","                         Ce que je propose à l'épicerie ","                         Ce que je propose à l'épicerie ","                         Ce que je propose à l'épicerie ","                         Ce que je propose à l'épicerie ","                         Ce que je propose à l'épicerie ","                         Ce que je propose à l'épicerie ","                         Ce que je propose à l'épicerie ","                         Ce que je propose à l'épicerie ","                         Ce que je propose à l'épicerie ","                         Ce que je propose à l'épicerie ","                         Ce que je propose à l'épicerie ","                         Ce que je propose à l'épicerie ","                         Ce que je propose à l'épicerie ","                         Ce que je propose à l'épicerie ","                         Ce que je propose à l'épicerie ","                         Ce que je propose à l'épicerie ","                         Ce que je propose à l'épicerie ","                         Ce que je propose à l'épicerie ","                         Ce que je propose à l'épicerie ","                         Ce que je propose à l'épicerie ","                         Ce que je propose à l'épicerie ","                         Ce que je propose à l'épicerie ","                         Ce que je propose à l'épicerie ","                         Ce que je propose à l'épicerie ","                         Ce que je propose à l'épicerie ","                         Ce que je propose à l'épicerie ","                         Ce que je propose à l'épicerie ","                         Ce que je propose à l'épicerie ","                         Ce que je propose à l'épicerie ","                         Ce que je propose à l'épicerie ","                         Ce que je propose à l'épicerie ","                         Ce que je propose à l'épicerie ","                         Ce que je propose à l'épicerie ","                         Ce que je propose à l'épicerie ","                         Ce que je propose à l'épicerie ","                         Ce que je propose à l'épicerie ","                         Ce que je propose à l'épicerie ","                         Ce que je propose à l'épicerie ","                         Ce que je propose à l'épicerie ","                         Ce que je propose à l'épicerie ","                         Ce que je propose à l'épicerie ","                         Ce que je propose à l'épicerie ","                         Ce que je propose à l'épicerie ","                         Ce que je propose à l'épicerie ","                         Ce que je propose à l'épicerie ","                         Ce que je propose à l'épicerie ","                         Ce que je propose à l'épicerie ","                         Ce que je propose à l'épicerie ","                         Ce que je propose à l'épicerie ","                         Ce que je propose à l'épicerie ","                         Ce que je propose à l'épicerie ","                         Ce que je propose à l'épicerie ","                         Ce que je propose à l'épicerie ","                         Ce que je propose à l'épicerie ","                         Ce que je propose à l'épicerie ","                         Ce que je propose à l'épicerie ","                         Ce que je propose à l'épicerie ","                         Ce que je propose à l'épicerie ","                         Ce que je propose à l'épicerie ","                         Ce que je propose à l'épicerie ","                         Ce que je propose à l'épicerie ","                         Ce que je propose à l'épicerie ","                         Ce que je propose à l'épicerie ","                         Ce que je propose à l'épicerie ","                         Ce que je propose à l'épicerie ","                         Ce que je propose à l'épicerie ","                         Ce que je propose à l'épicerie ","                         Ce que je propose à l'épicerie ","                         Ce que je propose à l'épicerie ","                         Ce que je propose à l'épicerie ","                         Ce que je propose à l'épicerie ","                         Ce que je propose à l'épicerie ","                         Ce que je propose à l'épicerie ","                         Ce que je propose à l'épicerie ","                         Ce que je propose à l'épicerie ","                         Ce que je propose à l'épicerie ","                         Ce que je propose à l'épicerie ","                         Ce que je propose à l'épicerie ","                         Ce que je propose à l'épicerie ","                         Ce que je propose à l'épicerie ","                         Ce que je propose à l'épicerie ","                         Ce que je propose à l'épicerie ","                         Ce que je propose à l'épicerie ","                         Ce que je propose à l'épicerie ","                         Ce que je propose à l'épicerie ","                         Ce que je propose à l'épicerie ","                         Ce que je propose à l'épicerie ","                         Ce que je propose à l'épicerie ","                         Ce que je propose à l'épicerie ","                         Ce que je propose à l'épicerie ","                         Ce que je propose à l'épicerie ","                         Ce que je propose à l'épicerie ","                         Ce que je propose à l'épicerie ","                         Ce que je propose à l'épicerie ","                         Ce que je propose à l'épicerie ","                         Ce que je propose à l'épicerie ","                         Ce que je propose à l'épicerie ","                         Ce que je propose à l'épicerie ","                         Ce que je propose à l'épicerie ","                         Ce que je propose à l'épicerie ","                         Ce que je propose à l'épicerie ","                         Ce que je propose à l'épicerie ","                         Ce que je propose à l'épicerie ","                         Ce que je propose à l'épicerie ","                         Ce que je propose à l'épicerie ","                         Ce que je propose à l'épicerie ","                         Ce que je propose à l'épicerie ","                         Ce que je propose à l'épicerie ","                         Ce que je propose à l'épicerie ","                         Ce que je propose à l'épicerie ","                         Ce que je propose à l'épicerie ","                         Ce que je propose à l'épicerie ","                         Ce que je propose à l'épicerie ","                         Ce que je propose à l'épicerie ","                         Ce que je propose à l'épicerie ","                         Ce que je propose à l'épicerie ","                         Ce que je propose à l'épicerie ","                         Ce que je propose à l'épicerie ","                         Ce que je propose à l'épicerie ","                         Ce que je propose à l'épicerie ","                         Ce que je propose à l'épicerie ","                         Ce que je propose à l'épicerie ","                         Ce que je propose à l'épicerie ","                         Ce que je propose à l'épicerie ","                         Ce que je propose à l'épicerie ","                         Ce que je propose à l'épicerie ","                         Ce que je propose à l'épicerie ","                         Ce que je propose à l'épicerie ","                         Ce que je propose à l'épicerie ","                         Ce que je propose à l'épicerie ","                         Ce que je propose à l'épicerie ","                         Ce que je propose à l'épicerie ","                         Ce que je propose à l'épicerie ","                         Ce que je propose à l'épicerie ","                         Ce que je propose à l'épicerie ","                         Ce que je propose à l'épicerie ","                         Ce que je propose à l'épicerie ","                         Ce que je propose à l'épicerie ","                         Ce que je propose à l'épicerie ","                         Ce que je propose à l'épicerie ","                         Ce que je propose à l'épicerie ","                         Ce que je propose à l'épicerie ","                         Ce que je propose à l'épicerie ","                         Ce que je propose à l'épicerie ","                         Ce que je propose à l'épicerie ","                         Ce que je propose à l'épicerie ","                         Ce que je propose à l'épicerie ","                         Ce que je propose à l'épicerie ","                         Ce que je propose à l'épicerie ","                         Ce que je propose à l'épicerie ","                         Ce que je propose à l'épicerie ","                         Ce que je propose à l'épicerie ","                         Ce que je propose à l'épicerie ","                         Ce que je propose à l'épicerie ","                         Ce que je propose à l'épicerie ","                         Ce que je propose à l'épicerie ","                         Ce que je propose à l'épicerie ","                         Ce que je propose à l'épicerie ","                         Ce que je propose à l'épicerie ","                         Ce que je propose à l'épicerie ","                         Ce que je propose à l'épicerie ","                         Ce que je propose à l'épicerie ","                         Ce que je propose à l'épicerie ","                         Ce que je propose à l'épicerie ","                         Ce que je propose à l'épicerie ","                         Ce que je propose à l'épicerie ","                         Ce que je propose à l'épicerie ","                         Ce que je propose à l'épicerie ","                         Ce que je propose à l'épicerie ","                         Ce que je propose à l'épicerie ","                         Ce que je propose à l'épicerie ","                         Ce que je propose à l'épicerie ","                         Ce que je propose à l'épicerie ","                         Ce que je propose à l'épicerie ","                         Ce que je propose à l'épicerie ","                         Ce que je propose à l'épicerie ","                         Ce que je propose à l'épicerie ","                         Ce que je propose à l'épicerie ","                         Ce que je propose à l'épicerie ","                         Ce que je propose à l'épicerie ","                         Ce que je propose à l'épicerie ","                         Ce que je propose à l'épicerie ","                         Ce que je propose à l'épicerie ","                         Ce que je propose à l'épicerie ","                         Ce que je propose à l'épicerie ","                         Ce que je propose à l'épicerie ","                         Ce que je propose à l'épicerie ","                         Ce que je propose à l'épicerie ","                         Ce que je propose à l'épicerie ","                         Ce que je propose à l'épicerie ","                         Ce que je propose à l'épicerie ","                         Ce que je propose à l'épicerie ","                         Ce que je propose à l'épicerie ","                         Ce que je propose à l'épicerie ","                         Ce que je propose à l'épicerie ","                         Ce que je propose à l'épicerie ","                         Ce que je propose à l'épicerie ","                         Ce que je propose à l'épicerie ","                         Ce que je propose à l'épicerie ","                         Ce que je propose à l'épicerie ","                         Ce que je propose à l'épicerie ","                         Ce que je propose à l'épicerie ","                         Ce que je propose à l'épicerie ","                         Ce que je propose à l'épicerie ","                         Ce que je propose à l'épicerie ","                         Ce que je propose à l'épicerie ","                         Ce que je propose à l'épicerie ","                         Ce que je propose à l'épicerie ","                         Ce que je propose à l'épicerie ","                         Ce que je propose à l'épicerie ","                         Ce que je propose à l'épicerie ","                         Ce que je propose à l'épicerie ","                         Ce que je propose à l'épicerie ","                         Ce que je propose à l'épicerie ","                         Ce que je propose à l'épicerie ","                         Ce que je propose à l'épicerie ","                         Ce que je propose à l'épicerie ","                         Ce que je propose à l'épicerie ","                         Ce que je propose à l'épicerie ","                         Ce que je propose à l'épicerie ","                         Ce que je propose à l'épicerie ","                         Ce que je propose à l'épicerie ","                         Ce que je propose à l'épicerie ","                         Ce que je propose à l'épicerie ","                         Ce que je propose à l'épicerie ","                         Ce que je propose à l'épicerie ","                         Ce que je propose à l'épicerie ","                         Ce que je propose à l'épicerie ","                         Ce que je propose à l'épicerie ","                         Ce que je propose à l'épicerie ","                         Ce que je propose à l'épicerie ","                         Ce que je propose à l'épicerie ","                         Ce que je propose à l'épicerie ","                         Ce que je propose à l'épicerie ","                         Ce que je propose à l'épicerie ","                         Ce que je propose à l'épicerie ","                         Ce que je propose à l'épicerie ","                         Ce que je propose à l'épicerie ","                         Ce que je propose à l'épicerie ","                         Ce que je propose à l'épicerie ","                         Ce que je propose à l'épicerie ","                         Ce que je propose à l'épicerie ","                         Ce que je propose à l'épicerie ","                         Ce que je propose à l'épicerie ","                         Ce que je propose à l'épicerie ","                         Ce que je propose à l'épicerie ","                         Ce que je propose à l'épicerie ","                         Ce que je propose à l'épicerie ","                         Ce que je propose à l'épicerie ","                         Ce que je propose à l'épicerie ","                         Ce que je propose à l'épicerie ","                         Ce que je propose à l'épicerie ","                         Ce que je propose à l'épicerie ","                         Ce que je propose à l'épicerie ","                         Ce que je propose à l'épicerie ","                         Ce que je propose à l'épicerie ","                         Ce que je propose à l'épicerie ","                         Ce que je propose à l'épicerie ","                         Ce que je propose à l'épicerie ","                         Ce que je propose à l'épicerie ","                         Ce que je propose à l'épicerie ","                         Ce que je propose à l'épicerie ","                         Ce que je propose à l'épicerie ","                         Ce que je propose à l'épicerie ","                         Ce que je propose à l'épicerie ","                         Ce que je propose à l'épicerie ","                         Ce que je propose à l'épicerie ","                         Ce que je propose à l'épicerie ","                         Ce que je propose à l'épicerie ","                         Ce que je propose à l'épicerie ","                         Ce que je propose à l'épicerie ","                         Ce que je propose à l'épicerie ","                         Ce que je propose à l'épicerie ","                         Ce que je propose à l'épicerie ","                         Ce que je propose à l'épicerie ","                         Ce que je propose à l'épicerie ","                         Ce que je propose à l'épicerie ","                         Ce que je propose à l'épicerie ","                         Ce que je propose à l'épicerie ","                         Ce que je propose à l'épicerie ","                         Ce que je propose à l'épicerie ","                         Ce que je propose à l'épicerie ","                         Ce que je propose à l'épicerie ","                         Ce que je propose à l'épicerie ","                         Ce que je propose à l'épicerie ","                         Ce que je propose à l'épicerie ","                         Ce que je propose à l'épicerie ","                         Ce que je propose à l'épicerie ","                         Ce que je propose à l'épicerie ","                         Ce que je propose à l'épicerie ","                         Ce que je propose à l'épicerie ","                         Ce que je propose à l'épicerie ","                         Ce que je propose à l'épicerie ","                         Ce que je propose à l'épicerie ","                         Ce que je propose à l'épicerie ","                         Ce que je propose à l'épicerie ","                         Ce que je propose à l'épicerie ","                         Ce que je propose à l'épicerie ","                         Ce que je propose à l'épicerie ","                         Ce que je propose à l'épicerie ","                         Ce que je propose à l'épicerie ","                         Ce que je propose à l'épicerie ","                         Ce que je propose à l'épicerie ","                         Ce que je propose à l'épicerie ","                         Ce que je propose à l'épicerie ","                         Ce que je propose à l'épicerie ","                         Ce que je propose à l'épicerie ","                         Ce que je propose à l'épicerie ","                         Ce que je propose à l'épicerie ","                         Ce que je propose à l'épicerie ","                         Ce que je propose à l'épicerie ","                         Ce que je propose à l'épicerie ","                         Ce que je propose à l'épicerie ","                         Ce que je propose à l'épicerie ","                         Ce que je propose à l'épicerie ","                         Ce que je propose à l'épicerie ","                         Ce que je propose à l'épicerie ","                         Ce que je propose à l'épicerie ","                         Ce que je propose à l'épicerie ","                         Ce que je propose à l'épicerie ","                         Ce que je propose à l'épicerie ","                         Ce que je propose à l'épicerie ","                         Ce que je propose à l'épicerie ","                         Ce que je propose à l'épicerie ","                         Ce que je propose à l'épicerie ","                         Ce que je propose à l'épicerie ","                         Ce que je propose à l'épicerie ","                         Ce que je propose à l'épicerie ","                         Ce que je propose à l'épicerie ","                         Ce que je propose à l'épicerie ","                         Ce que je propose à l'épicerie ","                         Ce que je propose à l'épicerie ","                         Ce que je propose à l'épicerie ","                         Ce que je propose à l'épicerie ","                         Ce que je propose à l'épicerie ","                         Ce que je propose à l'épicerie ","                         Ce que je propose à l'épicerie ","                         Ce que je propose à l'épicerie ","                         Ce que je propose à l'épicerie ","                         Ce que je propose à l'épicerie ","                         Ce que je propose à l'épicerie ","                         Ce que je propose à l'épicerie ","                         Ce que je propose à l'épicerie ","                         Ce que je propose à l'épicerie ","                         Ce que je propose à l'épicerie ","                         Ce que je propose à l'épicerie ","                         Ce que je propose à l'épicerie ","                         Ce que je propose à l'épicerie ","                         Ce que je propose à l'épicerie ","                         Ce que je propose à l'épicerie ","                         Ce que je propose à l'épicerie ","                         Ce que je propose à l'épicerie ","                         Ce que je propose à l'épicerie ","                         Ce que je propose à l'épicerie ","                         Ce que je propose à l'épicerie ","                         Ce que je propose à l'épicerie ","                         Ce que je propose à l'épicerie ","                         Ce que je propose à l'épicerie ","                         Ce que je propose à l'épicerie ","                         Ce que je propose à l'épicerie ","                         Ce que je propose à l'épicerie ","                         Ce que je propose à l'épicerie ","                         Ce que je propose à l'épicerie ","                         Ce que je propose à l'épicerie ","                         Ce que je propose à l'épicerie ","                         Ce que je propose à l'épicerie ","                         Ce que je propose à l'épicerie ","                         Ce que je propose à l'épicerie ","                         Ce que je propose à l'épicerie ","                         Ce que je propose à l'épicerie ","                         Ce que je propose à l'épicerie ","                         Ce que je propose à l'épicerie ","                         Ce que je propose à l'épicerie ","                         Ce que je propose à l'épicerie ","                         Ce que je propose à l'épicerie ","                         Ce que je propose à l'épicerie ","                         Ce que je propose à l'épicerie ","                         Ce que je propose à l'épicerie ","                         Ce que je propose à l'épicerie ","                         Ce que je propose à l'épicerie ","                         Ce que je propose à l'épicerie ","                         Ce que je propose à l'épicerie ","                         Ce que je propose à l'épicerie ","                         Ce que je propose à l'épicerie ","                         Ce que je propose à l'épicerie ","                         Ce que je propose à l'épicerie ","                         Ce que je propose à l'épicerie ","                         Ce que je propose à l'épicerie ","                         Ce que je propose à l'épicerie ","                         Ce que je propose à l'épicerie ","                         Ce que je propose à l'épicerie ","                         Ce que je propose à l'épicerie ","                         Ce que je propose à l'épicerie ","                         Ce que je propose à l'épicerie ","                         Ce que je propose à l'épicerie ","                         Ce que je propose à l'épicerie ","                         Ce que je propose à l'épicerie ","                         Ce que je propose à l'épicerie ","                         Ce que je propose à l'épicerie ","                         Ce que je propose à l'épicerie ","                         Ce que je propose à l'épicerie ","                         Ce que je propose à l'épicerie ","                         Ce que je propose à l'épicerie ","                         Ce que je propose à l'épicerie ","                         Ce que je propose à l'épicerie ","                         Ce que je propose à l'épicerie ","                         Ce que je propose à l'épicerie ","                         Ce que je propose à l'épicerie ","                         Ce que je propose à l'épicerie ","                         Ce que je propose à l'épicerie ","                         Ce que je propose à l'épicerie ","                         Ce que je propose à l'épicerie ","                         Ce que je propose à l'épicerie ","                         Ce que je propose à l'épicerie ","                         Ce que je propose à l'épicerie ","                         Ce que je propose à l'épicerie ","                         Ce que je propose à l'épicerie ","                         Ce que je propose à l'épicerie ","                         Ce que je propose à l'épicerie ","                         Ce que je propose à l'épicerie ","                         Ce que je propose à l'épicerie ","                         Ce que je propose à l'épicerie ","                         Ce que je propose à l'épicerie ","                         Ce que je propose à l'épicerie ","                         Ce que je propose à l'épicerie ","                         Ce que je propose à l'épicerie ","                         Ce que je propose à l'épicerie ","                         Ce que je propose à l'épicerie ","                         Ce que je propose à l'épicerie ","                         Ce que je propose à l'épicerie ","                         Ce que je propose à l'épicerie ","                         Ce que je propose à l'épicerie ","                         Ce que je propose à l'épicerie ","                         Ce que je propose à l'épicerie ","                         Ce que je propose à l'épicerie ","                         Ce que je propose à l'épicerie ","                         Ce que je propose à l'épicerie ","                         Ce que je propose à l'épicerie ","                         Ce que je propose à l'épicerie ","                         Ce que je propose à l'épicerie ","                         Ce que je propose à l'épicerie ","                         Ce que je propose à l'épicerie ","                         Ce que je propose à l'épicerie ","                         Ce que je propose à l'épicerie ","                         Ce que je propose à l'épicerie ","                         Ce que je propose à l'épicerie ","                         Ce que je propose à l'épicerie ","                         Ce que je propose à l'épicerie ","                         Ce que je propose à l'épicerie ","                         Ce que je propose à l'épicerie ","                         Ce que je propose à l'épicerie ","                         Ce que je propose à l'épicerie ","                         Ce que je propose à l'épicerie ","                         Ce que je propose à l'épicerie ","                         Ce que je propose à l'épicerie ","                         Ce que je propose à l'épicerie ","                         Ce que je propose à l'épicerie ","                         Ce que je propose à l'épicerie ","                         Ce que je propose à l'épicerie ","                         Ce que je propose à l'épicerie ","                         Ce que je propose à l'épicerie ","                         Ce que je propose à l'épicerie ","                         Ce que je propose à l'épicerie ","                         Ce que je propose à l'épicerie ","                         Ce que je propose à l'épicerie ","                         Ce que je propose à l'épicerie ","                         Ce que je propose à l'épicerie ","                         Ce que je propose à l'épicerie ","                         Ce que je propose à l'épicerie ","                         Ce que je propose à l'épicerie ","                         Ce que je propose à l'épicerie ","                         Ce que je propose à l'épicerie ","                         Ce que je propose à l'épicerie ","                         Ce que je propose à l'épicerie ","                         Ce que je propose à l'épicerie ","                         Ce que je propose à l'épicerie ","                         Ce que je propose à l'épicerie ","                         Ce que je propose à l'épicerie ","                         Ce que je propose à l'épicerie ","                         Ce que je propose à l'épicerie ","                         Ce que je propose à l'épicerie ","                         Ce que je propose à l'épicerie ","                         Ce que je propose à l'épicerie ","                         Ce que je propose à l'épicerie ","                         Ce que je propose à l'épicerie ","                         Ce que je propose à l'épicerie ","                         Ce que je propose à l'épicerie ","                         Ce que je propose à l'épicerie ","                         Ce que je propose à l'épicerie ","                         Ce que je propose à l'épicerie ","                         Ce que je propose à l'épicerie ","                         Ce que je propose à l'épicerie ","                         Ce que je propose à l'épicerie ","                         Ce que je propose à l'épicerie ","                         Ce que je propose à l'épicerie ","                         Ce que je propose à l'épicerie ","                         Ce que je propose à l'épicerie ","                         Ce que je propose à l'épicerie ","                         Ce que je propose à l'épicerie ","                         Ce que je propose à l'épicerie ","                         Ce que je propose à l'épicerie ","                         Ce que je propose à l'épicerie ","                         Ce que je propose à l'épicerie ","                         Ce que je propose à l'épicerie ","                         Ce que je propose à l'épicerie ","                         Ce que je propose à l'épicerie ","                         Ce que je propose à l'épicerie ","                         Ce que je propose à l'épicerie ","                         Ce que je propose à l'épicerie ","                         Ce que je propose à l'épicerie ","                         Ce que je propose à l'épicerie ","                         Ce que je propose à l'épicerie ","                         Ce que je propose à l'épicerie ","                         Ce que je propose à l'épicerie ","                         Ce que je propose à l'épicerie ","                         Ce que je propose à l'épicerie ","                         Ce que je propose à l'épicerie ","                         Ce que je propose à l'épicerie ","                         Ce que je propose à l'épicerie ","                         Ce que je propose à l'épicerie ","                         Ce que je propose à l'épicerie ","                         Ce que je propose à l'épicerie ","                         Ce que je propose à l'épicerie ","                         Ce que je propose à l'épicerie ","                         Ce que je propose à l'épicerie ","                         Ce que je propose à l'épicerie ","                         Ce que je propose à l'épicerie ","                         Ce que je propose à l'épicerie ","                         Ce que je propose à l'épicerie ","                         Ce que je propose à l'épicerie ","                         Ce que je propose à l'épicerie ","                         Ce que je propose à l'épicerie ","                         Ce que je propose à l'épicerie ","                         Ce que je propose à l'épicerie ","                         Ce que je propose à l'épicerie ","                         Ce que je propose à l'épicerie ","                         Ce que je propose à l'épicerie ","                         Ce que je propose à l'épicerie ","                         Ce que je propose à l'épicerie ","                         Ce que je propose à l'épicerie ","                         Ce que je propose à l'épicerie ","                         Ce que je propose à l'épicerie ","                         Ce que je propose à l'épicerie ","                         Ce que je propose à l'épicerie ","                         Ce que je propose à l'épicerie ","                         Ce que je propose à l'épicerie ","                         Ce que je propose à l'épicerie ","                         Ce que je propose à l'épicerie ","                         Ce que je propose à l'épicerie ","                         Ce que je propose à l'épicerie ","                         Ce que je propose à l'épicerie ","                         Ce que je propose à l'épicerie ","                         Ce que je propose à l'épicerie ","                         Ce que je propose à l'épicerie ","                         Ce que je propose à l'épicerie ","                         Ce que je propose à l'épicerie ","                         Ce que je propose à l'épicerie ","                         Ce que je propose à l'épicerie ","                         Ce que je propose à l'épicerie ","                         Ce que je propose à l'épicerie ","                         Ce que je propose à l'épicerie ","                         Ce que je propose à l'épicerie ","                         Ce que je propose à l'épicerie ","                         Ce que je propose à l'épicerie ","                         Ce que je propose à l'épicerie ","                         Ce que je propose à l'épicerie ","                         Ce que je propose à l'épicerie ","                         Ce que je propose à l'épicerie ","                         Ce que je propose à l'épicerie ","                         Ce que je propose à l'épicerie ","                         Ce que je propose à l'épicerie ","                         Ce que je propose à l'épicerie ","                         Ce que je propose à l'épicerie ","                         Ce que je propose à l'épicerie ","                         Ce que je propose à l'épicerie ","                         Ce que je propose à l'épicerie ","                         Ce que je propose à l'épicerie ","                         Ce que je propose à l'épicerie ","                         Ce que je propose à l'épicerie ","                         Ce que je propose à l'épicerie ","                         Ce que je propose à l'épicerie ","                         Ce que je propose à l'épicerie ","                         Ce que je propose à l'épicerie ","                         Ce que je propose à l'épicerie ","                         Ce que je propose à l'épicerie ","                         Ce que je propose à l'épicerie ","                         Ce que je propose à l'épicerie ","                         Ce que je propose à l'épicerie ","                         Ce que je propose à l'épicerie ","                         Ce que je propose à l'épicerie ","                         Ce que je propose à l'épicerie ","                         Ce que je propose à l'épicerie ","                         Ce que je propose à l'épicerie ","                         Ce que je propose à l'épicerie ","                         Ce que je propose à l'épicerie ","                         Ce que je propose à l'épicerie ","                         Ce que je propose à l'épicerie ","                         Ce que je propose à l'épicerie ","                         Ce que je propose à l'épicerie ","                         Ce que je propose à l'épicerie ","                         Ce que je propose à l'épicerie ","                         Ce que je propose à l'épicerie ","                         Ce que je propose à l'épicerie ","                         Ce que je propose à l'épicerie ","                         Ce que je propose à l'épicerie ","                         Ce que je propose à l'épicerie ","                         Ce que je propose à l'épicerie ","                         Ce que je propose à l'épicerie ","                         Ce que je propose à l'épicerie ","                         Ce que je propose à l'épicerie ","                         Ce que je propose à l'épicerie ","                         Ce que je propose à l'épicerie ","                         Ce que je propose à l'épicerie ","                         Ce que je propose à l'épicerie ","                         Ce que je propose à l'épicerie ","                         Ce que je propose à l'épicerie ","                         Ce que je propose à l'épicerie ","                         Ce que je propose à l'épicerie ","                         Ce que je propose à l'épicerie ","                         Ce que je propose à l'épicerie ","                         Ce que je propose à l'épicerie ","                         Ce que je propose à l'épicerie ","                         Ce que je propose à l'épicerie ","                         Ce que je propose à l'épicerie ","                         Ce que je propose à l'épicerie ","                         Ce que je propose à l'épicerie ","                         Ce que je propose à l'épicerie ","                         Ce que je propose à l'épicerie ","                         Ce que je propose à l'épicerie ","                         Ce que je propose à l'épicerie ","                         Ce que je propose à l'épicerie ","                         Ce que je propose à l'épicerie ","                         Ce que je propose à l'épicerie ","                         Ce que je propose à l'épicerie ","                         Ce que je propose à l'épicerie ","                         Ce que je propose à l'épicerie ","                         Ce que je propose à l'épicerie ","                         Ce que je propose à l'épicerie ","                         Ce que je propose à l'épicerie ","                         Ce que je propose à l'épicerie ","                         Ce que je propose à l'épicerie ","                         Ce que je propose à l'épicerie ","                         Ce que je propose à l'épicerie ","                         Ce que je propose à l'épicerie ","                         Ce que je propose à l'épicerie ","                         Ce que je propose à l'épicerie ","                         Ce que je propose à l'épicerie ","                         Ce que je propose à l'épicerie ","                         Ce que je propose à l'épicerie ","                         Ce que je propose à l'épicerie ","                         Ce que je propose à l'épicerie ","                         Ce que je propose à l'épicerie ","                         Ce que je propose à l'épicerie ","                         Ce que je propose à l'épicerie ","                         Ce que je propose à l'épicerie ","                         Ce que je propose à l'épicerie ","                         Ce que je propose à l'épicerie ","                         Ce que je propose à l'épicerie ","                         Ce que je propose à l'épicerie ","                         Ce que je propose à l'épicerie ","                         Ce que je propose à l'épicerie ","                         Ce que je propose à l'épicerie ","                         Ce que je propose à l'épicerie ","                         Ce que je propose à l'épicerie ","                         Ce que je propose à l'épicerie ","                         Ce que je propose à l'épicerie ","                         Ce que je propose à l'épicerie ","                         Ce que je propose à l'épicerie ","                         Ce que je propose à l'épicerie ","                         Ce que je propose à l'épicerie ","                         Ce que je propose à l'épicerie ","                         Ce que je propose à l'épicerie ","                         Ce que je propose à l'épicerie ","                         Ce que je propose à l'épicerie ","                         Ce que je propose à l'épicerie ","                         Ce que je propose à l'épicerie ","                         Ce que je propose à l'épicerie ","                         Ce que je propose à l'épicerie ","                         Ce que je propose à l'épicerie ","                         Ce que je propose à l'épicerie ","                         Ce que je propose à l'épicerie ","                         Ce que je propose à l'épicerie ","                         Ce que je propose à l'épicerie ","                         Ce que je propose à l'épicerie ","                         Ce que je propose à l'épicerie ","                         Ce que je propose à l'épicerie ","                         Ce que je propose à l'épicerie ","                         Ce que je propose à l'épicerie ","                         Ce que je propose à l'épicerie ","                         Ce que je propose à l'épicerie ","                         Ce que je propose à l'épicerie ","                         Ce que je propose à l'épicerie ","                         Ce que je propose à l'épicerie ","                         Ce que je propose à l'épicerie ","                         Ce que je propose à l'épicerie ","                         Ce que je propose à l'épicerie ","                         Ce que je propose à l'épicerie ","                         Ce que je propose à l'épicerie ","                         Ce que je propose à l'épicerie ","                         Ce que je propose à l'épicerie ","                         Ce que je propose à l'épicerie ","                         Ce que je propose à l'épicerie ","                         Ce que je propose à l'épicerie ","                         Ce que je propose à l'épicerie ","                         Ce que je propose à l'épicerie ","                         Ce que je propose à l'épicerie ","                         Ce que je propose à l'épicerie ","                         Ce que je propose à l'épicerie ","                         Ce que je propose à l'épicerie ","                         Ce que je propose à l'épicerie ","                         Ce que je propose à l'épicerie ","                         Ce que je propose à l'épicerie ","                         Ce que je propose à l'épicerie ","                         Ce que je propose à l'épicerie ","                         Ce que je propose à l'épicerie ","                         Ce que je propose à l'épicerie ","                         Ce que je propose à l'épicerie ","                         Ce que je propose à l'épicerie ","                         Ce que je propose à l'épicerie ","                         Ce que je propose à l'épicerie ","                         Ce que je propose à l'épicerie ","                         Ce que je propose à l'épicerie ","                         Ce que je propose à l'épicerie ","                         Ce que je propose à l'épicerie ","                         Ce que je propose à l'épicerie ","                         Ce que je propose à l'épicerie ","                         Ce que je propose à l'épicerie ","                         Ce que je propose à l'épicerie ","                         Ce que je propose à l'épicerie ","                         Ce que je propose à l'épicerie ","                         Ce que je propose à l'épicerie ","                         Ce que je propose à l'épicerie ","                         Ce que je propose à l'épicerie ","                         Ce que je propose à l'épicerie ","                         Ce que je propose à l'épicerie ","                         Ce que je propose à l'épicerie ","                         Ce que je propose à l'épicerie ","                         Ce que je propose à l'épicerie ","                         Ce que je propose à l'épicerie ","                         Ce que je propose à l'épicerie ","                         Ce que je propose à l'épicerie ","                         Ce que je propose à l'épicerie ","                         Ce que je propose à l'épicerie ","                         Ce que je propose à l'épicerie ","                         Ce que je propose à l'épicerie ","                         Ce que je propose à l'épicerie ","                         Ce que je propose à l'épicerie ","                         Ce que je propose à l'épicerie ","                         Ce que je propose à l'épicerie ","                         Ce que je propose à l'épicerie ","                         Ce que je propose à l'épicerie ","                         Ce que je propose à l'épicerie ","                         Ce que je propose à l'épicerie ","                         Ce que je propose à l'épicerie ","                         Ce que je propose à l'épicerie ","                         Ce que je propose à l'épicerie ","                         Ce que je propose à l'épicerie ","                         Ce que je propose à l'épicerie ","                         Ce que je propose à l'épicerie ","                         Ce que je propose à l'épicerie ","                         Ce que je propose à l'épicerie ","                         Ce que je propose à l'épicerie ","                         Ce que je propose à l'épicerie ","                         Ce que je propose à l'épicerie ","                         Ce que je propose à l'épicerie ","                         Ce que je propose à l'épicerie ","                         Ce que je propose à l'épicerie ","                         Ce que je propose à l'épicerie ","                         Ce que je propose à l'épicerie ","                         Ce que je propose à l'épicerie ","                         Ce que je propose à l'épicerie ","                         Ce que je propose à l'épicerie ","                         Ce que je propose à l'épicerie ","                         Ce que je propose à l'épicerie ","                         Ce que je propose à l'épicerie ","                         Ce que je propose à l'épicerie ","                         Ce que je propose à l'épicerie ","                         Ce que je propose à l'épicerie ","                         Ce que je propose à l'épicerie ","                         Ce que je propose à l'épicerie ","                         Ce que je propose à l'épicerie ","                         Ce que je propose à l'épicerie ","                         Ce que je propose à l'épicerie ","                         Ce que je propose à l'épicerie ","                         Ce que je propose à l'épicerie ","                         Ce que je propose à l'épicerie ","                         Ce que je propose à l'épicerie ","                         Ce que je propose à l'épicerie ","                         Ce que je propose à l'épicerie ","                         Ce que je propose à l'épicerie ","                         Ce que je propose à l'épicerie ","                         Ce que je propose à l'épicerie ","                         Ce que je propose à l'épicerie ","                         Ce que je propose à l'épicerie ","                         Ce que je propose à l'épicerie ","                         Ce que je propose à l'épicerie ","                         Ce que je propose à l'épicerie ","                         Ce que je propose à l'épicerie ","                         Ce que je propose à l'épicerie ","                         Ce que je propose à l'épicerie ","                         Ce que je propose à l'épicerie ","                         Ce que je propose à l'épicerie ","                         Ce que je propose à l'épicerie ","                         Ce que je propose à l'épicerie ","                         Ce que je propose à l'épicerie ","                         Ce que je propose à l'épicerie ","                         Ce que je propose à l'épicerie ","                         Ce que je propose à l'épicerie ","                         Ce que je propose à l'épicerie ","                         Ce que je propose à l'épicerie ","                         Ce que je propose à l'épicerie ","                         Ce que je propose à l'épicerie ","                         Ce que je propose à l'épicerie ","                         Ce que je propose à l'épicerie ","                         Ce que je propose à l'épicerie ","                         Ce que je propose à l'épicerie ","                         Ce que je propose à l'épicerie ","                         Ce que je propose à l'épicerie ","                         Ce que je propose à l'épicerie ","                         Ce que je propose à l'épicerie ","                         Ce que je propose à l'épicerie ","                         Ce que je propose à l'épicerie ","                         Ce que je propose à l'épicerie ","                         Ce que je propose à l'épicerie ","                         Ce que je propose à l'épicerie ","                         Ce que je propose à l'épicerie ","                         Ce que je propose à l'épicerie ","                         Ce que je propose à l'épicerie ","                         Ce que je propose à l'épicerie ","                         Ce que je propose à l'épicerie ","                         Ce que je propose à l'épicerie ","                         Ce que je propose à l'épicerie ","                         Ce que je propose à l'épicerie ","                         Ce que je propose à l'épicerie ","                         Ce que je propose à l'épicerie ","                         Ce que je propose à l'épicerie ","                         Ce que je propose à l'épicerie ","                         Ce que je propose à l'épicerie ","                         Ce que je propose à l'épicerie ","                         Ce que je propose à l'épicerie ","                         Ce que je propose à l'épicerie ","                         Ce que je propose à l'épicerie ","                         Ce que je propose à l'épicerie ","                         Ce que je propose à l'épicerie ","                         Ce que je propose à l'épicerie ","                         Ce que je propose à l'épicerie ","                         Ce que je propose à l'épicerie ","                         Ce que je propose à l'épicerie ","                         Ce que je propose à l'épicerie ","                         Ce que je propose à l'épicerie ","                         Ce que je propose à l'épicerie ","                         Ce que je propose à l'épicerie ","                         Ce que je propose à l'épicerie ","                         Ce que je propose à l'épicerie ","                         Ce que je propose à l'épicerie ","                         Ce que je propose à l'épicerie ","                         Ce que je propose à l'épicerie ","                         Ce que je propose à l'épicerie ","                         Ce que je propose à l'épicerie ","                         Ce que je propose à l'épicerie ","                         Ce que je propose à l'épicerie ","                         Ce que je propose à l'épicerie ","                         Ce que je propose à l'épicerie ","                         Ce que je propose à l'épicerie ","                         Ce que je propose à l'épicerie ","                         Ce que je propose à l'épicerie ","                         Ce que je propose à l'épicerie ","                         Ce que je propose à l'épicerie ","                         Ce que je propose à l'épicerie ","                         Ce que je propose à l'épicerie ","                         Ce que je propose à l'épicerie ","                         Ce que je propose à l'épicerie ","                         Ce que je propose à l'épicerie ","                         Ce que je propose à l'épicerie ","                         Ce que je propose à l'épicerie ","                         Ce que je propose à l'épicerie ","                         Ce que je propose à l'épicerie ","                         Ce que je propose à l'épicerie ","                         Ce que je propose à l'épicerie ","                         Ce que je propose à l'épicerie ","                         Ce que je propose à l'épicerie ","                         Ce que je propose à l'épicerie ","                         Ce que je propose à l'épicerie ","                         Ce que je propose à l'épicerie ","                         Ce que je propose à l'épicerie ","                         Ce que je propose à l'épicerie ","                         Ce que je propose à l'épicerie ","                         Ce que je propose à l'épicerie ","                         Ce que je propose à l'épicerie ","                         Ce que je propose à l'épicerie ","                         Ce que je propose à l'épicerie ","                         Ce que je propose à l'épicerie ","                         Ce que je propose à l'épicerie ","                         Ce que je propose à l'épicerie ","                         Ce que je propose à l'épicerie ","                         Ce que je propose à l'épicerie ","                         Ce que je propose à l'épicerie ","                         Ce que je propose à l'épicerie ","                         Ce que je propose à l'épicerie ","                         Ce que je propose à l'épicerie ","                         Ce que je propose à l'épicerie ","                         Ce que je propose à l'épicerie ","                         Ce que je propose à l'épicerie ","                         Ce que je propose à l'épicerie ","                         Ce que je propose à l'épicerie ","                         Ce que je propose à l'épicerie ","                         Ce que je propose à l'épicerie ","                         Ce que je propose à l'épicerie ","                         Ce que je propose à l'épicerie ","                         Ce que je propose à l'épicerie ","                         Ce que je propose à l'épicerie ","                         Ce que je propose à l'épicerie ","                         Ce que je propose à l'épicerie ","                         Ce que je propose à l'épicerie ","                         Ce que je propose à l'épicerie ","                         Ce que je propose à l'épicerie ","                         Ce que je propose à l'épicerie ","                         Ce que je propose à l'épicerie ","                         Ce que je propose à l'épicerie ","                         Ce que je propose à l'épicerie ","                         Ce que je propose à l'épicerie ","                         Ce que je propose à l'épicerie ","                         Ce que je propose à l'épicerie ","                         Ce que je propose à l'épicerie ","                         Ce que je propose à l'épicerie ","                         Ce que je propose à l'épicerie ","                         Ce que je propose à l'épicerie ","                         Ce que je propose à l'épicerie ","                         Ce que je propose à l'épicerie ","                         Ce que je propose à l'épicerie ","                         Ce que je propose à l'épicerie ","                         Ce que je propose à l'épicerie ","                         Ce que je propose à l'épicerie ","                         Ce que je propose à l'épicerie ","                         Ce que je propose à l'épicerie ","                         Ce que je propose à l'épicerie ","                         Ce que je propose à l'épicerie ","                         Ce que je propose à l'épicerie ","                         Ce que je propose à l'épicerie ","                         Ce que je propose à l'épicerie ","                         Ce que je propose à l'épicerie ","                         Ce que je propose à l'épicerie ","                         Ce que je propose à l'épicerie ","                         Ce que je propose à l'épicerie ","                         Ce que je propose à l'épicerie ","                         Ce que je propose à l'épicerie ","                         Ce que je propose à l'épicerie ","                         Ce que je propose à l'épicerie ","                         Ce que je propose à l'épicerie ","                         Ce que je propose à l'épicerie ","                         Ce que je propose à l'épicerie ","                         Ce que je propose à l'épicerie ","                         Ce que je propose à l'épicerie ","                         Ce que je propose à l'épicerie ","                         Ce que je propose à l'épicerie ","                         Ce que je propose à l'épicerie ","                         Ce que je propose à l'épicerie ","                         Ce que je propose à l'épicerie ","                         Ce que je propose à l'épicerie ","                         Ce que je propose à l'épicerie ","                         Ce que je propose à l'épicerie ","                         Ce que je propose à l'épicerie ","                         Ce que je propose à l'épicerie ","                         Ce que je propose à l'épicerie ","                         Ce que je propose à l'épicerie ","                         Ce que je propose à l'épicerie ","                         Ce que je propose à l'épicerie ","                         Ce que je propose à l'épicerie ","                         Ce que je propose à l'épicerie ","                         Ce que je propose à l'épicerie ","                         Ce que je propose à l'épicerie ","                         Ce que je propose à l'épicerie ","                         Ce que je propose à l'épicerie ","                         Ce que je propose à l'épicerie ","                         Ce que je propose à l'épicerie ","                         Ce que je propose à l'épicerie ","                         Ce que je propose à l'épicerie ","                         Ce que je propose à l'épicerie ","                         Ce que je propose à l'épicerie ","                         Ce que je propose à l'épicerie ","                         Ce que je propose à l'épicerie ","                         Ce que je propose à l'épicerie ","                         Ce que je propose à l'épicerie ","                         Ce que je propose à l'épicerie ","                         Ce que je propose à l'épicerie ","                         Ce que je propose à l'épicerie ","                         Ce que je propose à l'épicerie ","                         Ce que je propose à l'épicerie ","                         Ce que je propose à l'épicerie ","                         Ce que je propose à l'épicerie ","                         Ce que je propose à l'épicerie ","                         Ce que je propose à l'épicerie ","                         Ce que je propose à l'épicerie ","                         Ce que je propose à l'épicerie ","                         Ce que je propose à l'épicerie ","                         Ce que je propose à l'épicerie ","                         Ce que je propose à l'épicerie ","                         Ce que je propose à l'épicerie ","                         Ce que je propose à l'épicerie ","                         Ce que je propose à l'épicerie ","                         Ce que je propose à l'épicerie ","                         Ce que je propose à l'épicerie ","                         Ce que je propose à l'épicerie ","                         Ce que je propose à l'épicerie ","                         Ce que je propose à l'épicerie ","                         Ce que je propose à l'épicerie ","                         Ce que je propose à l'épicerie ","                         Ce que je propose à l'épicerie ","                         Ce que je propose à l'épicerie ","                         Ce que je propose à l'épicerie ","                         Ce que je propose à l'épicerie ","                         Ce que je propose à l'épicerie ","                         Ce que je propose à l'épicerie ","                         Ce que je propose à l'épicerie ","                         Ce que je propose à l'épicerie ","                         Ce que je propose à l'épicerie ","                         Ce que je propose à l'épicerie ","                         Ce que je propose à l'épicerie ","                         Ce que je propose à l'épicerie ","                         Ce que je propose à l'épicerie ","                         Ce que je propose à l'épicerie ","                         Ce que je propose à l'épicerie ","                         Ce que je propose à l'épicerie ","                         Ce que je propose à l'épicerie ","                         Ce que je propose à l'épicerie ","                         Ce que je propose à l'épicerie ","                         Ce que je propose à l'épicerie ","                         Ce que je propose à l'épicerie ","                         Ce que je propose à l'épicerie ","                         Ce que je propose à l'épicerie ","                         Ce que je propose à l'épicerie ","                         Ce que je propose à l'épicerie ","                         Ce que je propose à l'épicerie ","                         Ce que je propose à l'épicerie ","                         Ce que je propose à l'épicerie ","                         Ce que je propose à l'épicerie ","                         Ce que je propose à l'épicerie ","                         Ce que je propose à l'épicerie ","                         Ce que je propose à l'épicerie ","                         Ce que je propose à l'épicerie ","                         Ce que je propose à l'épicerie ","                         Ce que je propose à l'épicerie ","                         Ce que je propose à l'épicerie ","                         Ce que je propose à l'épicerie ","                         Ce que je propose à l'épicerie ","                         Ce que je propose à l'épicerie ","                         Ce que je propose à l'épicerie ","                         Ce que je propose à l'épicerie ","                         Ce que je propose à l'épicerie ","                         Ce que je propose à l'épicerie ","                         Ce que je propose à l'épicerie ","                         Ce que je propose à l'épicerie ","                         Ce que je propose à l'épicerie ","                         Ce que je propose à l'épicerie ","                         Ce que je propose à l'épicerie ","                         Ce que je propose à l'épicerie ","                         Ce que je propose à l'épicerie ","                         Ce que je propose à l'épicerie ","                         Ce que je propose à l'épicerie ","                         Ce que je propose à l'épicerie ","                         Ce que je propose à l'épicerie ","                         Ce que je propose à l'épicerie ","                         Ce que je propose à l'épicerie ","                         Ce que je propose à l'épicerie ","                         Ce que je propose à l'épicerie ","                         Ce que je propose à l'épicerie ","                         Ce que je propose à l'épicerie ","                         Ce que je propose à l'épicerie ","                         Ce que je propose à l'épicerie ","                         Ce que je propose à l'épicerie ","                         Ce que je propose à l'épicerie ","                         Ce que je propose à l'épicerie ","                         Ce que je propose à l'épicerie ","                         Ce que je propose à l'épicerie ","                         Ce que je propose à l'épicerie ","                         Ce que je propose à l'épicerie ","                         Ce que je propose à l'épicerie ","                         Ce que je propose à l'épicerie ","                         Ce que je propose à l'épicerie ","                         Ce que je propose à l'épicerie ","                         Ce que je propose à l'épicerie ","                         Ce que je propose à l'épicerie ","                         Ce que je propose à l'épicerie ","                         Ce que je propose à l'épicerie ","                         Ce que je propose à l'épicerie ","                         Ce que je propose à l'épicerie ","                         Ce que je propose à l'épicerie ","                         Ce que je propose à l'épicerie ","                         Ce que je propose à l'épicerie ","                         Ce que je propose à l'épicerie ","                         Ce que je propose à l'épicerie ","                         Ce que je propose à l'épicerie ","                         Ce que je propose à l'épicerie ","                         Ce que je propose à l'épicerie ","                         Ce que je propose à l'épicerie ","                         Ce que je propose à l'épicerie ","                         Ce que je propose à l'épicerie ","                         Ce que je propose à l'épicerie ","                         Ce que je propose à l'épicerie ","                         Ce que je propose à l'épicerie ","                         Ce que je propose à l'épicerie ","                         Ce que je propose à l'épicerie ","                         Ce que je propose à l'épicerie ","                         Ce que je propose à l'épicerie ","                         Ce que je propose à l'épicerie ","                         Ce que je propose à l'épicerie ","                         Ce que je propose à l'épicerie ","                         Ce que je propose à l'épicerie ","                         Ce que je propose à l'épicerie ","                         Ce que je propose à l'épicerie ","                         Ce que je propose à l'épicerie ","                         Ce que je propose à l'épicerie ","                         Ce que je propose à l'épicerie ","                         Ce que je propose à l'épicerie ","                         Ce que je propose à l'épicerie ","                         Ce que je propose à l'épicerie ","                         Ce que je propose à l'épicerie ","                         Ce que je propose à l'épicerie ","                         Ce que je propose à l'épicerie ","                         Ce que je propose à l'épicerie ","                         Ce que je propose à l'épicerie ","                         Ce que je propose à l'épicerie ","                         Ce que je propose à l'épicerie ","                         Ce que je propose à l'épicerie ","                         Ce que je propose à l'épicerie ","                         Ce que je propose à l'épicerie ","                         Ce que je propose à l'épicerie ","                         Ce que je propose à l'épicerie ","                         Ce que je propose à l'épicerie ","                         Ce que je propose à l'épicerie ","                         Ce que je propose à l'épicerie ","                         Ce que je propose à l'épicerie ","                         Ce que je propose à l'épicerie ","                         Ce que je propose à l'épicerie ","                         Ce que je propose à l'épicerie ","                         Ce que je propose à l'épicerie ","                         Ce que je propose à l'épicerie ","                         Ce que je propose à l'épicerie ","                         Ce que je propose à l'épicerie ","                         Ce que je propose à l'épicerie ","                         Ce que je propose à l'épicerie ","                         Ce que je propose à l'épicerie ","                         Ce que je propose à l'épicerie ","                         Ce que je propose à l'épicerie ","                         Ce que je propose à l'épicerie ","                         Ce que je propose à l'épicerie ","                         Ce que je propose à l'épicerie ","                         Ce que je propose à l'épicerie ","                         Ce que je propose à l'épicerie ","                         Ce que je propose à l'épicerie ","                         Ce que je propose à l'épicerie ","                         Ce que je propose à l'épicerie ","                         Ce que je propose à l'épicerie ","                         Ce que je propose à l'épicerie ","                         Ce que je propose à l'épicerie ","                         Ce que je propose à l'épicerie ","                         Ce que je propose à l'épicerie ","                         Ce que je propose à l'épicerie ","                         Ce que je propose à l'épicerie ","                         Ce que je propose à l'épicerie ","                         Ce que je propose à l'épicerie ","                         Ce que je propose à l'épicerie ","                         Ce que je propose à l'épicerie ","                         Ce que je propose à l'épicerie ","                         Ce que je propose à l'épicerie ","                         Ce que je propose à l'épicerie ","                         Ce que je propose à l'épicerie ","                         Ce que je propose à l'épicerie ","                         Ce que je propose à l'épicerie ","                         Ce que je propose à l'épicerie ","                         Ce que je propose à l'épicerie ","                         Ce que je propose à l'épicerie ","                         Ce que je propose à l'épicerie ","                         Ce que je propose à l'épicerie ","                         Ce que je propose à l'épicerie ","                         Ce que je propose à l'épicerie ","                         Ce que je propose à l'épicerie ","                         Ce que je propose à l'épicerie ","                         Ce que je propose à l'épicerie ","                         Ce que je propose à l'épicerie ","                         Ce que je propose à l'épicerie ","                         Ce que je propose à l'épicerie ","                         Ce que je propose à l'épicerie ","                         Ce que je propose à l'épicerie ","                         Ce que je propose à l'épicerie ","                         Ce que je propose à l'épicerie ","                         Ce que je propose à l'épicerie ","                         Ce que je propose à l'épicerie ","                         Ce que je propose à l'épicerie ","                         Ce que je propose à l'épicerie ","                         Ce que je propose à l'épicerie ","                         Ce que je propose à l'épicerie ","                         Ce que je propose à l'épicerie ","                         Ce que je propose à l'épicerie ","                         Ce que je propose à l'épicerie ","                         Ce que je propose à l'épicerie ","                         Ce que je propose à l'épicerie ","                         Ce que je propose à l'épicerie ","                         Ce que je propose à l'épicerie ","                         Ce que je propose à l'épicerie ","                         Ce que je propose à l'épicerie ","                         Ce que je propose à l'épicerie ","                         Ce que je propose à l'épicerie ","                         Ce que je propose à l'épicerie ","                         Ce que je propose à l'épicerie ","                         Ce que je propose à l'épicerie ","                         Ce que je propose à l'épicerie ","                         Ce que je propose à l'épicerie ","                         Ce que je propose à l'épicerie ","                         Ce que je propose à l'épicerie ","                         Ce que je propose à l'épicerie ","                         Ce que je propose à l'épicerie ","                         Ce que je propose à l'épicerie ","                         Ce que je propose à l'épicerie ","                         Ce que je propose à l'épicerie ","                         Ce que je propose à l'épicerie ","                         Ce que je propose à l'épicerie ","                         Ce que je propose à l'épicerie ","                         Ce que je propose à l'épicerie ","                         Ce que je propose à l'épicerie ","                         Ce que je propose à l'épicerie ","                         Ce que je propose à l'épicerie ","                         Ce que je propose à l'épicerie ","                         Ce que je propose à l'épicerie ","                         Ce que je propose à l'épicerie ","                         Ce que je propose à l'épicerie ","                         Ce que je propose à l'épicerie ","                         Ce que je propose à l'épicerie ","                         Ce que je propose à l'épicerie ","                         Ce que je propose à l'épicerie ","                         Ce que je propose à l'épicerie ","                         Ce que je propose à l'épicerie ","                         Ce que je propose à l'épicerie ","                         Ce que je propose à l'épicerie ","                         Ce que je propose à l'épicerie ","                         Ce que je propose à l'épicerie ","                         Ce que je propose à l'épicerie ","                         Ce que je propose à l'épicerie ","                         Ce que je propose à l'épicerie ","                         Ce que je propose à l'épicerie ","                         Ce que je propose à l'épicerie ","                         Ce que je propose à l'épicerie ","                         Ce que je propose à l'épicerie ","                         Ce que je propose à l'épicerie ","                         Ce que je propose à l'épicerie ","                         Ce que je propose à l'épicerie ","                         Ce que je propose à l'épicerie ","                         Ce que je propose à l'épicerie ","                         Ce que je propose à l'épicerie ","                         Ce que je propose à l'épicerie ","                         Ce que je propose à l'épicerie ","                         Ce que je propose à l'épicerie ","                         Ce que je propose à l'épicerie ","                         Ce que je propose à l'épicerie ","                         Ce que je propose à l'épicerie ","                         Ce que je propose à l'épicerie ","                         Ce que je propose à l'épicerie ","                         Ce que je propose à l'épicerie ","                         Ce que je propose à l'épicerie ","                         Ce que je propose à l'épicerie ","                         Ce que je propose à l'épicerie ","                         Ce que je propose à l'épicerie ","                         Ce que je propose à l'épicerie ","                         Ce que je propose à l'épicerie ","                         Ce que je propose à l'épicerie ","                         Ce que je propose à l'épicerie ","                         Ce que je propose à l'épicerie ","                         Ce que je propose à l'épicerie ","                         Ce que je propose à l'épicerie ","                         Ce que je propose à l'épicerie ","                         Ce que je propose à l'épicerie ","                         Ce que je propose à l'épicerie ","                         Ce que je propose à l'épicerie ","                         Ce que je propose à l'épicerie ","                         Ce que je propose à l'épicerie ","                         Ce que je propose à l'épicerie ","                         Ce que je propose à l'épicerie ","                         Ce que je propose à l'épicerie ","                         Ce que je propose à l'épicerie ","                         Ce que je propose à l'épicerie ","                         Ce que je propose à l'épicerie ","                         Ce que je propose à l'épicerie ","                         Ce que je propose à l'épicerie ","                         Ce que je propose à l'épicerie ","                         Ce que je propose à l'épicerie ","                         Ce que je propose à l'épicerie ","                         Ce que je propose à l'épicerie ","                         Ce que je propose à l'épicerie ","                         Ce que je propose à l'épicerie ","                         Ce que je propose à l'épicerie ","                         Ce que je propose à l'épicerie ","                         Ce que je propose à l'épicerie ","                         Ce que je propose à l'épicerie ","                         Ce que je propose à l'épicerie ","                         Ce que je propose à l'épicerie ","                         Ce que je propose à l'épicerie ","                         Ce que je propose à l'épicerie ","                         Ce que je propose à l'épicerie ","                         Ce que je propose à l'épicerie ","                         Ce que je propose à l'épicerie ","                         Ce que je propose à l'épicerie ","                         Ce que je propose à l'épicerie ","                         Ce que je propose à l'épicerie ","                         Ce que je propose à l'épicerie ","                         Ce que je propose à l'épicerie ","                         Ce que je propose à l'épicerie ","                         Ce que je propose à l'épicerie ","                         Ce que je propose à l'épicerie ","                         Ce que je propose à l'épicerie ","                         Ce que je propose à l'épicerie ","                         Ce que je propose à l'épicerie ","                         Ce que je propose à l'épicerie ","                         Ce que je propose à l'épicerie ","                         Ce que je propose à l'épicerie ","                         Ce que je propose à l'épicerie ","                         Ce que je propose à l'épicerie ","                         Ce que je propose à l'épicerie ","                         Ce que je propose à l'épicerie ","                         Ce que je propose à l'épicerie ","                         Ce que je propose à l'épicerie ","                         Ce que je propose à l'épicerie ","                         Ce que je propose à l'épicerie ","                         Ce que je propose à l'épicerie ","                         Ce que je propose à l'épicerie ","                         Ce que je propose à l'épicerie ","                         Ce que je propose à l'épicerie ","                         Ce que je propose à l'épicerie ","                         Ce que je propose à l'épicerie ","                         Ce que je propose à l'épicerie ","                         Ce que je propose à l'épicerie ","                         Ce que je propose à l'épicerie ","                         Ce que je propose à l'épicerie ","                         Ce que je propose à l'épicerie ","                         Ce que je propose à l'épicerie ","                         Ce que je propose à l'épicerie ","                         Ce que je propose à l'épicerie ","                         Ce que je propose à l'épicerie ","                         Ce que je propose à l'épicerie ","                         Ce que je propose à l'épicerie ","                         Ce que je propose à l'épicerie ","                         Ce que je propose à l'épicerie ","                         Ce que je propose à l'épicerie ","                         Ce que je propose à l'épicerie ","                         Ce que je propose à l'épicerie ","                         Ce que je propose à l'épicerie ","                         Ce que je propose à l'épicerie ","                         Ce que je propose à l'épicerie ","                         Ce que je propose à l'épicerie ","                         Ce que je propose à l'épicerie ","                         Ce que je propose à l'épicerie ","                         Ce que je propose à l'épicerie ","                         Ce que je propose à l'épicerie ","                         Ce que je propose à l'épicerie ","                         Ce que je propose à l'épicerie ","                         Ce que je propose à l'épicerie ","                         Ce que je propose à l'épicerie ","                         Ce que je propose à l'épicerie ","                         Ce que je propose à l'épicerie ","                         Ce que je propose à l'épicerie ","                         Ce que je propose à l'épicerie ","                         Ce que je propose à l'épicerie ","                         Ce que je propose à l'épicerie ","                         Ce que je propose à l'épicerie ","                         Ce que je propose à l'épicerie ","                         Ce que je propose à l'épicerie ","                         Ce que je propose à l'épicerie ","                         Ce que je propose à l'épicerie ","                         Ce que je propose à l'épicerie ","                         Ce que je propose à l'épicerie ","                         Ce que je propose à l'épicerie ","                         Ce que je propose à l'épicerie ","                         Ce que je propose à l'épicerie ","                         Ce que je propose à l'épicerie ","                         Ce que je propose à l'épicerie ","                         Ce que je propose à l'épicerie ","                         Ce que je propose à l'épicerie ","                         Ce que je propose à l'épicerie ","                         Ce que je propose à l'épicerie ","                         Ce que je propose à l'épicerie ","                         Ce que je propose à l'épicerie ","                         Ce que je propose à l'épicerie ","                         Ce que je propose à l'épicerie ","                         Ce que je propose à l'épicerie ","                         Ce que je propose à l'épicerie ","                         Ce que je propose à l'épicerie ","                         Ce que je propose à l'épicerie ","                         Ce que je propose à l'épicerie ","                         Ce que je propose à l'épicerie ","                         Ce que je propose à l'épicerie ","                         Ce que je propose à l'épicerie ","                         Ce que je propose à l'épicerie ","                         Ce que je propose à l'épicerie ","                         Ce que je propose à l'épicerie ","                         Ce que je propose à l'épicerie ","                         Ce que je propose à l'épicerie ","                         Ce que je propose à l'épicerie ","                         Ce que je propose à l'épicerie ","                         Ce que je propose à l'épicerie ","                         Ce que je propose à l'épicerie ","                         Ce que je propose à l'épicerie ","                         Ce que je propose à l'épicerie ","                         Ce que je propose à l'épicerie ","                         Ce que je propose à l'épicerie ","                         Ce que je propose à l'épicerie ","                         Ce que je propose à l'épicerie ","                         Ce que je propose à l'épicerie ","                         Ce que je propose à l'épicerie ","                         Ce que je propose à l'épicerie ","                         Ce que je propose à l'épicerie ","                         Ce que je propose à l'épicerie ","                         Ce que je propose à l'épicerie ","                         Ce que je propose à l'épicerie ","                         Ce que je propose à l'épicerie ","                         Ce que je propose à l'épicerie ","                         Ce que je propose à l'épicerie ","                         Ce que je propose à l'épicerie ","                         Ce que je propose à l'épicerie ","                         Ce que je propose à l'épicerie ","                         Ce que je propose à l'épicerie ","                         Ce que je propose à l'épicerie ","                         Ce que je propose à l'épicerie ","                         Ce que je propose à l'épicerie ","                         Ce que je propose à l'épicerie ","                         Ce que je propose à l'épicerie ","                         Ce que je propose à l'épicerie ","                         Ce que je propose à l'épicerie ","                         Ce que je propose à l'épicerie ","                         Ce que je propose à l'épicerie ","                         Ce que je propose à l'épicerie ","                         Ce que je propose à l'épicerie ","                         Ce que je propose à l'épicerie ","                         Ce que je propose à l'épicerie ","                         Ce que je propose à l'épicerie ","                         Ce que je propose à l'épicerie ","                         Ce que je propose à l'épicerie ","                         Ce que je propose à l'épicerie ","                         Ce que je propose à l'épicerie ","                         Ce que je propose à l'épicerie ","                         Ce que je propose à l'épicerie ","                         Ce que je propose à l'épicerie ","                         Ce que je propose à l'épicerie ","                         Ce que je propose à l'épicerie ","                         Ce que je propose à l'épicerie ","                         Ce que je propose à l'épicerie ","                         Ce que je propose à l'épicerie ","                         Ce que je propose à l'épicerie ","                         Ce que je propose à l'épicerie ","                         Ce que je propose à l'épicerie ","                         Ce que je propose à l'épicerie ","                         Ce que je propose à l'épicerie ","                         Ce que je propose à l'épicerie ","                         Ce que je propose à l'épicerie ","                         Ce que je propose à l'épicerie ","                         Ce que je propose à l'épicerie ","                         Ce que je propose à l'épicerie ","                         Ce que je propose à l'épicerie ","                         Ce que je propose à l'épicerie ","                         Ce que je propose à l'épicerie ","                         Ce que je propose à l'épicerie ","                         Ce que je propose à l'épicerie ","                         Ce que je propose à l'épicerie ","                         Ce que je propose à l'épicerie ","                         Ce que je propose à l'épicerie ","                         Ce que je propose à l'épicerie ","                         Ce que je propose à l'épicerie ","                         Ce que je propose à l'épicerie ","                         Ce que je propose à l'épicerie ","                         Ce que je propose à l'épicerie ","                         Ce que je propose à l'épicerie ","                         Ce que je propose à l'épicerie ","                         Ce que je propose à l'épicerie ","                         Ce que je propose à l'épicerie ","                         Ce que je propose à l'épicerie ","                         Ce que je propose à l'épicerie ","                         Ce que je propose à l'épicerie ","                         Ce que je propose à l'épicerie ","                         Ce que je propose à l'épicerie ","                         Ce que je propose à l'épicerie ","                         Ce que je propose à l'épicerie ","                         Ce que je propose à l'épicerie ","                         Ce que je propose à l'épicerie ","                         Ce que je propose à l'épicerie ","                         Ce que je propose à l'épicerie ","                         Ce que je propose à l'épicerie ","                         Ce que je propose à l'épicerie ","                         Ce que je propose à l'épicerie ","                         Ce que je propose à l'épicerie ","                         Ce que je propose à l'épicerie ","                         Ce que je propose à l'épicerie ","                         Ce que je propose à l'épicerie ","                         Ce que je propose à l'épicerie ","                         Ce que je propose à l'épicerie ","                         Ce que je propose à l'épicerie ","                         Ce que je propose à l'épicerie ","                         Ce que je propose à l'épicerie ","                         Ce que je propose à l'épicerie ","                         Ce que je propose à l'épicerie ","                         Ce que je propose à l'épicerie ","                         Ce que je propose à l'épicerie ","                         Ce que je propose à l'épicerie ","                         Ce que je propose à l'épicerie ","                         Ce que je propose à l'épicerie ","                         Ce que je propose à l'épicerie ","                         Ce que je propose à l'épicerie ","                         Ce que je propose à l'épicerie ","                         Ce que je propose à l'épicerie ","                         Ce que je propose à l'épicerie ","                         Ce que je propose à l'épicerie ","                         Ce que je propose à l'épicerie ","                         Ce que je propose à l'épicerie ","                         Ce que je propose à l'épicerie ","                         Ce que je propose à l'épicerie ","                         Ce que je propose à l'épicerie ","                         Ce que je propose à l'épicerie ","                         Ce que je propose à l'épicerie ","                         Ce que je propose à l'épicerie ","                         Ce que je propose à l'épicerie ","                         Ce que je propose à l'épicerie ","                         Ce que je propose à l'épicerie ","                         Ce que je propose à l'épicerie ","                         Ce que je propose à l'épicerie ","                         Ce que je propose à l'épicerie ","                         Ce que je propose à l'épicerie ","                         Ce que je propose à l'épicerie ","                         Ce que je propose à l'épicerie ","                         Ce que je propose à l'épicerie ","                         Ce que je propose à l'épicerie ","                         Ce que je propose à l'épicerie ","                         Ce que je propose à l'épicerie ","                         Ce que je propose à l'épicerie ","                         Ce que je propose à l'épicerie ","                         Ce que je propose à l'épicerie ","                         Ce que je propose à l'épicerie ","                         Ce que je propose à l'épicerie ","                         Ce que je propose à l'épicerie ","                         Ce que je propose à l'épicerie ","                         Ce que je propose à l'épicerie ","                         Ce que je propose à l'épicerie ","                         Ce que je propose à l'épicerie ","                         Ce que je propose à l'épicerie ","                         Ce que je propose à l'épicerie ","                         Ce que je propose à l'épicerie ","                         Ce que je propose à l'épicerie ","                         Ce que je propose à l'épicerie ","                         Ce que je propose à l'épicerie ","                         Ce que je propose à l'épicerie ","                         Ce que je propose à l'épicerie ","                         Ce que je propose à l'épicerie ","                         Ce que je propose à l'épicerie ","                         Ce que je propose à l'épicerie ","                         Ce que je propose à l'épicerie ","                         Ce que je propose à l'épicerie ","                         Ce que je propose à l'épicerie ","                         Ce que je propose à l'épicerie ","                         Ce que je propose à l'épicerie ","                         Ce que je propose à l'épicerie ","                         Ce que je propose à l'épicerie ","                         Ce que je propose à l'épicerie ","                         Ce que je propose à l'épicerie ","                         Ce que je propose à l'épicerie ","                         Ce que je propose à l'épicerie ","                         Ce que je propose à l'épicerie ","                         Ce que je propose à l'épicerie ","                         Ce que je propose à l'épicerie ","                         Ce que je propose à l'épicerie ","                         Ce que je propose à l'épicerie ","                         Ce que je propose à l'épicerie ","                         Ce que je propose à l'épicerie ","                         Ce que je propose à l'épicerie ","                         Ce que je propose à l'épicerie ","                         Ce que je propose à l'épicerie ","                         Ce que je propose à l'épicerie ","                         Ce que je propose à l'épicerie ","                         Ce que je propose à l'épicerie ","                         Ce que je propose à l'épicerie ","                         Ce que je propose à l'épicerie ","                         Ce que je propose à l'épicerie ","                         Ce que je propose à l'épicerie ","                         Ce que je propose à l'épicerie ","                         Ce que je propose à l'épicerie ","                         Ce que je propose à l'épicerie ","                         Ce que je propose à l'épicerie ","                         Ce que je propose à l'épicerie ","                         Ce que je propose à l'épicerie ","                         Ce que je propose à l'épicerie ","                         Ce que je propose à l'épicerie ","                         Ce que je propose à l'épicerie ","                         Ce que je propose à l'épicerie ","                         Ce que je propose à l'épicerie ","                         Ce que je propose à l'épicerie ","                         Ce que je propose à l'épicerie ","                         Ce que je propose à l'épicerie ","                         Ce que je propose à l'épicerie ","                         Ce que je propose à l'épicerie ","                         Ce que je propose à l'épicerie ","                         Ce que je propose à l'épicerie ","                         Ce que je propose à l'épicerie ","                         Ce que je propose à l'épicerie ","                         Ce que je propose à l'épicerie ","                         Ce que je propose à l'épicerie ","                         Ce que je propose à l'épicerie ","                         Ce que je propose à l'épicerie ","                         Ce que je propose à l'épicerie ","                         Ce que je propose à l'épicerie ","                         Ce que je propose à l'épicerie ","                         Ce que je propose à l'épicerie ","                         Ce que je propose à l'épicerie ","                         Ce que je propose à l'épicerie ","                         Ce que je propose à l'épicerie ","                         Ce que je propose à l'épicerie ","                         Ce que je propose à l'épicerie ","                         Ce que je propose à l'épicerie ","                         Ce que je propose à l'épicerie ","                         Ce que je propose à l'épicerie ","                         Ce que je propose à l'épicerie ","                         Ce que je propose à l'épicerie ","                         Ce que je propose à l'épicerie ","                         Ce que je propose à l'épicerie ","                         Ce que je propose à l'épicerie ","                         Ce que je propose à l'épicerie ","                         Ce que je propose à l'épicerie ","                         Ce que je propose à l'épicerie ","                         Ce que je propose à l'épicerie ","                         Ce que je propose à l'épicerie ","                         Ce que je propose à l'épicerie ","                         Ce que je propose à l'épicerie ","                         Ce que je propose à l'épicerie ","                         Ce que je propose à l'épicerie ","                         Ce que je propose à l'épicerie ","                         Ce que je propose à l'épicerie ","                         Ce que je propose à l'épicerie ","                         Ce que je propose à l'épicerie ","                         Ce que je propose à l'épicerie ","                         Ce que je propose à l'épicerie ","                         Ce que je propose à l'épicerie ","                         Ce que je propose à l'épicerie ","                         Ce que je propose à l'épicerie ","                         Ce que je propose à l'épicerie ","                         Ce que je propose à l'épicerie ","                         Ce que je propose à l'épicerie ","                         Ce que je propose à l'épicerie ","                         Ce que je propose à l'épicerie ","                         Ce que je propose à l'épicerie ","                         Ce que je propose à l'épicerie ","                         Ce que je propose à l'épicerie ","                         Ce que je propose à l'épicerie ","                         Ce que je propose à l'épicerie ","                         Ce que je propose à l'épicerie ","                         Ce que je propose à l'épicerie ","                         Ce que je propose à l'épicerie ","                         Ce que je propose à l'épicerie ","                         Ce que je propose à l'épicerie ","                         Ce que je propose à l'épicerie ","                         Ce que je propose à l'épicerie ","                         Ce que je propose à l'épicerie ","                         Ce que je propose à l'épicerie ","                         Ce que je propose à l'épicerie ","                         Ce que je propose à l'épicerie ","                         Ce que je propose à l'épicerie ","                         Ce que je propose à l'épicerie ","                         Ce que je propose à l'épicerie ","                         Ce que je propose à l'épicerie ","                         Ce que je propose à l'épicerie ","                         Ce que je propose à l'épicerie ","                         Ce que je propose à l'épicerie ","                         Ce que je propose à l'épicerie ","                         Ce que je propose à l'épicerie ","                         Ce que je propose à l'épicerie ","                         Ce que je propose à l'épicerie ","                         Ce que je propose à l'épicerie ","                         Ce que je propose à l'épicerie ","                         Ce que je propose à l'épicerie ","                         Ce que je propose à l'épicerie ","                         Ce que je propose à l'épicerie ","                         Ce que je propose à l'épicerie ","                         Ce que je propose à l'épicerie ","                         Ce que je propose à l'épicerie ","                         Ce que je propose à l'épicerie ","                         Ce que je propose à l'épicerie ","                         Ce que je propose à l'épicerie ","                         Ce que je propose à l'épicerie ","                         Ce que je propose à l'épicerie ","                         Ce que je propose à l'épicerie ","                         Ce que je propose à l'épicerie ","                         Ce que je propose à l'épicerie ","                         Ce que je propose à l'épicerie ","                         Ce que je propose à l'épicerie ","                         Ce que je propose à l'épicerie ","                         Ce que je propose à l'épicerie ","                         Ce que je propose à l'épicerie ","                         Ce que je propose à l'épicerie ","                         Ce que je propose à l'épicerie ","                         Ce que je propose à l'épicerie ","                         Ce que je propose à l'épicerie ","                         Ce que je propose à l'épicerie ","                         Ce que je propose à l'épicerie ","                         Ce que je propose à l'épicerie ","                         Ce que je propose à l'épicerie ","                         Ce que je propose à l'épicerie ","                         Ce que je propose à l'épicerie ","                         Ce que je propose à l'épicerie ","                         Ce que je propose à l'épicerie ","                         Ce que je propose à l'épicerie ","                         Ce que je propose à l'épicerie ","                         Ce que je propose à l'épicerie ","                         Ce que je propose à l'épicerie ","                         Ce que je propose à l'épicerie ","                         Ce que je propose à l'épicerie ","                         Ce que je propose à l'épicerie ","                         Ce que je propose à l'épicerie ","                         Ce que je propose à l'épicerie ","                         Ce que je propose à l'épicerie ","                         Ce que je propose à l'épicerie ","                         Ce que je propose à l'épicerie ","                         Ce que je propose à l'épicerie ","                         Ce que je propose à l'épicerie ","                         Ce que je propose à l'épicerie ","                         Ce que je propose à l'épicerie ","                         Ce que je propose à l'épicerie ","                         Ce que je propose à l'épicerie ","                         Ce que je propose à l'épicerie ","                         Ce que je propose à l'épicerie ","                         Ce que je propose à l'épicerie ","                         Ce que je propose à l'épicerie ","                         Ce que je propose à l'épicerie ","                         Ce que je propose à l'épicerie ","                         Ce que je propose à l'épicerie ","                         Ce que je propose à l'épicerie ","                         Ce que je propose à l'épicerie ","                         Ce que je propose à l'épicerie ","                         Ce que je propose à l'épicerie ","                         Ce que je propose à l'épicerie ","                         Ce que je propose à l'épicerie ","                         Ce que je propose à l'épicerie ","                         Ce que je propose à l'épicerie ","                         Ce que je propose à l'épicerie ","                         Ce que je propose à l'épicerie ","                         Ce que je propose à l'épicerie ","                         Ce que je propose à l'épicerie ","                         Ce que je propose à l'épicerie ","                         Ce que je propose à l'épicerie ","                         Ce que je propose à l'épicerie ","                         Ce que je propose à l'épicerie ","                         Ce que je propose à l'épicerie ","                         Ce que je propose à l'épicerie ","                         Ce que je propose à l'épicerie ","                         Ce que je propose à l'épicerie ","                         Ce que je propose à l'épicerie ","                         Ce que je propose à l'épicerie ","                         Ce que je propose à l'épicerie ","                         Ce que je propose à l'épicerie ","                         Ce que je propose à l'épicerie ","                         Ce que je propose à l'épicerie ","                         Ce que je propose à l'épicerie ","                         Ce que je propose à l'épicerie ","                         Ce que je propose à l'épicerie ","                         Ce que je propose à l'épicerie ","                         Ce que je propose à l'épicerie ","                         Ce que je propose à l'épicerie ","                         Ce que je propose à l'épicerie ","                         Ce que je propose à l'épicerie ","                         Ce que je propose à l'épicerie ","                         Ce que je propose à l'épicerie ","                         Ce que je propose à l'épicerie ","                         Ce que je propose à l'épicerie ","                         Ce que je propose à l'épicerie ","                         Ce que je propose à l'épicerie ","                         Ce que je propose à l'épicerie ","                         Ce que je propose à l'épicerie ","                         Ce que je propose à l'épicerie ","                         Ce que je propose à l'épicerie ","                         Ce que je propose à l'épicerie ","                         Ce que je propose à l'épicerie ","                         Ce que je propose à l'épicerie ","                         Ce que je propose à l'épicerie ","                         Ce que je propose à l'épicerie ","                         Ce que je propose à l'épicerie ","                         Ce que je propose à l'épicerie ","                         Ce que je propose à l'épicerie ","                         Ce que je propose à l'épicerie ","                         Ce que je propose à l'épicerie ","                         Ce que je propose à l'épicerie ","                         Ce que je propose à l'épicerie ","                         Ce que je propose à l'épicerie ","                         Ce que je propose à l'épicerie ","                         Ce que je propose à l'épicerie ","                         Ce que je propose à l'épicerie ","                         Ce que je propose à l'épicerie ","                         Ce que je propose à l'épicerie ","                         Ce que je propose à l'épicerie ","                         Ce que je propose à l'épicerie ","                         Ce que je propose à l'épicerie ","                         Ce que je propose à l'épicerie ","                         Ce que je propose à l'épicerie ","                         Ce que je propose à l'épicerie ","                         Ce que je propose à l'épicerie ","                         Ce que je propose à l'épicerie ","                         Ce que je propose à l'épicerie ","                         Ce que je propose à l'épicerie ","                         Ce que je propose à l'épicerie ","                         Ce que je propose à l'épicerie ","                         Ce que je propose à l'épicerie ","                         Ce que je propose à l'épicerie ","                         Ce que je propose à l'épicerie ","                         Ce que je propose à l'épicerie ","                         Ce que je propose à l'épicerie ","                         Ce que je propose à l'épicerie ","                         Ce que je propose à l'épicerie ","                         Ce que je propose à l'épicerie ","                         Ce que je propose à l'épicerie ","                         Ce que je propose à l'épicerie ","                         Ce que je propose à l'épicerie ","                         Ce que je propose à l'épicerie ","                         Ce que je propose à l'épicerie ","                         Ce que je propose à l'épicerie ","                         Ce que je propose à l'épicerie ","                         Ce que je propose à l'épicerie ","                         Ce que je propose à l'épicerie ","                         Ce que je propose à l'épicerie ","                         Ce que je propose à l'épicerie ","                         Ce que je propose à l'épicerie ","                         Ce que je propose à l'épicerie ","                         Ce que je propose à l'épicerie ","                         Ce que je propose à l'épicerie ","                         Ce que je propose à l'épicerie ","                         Ce que je propose à l'épicerie ","                         Ce que je propose à l'épicerie ","                         Ce que je propose à l'épicerie ","                         Ce que je propose à l'épicerie ","                         Ce que je propose à l'épicerie ","                         Ce que je propose à l'épicerie ","                         Ce que je propose à l'épicerie ","                         Ce que je propose à l'épicerie ","                         Ce que je propose à l'épicerie ","                         Ce que je propose à l'épicerie ","                         Ce que je propose à l'épicerie ","                         Ce que je propose à l'épicerie ","                         Ce que je propose à l'épicerie ","                         Ce que je propose à l'épicerie ","                         Ce que je propose à l'épicerie ","                         Ce que je propose à l'épicerie ","                         Ce que je propose à l'épicerie ","                         Ce que je propose à l'épicerie ","                         Ce que je propose à l'épicerie ","                         Ce que je propose à l'épicerie ","                         Ce que je propose à l'épicerie ","                         Ce que je propose à l'épicerie ","                         Ce que je propose à l'épicerie ","                         Ce que je propose à l'épicerie ","                         Ce que je propose à l'épicerie ","                         Ce que je propose à l'épicerie ","                         Ce que je propose à l'épicerie ","                         Ce que je propose à l'épicerie ","                         Ce que je propose à l'épicerie ","                         Ce que je propose à l'épicerie ","                         Ce que je propose à l'épicerie ","                         Ce que je propose à l'épicerie ","                         Ce que je propose à l'épicerie ","                         Ce que je propose à l'épicerie ","                         Ce que je propose à l'épicerie ","                         Ce que je propose à l'épicerie ","                         Ce que je propose à l'épicerie ","                         Ce que je propose à l'épicerie ","                         Ce que je propose à l'épicerie ","                         Ce que je propose à l'épicerie ","                         Ce que je propose à l'épicerie ","                         Ce que je propose à l'épicerie ","                         Ce que je propose à l'épicerie ","                         Ce que je propose à l'épicerie ","                         Ce que je propose à l'épicerie ","                         Ce que je propose à l'épicerie ","                         Ce que je propose à l'épicerie ","                         Ce que je propose à l'épicerie ","                         Ce que je propose à l'épicerie ","                         Ce que je propose à l'épicerie ","                         Ce que je propose à l'épicerie ","                         Ce que je propose à l'épicerie ","                         Ce que je propose à l'épicerie ","                         Ce que je propose à l'épicerie ","                         Ce que je propose à l'épicerie ","                         Ce que je propose à l'épicerie ","                         Ce que je propose à l'épicerie ","                         Ce que je propose à l'épicerie ","                         Ce que je propose à l'épicerie ","                         Ce que je propose à l'épicerie ","                         Ce que je propose à l'épicerie ","                         Ce que je propose à l'épicerie ","                         Ce que je propose à l'épicerie ","                         Ce que je propose à l'épicerie ","                         Ce que je propose à l'épicerie ","                         Ce que je propose à l'épicerie ","                         Ce que je propose à l'épicerie ","                         Ce que je propose à l'épicerie ","                         Ce que je propose à l'épicerie ","                         Ce que je propose à l'épicerie ","                         Ce que je propose à l'épicerie ","                         Ce que je propose à l'épicerie ","                         Ce que je propose à l'épicerie ","                         Ce que je propose à l'épicerie ","                         Ce que je propose à l'épicerie ","                         Ce que je propose à l'épicerie ","                         Ce que je propose à l'épicerie ","                         Ce que je propose à l'épicerie ","                         Ce que je propose à l'épicerie ","                         Ce que je propose à l'épicerie ","                         Ce que je propose à l'épicerie ","                         Ce que je propose à l'épicerie ","                         Ce que je propose à l'épicerie ","                         Ce que je propose à l'épicerie ","                         Ce que je propose à l'épicerie ","                         Ce que je propose à l'épicerie ","                         Ce que je propose à l'épicerie ","                         Ce que je propose à l'épicerie ","                         Ce que je propose à l'épicerie ","                         Ce que je propose à l'épicerie ","                         Ce que je propose à l'épicerie ","                         Ce que je propose à l'épicerie ","                         Ce que je propose à l'épicerie ","                         Ce que je propose à l'épicerie ","                         Ce que je propose à l'épicerie ","                         Ce que je propose à l'épicerie ","                         Ce que je propose à l'épicerie ","                         Ce que je propose à l'épicerie ","                         Ce que je propose à l'épicerie ","                         Ce que je propose à l'épicerie ","                         Ce que je propose à l'épicerie ","                         Ce que je propose à l'épicerie ","                         Ce que je propose à l'épicerie ","                         Ce que je propose à l'épicerie ","                         Ce que je propose à l'épicerie ","                         Ce que je propose à l'épicerie ","                         Ce que je propose à l'épicerie ","                         Ce que je propose à l'épicerie ","                         Ce que je propose à l'épicerie ","                         Ce que je propose à l'épicerie ","                         Ce que je propose à l'épicerie ","                         Ce que je propose à l'épicerie ","                         Ce que je propose à l'épicerie ","                         Ce que je propose à l'épicerie ","                         Ce que je propose à l'épicerie ","                         Ce que je propose à l'épicerie ","                         Ce que je propose à l'épicerie ","                         Ce que je propose à l'épicerie ","                         Ce que je propose à l'épicerie ","                         Ce que je propose à l'épicerie ","                         Ce que je propose à l'épicerie ","                         Ce que je propose à l'épicerie ","                         Ce que je propose à l'épicerie ","                         Ce que je propose à l'épicerie ","                         Ce que je propose à l'épicerie ","                         Ce que je propose à l'épicerie ","                         Ce que je propose à l'épicerie ","                         Ce que je propose à l'épicerie ","                         Ce que je propose à l'épicerie ","                         Ce que je propose à l'épicerie ","                         Ce que je propose à l'épicerie ","                         Ce que je propose à l'épicerie ","                         Ce que je propose à l'épicerie ","                         Ce que je propose à l'épicerie ","                         Ce que je propose à l'épicerie ","                         Ce que je propose à l'épicerie ","                         Ce que je propose à l'épicerie ","                         Ce que je propose à l'épicerie ","                         Ce que je propose à l'épicerie ","                         Ce que je propose à l'épicerie ","                         Ce que je propose à l'épicerie ","                         Ce que je propose à l'épicerie ","                         Ce que je propose à l'épicerie ","                         Ce que je propose à l'épicerie ","                         Ce que je propose à l'épicerie ","                         Ce que je propose à l'épicerie ","                         Ce que je propose à l'épicerie ","                         Ce que je propose à l'épicerie ","                         Ce que je propose à l'épicerie ","                         Ce que je propose à l'épicerie ","                         Ce que je propose à l'épicerie ","                         Ce que je propose à l'épicerie ","                         Ce que je propose à l'épicerie ","                         Ce que je propose à l'épicerie ","                         Ce que je propose à l'épicerie ","                         Ce que je propose à l'épicerie ","                         Ce que je propose à l'épicerie ","                         Ce que je propose à l'épicerie ","                         Ce que je propose à l'épicerie ","                         Ce que je propose à l'épicerie ","                         Ce que je propose à l'épicerie ","                         Ce que je propose à l'épicerie ","                         Ce que je propose à l'épicerie ","                         Ce que je propose à l'épicerie ","                         Ce que je propose à l'épicerie ","                         Ce que je propose à l'épicerie ","                         Ce que je propose à l'épicerie ","                         Ce que je propose à l'épicerie ","                         Ce que je propose à l'épicerie ","                         Ce que je propose à l'épicerie ","                         Ce que je propose à l'épicerie ","                         Ce que je propose à l'épicerie ","                         Ce que je propose à l'épicerie ","                         Ce que je propose à l'épicerie ","                         Ce que je propose à l'épicerie ","                         Ce que je propose à l'épicerie ","                         Ce que je propose à l'épicerie ","                         Ce que je propose à l'épicerie ","                         Ce que je propose à l'épicerie ","                         Ce que je propose à l'épicerie ","                         Ce que je propose à l'épicerie ","                         Ce que je propose à l'épicerie ","                         Ce que je propose à l'épicerie ","                         Ce que je propose à l'épicerie ","                         Ce que je propose à l'épicerie ","                         Ce que je propose à l'épicerie ","                         Ce que je propose à l'épicerie ","                         Ce que je propose à l'épicerie ","                         Ce que je propose à l'épicerie ","                         Ce que je propose à l'épicerie ","                         Ce que je propose à l'épicerie ","                         Ce que je propose à l'épicerie ","                         Ce que je propose à l'épicerie ","                         Ce que je propose à l'épicerie ","                         Ce que je propose à l'épicerie ","                         Ce que je propose à l'épicerie ","                         Ce que je propose à l'épicerie ","                         Ce que je propose à l'épicerie ","                         Ce que je propose à l'épicerie ","                         Ce que je propose à l'épicerie ","                         Ce que je propose à l'épicerie ","                         Ce que je propose à l'épicerie ","                         Ce que je propose à l'épicerie ","                         Ce que je propose à l'épicerie ","                         Ce que je propose à l'épicerie ","                         Ce que je propose à l'épicerie ","                         Ce que je propose à l'épicerie ","                         Ce que je propose à l'épicerie ","                         Ce que je propose à l'épicerie ","                         Ce que je propose à l'épicerie ","                         Ce que je propose à l'épicerie ","                         Ce que je propose à l'épicerie ","                         Ce que je propose à l'épicerie ","                         Ce que je propose à l'épicerie ","                         Ce que je propose à l'épicerie ","                         Ce que je propose à l'épicerie ","                         Ce que je propose à l'épicerie ","                         Ce que je propose à l'épicerie ","                         Ce que je propose à l'épicerie ","                         Ce que je propose à l'épicerie ","                         Ce que je propose à l'épicerie ","                         Ce que je propose à l'épicerie ","                         Ce que je propose à l'épicerie ","                         Ce que je propose à l'épicerie ","                         Ce que je propose à l'épicerie ","                         Ce que je propose à l'épicerie ","                         Ce que je propose à l'épicerie ","                         Ce que je propose à l'épicerie ","                         Ce que je propose à l'épicerie ","                         Ce que je propose à l'épicerie ","                         Ce que je propose à l'épicerie ","                         Ce que je propose à l'épicerie ","                         Ce que je propose à l'épicerie ","                         Ce que je propose à l'épicerie ","                         Ce que je propose à l'épicerie ","                         Ce que je propose à l'épicerie ","                         Ce que je propose à l'épicerie ","                         Ce que je propose à l'épicerie ","                         Ce que je propose à l'épicerie ","                         Ce que je propose à l'épicerie ","                         Ce que je propose à l'épicerie ","                         Ce que je propose à l'épicerie ","                         Ce que je propose à l'épicerie ","                         Ce que je propose à l'épicerie ","                         Ce que je propose à l'épicerie ","                         Ce que je propose à l'épicerie ","                         Ce que je propose à l'épicerie ","                         Ce que je propose à l'épicerie ","                         Ce que je propose à l'épicerie ","                         Ce que je propose à l'épicerie ","                         Ce que je propose à l'épicerie ","                         Ce que je propose à l'épicerie ","                         Ce que je propose à l'épicerie ","                         Ce que je propose à l'épicerie ","                         Ce que je propose à l'épicerie ","                         Ce que je propose à l'épicerie ","                         Ce que je propose à l'épicerie ","                         Ce que je propose à l'épicerie ","                         Ce que je propose à l'épicerie ","                         Ce que je propose à l'épicerie ","                         Ce que je propose à l'épicerie ","                         Ce que je propose à l'épicerie ","                         Ce que je propose à l'épicerie ","                         Ce que je propose à l'épicerie ","                         Ce que je propose à l'épicerie ","                         Ce que je propose à l'épicerie ","                         Ce que je propose à l'épicerie ","                         Ce que je propose à l'épicerie ","                         Ce que je propose à l'épicerie ","                         Ce que je propose à l'épicerie ","                         Ce que je propose à l'épicerie ","                         Ce que je propose à l'épicerie ","                         Ce que je propose à l'épicerie ","                         Ce que je propose à l'épicerie ","                         Ce que je propose à l'épicerie ","                         Ce que je propose à l'épicerie ","                         Ce que je propose à l'épicerie ","                         Ce que je propose à l'épicerie ","                         Ce que je propose à l'épicerie ","                         Ce que je propose à l'épicerie ","                         Ce que je propose à l'épicerie ","                         Ce que je propose à l'épicerie ","                         Ce que je propose à l'épicerie ","                         Ce que je propose à l'épicerie ","                         Ce que je propose à l'épicerie ","                         Ce que je propose à l'épicerie ","                         Ce que je propose à l'épicerie ","                         Ce que je propose à l'épicerie ","                         Ce que je propose à l'épicerie ","                         Ce que je propose à l'épicerie ","                         Ce que je propose à l'épicerie ","                         Ce que je propose à l'épicerie ","                         Ce que je propose à l'épicerie ","                         Ce que je propose à l'épicerie ","                         Ce que je propose à l'épicerie ","                         Ce que je propose à l'épicerie ","                         Ce que je propose à l'épicerie ","                         Ce que je propose à l'épicerie ","                         Ce que je propose à l'épicerie ","                         Ce que je propose à l'épicerie ","                         Ce que je propose à l'épicerie ","                         Ce que je propose à l'épicerie ","                         Ce que je propose à l'épicerie ","                         Ce que je propose à l'épicerie ","                         Ce que je propose à l'épicerie ","                         Ce que je propose à l'épicerie ","                         Ce que je propose à l'épicerie ","                         Ce que je propose à l'épicerie ","                         Ce que je propose à l'épicerie ","                         Ce que je propose à l'épicerie ","                         Ce que je propose à l'épicerie ","                         Ce que je propose à l'épicerie ","                         Ce que je propose à l'épicerie ","                         Ce que je propose à l'épicerie ","                         Ce que je propose à l'épicerie ","                         Ce que je propose à l'épicerie ","                         Ce que je propose à l'épicerie ","                         Ce que je propose à l'épicerie ","                         Ce que je propose à l'épicerie ","                         Ce que je propose à l'épicerie ","                         Ce que je propose à l'épicerie ","                         Ce que je propose à l'épicerie ","                         Ce que je propose à l'épicerie ","                         Ce que je propose à l'épicerie ","                         Ce que je propose à l'épicerie ","                         Ce que je propose à l'épicerie ","                         Ce que je propose à l'épicerie ","                         Ce que je propose à l'épicerie ","                         Ce que je propose à l'épicerie ","                         Ce que je propose à l'épicerie ","                         Ce que je propose à l'épicerie ","                         Ce que je propose à l'épicerie ","                         Ce que je propose à l'épicerie ","                         Ce que je propose à l'épicerie ","                         Ce que je propose à l'épicerie ","                         Ce que je propose à l'épicerie ","                         Ce que je propose à l'épicerie ","                         Ce que je propose à l'épicerie ","                         Ce que je propose à l'épicerie ","                         Ce que je propose à l'épicerie ","                         Ce que je propose à l'épicerie ","                         Ce que je propose à l'épicerie ","                         Ce que je propose à l'épicerie ","                         Ce que je propose à l'épicerie ","                         Ce que je propose à l'épicerie ","                         Ce que je propose à l'épicerie ","                         Ce que je propose à l'épicerie ","                         Ce que je propose à l'épicerie ","                         Ce que je propose à l'épicerie ","                         Ce que je propose à l'épicerie ","                         Ce que je propose à l'épicerie ","                         Ce que je propose à l'épicerie ","                         Ce que je propose à l'épicerie ","                         Ce que je propose à l'épicerie ","                         Ce que je propose à l'épicerie ","                         Ce que je propose à l'épicerie ","                         Ce que je propose à l'épicerie ","                         Ce que je propose à l'épicerie ","                         Ce que je propose à l'épicerie ","                         Ce que je propose à l'épicerie ","                         Ce que je propose à l'épicerie ","                         Ce que je propose à l'épicerie ","                         Ce que je propose à l'épicerie ","                         Ce que je propose à l'épicerie ","                         Ce que je propose à l'épicerie ","                         Ce que je propose à l'épicerie ","                         Ce que je propose à l'épicerie ","                         Ce que je propose à l'épicerie ","                         Ce que je propose à l'épicerie ","                         Ce que je propose à l'épicerie ","                         Ce que je propose à l'épicerie ","                         Ce que je propose à l'épicerie ","                         Ce que je propose à l'épicerie ","                         Ce que je propose à l'épicerie ","                         Ce que je propose à l'épicerie ","                         Ce que je propose à l'épicerie ","                         Ce que je propose à l'épicerie ","                         Ce que je propose à l'épicerie ","                         Ce que je propose à l'épicerie ","                         Ce que je propose à l'épicerie ","                         Ce que je propose à l'épicerie ","                         Ce que je propose à l'épicerie ","                         Ce que je propose à l'épicerie ","                         Ce que je propose à l'épicerie ","                         Ce que je propose à l'épicerie ","                         Ce que je propose à l'épicerie ","                         Ce que je propose à l'épicerie ","                         Ce que je propose à l'épicerie ","                         Ce que je propose à l'épicerie ","                         Ce que je propose à l'épicerie ","                         Ce que je propose à l'épicerie ","                         Ce que je propose à l'épicerie ","                         Ce que je propose à l'épicerie ","                         Ce que je propose à l'épicerie ","                         Ce que je propose à l'épicerie ","                         Ce que je propose à l'épicerie ","                         Ce que je propose à l'épicerie ","                         Ce que je propose à l'épicerie ","                         Ce que je propose à l'épicerie ","                         Ce que je propose à l'épicerie ","                         Ce que je propose à l'épicerie ","                         Ce que je propose à l'épicerie ","                         Ce que je propose à l'épicerie ","                         Ce que je propose à l'épicerie ","                         Ce que je propose à l'épicerie ","                         Ce que je propose à l'épicerie ","                         Ce que je propose à l'épicerie ","                         Ce que je propose à l'épicerie ","                         Ce que je propose à l'épicerie ","                         Ce que je propose à l'épicerie ","                         Ce que je propose à l'épicerie ","                         Ce que je propose à l'épicerie ","                         Ce que je propose à l'épicerie ","                         Ce que je propose à l'épicerie ","                         Ce que je propose à l'épicerie ","                         Ce que je propose à l'épicerie ","                         Ce que je propose à l'épicerie ","                         Ce que je propose à l'épicerie ","                         Ce que je propose à l'épicerie ","                         Ce que je propose à l'épicerie ","                         Ce que je propose à l'épicerie ","                         Ce que je propose à l'épicerie ","                         Ce que je propose à l'épicerie ","                         Ce que je propose à l'épicerie ","                         Ce que je propose à l'épicerie ","                         Ce que je propose à l'épicerie ","                         Ce que je propose à l'épicerie ","                         Ce que je propose à l'épicerie ","                         Ce que je propose à l'épicerie ","                         Ce que je propose à l'épicerie ","                         Ce que je propose à l'épicerie ","                         Ce que je propose à l'épicerie ","                         Ce que je propose à l'épicerie ","                         Ce que je propose à l'épicerie ","                         Ce que je propose à l'épicerie ","                         Ce que je propose à l'épicerie ","                         Ce que je propose à l'épicerie ","                         Ce que je propose à l'épicerie ","                         Ce que je propose à l'épicerie ","                         Ce que je propose à l'épicerie ","                         Ce que je propose à l'épicerie ","                         Ce que je propose à l'épicerie ","                         Ce que je propose à l'épicerie ","                         Ce que je propose à l'épicerie ","                         Ce que je propose à l'épicerie ","                         Ce que je propose à l'épicerie ","                         Ce que je propose à l'épicerie ","                         Ce que je propose à l'épicerie ","                         Ce que je propose à l'épicerie ","                         Ce que je propose à l'épicerie ","                         Ce que je propose à l'épicerie ","                         Ce que je propose à l'épicerie ","                         Ce que je propose à l'épicerie ","                         Ce que je propose à l'épicerie ","                         Ce que je propose à l'épicerie ","                         Ce que je propose à l'épicerie ","                         Ce que je propose à l'épicerie ","                         Ce que je propose à l'épicerie ","                         Ce que je propose à l'épicerie ","                         Ce que je propose à l'épicerie ","                         Ce que je propose à l'épicerie ","                         Ce que je propose à l'épicerie ","                         Ce que je propose à l'épicerie ","                         Ce que je propose à l'épicerie ","                         Ce que je propose à l'épicerie ","                         Ce que je propose à l'épicerie ","                         Ce que je propose à l'épicerie ","                         Ce que je propose à l'épicerie ","                         Ce que je propose à l'épicerie ","                         Ce que je propose à l'épicerie ","                         Ce que je propose à l'épicerie ","                         Ce que je propose à l'épicerie ","                         Ce que je propose à l'épicerie ","                         Ce que je propose à l'épicerie ","                         Ce que je propose à l'épicerie ","                         Ce que je propose à l'épicerie ","                         Ce que je propose à l'épicerie ","                         Ce que je propose à l'épicerie ","                         Ce que je propose à l'épicerie ","                         Ce que je propose à l'épicerie ","                         Ce que je propose à l'épicerie ","                         Ce que je propose à l'épicerie ","                         Ce que je propose à l'épicerie ","                         Ce que je propose à l'épicerie ","                         Ce que je propose à l'épicerie ","                         Ce que je propose à l'épicerie ","                         Ce que je propose à l'épicerie ","                         Ce que je propose à l'épicerie ","                         Ce que je propose à l'épicerie ","                         Ce que je propose à l'épicerie ","                         Ce que je propose à l'épicerie ","                         Ce que je propose à l'épicerie ","                         Ce que je propose à l'épicerie ","                         Ce que je propose à l'épicerie ","                         Ce que je propose à l'épicerie ","                         Ce que je propose à l'épicerie ","                         Ce que je propose à l'épicerie ","                         Ce que je propose à l'épicerie ","                         Ce que je propose à l'épicerie ","                         Ce que je propose à l'épicerie ","                         Ce que je propose à l'épicerie ","                         Ce que je propose à l'épicerie ","                         Ce que je propose à l'épicerie ","                         Ce que je propose à l'épicerie ","                         Ce que je propose à l'épicerie ","                         Ce que je propose à l'épicerie ","                         Ce que je propose à l'épicerie ","                         Ce que je propose à l'épicerie ","                         Ce que je propose à l'épicerie ","                         Ce que je propose à l'épicerie ","                         Ce que je propose à l'épicerie ","                         Ce que je propose à l'épicerie ","                         Ce que je propose à l'épicerie ","                         Ce que je propose à l'épicerie ","                         Ce que je propose à l'épicerie ","                         Ce que je propose à l'épicerie ","                         Ce que je propose à l'épicerie ","                         Ce que je propose à l'épicerie ","                         Ce que je propose à l'épicerie ","                         Ce que je propose à l'épicerie ","                         Ce que je propose à l'épicerie ","                         Ce que je propose à l'épicerie ","                         Ce que je propose à l'épicerie ","                         Ce que je propose à l'épicerie ","                         Ce que je propose à l'épicerie ","                         Ce que je propose à l'épicerie ","                         Ce que je propose à l'épicerie ","                         Ce que je propose à l'épicerie ","                         Ce que je propose à l'épicerie ","                         Ce que je propose à l'épicerie ","                         Ce que je propose à l'épicerie ","                         Ce que je propose à l'épicerie ","                         Ce que je propose à l'épicerie ","                         Ce que je propose à l'épicerie ","                         Ce que je propose à l'épicerie ","                         Ce que je propose à l'épicerie ","                         Ce que je propose à l'épicerie ","                         Ce que je propose à l'épicerie ","                         Ce que je propose à l'épicerie ","                         Ce que je propose à l'épicerie ","                         Ce que je propose à l'épicerie ","                         Ce que je propose à l'épicerie ","                         Ce que je propose à l'épicerie ","                         Ce que je propose à l'épicerie ","                         Ce que je propose à l'épicerie ","                         Ce que je propose à l'épicerie ","                         Ce que je propose à l'épicerie ","                         Ce que je propose à l'épicerie ","                         Ce que je propose à l'épicerie ","                         Ce que je propose à l'épicerie ","                         Ce que je propose à l'épicerie ","                         Ce que je propose à l'épicerie ","                         Ce que je propose à l'épicerie ","                         Ce que je propose à l'épicerie ","                         Ce que je propose à l'épicerie ","                         Ce que je propose à l'épicerie ","                         Ce que je propose à l'épicerie ","                         Ce que je propose à l'épicerie ","                         Ce que je propose à l'épicerie ","                         Ce que je propose à l'épicerie ","                         Ce que je propose à l'épicerie ","                         Ce que je propose à l'épicerie ","                         Ce que je propose à l'épicerie ","                         Ce que je propose à l'épicerie ","                         Ce que je propose à l'épicerie ","                         Ce que je propose à l'épicerie ","                         Ce que je propose à l'épicerie ","                         Ce que je propose à l'épicerie ","                         Ce que je propose à l'épicerie ","                         Ce que je propose à l'épicerie ","                         Ce que je propose à l'épicerie ","                         Ce que je propose à l'épicerie ","                         Ce que je propose à l'épicerie ","                         Ce que je propose à l'épicerie ","                         Ce que je propose à l'épicerie ","                         Ce que je propose à l'épicerie ","                         Ce que je propose à l'épicerie ","                         Ce que je propose à l'épicerie ","                         Ce que je propose à l'épicerie ","                         Ce que je propose à l'épicerie ","                         Ce que je propose à l'épicerie ","                         Ce que je propose à l'épicerie ","                         Ce que je propose à l'épicerie ","                         Ce que je propose à l'épicerie ","                         Ce que je propose à l'épicerie ","                         Ce que je propose à l'épicerie ","                         Ce que je propose à l'épicerie ","                         Ce que je propose à l'épicerie ","                         Ce que je propose à l'épicerie ","                         Ce que je propose à l'épicerie ","                         Ce que je propose à l'épicerie ","                         Ce que je propose à l'épicerie ","                         Ce que je propose à l'épicerie ","                         Ce que je propose à l'épicerie ","                         Ce que je propose à l'épicerie ","                         Ce que je propose à l'épicerie ","                         Ce que je propose à l'épicerie ","                         Ce que je propose à l'épicerie ","                         Ce que je propose à l'épicerie ","                         Ce que je propose à l'épicerie ","                         Ce que je propose à l'épicerie ","                         Ce que je propose à l'épicerie ","                         Ce que je propose à l'épicerie ","                         Ce que je propose à l'épicerie ","                         Ce que je propose à l'épicerie ","                         Ce que je propose à l'épicerie ","                         Ce que je propose à l'épicerie ","                         Ce que je propose à l'épicerie ","                         Ce que je propose à l'épicerie ","                         Ce que je propose à l'épicerie ","                         Ce que je propose à l'épicerie ","                         Ce que je propose à l'épicerie ","                         Ce que je propose à l'épicerie ","                         Ce que je propose à l'épicerie ","                         Ce que je propose à l'épicerie ","                         Ce que je propose à l'épicerie ","                         Ce que je propose à l'épicerie ","                         Ce que je propose à l'épicerie ","                         Ce que je propose à l'épicerie ","                         Ce que je propose à l'épicerie ","                         Ce que je propose à l'épicerie ","                         Ce que je propose à l'épicerie ","                         Ce que je propose à l'épicerie ","                         Ce que je propose à l'épicerie ","                         Ce que je propose à l'épicerie ","                         Ce que je propose à l'épicerie ","                         Ce que je propose à l'épicerie ","                         Ce que je propose à l'épicerie ","                         Ce que je propose à l'épicerie ","                         Ce que je propose à l'épicerie ","                         Ce que je propose à l'épicerie ","                         Ce que je propose à l'épicerie ","                         Ce que je propose à l'épicerie ","                         Ce que je propose à l'épicerie ","                         Ce que je propose à l'épicerie ","                         Ce que je propose à l'épicerie ","                         Ce que je propose à l'épicerie ","                         Ce que je propose à l'épicerie ","                         Ce que je propose à l'épicerie ","                         Ce que je propose à l'épicerie ","                         Ce que je propose à l'épicerie ","                         Ce que je propose à l'épicerie ","                         Ce que je propose à l'épicerie ","                         Ce que je propose à l'épicerie ","                         Ce que je propose à l'épicerie ","                         Ce que je propose à l'épicerie ","                         Ce que je propose à l'épicerie ","                         Ce que je propose à l'épicerie ","                         Ce que je propose à l'épicerie ","                         Ce que je propose à l'épicerie ","                         Ce que je propose à l'épicerie ","                         Ce que je propose à l'épicerie ","                         Ce que je propose à l'épicerie ","                         Ce que je propose à l'épicerie ","                         Ce que je propose à l'épicerie ","                         Ce que je propose à l'épicerie ","                         Ce que je propose à l'épicerie ","                         Ce que je propose à l'épicerie ","                         Ce que je propose à l'épicerie ","                         Ce que je propose à l'épicerie ","                         Ce que je propose à l'épicerie ","                         Ce que je propose à l'épicerie ","                         Ce que je propose à l'épicerie ","                         Ce que je propose à l'épicerie ","                         Ce que je propose à l'épicerie ","                         Ce que je propose à l'épicerie ","                         Ce que je propose à l'épicerie ","                         Ce que je propose à l'épicerie ","                         Ce que je propose à l'épicerie ","                         Ce que je propose à l'épicerie ","                         Ce que je propose à l'épicerie ","                         Ce que je propose à l'épicerie ","                         Ce que je propose à l'épicerie ","                         Ce que je propose à l'épicerie ","                         Ce que je propose à l'épicerie ","                         Ce que je propose à l'épicerie ","                         Ce que je propose à l'épicerie ","                         Ce que je propose à l'épicerie ","                         Ce que je propose à l'épicerie ","                         Ce que je propose à l'épicerie ","                         Ce que je propose à l'épicerie ","                         Ce que je propose à l'épicerie ","                         Ce que je propose à l'épicerie ","                         Ce que je propose à l'épicerie ","                         Ce que je propose à l'épicerie ","                         Ce que je propose à l'épicerie ","                         Ce que je propose à l'épicerie ","                         Ce que je propose à l'épicerie ","                         Ce que je propose à l'épicerie ","                         Ce que je propose à l'épicerie ","                         Ce que je propose à l'épicerie ","                         Ce que je propose à l'épicerie ","                         Ce que je propose à l'épicerie ","                         Ce que je propose à l'épicerie ","                         Ce que je propose à l'épicerie ","                         Ce que je propose à l'épicerie ","                         Ce que je propose à l'épicerie ","                         Ce que je propose à l'épicerie ","                         Ce que je propose à l'épicerie ","                         Ce que je propose à l'épicerie ","                         Ce que je propose à l'épicerie ","                         Ce que je propose à l'épicerie ","                         Ce que je propose à l'épicerie ","                         Ce que je propose à l'épicerie ","                         Ce que je propose à l'épicerie ","                         Ce que je propose à l'épicerie ","                         Ce que je propose à l'épicerie ","                         Ce que je propose à l'épicerie ","                         Ce que je propose à l'épicerie ","                         Ce que je propose à l'épicerie ","                         Ce que je propose à l'épicerie ","                         Ce que je propose à l'épicerie ","                         Ce que je propose à l'épicerie ","                         Ce que je propose à l'épicerie ","                         Ce que je propose à l'épicerie ","                         Ce que je propose à l'épicerie ","                         Ce que je propose à l'épicerie ","                         Ce que je propose à l'épicerie ","                         Ce que je propose à l'épicerie ","                         Ce que je propose à l'épicerie ","                         Ce que je propose à l'épicerie ","                         Ce que je propose à l'épicerie ","                         Ce que je propose à l'épicerie ","                         Ce que je propose à l'épicerie ","                         Ce que je propose à l'épicerie ","                         Ce que je propose à l'épicerie ","                         Ce que je propose à l'épicerie ","                         Ce que je propose à l'épicerie ","                         Ce que je propose à l'épicerie ","                         Ce que je propose à l'épicerie ","                         Ce que je propose à l'épicerie ","                         Ce que je propose à l'épicerie ","                         Ce que je propose à l'épicerie ","                         Ce que je propose à l'épicerie ","                         Ce que je propose à l'épicerie ","                         Ce que je propose à l'épicerie ","                         Ce que je propose à l'épicerie ","                         Ce que je propose à l'épicerie ","                         Ce que je propose à l'épicerie ","                         Ce que je propose à l'épicerie ","                         Ce que je propose à l'épicerie ","                         Ce que je propose à l'épicerie ","                         Ce que je propose à l'épicerie ","                         Ce que je propose à l'épicerie ","                         Ce que je propose à l'épicerie ","                         Ce que je propose à l'épicerie ","                         Ce que je propose à l'épicerie ","                         Ce que je propose à l'épicerie ","                         Ce que je propose à l'épicerie ","                         Ce que je propose à l'épicerie ","                         Ce que je propose à l'épicerie ","                         Ce que je propose à l'épicerie ","                         Ce que je propose à l'épicerie ","                         Ce que je propose à l'épicerie ","                         Ce que je propose à l'épicerie ","                         Ce que je propose à l'épicerie ","                         Ce que je propose à l'épicerie ","                         Ce que je propose à l'épicerie ","                         Ce que je propose à l'épicerie ","                         Ce que je propose à l'épicerie ","                         Ce que je propose à l'épicerie ","                         Ce que je propose à l'épicerie ","                         Ce que je propose à l'épicerie ","                         Ce que je propose à l'épicerie ","                         Ce que je propose à l'épicerie ","                         Ce que je propose à l'épicerie ","                         Ce que je propose à l'épicerie ","                         Ce que je propose à l'épicerie ","                         Ce que je propose à l'épicerie ","                         Ce que je propose à l'épicerie ","                         Ce que je propose à l'épicerie ","                         Ce que je propose à l'épicerie ","                         Ce que je propose à l'épicerie ","                         Ce que je propose à l'épicerie ","                         Ce que je propose à l'épicerie ","                         Ce que je propose à l'épicerie ","                         Ce que je propose à l'épicerie ","                         Ce que je propose à l'épicerie ","                         Ce que je propose à l'épicerie ","                         Ce que je propose à l'épicerie ","                         Ce que je propose à l'épicerie ","                         Ce que je propose à l'épicerie ","                         Ce que je propose à l'épicerie ","                         Ce que je propose à l'épicerie ","                         Ce que je propose à l'épicerie ","                         Ce que je propose à l'épicerie ","                         Ce que je propose à l'épicerie ","                         Ce que je propose à l'épicerie ","                         Ce que je propose à l'épicerie ","                         Ce que je propose à l'épicerie ","                         Ce que je propose à l'épicerie ","                         Ce que je propose à l'épicerie ","                         Ce que je propose à l'épicerie ","                         Ce que je propose à l'épicerie ","                         Ce que je propose à l'épicerie ","                         Ce que je propose à l'épicerie ","                         Ce que je propose à l'épicerie ","                         Ce que je propose à l'épicerie ","                         Ce que je propose à l'épicerie ","                         Ce que je propose à l'épicerie ","                         Ce que je propose à l'épicerie ","                         Ce que je propose à l'épicerie ","                         Ce que je propose à l'épicerie ","                         Ce que je propose à l'épicerie ","                         Ce que je propose à l'épicerie ","                         Ce que je propose à l'épicerie ","                         Ce que je propose à l'épicerie ","                         Ce que je propose à l'épicerie ","                         Ce que je propose à l'épicerie ","                         Ce que je propose à l'épicerie ","                         Ce que je propose à l'épicerie ","                         Ce que je propose à l'épicerie ","                         Ce que je propose à l'épicerie ","                         Ce que je propose à l'épicerie ","                         Ce que je propose à l'épicerie ","                         Ce que je propose à l'épicerie ","                         Ce que je propose à l'épicerie ","                         Ce que je propose à l'épicerie ","                         Ce que je propose à l'épicerie ","                         Ce que je propose à l'épicerie ","                         Ce que je propose à l'épicerie ","                         Ce que je propose à l'épicerie ","                         Ce que je propose à l'épicerie ","                         Ce que je propose à l'épicerie ","                         Ce que je propose à l'épicerie ","                         Ce que je propose à l'épicerie ","                         Ce que je propose à l'épicerie ","                         Ce que je propose à l'épicerie ","                         Ce que je propose à l'épicerie ","                         Ce que je propose à l'épicerie ","                         Ce que je propose à l'épicerie ","                         Ce que je propose à l'épicerie ","                         Ce que je propose à l'épicerie ","                         Ce que je propose à l'épicerie ","                         Ce que je propose à l'épicerie ","                         Ce que je propose à l'épicerie ","                         Ce que je propose à l'épicerie ","                         Ce que je propose à l'épicerie ","                         Ce que je propose à l'épicerie ","                         Ce que je propose à l'épicerie ","                         Ce que je propose à l'épicerie ","                         Ce que je propose à l'épicerie ","                         Ce que je propose à l'épicerie ","                         Ce que je propose à l'épicerie ","                         Ce que je propose à l'épicerie ","                         Ce que je propose à l'épicerie ","                         Ce que je propose à l'épicerie ","                         Ce que je propose à l'épicerie ","                         Ce que je propose à l'épicerie ","                         Ce que je propose à l'épicerie ","                         Ce que je propose à l'épicerie ","                         Ce que je propose à l'épicerie ","                         Ce que je propose à l'épicerie ","                         Ce que je propose à l'épicerie ","                         Ce que je propose à l'épicerie ","                         Ce que je propose à l'épicerie ","                         Ce que je propose à l'épicerie ","                         Ce que je propose à l'épicerie ","                         Ce que je propose à l'épicerie ","                         Ce que je propose à l'épicerie ","                         Ce que je propose à l'épicerie ","                         Ce que je propose à l'épicerie ","                         Ce que je propose à l'épicerie ","                         Ce que je propose à l'épicerie ","                         Ce que je propose à l'épicerie ","                         Ce que je propose à l'épicerie ","                         Ce que je propose à l'épicerie ","                         Ce que je propose à l'épicerie ","                         Ce que je propose à l'épicerie ","                         Ce que je propose à l'épicerie ","                         Ce que je propose à l'épicerie ","                         Ce que je propose à l'épicerie ","                         Ce que je propose à l'épicerie ","                         Ce que je propose à l'épicerie ","                         Ce que je propose à l'épicerie ","                         Ce que je propose à l'épicerie ","                         Ce que je propose à l'épicerie ","                         Ce que je propose à l'épicerie ","                         Ce que je propose à l'épicerie ","                         Ce que je propose à l'épicerie ","                         Ce que je propose à l'épicerie ","                         Ce que je propose à l'épicerie ","                         Ce que je propose à l'épicerie ","                         Ce que je propose à l'épicerie ","                         Ce que je propose à l'épicerie ","                         Ce que je propose à l'épicerie ","                         Ce que je propose à l'épicerie ","                         Ce que je propose à l'épicerie ","                         Ce que je propose à l'épicerie ","                         Ce que je propose à l'épicerie ","                         Ce que je propose à l'épicerie ","                         Ce que je propose à l'épicerie ","                         Ce que je propose à l'épicerie ","                         Ce que je propose à l'épicerie ","                         Ce que je propose à l'épicerie ","                         Ce que je propose à l'épicerie ","                         Ce que je propose à l'épicerie ","                         Ce que je propose à l'épicerie ","                         Ce que je propose à l'épicerie ","                         Ce que je propose à l'épicerie ","                         Ce que je propose à l'épicerie ","                         Ce que je propose à l'épicerie ","                         Ce que je propose à l'épicerie ","                         Ce que je propose à l'épicerie ","                         Ce que je propose à l'épicerie ","                         Ce que je propose à l'épicerie ","                         Ce que je propose à l'épicerie ","                         Ce que je propose à l'épicerie ","                         Ce que je propose à l'épicerie ","                         Ce que je propose à l'épicerie ","                         Ce que je propose à l'épicerie ","                         Ce que je propose à l'épicerie ","                         Ce que je propose à l'épicerie ","                         Ce que je propose à l'épicerie ","                         Ce que je propose à l'épicerie ","                         Ce que je propose à l'épicerie ","                         Ce que je propose à l'épicerie ","                         Ce que je propose à l'épicerie ","                         Ce que je propose à l'épicerie ","                         Ce que je propose à l'épicerie ","                         Ce que je propose à l'épicerie ","                         Ce que je propose à l'épicerie ","                         Ce que je propose à l'épicerie ","                         Ce que je propose à l'épicerie ","                         Ce que je propose à l'épicerie ","                         Ce que je propose à l'épicerie ","                         Ce que je propose à l'épicerie ","                         Ce que je propose à l'épicerie ","                         Ce que je propose à l'épicerie ","                         Ce que je propose à l'épicerie ","                         Ce que je propose à l'épicerie ","                         Ce que je propose à l'épicerie ","                         Ce que je propose à l'épicerie ","                         Ce que je propose à l'épicerie ","                         Ce que je propose à l'épicerie ","                         Ce que je propose à l'épicerie ","                         Ce que je propose à l'épicerie ","                         Ce que je propose à l'épicerie ","                         Ce que je propose à l'épicerie ","                         Ce que je propose à l'épicerie ","                         Ce que je propose à l'épicerie ","                         Ce que je propose à l'épicerie ","                         Ce que je propose à l'épicerie ","                         Ce que je propose à l'épicerie ","                         Ce que je propose à l'épicerie ","                         Ce que je propose à l'épicerie ","                         Ce que je propose à l'épicerie ","                         Ce que je propose à l'épicerie ","                         Ce que je propose à l'épicerie ","                         Ce que je propose à l'épicerie ","                         Ce que je propose à l'épicerie ","                         Ce que je propose à l'épicerie ","                         Ce que je propose à l'épicerie ","                         Ce que je propose à l'épicerie ","                         Ce que je propose à l'épicerie ","                         Ce que je propose à l'épicerie ","                         Ce que je propose à l'épicerie ","                         Ce que je propose à l'épicerie ","                         Ce que je propose à l'épicerie ","                         Ce que je propose à l'épicerie ","                         Ce que je propose à l'épicerie ","                         Ce que je propose à l'épicerie ","                         Ce que je propose à l'épicerie ","                         Ce que je propose à l'épicerie ","                         Ce que je propose à l'épicerie ","                         Ce que je propose à l'épicerie ","                         Ce que je propose à l'épicerie ","                         Ce que je propose à l'épicerie ","                         Ce que je propose à l'épicerie ","                         Ce que je propose à l'épicerie ","                         Ce que je propose à l'épicerie ","                         Ce que je propose à l'épicerie ","                         Ce que je propose à l'épicerie ","                         Ce que je propose à l'épicerie ","                         Ce que je propose à l'épicerie ","                         Ce que je propose à l'épicerie ","                         Ce que je propose à l'épicerie ","                         Ce que je propose à l'épicerie ","                         Ce que je propose à l'épicerie ","                         Ce que je propose à l'épicerie ","                         Ce que je propose à l'épicerie ","                         Ce que je propose à l'épicerie ","                         Ce que je propose à l'épicerie ","                         Ce que je propose à l'épicerie ","                         Ce que je propose à l'épicerie ","                         Ce que je propose à l'épicerie ","                         Ce que je propose à l'épicerie ","                         Ce que je propose à l'épicerie ","                         Ce que je propose à l'épicerie ","                         Ce que je propose à l'épicerie ","                         Ce que je propose à l'épicerie ","                         Ce que je propose à l'épicerie ","                         Ce que je propose à l'épicerie ","                         Ce que je propose à l'épicerie ","                         Ce que je propose à l'épicerie ","                         Ce que je propose à l'épicerie ","                         Ce que je propose à l'épicerie ","                         Ce que je propose à l'épicerie ","                         Ce que je propose à l'épicerie ","                         Ce que je propose à l'épicerie ","                         Ce que je propose à l'épicerie ","                         Ce que je propose à l'épicerie ","                         Ce que je propose à l'épicerie ","                         Ce que je propose à l'épicerie ","                         Ce que je propose à l'épicerie ","                         Ce que je propose à l'épicerie ","                         Ce que je propose à l'épicerie ","                         Ce que je propose à l'épicerie ","                         Ce que je propose à l'épicerie ","                         Ce que je propose à l'épicerie ","                         Ce que je propose à l'épicerie ","                         Ce que je propose à l'épicerie ","                         Ce que je propose à l'épicerie ","                         Ce que je propose à l'épicerie ","                         Ce que je propose à l'épicerie ","                         Ce que je propose à l'épicerie ","                         Ce que je propose à l'épicerie ","                         Ce que je propose à l'épicerie ","                         Ce que je propose à l'épicerie ","                         Ce que je propose à l'épicerie ","                         Ce que je propose à l'épicerie ","                         Ce que je propose à l'épicerie ","                         Ce que je propose à l'épicerie ","                         Ce que je propose à l'épicerie ","                         Ce que je propose à l'épicerie ","                         Ce que je propose à l'épicerie ","                         Ce que je propose à l'épicerie ","                         Ce que je propose à l'épicerie ","                         Ce que je propose à l'épicerie ","                         Ce que je propose à l'épicerie ","                         Ce que je propose à l'épicerie ","                         Ce que je propose à l'épicerie ","                         Ce que je propose à l'épicerie ","                         Ce que je propose à l'épicerie ","                         Ce que je propose à l'épicerie ","                         Ce que je propose à l'épicerie ","                         Ce que je propose à l'épicerie ","                         Ce que je propose à l'épicerie ","                         Ce que je propose à l'épicerie ","                         Ce que je propose à l'épicerie ","                         Ce que je propose à l'épicerie ","                         Ce que je propose à l'épicerie ","                         Ce que je propose à l'épicerie ","                         Ce que je propose à l'épicerie ","                         Ce que je propose à l'épicerie ","                         Ce que je propose à l'épicerie ","                         Ce que je propose à l'épicerie ","                         Ce que je propose à l'épicerie ","                         Ce que je propose à l'épicerie ","                         Ce que je propose à l'épicerie ","                         Ce que je propose à l'épicerie ","                         Ce que je propose à l'épicerie ","                         Ce que je propose à l'épicerie ","                         Ce que je propose à l'épicerie ","                         Ce que je propose à l'épicerie ","                         Ce que je propose à l'épicerie ","                         Ce que je propose à l'épicerie ","                         Ce que je propose à l'épicerie ","                         Ce que je propose à l'épicerie ","                         Ce que je propose à l'épicerie ","                         Ce que je propose à l'épicerie ","                         Ce que je propose à l'épicerie ","                         Ce que je propose à l'épicerie ","                         Ce que je propose à l'épicerie ","                         Ce que je propose à l'épicerie ","                         Ce que je propose à l'épicerie ","                         Ce que je propose à l'épicerie ","                         Ce que je propose à l'épicerie ","                         Ce que je propose à l'épicerie ","                         Ce que je propose à l'épicerie ","                         Ce que je propose à l'épicerie ","                         Ce que je propose à l'épicerie ","                         Ce que je propose à l'épicerie ","                         Ce que je propose à l'épicerie ","                         Ce que je propose à l'épicerie ","                         Ce que je propose à l'épicerie ","                         Ce que je propose à l'épicerie ","                         Ce que je propose à l'épicerie ","                         Ce que je propose à l'épicerie ","                         Ce que je propose à l'épicerie ","                         Ce que je propose à l'épicerie ","                         Ce que je propose à l'épicerie ","                         Ce que je propose à l'épicerie ","                         Ce que je propose à l'épicerie ","                         Ce que je propose à l'épicerie ","                         Ce que je propose à l'épicerie ","                         Ce que je propose à l'épicerie ","                         Ce que je propose à l'épicerie ","                         Ce que je propose à l'épicerie ","                         Ce que je propose à l'épicerie ","                         Ce que je propose à l'épicerie ","                         Ce que je propose à l'épicerie ","                         Ce que je propose à l'épicerie ","                         Ce que je propose à l'épicerie ","                         Ce que je propose à l'épicerie ","                         Ce que je propose à l'épicerie ","                         Ce que je propose à l'épicerie ","                         Ce que je propose à l'épicerie ","                         Ce que je propose à l'épicerie ","                         Ce que je propose à l'épicerie ","                         Ce que je propose à l'épicerie ","                         Ce que je propose à l'épicerie ","                         Ce que je propose à l'épicerie ","                         Ce que je propose à l'épicerie ","                         Ce que je propose à l'épicerie ","                         Ce que je propose à l'épicerie ","                         Ce que je propose à l'épicerie ","                         Ce que je propose à l'épicerie ","                         Ce que je propose à l'épicerie ","                         Ce que je propose à l'épicerie ","                         Ce que je propose à l'épicerie ","                         Ce que je propose à l'épicerie ","                         Ce que je propose à l'épicerie ","                         Ce que je propose à l'épicerie ","                         Ce que je propose à l'épicerie ","                         Ce que je propose à l'épicerie ","                         Ce que je propose à l'épicerie ","                         Ce que je propose à l'épicerie ","                         Ce que je propose à l'épicerie ","                         Ce que je propose à l'épicerie ","                         Ce que je propose à l'épicerie ","                         Ce que je propose à l'épicerie ","                         Ce que je propose à l'épicerie ","                         Ce que je propose à l'épicerie ","                         Ce que je propose à l'épicerie ","                         Ce que je propose à l'épicerie ","                         Ce que je propose à l'épicerie ","                         Ce que je propose à l'épicerie ","                         Ce que je propose à l'épicerie ","                         Ce que je propose à l'épicerie ","                         Ce que je propose à l'épicerie ","                         Ce que je propose à l'épicerie ","                         Ce que je propose à l'épicerie ","                         Ce que je propose à l'épicerie ","                         Ce que je propose à l'épicerie ","                         Ce que je propose à l'épicerie ","                         Ce que je propose à l'épicerie ","                         Ce que je propose à l'épicerie ","                         Ce que je propose à l'épicerie ","                         Ce que je propose à l'épicerie ","                         Ce que je propose à l'épicerie ","                         Ce que je propose à l'épicerie ","                         Ce que je propose à l'épicerie ","                         Ce que je propose à l'épicerie ","                         Ce que je propose à l'épicerie ","                         Ce que je propose à l'épicerie ","                         Ce que je propose à l'épicerie ","                         Ce que je propose à l'épicerie ","                         Ce que je propose à l'épicerie ","                         Ce que je propose à l'épicerie ","                         Ce que je propose à l'épicerie ","                         Ce que je propose à l'épicerie ","                         Ce que je propose à l'épicerie ","                         Ce que je propose à l'épicerie ","                         Ce que je propose à l'épicerie ","                         Ce que je propose à l'épicerie ","                         Ce que je propose à l'épicerie ","                         Ce que je propose à l'épicerie ","                         Ce que je propose à l'épicerie ","                         Ce que je propose à l'épicerie ","                         Ce que je propose à l'épicerie ","                         Ce que je propose à l'épicerie ","                         Ce que je propose à l'épicerie ","                         Ce que je propose à l'épicerie ","                         Ce que je propose à l'épicerie ","                         Ce que je propose à l'épicerie ","                         Ce que je propose à l'épicerie ","                         Ce que je propose à l'épicerie ","                         Ce que je propose à l'épicerie ","                         Ce que je propose à l'épicerie ","                         Ce que je propose à l'épicerie ","                         Ce que je propose à l'épicerie ","                         Ce que je propose à l'épicerie ","                         Ce que je propose à l'épicerie ","                         Ce que je propose à l'épicerie ","                         Ce que je propose à l'épicerie ","                         Ce que je propose à l'épicerie ","                         Ce que je propose à l'épicerie ","                         Ce que je propose à l'épicerie ","                         Ce que je propose à l'épicerie ","                         Ce que je propose à l'épicerie ","                         Ce que je propose à l'épicerie ","                         Ce que je propose à l'épicerie ","                         Ce que je propose à l'épicerie ","                         Ce que je propose à l'épicerie ","                         Ce que je propose à l'épicerie ","                         Ce que je propose à l'épicerie ","                         Ce que je propose à l'épicerie ","                         Ce que je propose à l'épicerie ","                         Ce que je propose à l'épicerie ","                         Ce que je propose à l'épicerie ","                         Ce que je propose à l'épicerie ","                         Ce que je propose à l'épicerie ","                         Ce que je propose à l'épicerie ","                         Ce que je propose à l'épicerie ","                         Ce que je propose à l'épicerie ","                         Ce que je propose à l'épicerie ","                         Ce que je propose à l'épicerie ","                         Ce que je propose à l'épicerie ","                         Ce que je propose à l'épicerie ","                         Ce que je propose à l'épicerie ","                         Ce que je propose à l'épicerie ","                         Ce que je propose à l'épicerie ","                         Ce que je propose à l'épicerie ","                         Ce que je propose à l'épicerie ","                         Ce que je propose à l'épicerie ","                         Ce que je propose à l'épicerie ","                         Ce que je propose à l'épicerie ","                         Ce que je propose à l'épicerie ","                         Ce que je propose à l'épicerie ","                         Ce que je propose à l'épicerie ","                         Ce que je propose à l'épicerie ","                         Ce que je propose à l'épicerie ","                         Ce que je propose à l'épicerie ","                         Ce que je propose à l'épicerie ","                         Ce que je propose à l'épicerie ","                         Ce que je propose à l'épicerie ","                         Ce que je propose à l'épicerie ","                         Ce que je propose à l'épicerie ","                         Ce que je propose à l'épicerie ","                         Ce que je propose à l'épicerie ","                         Ce que je propose à l'épicerie ","                         Ce que je propose à l'épicerie ","                         Ce que je propose à l'épicerie ","                         Ce que je propose à l'épicerie ","                         Ce que je propose à l'épicerie ","                         Ce que je propose à l'épicerie ","                         Ce que je propose à l'épicerie ","                         Ce que je propose à l'épicerie ","                         Ce que je propose à l'épicerie ","                         Ce que je propose à l'épicerie ","                         Ce que je propose à l'épicerie ","                         Ce que je propose à l'épicerie ","                         Ce que je propose à l'épicerie ","                         Ce que je propose à l'épicerie ","                         Ce que je propose à l'épicerie ","                         Ce que je propose à l'épicerie ","                         Ce que je propose à l'épicerie ","                         Ce que je propose à l'épicerie ","                         Ce que je propose à l'épicerie ","                         Ce que je propose à l'épicerie ","                         Ce que je propose à l'épicerie ","                         Ce que je propose à l'épicerie ","                         Ce que je propose à l'épicerie ","                         Ce que je propose à l'épicerie ","                         Ce que je propose à l'épicerie ","                         Ce que je propose à l'épicerie ","                         Ce que je propose à l'épicerie ","                         Ce que je propose à l'épicerie ","                         Ce que je propose à l'épicerie ","                         Ce que je propose à l'épicerie ","                         Ce que je propose à l'épicerie ","                         Ce que je propose à l'épicerie ","                         Ce que je propose à l'épicerie ","                         Ce que je propose à l'épicerie ","                         Ce que je propose à l'épicerie ","                         Ce que je propose à l'épicerie ","                         Ce que je propose à l'épicerie ","                         Ce que je propose à l'épicerie ","                         Ce que je propose à l'épicerie ","                         Ce que je propose à l'épicerie ","                         Ce que je propose à l'épicerie ","                         Ce que je propose à l'épicerie ","                         Ce que je propose à l'épicerie ","                         Ce que je propose à l'épicerie ","                         Ce que je propose à l'épicerie ","                         Ce que je propose à l'épicerie ","                         Ce que je propose à l'épicerie ","                         Ce que je propose à l'épicerie ","                         Ce que je propose à l'épicerie ","                         Ce que je propose à l'épicerie ","                         Ce que je propose à l'épicerie ","                         Ce que je propose à l'épicerie ","                         Ce que je propose à l'épicerie ","                         Ce que je propose à l'épicerie ","                         Ce que je propose à l'épicerie ","                         Ce que je propose à l'épicerie ","                         Ce que je propose à l'épicerie ","                         Ce que je propose à l'épicerie ","                         Ce que je propose à l'épicerie ","                         Ce que je propose à l'épicerie ","                         Ce que je propose à l'épicerie ","                         Ce que je propose à l'épicerie ","                         Ce que je propose à l'épicerie ","                         Ce que je propose à l'épicerie ","                         Ce que je propose à l'épicerie ","                         Ce que je propose à l'épicerie ","                         Ce que je propose à l'épicerie ","                         Ce que je propose à l'épicerie ","                         Ce que je propose à l'épicerie ","                         Ce que je propose à l'épicerie ","                         Ce que je propose à l'épicerie ","                         Ce que je propose à l'épicerie ","                         Ce que je propose à l'épicerie ","                         Ce que je propose à l'épicerie ","                         Ce que je propose à l'épicerie ","                         Ce que je propose à l'épicerie ","                         Ce que je propose à l'épicerie ","                         Ce que je propose à l'épicerie ","                         Ce que je propose à l'épicerie ","                         Ce que je propose à l'épicerie ","                         Ce que je propose à l'épicerie ","                         Ce que je propose à l'épicerie ","                         Ce que je propose à l'épicerie ","                         Ce que je propose à l'épicerie ","                         Ce que je propose à l'épicerie ","                         Ce que je propose à l'épicerie ","                         Ce que je propose à l'épicerie ","                         Ce que je propose à l'épicerie ","                         Ce que je propose à l'épicerie ","                         Ce que je propose à l'épicerie ","                         Ce que je propose à l'épicerie ","                         Ce que je propose à l'épicerie ","                         Ce que je propose à l'épicerie ","                         Ce que je propose à l'épicerie ","                         Ce que je propose à l'épicerie ","                         Ce que je propose à l'épicerie ","                         Ce que je propose à l'épicerie ","                         Ce que je propose à l'épicerie ","                         Ce que je propose à l'épicerie ","                         Ce que je propose à l'épicerie ","                         Ce que je propose à l'épicerie ","                         Ce que je propose à l'épicerie ","                         Ce que je propose à l'épicerie ","                         Ce que je propose à l'épicerie ","                         Ce que je propose à l'épicerie ","                         Ce que je propose à l'épicerie ","                         Ce que je propose à l'épicerie ","                         Ce que je propose à l'épicerie ","                         Ce que je propose à l'épicerie ","                         Ce que je propose à l'épicerie ","                         Ce que je propose à l'épicerie ","                         Ce que je propose à l'épicerie ","                         Ce que je propose à l'épicerie ","                         Ce que je propose à l'épicerie ","                         Ce que je propose à l'épicerie ","                         Ce que je propose à l'épicerie ","                         Ce que je propose à l'épicerie ","                         Ce que je propose à l'épicerie ","                         Ce que je propose à l'épicerie ","                         Ce que je propose à l'épicerie ","                         Ce que je propose à l'épicerie ","                         Ce que je propose à l'épicerie ","                         Ce que je propose à l'épicerie ","                         Ce que je propose à l'épicerie ","                         Ce que je propose à l'épicerie ","                         Ce que je propose à l'épicerie ","                         Ce que je propose à l'épicerie ","                         Ce que je propose à l'épicerie ","                         Ce que je propose à l'épicerie ","                         Ce que je propose à l'épicerie ","                         Ce que je propose à l'épicerie ","                         Ce que je propose à l'épicerie ","                         Ce que je propose à l'épicerie ","                         Ce que je propose à l'épicerie ","                         Ce que je propose à l'épicerie ","                         Ce que je propose à l'épicerie ","                         Ce que je propose à l'épicerie ","                         Ce que je propose à l'épicerie ","                         Ce que je propose à l'épicerie ","                         Ce que je propose à l'épicerie ","                         Ce que je propose à l'épicerie ","                         Ce que je propose à l'épicerie ","                         Ce que je propose à l'épicerie ","                         Ce que je propose à l'épicerie ","                         Ce que je propose à l'épicerie ","                         Ce que je propose à l'épicerie ","                         Ce que je propose à l'épicerie ","                         Ce que je propose à l'épicerie ","                         Ce que je propose à l'épicerie ","                         Ce que je propose à l'épicerie ","                         Ce que je propose à l'épicerie ","                         Ce que je propose à l'épicerie ","                         Ce que je propose à l'épicerie ","                         Ce que je propose à l'épicerie ","                         Ce que je propose à l'épicerie ","                         Ce que je propose à l'épicerie ","                         Ce que je propose à l'épicerie ","                         Ce que je propose à l'épicerie ","                         Ce que je propose à l'épicerie ","                         Ce que je propose à l'épicerie ","                         Ce que je propose à l'épicerie ","                         Ce que je propose à l'épicerie ","                         Ce que je propose à l'épicerie ","                         Ce que je propose à l'épicerie ","                         Ce que je propose à l'épicerie ","                         Ce que je propose à l'épicerie ","                         Ce que je propose à l'épicerie ","                         Ce que je propose à l'épicerie ","                         Ce que je propose à l'épicerie ","                         Ce que je propose à l'épicerie ","                         Ce que je propose à l'épicerie ","                         Ce que je propose à l'épicerie ","                         Ce que je propose à l'épicerie ","                         Ce que je propose à l'épicerie ","                         Ce que je propose à l'épicerie ","                         Ce que je propose à l'épicerie ","                         Ce que je propose à l'épicerie ","                         Ce que je propose à l'épicerie ","                         Ce que je propose à l'épicerie ","                         Ce que je propose à l'épicerie ","                         Ce que je propose à l'épicerie ","                         Ce que je propose à l'épicerie ","                         Ce que je propose à l'épicerie ","                         Ce que je propose à l'épicerie ","                         Ce que je propose à l'épicerie ","                         Ce que je propose à l'épicerie ","                         Ce que je propose à l'épicerie ","                         Ce que je propose à l'épicerie ","                         Ce que je propose à l'épicerie ","                         Ce que je propose à l'épicerie ","                         Ce que je propose à l'épicerie ","                         Ce que je propose à l'épicerie ","                         Ce que je propose à l'épicerie ","                         Ce que je propose à l'épicerie ","                         Ce que je propose à l'épicerie ","                         Ce que je propose à l'épicerie ","                         Ce que je propose à l'épicerie ","                         Ce que je propose à l'épicerie ","                         Ce que je propose à l'épicerie ","                         Ce que je propose à l'épicerie ","                         Ce que je propose à l'épicerie ","                         Ce que je propose à l'épicerie ","                         Ce que je propose à l'épicerie ","                         Ce que je propose à l'épicerie ","                         Ce que je propose à l'épicerie ","                         Ce que je propose à l'épicerie ","                         Ce que je propose à l'épicerie ","                         Ce que je propose à l'épicerie ","                         Ce que je propose à l'épicerie ","                         Ce que je propose à l'épicerie ","                         Ce que je propose à l'épicerie ","                         Ce que je propose à l'épicerie ","                         Ce que je propose à l'épicerie ","                         Ce que je propose à l'épicerie ","                         Ce que je propose à l'épicerie ","                         Ce que je propose à l'épicerie ","                         Ce que je propose à l'épicerie ","                         Ce que je propose à l'épicerie ","                         Ce que je propose à l'épicerie ","                         Ce que je propose à l'épicerie ","                         Ce que je propose à l'épicerie ","                         Ce que je propose à l'épicerie ","                         Ce que je propose à l'épicerie ","                         Ce que je propose à l'épicerie ","                         Ce que je propose à l'épicerie ","                         Ce que je propose à l'épicerie ","                         Ce que je propose à l'épicerie ","                         Ce que je propose à l'épicerie ","                         Ce que je propose à l'épicerie ","                         Ce que je propose à l'épicerie ","                         Ce que je propose à l'épicerie ","                         Ce que je propose à l'épicerie ","                         Ce que je propose à l'épicerie ","                         Ce que je propose à l'épicerie ","                         Ce que je propose à l'épicerie ","                         Ce que je propose à l'épicerie ","                         Ce que je propose à l'épicerie ","                         Ce que je propose à l'épicerie ","                         Ce que je propose à l'épicerie ","                         Ce que je propose à l'épicerie ","                         Ce que je propose à l'épicerie ","                         Ce que je propose à l'épicerie ","                         Ce que je propose à l'épicerie ","                         Ce que je propose à l'épicerie ","                         Ce que je propose à l'épicerie ","                         Ce que je propose à l'épicerie ","                         Ce que je propose à l'épicerie ","                         Ce que je propose à l'épicerie ","                         Ce que je propose à l'épicerie ","                         Ce que je propose à l'épicerie ","                         Ce que je propose à l'épicerie ","                         Ce que je propose à l'épicerie ","                         Ce que je propose à l'épicerie ","                         Ce que je propose à l'épicerie ","                         Ce que je propose à l'épicerie ","                         Ce que je propose à l'épicerie ","                         Ce que je propose à l'épicerie ","                         Ce que je propose à l'épicerie ","                         Ce que je propose à l'épicerie ","                         Ce que je propose à l'épicerie ","                         Ce que je propose à l'épicerie ","                         Ce que je propose à l'épicerie ","                         Ce que je propose à l'épicerie ","                         Ce que je propose à l'épicerie ","                         Ce que je propose à l'épicerie ","                         Ce que je propose à l'épicerie ","                         Ce que je propose à l'épicerie ","                         Ce que je propose à l'épicerie ","                         Ce que je propose à l'épicerie ","                         Ce que je propose à l'épicerie ","                         Ce que je propose à l'épicerie ","                         Ce que je propose à l'épicerie ","                         Ce que je propose à l'épicerie ","                         Ce que je propose à l'épicerie ","                         Ce que je propose à l'épicerie ","                         Ce que je propose à l'épicerie ","                         Ce que je propose à l'épicerie ","                         Ce que je propose à l'épicerie ","                         Ce que je propose à l'épicerie ","                         Ce que je propose à l'épicerie ","                         Ce que je propose à l'épicerie ","                         Ce que je propose à l'épicerie ","                         Ce que je propose à l'épicerie ","                         Ce que je propose à l'épicerie ","                         Ce que je propose à l'épicerie ","                         Ce que je propose à l'épicerie ","                         Ce que je propose à l'épicerie ","                         Ce que je propose à l'épicerie ","                         Ce que je propose à l'épicerie ","                         Ce que je propose à l'épicerie ","                         Ce que je propose à l'épicerie ","                         Ce que je propose à l'épicerie ","                         Ce que je propose à l'épicerie ","                         Ce que je propose à l'épicerie ","                         Ce que je propose à l'épicerie ","                         Ce que je propose à l'épicerie ","                         Ce que je propose à l'épicerie ","                         Ce que je propose à l'épicerie ","                         Ce que je propose à l'épicerie ","                         Ce que je propose à l'épicerie ","                         Ce que je propose à l'épicerie ","                         Ce que je propose à l'épicerie ","                         Ce que je propose à l'épicerie ","                         Ce que je propose à l'épicerie ","                         Ce que je propose à l'épicerie ","                         Ce que je propose à l'épicerie ","                         Ce que je propose à l'épicerie ","                         Ce que je propose à l'épicerie ","                         Ce que je propose à l'épicerie ","                         Ce que je propose à l'épicerie ","                         Ce que je propose à l'épicerie ","                         Ce que je propose à l'épicerie ","                         Ce que je propose à l'épicerie ","                         Ce que je propose à l'épicerie ","                         Ce que je propose à l'épicerie ","                         Ce que je propose à l'épicerie ","                         Ce que je propose à l'épicerie ","                         Ce que je propose à l'épicerie ","                         Ce que je propose à l'épicerie ","                         Ce que je propose à l'épicerie ","                         Ce que je propose à l'épicerie ","                         Ce que je propose à l'épicerie ","                         Ce que je propose à l'épicerie ","                         Ce que je propose à l'épicerie ","                         Ce que je propose à l'épicerie ","                         Ce que je propose à l'épicerie ","                         Ce que je propose à l'épicerie ","                         Ce que je propose à l'épicerie ","                         Ce que je propose à l'épicerie ","                         Ce que je propose à l'épicerie ","                         Ce que je propose à l'épicerie ","                         Ce que je propose à l'épicerie ","                         Ce que je propose à l'épicerie ","                         Ce que je propose à l'épicerie ","                         Ce que je propose à l'épicerie ","                         Ce que je propose à l'épicerie ","                         Ce que je propose à l'épicerie ","                         Ce que je propose à l'épicerie ","                         Ce que je propose à l'épicerie ","                         Ce que je propose à l'épicerie ","                         Ce que je propose à l'épicerie ","                         Ce que je propose à l'épicerie ","                         Ce que je propose à l'épicerie ","                         Ce que je propose à l'épicerie ","                         Ce que je propose à l'épicerie ","                         Ce que je propose à l'épicerie ","                         Ce que je propose à l'épicerie ","                         Ce que je propose à l'épicerie ","                         Ce que je propose à l'épicerie ","                         Ce que je propose à l'épicerie ","                         Ce que je propose à l'épicerie ","                         Ce que je propose à l'épicerie ","                         Ce que je propose à l'épicerie ","                         Ce que je propose à l'épicerie ","                         Ce que je propose à l'épicerie ","                         Ce que je propose à l'épicerie ","                         Ce que je propose à l'épicerie ","                         Ce que je propose à l'épicerie ","                         Ce que je propose à l'épicerie ","                         Ce que je propose à l'épicerie ","                         Ce que je propose à l'épicerie ","                         Ce que je propose à l'épicerie ","                         Ce que je propose à l'épicerie ","                         Ce que je propose à l'épicerie ","                         Ce que je propose à l'épicerie ","                         Ce que je propose à l'épicerie ","                         Ce que je propose à l'épicerie ","                         Ce que je propose à l'épicerie ","                         Ce que je propose à l'épicerie ","                         Ce que je propose à l'épicerie ","                         Ce que je propose à l'épicerie ","                         Ce que je propose à l'épicerie ","                         Ce que je propose à l'épicerie ","                         Ce que je propose à l'épicerie ","                         Ce que je propose à l'épicerie ","                         Ce que je propose à l'épicerie ","                         Ce que je propose à l'épicerie ","                         Ce que je propose à l'épicerie ","                         Ce que je propose à l'épicerie ","                         Ce que je propose à l'épicerie ","                         Ce que je propose à l'épicerie ","                         Ce que je propose à l'épicerie ","                         Ce que je propose à l'épicerie ","                         Ce que je propose à l'épicerie ","                         Ce que je propose à l'épicerie ","                         Ce que je propose à l'épicerie ","                         Ce que je propose à l'épicerie ","                         Ce que je propose à l'épicerie ","                         Ce que je propose à l'épicerie ","                         Ce que je propose à l'épicerie ","                         Ce que je propose à l'épicerie ","                         Ce que je propose à l'épicerie ","                         Ce que je propose à l'épicerie ","                         Ce que je propose à l'épicerie ","                         Ce que je propose à l'épicerie ","                         Ce que je propose à l'épicerie ","                         Ce que je propose à l'épicerie ","                         Ce que je propose à l'épicerie ","                         Ce que je propose à l'épicerie ","                         Ce que je propose à l'épicerie ","                         Ce que je propose à l'épicerie ","                         Ce que je propose à l'épicerie ","                         Ce que je propose à l'épicerie ","                         Ce que je propose à l'épicerie ","                         Ce que je propose à l'épicerie ","                         Ce que je propose à l'épicerie ","                         Ce que je propose à l'épicerie ","                         Ce que je propose à l'épicerie ","                         Ce que je propose à l'épicerie ","                         Ce que je propose à l'épicerie ","                         Ce que je propose à l'épicerie ","                         Ce que je propose à l'épicerie ","                         Ce que je propose à l'épicerie ","                         Ce que je propose à l'épicerie ","                         Ce que je propose à l'épicerie ","                         Ce que je propose à l'épicerie ","                         Ce que je propose à l'épicerie ","                         Ce que je propose à l'épicerie ","                         Ce que je propose à l'épicerie ","                         Ce que je propose à l'épicerie ","                         Ce que je propose à l'épicerie ","                         Ce que je propose à l'épicerie ","                         Ce que je propose à l'épicerie ","                         Ce que je propose à l'épicerie ","                         Ce que je propose à l'épicerie ","                         Ce que je propose à l'épicerie ","                         Ce que je propose à l'épicerie ","                         Ce que je propose à l'épicerie ","                         Ce que je propose à l'épicerie ","                         Ce que je propose à l'épicerie ","                         Ce que je propose à l'épicerie ","                         Ce que je propose à l'épicerie ","                         Ce que je propose à l'épicerie ","                         Ce que je propose à l'épicerie ","                         Ce que je propose à l'épicerie ","                         Ce que je propose à l'épicerie ","                         Ce que je propose à l'épicerie ","                         Ce que je propose à l'épicerie ","                         Ce que je propose à l'épicerie ","                         Ce que je propose à l'épicerie ","                         Ce que je propose à l'épicerie ","                         Ce que je propose à l'épicerie ","                         Ce que je propose à l'épicerie ","                         Ce que je propose à l'épicerie ","                         Ce que je propose à l'épicerie ","                         Ce que je propose à l'épicerie ","                         Ce que je propose à l'épicerie ","                         Ce que je propose à l'épicerie ","                         Ce que je propose à l'épicerie ","                         Ce que je propose à l'épicerie ","                         Ce que je propose à l'épicerie ","                         Ce que je propose à l'épicerie ","                         Ce que je propose à l'épicerie ","                         Ce que je propose à l'épicerie ","                         Ce que je propose à l'épicerie ","                         Ce que je propose à l'épicerie ","                         Ce que je propose à l'épicerie ","                         Ce que je propose à l'épicerie ","                         Ce que je propose à l'épicerie ","                         Ce que je propose à l'épicerie ","                         Ce que je propose à l'épicerie ","                         Ce que je propose à l'épicerie ","                         Ce que je propose à l'épicerie ","                         Ce que je propose à l'épicerie ","                         Ce que je propose à l'épicerie ","                         Ce que je propose à l'épicerie ","                         Ce que je propose à l'épicerie ","                         Ce que je propose à l'épicerie ","                         Ce que je propose à l'épicerie ","                         Ce que je propose à l'épicerie ","                         Ce que je propose à l'épicerie ","                         Ce que je propose à l'épicerie ","                         Ce que je propose à l'épicerie ","                         Ce que je propose à l'épicerie ","                         Ce que je propose à l'épicerie ","                         Ce que je propose à l'épicerie ","                         Ce que je propose à l'épicerie ","                         Ce que je propose à l'épicerie ","                         Ce que je propose à l'épicerie ","                         Ce que je propose à l'épicerie ","                         Ce que je propose à l'épicerie ","                         Ce que je propose à l'épicerie ","                         Ce que je propose à l'épicerie ","                         Ce que je propose à l'épicerie ","                         Ce que je propose à l'épicerie ","                         Ce que je propose à l'épicerie ","                         Ce que je propose à l'épicerie ","                         Ce que je propose à l'épicerie ","                         Ce que je propose à l'épicerie ","                         Ce que je propose à l'épicerie ","                         Ce que je propose à l'épicerie ","                         Ce que je propose à l'épicerie ","                         Ce que je propose à l'épicerie ","                         Ce que je propose à l'épicerie ","                         Ce que je propose à l'épicerie ","                         Ce que je propose à l'épicerie ","                         Ce que je propose à l'épicerie ","                         Ce que je propose à l'épicerie ","                         Ce que je propose à l'épicerie ","                         Ce que je propose à l'épicerie ","                         Ce que je propose à l'épicerie ","                         Ce que je propose à l'épicerie ","                         Ce que je propose à l'épicerie ","                         Ce que je propose à l'épicerie ","                         Ce que je propose à l'épicerie ","                         Ce que je propose à l'épicerie ","                         Ce que je propose à l'épicerie ","                         Ce que je propose à l'épicerie ","                         Ce que je propose à l'épicerie ","                         Ce que je propose à l'épicerie ","                         Ce que je propose à l'épicerie ","                         Ce que je propose à l'épicerie ","                         Ce que je propose à l'épicerie ","                         Ce que je propose à l'épicerie ","                         Ce que je propose à l'épicerie ","                         Ce que je propose à l'épicerie ","                         Ce que je propose à l'épicerie ","                         Ce que je propose à l'épicerie ","                         Ce que je propose à l'épicerie ","                         Ce que je propose à l'épicerie ","                         Ce que je propose à l'épicerie ","                         Ce que je propose à l'épicerie ","                         Ce que je propose à l'épicerie ","                         Ce que je propose à l'épicerie ","                         Ce que je propose à l'épicerie ","                         Ce que je propose à l'épicerie ","                         Ce que je propose à l'épicerie ","                         Ce que je propose à l'épicerie ","                         Ce que je propose à l'épicerie ","                         Ce que je propose à l'épicerie ","                         Ce que je propose à l'épicerie ","                         Ce que je propose à l'épicerie ","                         Ce que je propose à l'épicerie ","                         Ce que je propose à l'épicerie ","                         Ce que je propose à l'épicerie ","                         Ce que je propose à l'épicerie ","                         Ce que je propose à l'épicerie ","                         Ce que je propose à l'épicerie ","                         Ce que je propose à l'épicerie ","                         Ce que je propose à l'épicerie ","                         Ce que je propose à l'épicerie ","                         Ce que je propose à l'épicerie ","                         Ce que je propose à l'épicerie ","                         Ce que je propose à l'épicerie ","                         Ce que je propose à l'épicerie ","                         Ce que je propose à l'épicerie ","                         Ce que je propose à l'épicerie ","                         Ce que je propose à l'épicerie ","                         Ce que je propose à l'épicerie ","                         Ce que je propose à l'épicerie ","                         Ce que je propose à l'épicerie ","                         Ce que je propose à l'épicerie ","                         Ce que je propose à l'épicerie ","                         Ce que je propose à l'épicerie ","                         Ce que je propose à l'épicerie ","                         Ce que je propose à l'épicerie ","                         Ce que je propose à l'épicerie ","                         Ce que je propose à l'épicerie ","                         Ce que je propose à l'épicerie ","                         Ce que je propose à l'épicerie ","                         Ce que je propose à l'épicerie ","                         Ce que je propose à l'épicerie ","                         Ce que je propose à l'épicerie ","                         Ce que je propose à l'épicerie ","                         Ce que je propose à l'épicerie ","                         Ce que je propose à l'épicerie ","                         Ce que je propose à l'épicerie ","                         Ce que je propose à l'épicerie ","                         Ce que je propose à l'épicerie ","                         Ce que je propose à l'épicerie ","                         Ce que je propose à l'épicerie ","                         Ce que je propose à l'épicerie ","                         Ce que je propose à l'épicerie ","                         Ce que je propose à l'épicerie ","                         Ce que je propose à l'épicerie ","                         Ce que je propose à l'épicerie ","                         Ce que je propose à l'épicerie ","                         Ce que je propose à l'épicerie ","                         Ce que je propose à l'épicerie ","                         Ce que je propose à l'épicerie ","                         Ce que je propose à l'épicerie ","                         Ce que je propose à l'épicerie ","                         Ce que je propose à l'épicerie ","                         Ce que je propose à l'épicerie ","                         Ce que je propose à l'épicerie ","                         Ce que je propose à l'épicerie ","                         Ce que je propose à l'épicerie ","                         Ce que je propose à l'épicerie ","                         Ce que je propose à l'épicerie ","                         Ce que je propose à l'épicerie ","                         Ce que je propose à l'épicerie ","                         Ce que je propose à l'épicerie ","                         Ce que je propose à l'épicerie ","                         Ce que je propose à l'épicerie ","                         Ce que je propose à l'épicerie ","                         Ce que je propose à l'épicerie ","                         Ce que je propose à l'épicerie ","                         Ce que je propose à l'épicerie ","                         Ce que je propose à l'épicerie ","                         Ce que je propose à l'épicerie ","                         Ce que je propose à l'épicerie ","                         Ce que je propose à l'épicerie ","                         Ce que je propose à l'épicerie ","                         Ce que je propose à l'épicerie ","                         Ce que je propose à l'épicerie ","                         Ce que je propose à l'épicerie ","                         Ce que je propose à l'épicerie ","                         Ce que je propose à l'épicerie ","                         Ce que je propose à l'épicerie ","                         Ce que je propose à l'épicerie ","                         Ce que je propose à l'épicerie ","                         Ce que je propose à l'épicerie ","                         Ce que je propose à l'épicerie ","                         Ce que je propose à l'épicerie ","                         Ce que je propose à l'épicerie ","                         Ce que je propose à l'épicerie ","                         Ce que je propose à l'épicerie ","                         Ce que je propose à l'épicerie ","                         Ce que je propose à l'épicerie ","                         Ce que je propose à l'épicerie ","                         Ce que je propose à l'épicerie ","                         Ce que je propose à l'épicerie ","                         Ce que je propose à l'épicerie ","                         Ce que je propose à l'épicerie ","                         Ce que je propose à l'épicerie ","                         Ce que je propose à l'épicerie ","                         Ce que je propose à l'épicerie ","                         Ce que je propose à l'épicerie ","                         Ce que je propose à l'épicerie ","                         Ce que je propose à l'épicerie ","                         Ce que je propose à l'épicerie ","                         Ce que je propose à l'épicerie ","                         Ce que je propose à l'épicerie ","                         Ce que je propose à l'épicerie ","                         Ce que je propose à l'épicerie ","                         Ce que je propose à l'épicerie ","                         Ce que je propose à l'épicerie ","                         Ce que je propose à l'épicerie ","                         Ce que je propose à l'épicerie ","                         Ce que je propose à l'épicerie ","                         Ce que je propose à l'épicerie ","                         Ce que je propose à l'épicerie ","                         Ce que je propose à l'épicerie ","                         Ce que je propose à l'épicerie ","                         Ce que je propose à l'épicerie ","                         Ce que je propose à l'épicerie ","                         Ce que je propose à l'épicerie ","                         Ce que je propose à l'épicerie ","                         Ce que je propose à l'épicerie ","                         Ce que je propose à l'épicerie ","                         Ce que je propose à l'épicerie ","                         Ce que je propose à l'épicerie ","                         Ce que je propose à l'épicerie ","                         Ce que je propose à l'épicerie ","                         Ce que je propose à l'épicerie ","                         Ce que je propose à l'épicerie ","                         Ce que je propose à l'épicerie ","                         Ce que je propose à l'épicerie ","                         Ce que je propose à l'épicerie ","                         Ce que je propose à l'épicerie ","                         Ce que je propose à l'épicerie ","                         Ce que je propose à l'épicerie ","                         Ce que je propose à l'épicerie ","                         Ce que je propose à l'épicerie ","                         Ce que je propose à l'épicerie ","                         Ce que je propose à l'épicerie ","                         Ce que je propose à l'épicerie ","                         Ce que je propose à l'épicerie ","                         Ce que je propose à l'épicerie ","                         Ce que je propose à l'épicerie ","                         Ce que je propose à l'épicerie ","                         Ce que je propose à l'épicerie ","                         Ce que je propose à l'épicerie ","                         Ce que je propose à l'épicerie ","                         Ce que je propose à l'épicerie ","                         Ce que je propose à l'épicerie ","                         Ce que je propose à l'épicerie ","                         Ce que je propose à l'épicerie ","                         Ce que je propose à l'épicerie ","                         Ce que je propose à l'épicerie ","                         Ce que je propose à l'épicerie ","                         Ce que je propose à l'épicerie ","                         Ce que je propose à l'épicerie ","                         Ce que je propose à l'épicerie ","                         Ce que je propose à l'épicerie ","                         Ce que je propose à l'épicerie ","                         Ce que je propose à l'épicerie ","                         Ce que je propose à l'épicerie ","                         Ce que je propose à l'épicerie ","                         Ce que je propose à l'épicerie ","                         Ce que je propose à l'épicerie ","                         Ce que je propose à l'épicerie ","                         Ce que je propose à l'épicerie ","                         Ce que je propose à l'épicerie ","                         Ce que je propose à l'épicerie ","                         Ce que je propose à l'épicerie ","                         Ce que je propose à l'épicerie ","                         Ce que je propose à l'épicerie ","                         Ce que je propose à l'épicerie ","                         Ce que je propose à l'épicerie ","                         Ce que je propose à l'épicerie ","                         Ce que je propose à l'épicerie ","                         Ce que je propose à l'épicerie ","                         Ce que je propose à l'épicerie ","                         Ce que je propose à l'épicerie ","                         Ce que je propose à l'épicerie ","                         Ce que je propose à l'épicerie ","                         Ce que je propose à l'épicerie ","                         Ce que je propose à l'épicerie ","                         Ce que je propose à l'épicerie ","                         Ce que je propose à l'épicerie ","                         Ce que je propose à l'épicerie ","                         Ce que je propose à l'épicerie ","                         Ce que je propose à l'épicerie ","                         Ce que je propose à l'épicerie ","                         Ce que je propose à l'épicerie ","                         Ce que je propose à l'épicerie ","                         Ce que je propose à l'épicerie ","                         Ce que je propose à l'épicerie ","                         Ce que je propose à l'épicerie ","                         Ce que je propose à l'épicerie ","                         Ce que je propose à l'épicerie ","                         Ce que je propose à l'épicerie ","                         Ce que je propose à l'épicerie ","                         Ce que je propose à l'épicerie ","                         Ce que je propose à l'épicerie ","                         Ce que je propose à l'épicerie ","                         Ce que je propose à l'épicerie ","                         Ce que je propose à l'épicerie ","                         Ce que je propose à l'épicerie ","                         Ce que je propose à l'épicerie ","                         Ce que je propose à l'épicerie ","                         Ce que je propose à l'épicerie ","                         Ce que je propose à l'épicerie ","                         Ce que je propose à l'épicerie ","                         Ce que je propose à l'épicerie ","                         Ce que je propose à l'épicerie ","                         Ce que je propose à l'épicerie ","                         Ce que je propose à l'épicerie ","                         Ce que je propose à l'épicerie ","                         Ce que je propose à l'épicerie ","                         Ce que je propose à l'épicerie ","                         Ce que je propose à l'épicerie ","                         Ce que je propose à l'épicerie ","                         Ce que je propose à l'épicerie ","                         Ce que je propose à l'épicerie ","                         Ce que je propose à l'épicerie ","                         Ce que je propose à l'épicerie ","                         Ce que je propose à l'épicerie ","                         Ce que je propose à l'épicerie ","                         Ce que je propose à l'épicerie ","                         Ce que je propose à l'épicerie ","                         Ce que je propose à l'épicerie ","                         Ce que je propose à l'épicerie ","                         Ce que je propose à l'épicerie ","                         Ce que je propose à l'épicerie ","                         Ce que je propose à l'épicerie ","                         Ce que je propose à l'épicerie ","                         Ce que je propose à l'épicerie ","                         Ce que je propose à l'épicerie ","                         Ce que je propose à l'épicerie ","                         Ce que je propose à l'épicerie ","                         Ce que je propose à l'épicerie ","                         Ce que je propose à l'épicerie ","                         Ce que je propose à l'épicerie ","                         Ce que je propose à l'épicerie ","                         Ce que je propose à l'épicerie ","                         Ce que je propose à l'épicerie ","                         Ce que je propose à l'épicerie ","                         Ce que je propose à l'épicerie ","                         Ce que je propose à l'épicerie ","                         Ce que je propose à l'épicerie ","                         Ce que je propose à l'épicerie ","                         Ce que je propose à l'épicerie ","                         Ce que je propose à l'épicerie ","                         Ce que je propose à l'épicerie ","                         Ce que je propose à l'épicerie ","                         Ce que je propose à l'épicerie ","                         Ce que je propose à l'épicerie ","                         Ce que je propose à l'épicerie ","                         Ce que je propose à l'épicerie ","                         Ce que je propose à l'épicerie ","                         Ce que je propose à l'épicerie ","                         Ce que je propose à l'épicerie ","                         Ce que je propose à l'épicerie ","                         Ce que je propose à l'épicerie ","                         Ce que je propose à l'épicerie ","                         Ce que je propose à l'épicerie ","                         Ce que je propose à l'épicerie ","                         Ce que je propose à l'épicerie ","                         Ce que je propose à l'épicerie ","                         Ce que je propose à l'épicerie ","                         Ce que je propose à l'épicerie ","                         Ce que je propose à l'épicerie ","                         Ce que je propose à l'épicerie ","                         Ce que je propose à l'épicerie ","                         Ce que je propose à l'épicerie ","                         Ce que je propose à l'épicerie ","                         Ce que je propose à l'épicerie ","                         Ce que je propose à l'épicerie ","                         Ce que je propose à l'épicerie ","                         Ce que je propose à l'épicerie ","                         Ce que je propose à l'épicerie ","                         Ce que je propose à l'épicerie ","                         Ce que je propose à l'épicerie ","                         Ce que je propose à l'épicerie ","                         Ce que je propose à l'épicerie ","                         Ce que je propose à l'épicerie ","                         Ce que je propose à l'épicerie ","                         Ce que je propose à l'épicerie ","                         Ce que je propose à l'épicerie ","                         Ce que je propose à l'épicerie ","                         Ce que je propose à l'épicerie ","                         Ce que je propose à l'épicerie ","                         Ce que je propose à l'épicerie ","                         Ce que je propose à l'épicerie ","                         Ce que je propose à l'épicerie ","                         Ce que je propose à l'épicerie ","                         Ce que je propose à l'épicerie ","                         Ce que je propose à l'épicerie ","                         Ce que je propose à l'épicerie ","                         Ce que je propose à l'épicerie ","                         Ce que je propose à l'épicerie ","                         Ce que je propose à l'épicerie ","                         Ce que je propose à l'épicerie ","                         Ce que je propose à l'épicerie ","                         Ce que je propose à l'épicerie ","                         Ce que je propose à l'épicerie ","                         Ce que je propose à l'épicerie ","                         Ce que je propose à l'épicerie ","                         Ce que je propose à l'épicerie ","                         Ce que je propose à l'épicerie ","                         Ce que je propose à l'épicerie ","                         Ce que je propose à l'épicerie ","                         Ce que je propose à l'épicerie ","                         Ce que je propose à l'épicerie ","                         Ce que je propose à l'épicerie ","                         Ce que je propose à l'épicerie ","                         Ce que je propose à l'épicerie ","                         Ce que je propose à l'épicerie ","                         Ce que je propose à l'épicerie ","                         Ce que je propose à l'épicerie ","                         Ce que je propose à l'épicerie ","                         Ce que je propose à l'épicerie ","                         Ce que je propose à l'épicerie ","                         Ce que je propose à l'épicerie ","                         Ce que je propose à l'épicerie ","                         Ce que je propose à l'épicerie ","                         Ce que je propose à l'épicerie ","                         Ce que je propose à l'épicerie ","                         Ce que je propose à l'épicerie ","                         Ce que je propose à l'épicerie ","                         Ce que je propose à l'épicerie ","                         Ce que je propose à l'épicerie ","                         Ce que je propose à l'épicerie ","                         Ce que je propose à l'épicerie ","                         Ce que je propose à l'épicerie ","                         Ce que je propose à l'épicerie ","                         Ce que je propose à l'épicerie ","                         Ce que je propose à l'épicerie ","                         Ce que je propose à l'épicerie ","                         Ce que je propose à l'épicerie ","                         Ce que je propose à l'épicerie ","                         Ce que je propose à l'épicerie ","                         Ce que je propose à l'épicerie ","                         Ce que je propose à l'épicerie ","                         Ce que je propose à l'épicerie ","                         Ce que je propose à l'épicerie ","                         Ce que je propose à l'épicerie ","                         Ce que je propose à l'épicerie ","                         Ce que je propose à l'épicerie ","                         Ce que je propose à l'épicerie ","                         Ce que je propose à l'épicerie ","                         Ce que je propose à l'épicerie ","                         Ce que je propose à l'épicerie ","                         Ce que je propose à l'épicerie ","                         Ce que je propose à l'épicerie ","                         Ce que je propose à l'épicerie ","                         Ce que je propose à l'épicerie ","                         Ce que je propose à l'épicerie ","                         Ce que je propose à l'épicerie ","                         Ce que je propose à l'épicerie ","                         Ce que je propose à l'épicerie ","                         Ce que je propose à l'épicerie ","                         Ce que je propose à l'épicerie ","                         Ce que je propose à l'épicerie ","                         Ce que je propose à l'épicerie ","                         Ce que je propose à l'épicerie ","                         Ce que je propose à l'épicerie ","                         Ce que je propose à l'épicerie ","                         Ce que je propose à l'épicerie ","                         Ce que je propose à l'épicerie ","                         Ce que je propose à l'épicerie ","                         Ce que je propose à l'épicerie ","                         Ce que je propose à l'épicerie ","                         Ce que je propose à l'épicerie ","                         Ce que je propose à l'épicerie ","                         Ce que je propose à l'épicerie ","                         Ce que je propose à l'épicerie ","                         Ce que je propose à l'épicerie ","                         Ce que je propose à l'épicerie ","                         Ce que je propose à l'épicerie ","                         Ce que je propose à l'épicerie ","                         Ce que je propose à l'épicerie ","                         Ce que je propose à l'épicerie ","                         Ce que je propose à l'épicerie ","                         Ce que je propose à l'épicerie ","                         Ce que je propose à l'épicerie ","                         Ce que je propose à l'épicerie ","                         Ce que je propose à l'épicerie ","                         Ce que je propose à l'épicerie ","                         Ce que je propose à l'épicerie ","                         Ce que je propose à l'épicerie ","                         Ce que je propose à l'épicerie ","                         Ce que je propose à l'épicerie ","                         Ce que je propose à l'épicerie ","                         Ce que je propose à l'épicerie ","                         Ce que je propose à l'épicerie ","                         Ce que je propose à l'épicerie ","                         Ce que je propose à l'épicerie ","                         Ce que je propose à l'épicerie ","                         Ce que je propose à l'épicerie ","                         Ce que je propose à l'épicerie ","                         Ce que je propose à l'épicerie ","                         Ce que je propose à l'épicerie ","                         Ce que je propose à l'épicerie ","                         Ce que je propose à l'épicerie ","                         Ce que je propose à l'épicerie ","                         Ce que je propose à l'épicerie ","                         Ce que je propose à l'épicerie ","                         Ce que je propose à l'épicerie ","                         Ce que je propose à l'épicerie ","                         Ce que je propose à l'épicerie ","                         Ce que je propose à l'épicerie ","                         Ce que je propose à l'épicerie ","                         Ce que je propose à l'épicerie ","                         Ce que je propose à l'épicerie ","                         Ce que je propose à l'épicerie ","                         Ce que je propose à l'épicerie ","                         Ce que je propose à l'épicerie ","                         Ce que je propose à l'épicerie ","                         Ce que je propose à l'épicerie ","                         Ce que je propose à l'épicerie ","                         Ce que je propose à l'épicerie ","                         Ce que je propose à l'épicerie ","                         Ce que je propose à l'épicerie ","                         Ce que je propose à l'épicerie ","                         Ce que je propose à l'épicerie ","                         Ce que je propose à l'épicerie ","                         Ce que je propose à l'épicerie ","                         Ce que je propose à l'épicerie ","                         Ce que je propose à l'épicerie ","                         Ce que je propose à l'épicerie ","                         Ce que je propose à l'épicerie ","                         Ce que je propose à l'épicerie ","                         Ce que je propose à l'épicerie ","                         Ce que je propose à l'épicerie ","                         Ce que je propose à l'épicerie ","                         Ce que je propose à l'épicerie ","                         Ce que je propose à l'épicerie ","                         Ce que je propose à l'épicerie ","                         Ce que je propose à l'épicerie ","                         Ce que je propose à l'épicerie ","                         Ce que je propose à l'épicerie ","                         Ce que je propose à l'épicerie ","                         Ce que je propose à l'épicerie ","                         Ce que je propose à l'épicerie ","                         Ce que je propose à l'épicerie ","                         Ce que je propose à l'épicerie ","                         Ce que je propose à l'épicerie ","                         Ce que je propose à l'épicerie ","                         Ce que je propose à l'épicerie ","                         Ce que je propose à l'épicerie ","                         Ce que je propose à l'épicerie ","                         Ce que je propose à l'épicerie ","                         Ce que je propose à l'épicerie ","                         Ce que je propose à l'épicerie ","                         Ce que je propose à l'épicerie ","                         Ce que je propose à l'épicerie ","                         Ce que je propose à l'épicerie ","                         Ce que je propose à l'épicerie ","                         Ce que je propose à l'épicerie ","                         Ce que je propose à l'épicerie ","                         Ce que je propose à l'épicerie ","                         Ce que je propose à l'épicerie ","                         Ce que je propose à l'épicerie ","                         Ce que je propose à l'épicerie ","                         Ce que je propose à l'épicerie ","                         Ce que je propose à l'épicerie ","                         Ce que je propose à l'épicerie ","                         Ce que je propose à l'épicerie ","                         Ce que je propose à l'épicerie ","                         Ce que je propose à l'épicerie ","                         Ce que je propose à l'épicerie ","                         Ce que je propose à l'épicerie ","                         Ce que je propose à l'épicerie ","                         Ce que je propose à l'épicerie ","                         Ce que je propose à l'épicerie ","                         Ce que je propose à l'épicerie ","                         Ce que je propose à l'épicerie ","                         Ce que je propose à l'épicerie ","                         Ce que je propose à l'épicerie ","                         Ce que je propose à l'épicerie ","                         Ce que je propose à l'épicerie ","                         Ce que je propose à l'épicerie ","                         Ce que je propose à l'épicerie ","                         Ce que je propose à l'épicerie ","                         Ce que je propose à l'épicerie ","                         Ce que je propose à l'épicerie ","                         Ce que je propose à l'épicerie ","                         Ce que je propose à l'épicerie ","                         Ce que je propose à l'épicerie ","                         Ce que je propose à l'épicerie ","                         Ce que je propose à l'épicerie ","                         Ce que je propose à l'épicerie ","                         Ce que je propose à l'épicerie ","                         Ce que je propose à l'épicerie ","                         Ce que je propose à l'épicerie ","                         Ce que je propose à l'épicerie ","                         Ce que je propose à l'épicerie ","                         Ce que je propose à l'épicerie ","                         Ce que je propose à l'épicerie ","                         Ce que je propose à l'épicerie ","                         Ce que je propose à l'épicerie ","                         Ce que je propose à l'épicerie ","                         Ce que je propose à l'épicerie ","                         Ce que je propose à l'épicerie ","                         Ce que je propose à l'épicerie ","                         Ce que je propose à l'épicerie ","                         Ce que je propose à l'épicerie ","                         Ce que je propose à l'épicerie ","                         Ce que je propose à l'épicerie ","                         Ce que je propose à l'épicerie ","                         Ce que je propose à l'épicerie ","                         Ce que je propose à l'épicerie ","                         Ce que je propose à l'épicerie ","                         Ce que je propose à l'épicerie ","                         Ce que je propose à l'épicerie ","                         Ce que je propose à l'épicerie ","                         Ce que je propose à l'épicerie ","                         Ce que je propose à l'épicerie ","                         Ce que je propose à l'épicerie ","                         Ce que je propose à l'épicerie ","                         Ce que je propose à l'épicerie ","                         Ce que je propose à l'épicerie ","                         Ce que je propose à l'épicerie ","                         Ce que je propose à l'épicerie ","                         Ce que je propose à l'épicerie ","                         Ce que je propose à l'épicerie ","                         Ce que je propose à l'épicerie ","                         Ce que je propose à l'épicerie ","                         Ce que je propose à l'épicerie ","                         Ce que je propose à l'épicerie ","                         Ce que je propose à l'épicerie ","                         Ce que je propose à l'épicerie ","                         Ce que je propose à l'épicerie ","                         Ce que je propose à l'épicerie ","                         Ce que je propose à l'épicerie ","                         Ce que je propose à l'épicerie ","                         Ce que je propose à l'épicerie ","                         Ce que je propose à l'épicerie ","                         Ce que je propose à l'épicerie ","                         Ce que je propose à l'épicerie ","                         Ce que je propose à l'épicerie ","                         Ce que je propose à l'épicerie ","                         Ce que je propose à l'épicerie ","                         Ce que je propose à l'épicerie ","                         Ce que je propose à l'épicerie ","                         Ce que je propose à l'épicerie ","                         Ce que je propose à l'épicerie ","                         Ce que je propose à l'épicerie ","                         Ce que je propose à l'épicerie ","                         Ce que je propose à l'épicerie ","                         Ce que je propose à l'épicerie ","                         Ce que je propose à l'épicerie ","                         Ce que je propose à l'épicerie ","                         Ce que je propose à l'épicerie ","                         Ce que je propose à l'épicerie ","                         Ce que je propose à l'épicerie ","                         Ce que je propose à l'épicerie ","                         Ce que je propose à l'épicerie ","                         Ce que je propose à l'épicerie ","                         Ce que je propose à l'épicerie ","                         Ce que je propose à l'épicerie ","                         Ce que je propose à l'épicerie ","                         Ce que je propose à l'épicerie ","                         Ce que je propose à l'épicerie ","                         Ce que je propose à l'épicerie ","                         Ce que je propose à l'épicerie ","                         Ce que je propose à l'épicerie ","                         Ce que je propose à l'épicerie ","                         Ce que je propose à l'épicerie ","                         Ce que je propose à l'épicerie ","                         Ce que je propose à l'épicerie ","                         Ce que je propose à l'épicerie ","                         Ce que je propose à l'épicerie ","                         Ce que je propose à l'épicerie ","                         Ce que je propose à l'épicerie ","                         Ce que je propose à l'épicerie ","                         Ce que je propose à l'épicerie ","                         Ce que je propose à l'épicerie ","                         Ce que je propose à l'épicerie ","                         Ce que je propose à l'épicerie ","                         Ce que je propose à l'épicerie ","                         Ce que je propose à l'épicerie ","                         Ce que je propose à l'épicerie ","                         Ce que je propose à l'épicerie ","                         Ce que je propose à l'épicerie ","                         Ce que je propose à l'épicerie ","                         Ce que je propose à l'épicerie ","                         Ce que je propose à l'épicerie ","                         Ce que je propose à l'épicerie ","                         Ce que je propose à l'épicerie ","                         Ce que je propose à l'épicerie ","                         Ce que je propose à l'épicerie ","                         Ce que je propose à l'épicerie ","                         Ce que je propose à l'épicerie ","                         Ce que je propose à l'épicerie ","                         Ce que je propose à l'épicerie ","                         Ce que je propose à l'épicerie ","                         Ce que je propose à l'épicerie ","                         Ce que je propose à l'épicerie ","                         Ce que je propose à l'épicerie ","                         Ce que je propose à l'épicerie ","                         Ce que je propose à l'épicerie ","                         Ce que je propose à l'épicerie ","                         Ce que je propose à l'épicerie ","                         Ce que je propose à l'épicerie ","                         Ce que je propose à l'épicerie ","                         Ce que je propose à l'épicerie ","                         Ce que je propose à l'épicerie ","                         Ce que je propose à l'épicerie ","                         Ce que je propose à l'épicerie ","                         Ce que je propose à l'épicerie ","                         Ce que je propose à l'épicerie ","                         Ce que je propose à l'épicerie ","                         Ce que je propose à l'épicerie ","                         Ce que je propose à l'épicerie ","                         Ce que je propose à l'épicerie ","                         Ce que je propose à l'épicerie ","                         Ce que je propose à l'épicerie ","                         Ce que je propose à l'épicerie ","                         Ce que je propose à l'épicerie ","                         Ce que je propose à l'épicerie ","                         Ce que je propose à l'épicerie ","                         Ce que je propose à l'épicerie ","                         Ce que je propose à l'épicerie ","                         Ce que je propose à l'épicerie ","                         Ce que je propose à l'épicerie ","                         Ce que je propose à l'épicerie ","                         Ce que je propose à l'épicerie ","                         Ce que je propose à l'épicerie ","                         Ce que je propose à l'épicerie ","                         Ce que je propose à l'épicerie ","                         Ce que je propose à l'épicerie ","                         Ce que je propose à l'épicerie ","                         Ce que je propose à l'épicerie ","                         Ce que je propose à l'épicerie ","                         Ce que je propose à l'épicerie ","                         Ce que je propose à l'épicerie ","                         Ce que je propose à l'épicerie ","                         Ce que je propose à l'épicerie ","                         Ce que je propose à l'épicerie ","                         Ce que je propose à l'épicerie ","                         Ce que je propose à l'épicerie ","                         Ce que je propose à l'épicerie ","                         Ce que je propose à l'épicerie ","                         Ce que je propose à l'épicerie ","                         Ce que je propose à l'épicerie ","                         Ce que je propose à l'épicerie ","                         Ce que je propose à l'épicerie ","                         Ce que je propose à l'épicerie ","                         Ce que je propose à l'épicerie ","                         Ce que je propose à l'épicerie ","                         Ce que je propose à l'épicerie ","                         Ce que je propose à l'épicerie ","                         Ce que je propose à l'épicerie ","                         Ce que je propose à l'épicerie ","                         Ce que je propose à l'épicerie ","                         Ce que je propose à l'épicerie ","                         Ce que je propose à l'épicerie ","                         Ce que je propose à l'épicerie ","                         Ce que je propose à l'épicerie ","                         Ce que je propose à l'épicerie ","                         Ce que je propose à l'épicerie ","                         Ce que je propose à l'épicerie ","                         Ce que je propose à l'épicerie ","                         Ce que je propose à l'épicerie ","                         Ce que je propose à l'épicerie ","                         Ce que je propose à l'épicerie ","                         Ce que je propose à l'épicerie ","                         Ce que je propose à l'épicerie ","                         Ce que je propose à l'épicerie ","                         Ce que je propose à l'épicerie ","                         Ce que je propose à l'épicerie ","                         Ce que je propose à l'épicerie ","                         Ce que je propose à l'épicerie ","                         Ce que je propose à l'épicerie ","                         Ce que je propose à l'épicerie ","                         Ce que je propose à l'épicerie ","                         Ce que je propose à l'épicerie ","                         Ce que je propose à l'épicerie ","                         Ce que je propose à l'épicerie ","                         Ce que je propose à l'épicerie ","                         Ce que je propose à l'épicerie ","                         Ce que je propose à l'épicerie ","                         Ce que je propose à l'épicerie ","                         Ce que je propose à l'épicerie ","                         Ce que je propose à l'épicerie ","                         Ce que je propose à l'épicerie ","                         Ce que je propose à l'épicerie ","                         Ce que je propose à l'épicerie ","                         Ce que je propose à l'épicerie ","                         Ce que je propose à l'épicerie ","                         Ce que je propose à l'épicerie ","                         Ce que je propose à l'épicerie ","                         Ce que je propose à l'épicerie ","                         Ce que je propose à l'épicerie ","                         Ce que je propose à l'épicerie ","                         Ce que je propose à l'épicerie ","                         Ce que je propose à l'épicerie ","                         Ce que je propose à l'épicerie ","                         Ce que je propose à l'épicerie ","                         Ce que je propose à l'épicerie ","                         Ce que je propose à l'épicerie ","                         Ce que je propose à l'épicerie ","                         Ce que je propose à l'épicerie ","                         Ce que je propose à l'épicerie ","                         Ce que je propose à l'épicerie ","                         Ce que je propose à l'épicerie ","                         Ce que je propose à l'épicerie ","                         Ce que je propose à l'épicerie ","                         Ce que je propose à l'épicerie ","                         Ce que je propose à l'épicerie ","                         Ce que je propose à l'épicerie ","                         Ce que je propose à l'épicerie ","                         Ce que je propose à l'épicerie ","                         Ce que je propose à l'épicerie ","                         Ce que je propose à l'épicerie ","                         Ce que je propose à l'épicerie ","                         Ce que je propose à l'épicerie ","                         Ce que je propose à l'épicerie ","                         Ce que je propose à l'épicerie ","                         Ce que je propose à l'épicerie ","                         Ce que je propose à l'épicerie ","                         Ce que je propose à l'épicerie ","                         Ce que je propose à l'épicerie ","                         Ce que je propose à l'épicerie ","                         Ce que je propose à l'épicerie ","                         Ce que je propose à l'épicerie ","                         Ce que je propose à l'épicerie ","                         Ce que je propose à l'épicerie ","                         Ce que je propose à l'épicerie ","                         Ce que je propose à l'épicerie ","                         Ce que je propose à l'épicerie ","                         Ce que je propose à l'épicerie ","                         Ce que je propose à l'épicerie ","                         Ce que je propose à l'épicerie ","                         Ce que je propose à l'épicerie ","                         Ce que je propose à l'épicerie ","                         Ce que je propose à l'épicerie ","                         Ce que je propose à l'épicerie ","                         Ce que je propose à l'épicerie ","                         Ce que je propose à l'épicerie ","                         Ce que je propose à l'épicerie ","                         Ce que je propose à l'épicerie ","                         Ce que je propose à l'épicerie ","                         Ce que je propose à l'épicerie ","                         Ce que je propose à l'épicerie ","                         Ce que je propose à l'épicerie ","                         Ce que je propose à l'épicerie ","                         Ce que je propose à l'épicerie ","                         Ce que je propose à l'épicerie ","                         Ce que je propose à l'épicerie ","                         Ce que je propose à l'épicerie ","                         Ce que je propose à l'épicerie ","                         Ce que je propose à l'épicerie ","                         Ce que je propose à l'épicerie ","                         Ce que je propose à l'épicerie ","                         Ce que je propose à l'épicerie ","                         Ce que je propose à l'épicerie ","                         Ce que je propose à l'épicerie ","                         Ce que je propose à l'épicerie ","                         Ce que je propose à l'épicerie ","                         Ce que je propose à l'épicerie ","                         Ce que je propose à l'épicerie ","                         Ce que je propose à l'épicerie ","                         Ce que je propose à l'épicerie ","                         Ce que je propose à l'épicerie ","                         Ce que je propose à l'épicerie ","                         Ce que je propose à l'épicerie ","                         Ce que je propose à l'épicerie ","                         Ce que je propose à l'épicerie ","                         Ce que je propose à l'épicerie ","                         Ce que je propose à l'épicerie ","                         Ce que je propose à l'épicerie ","                         Ce que je propose à l'épicerie ","                         Ce que je propose à l'épicerie ","                         Ce que je propose à l'épicerie ","                         Ce que je propose à l'épicerie ","                         Ce que je propose à l'épicerie ","                         Ce que je propose à l'épicerie ","                         Ce que je propose à l'épicerie ","                         Ce que je propose à l'épicerie ","                         Ce que je propose à l'épicerie ","                         Ce que je propose à l'épicerie ","                         Ce que je propose à l'épicerie ","                         Ce que je propose à l'épicerie ","                         Ce que je propose à l'épicerie ","                         Ce que je propose à l'épicerie ","                         Ce que je propose à l'épicerie ","                         Ce que je propose à l'épicerie ","                         Ce que je propose à l'épicerie ","                         Ce que je propose à l'épicerie ","                         Ce que je propose à l'épicerie ","                         Ce que je propose à l'épicerie ","                         Ce que je propose à l'épicerie ","                         Ce que je propose à l'épicerie ","                         Ce que je propose à l'épicerie ","                         Ce que je propose à l'épicerie ","                         Ce que je propose à l'épicerie ","                         Ce que je propose à l'épicerie ","                         Ce que je propose à l'épicerie ","                         Ce que je propose à l'épicerie ","                         Ce que je propose à l'épicerie ","                         Ce que je propose à l'épicerie ","                         Ce que je propose à l'épicerie ","                         Ce que je propose à l'épicerie ","                         Ce que je propose à l'épicerie ","                         Ce que je propose à l'épicerie ","                         Ce que je propose à l'épicerie ","                         Ce que je propose à l'épicerie ","                         Ce que je propose à l'épicerie ","                         Ce que je propose à l'épicerie ","                         Ce que je propose à l'épicerie ","                         Ce que je propose à l'épicerie ","                         Ce que je propose à l'épicerie ","                         Ce que je propose à l'épicerie ","                         Ce que je propose à l'épicerie ","                         Ce que je propose à l'épicerie ","                         Ce que je propose à l'épicerie ","                         Ce que je propose à l'épicerie ","                         Ce que je propose à l'épicerie ","                         Ce que je propose à l'épicerie ","                         Ce que je propose à l'épicerie ","                         Ce que je propose à l'épicerie ","                         Ce que je propose à l'épicerie ","                         Ce que je propose à l'épicerie ","                         Ce que je propose à l'épicerie ","                         Ce que je propose à l'épicerie ","                         Ce que je propose à l'épicerie ","                         Ce que je propose à l'épicerie ","                         Ce que je propose à l'épicerie ","                         Ce que je propose à l'épicerie ","                         Ce que je propose à l'épicerie ","                         Ce que je propose à l'épicerie ","                         Ce que je propose à l'épicerie ","                         Ce que je propose à l'épicerie ","                         Ce que je propose à l'épicerie ","                         Ce que je propose à l'épicerie ","                         Ce que je propose à l'épicerie ","                         Ce que je propose à l'épicerie ","                         Ce que je propose à l'épicerie ","                         Ce que je propose à l'épicerie ","                         Ce que je propose à l'épicerie ","                         Ce que je propose à l'épicerie ","                         Ce que je propose à l'épicerie ","                         Ce que je propose à l'épicerie ","                         Ce que je propose à l'épicerie ","                         Ce que je propose à l'épicerie ","                         Ce que je propose à l'épicerie ","                         Ce que je propose à l'épicerie ","                         Ce que je propose à l'épicerie ","                         Ce que je propose à l'épicerie ","                         Ce que je propose à l'épicerie ","                         Ce que je propose à l'épicerie ","                         Ce que je propose à l'épicerie ","                         Ce que je propose à l'épicerie ","                         Ce que je propose à l'épicerie ","                         Ce que je propose à l'épicerie ","                         Ce que je propose à l'épicerie ","                         Ce que je propose à l'épicerie ","                         Ce que je propose à l'épicerie ","                         Ce que je propose à l'épicerie ","                         Ce que je propose à l'épicerie ","                         Ce que je propose à l'épicerie ","                         Ce que je propose à l'épicerie ","                         Ce que je propose à l'épicerie ","                         Ce que je propose à l'épicerie ","                         Ce que je propose à l'épicerie ","                         Ce que je propose à l'épicerie ","                         Ce que je propose à l'épicerie ","                         Ce que je propose à l'épicerie ","                         Ce que je propose à l'épicerie ","                         Ce que je propose à l'épicerie ","                         Ce que je propose à l'épicerie ","                         Ce que je propose à l'épicerie ","                         Ce que je propose à l'épicerie ","                         Ce que je propose à l'épicerie ","                         Ce que je propose à l'épicerie ","                         Ce que je propose à l'épicerie ","                         Ce que je propose à l'épicerie ","                         Ce que je propose à l'épicerie ","                         Ce que je propose à l'épicerie ","                         Ce que je propose à l'épicerie ","                         Ce que je propose à l'épicerie ","                         Ce que je propose à l'épicerie ","                         Ce que je propose à l'épicerie ","                         Ce que je propose à l'épicerie ","                         Ce que je propose à l'épicerie ","                         Ce que je propose à l'épicerie ","                         Ce que je propose à l'épicerie ","                         Ce que je propose à l'épicerie ","                         Ce que je propose à l'épicerie ","                         Ce que je propose à l'épicerie ","                         Ce que je propose à l'épicerie ","                         Ce que je propose à l'épicerie ","                         Ce que je propose à l'épicerie ","                         Ce que je propose à l'épicerie ","                         Ce que je propose à l'épicerie ","                         Ce que je propose à l'épicerie ","                         Ce que je propose à l'épicerie ","                         Ce que je propose à l'épicerie ","                         Ce que je propose à l'épicerie ","                         Ce que je propose à l'épicerie ","                         Ce que je propose à l'épicerie ","                         Ce que je propose à l'épicerie ","                         Ce que je propose à l'épicerie ","                         Ce que je propose à l'épicerie ","                         Ce que je propose à l'épicerie ","                         Ce que je propose à l'épicerie ","                         Ce que je propose à l'épicerie ","                         Ce que je propose à l'épicerie ","                         Ce que je propose à l'épicerie ","                         Ce que je propose à l'épicerie ","                         Ce que je propose à l'épicerie ","                         Ce que je propose à l'épicerie ","                         Ce que je propose à l'épicerie ","                         Ce que je propose à l'épicerie ","                         Ce que je propose à l'épicerie ","                         Ce que je propose à l'épicerie ","                         Ce que je propose à l'épicerie ","                         Ce que je propose à l'épicerie ","                         Ce que je propose à l'épicerie ","                         Ce que je propose à l'épicerie ","                         Ce que je propose à l'épicerie ","                         Ce que je propose à l'épicerie ","                         Ce que je propose à l'épicerie ","                         Ce que je propose à l'épicerie ","                         Ce que je propose à l'épicerie ","                         Ce que je propose à l'épicerie ","                         Ce que je propose à l'épicerie ","                         Ce que je propose à l'épicerie ","                         Ce que je propose à l'épicerie ","                         Ce que je propose à l'épicerie ","                         Ce que je propose à l'épicerie ","                         Ce que je propose à l'épicerie ","                         Ce que je propose à l'épicerie ","                         Ce que je propose à l'épicerie ","                         Ce que je propose à l'épicerie ","                         Ce que je propose à l'épicerie ","                         Ce que je propose à l'épicerie ","                         Ce que je propose à l'épicerie ","                         Ce que je propose à l'épicerie ","                         Ce que je propose à l'épicerie ","                         Ce que je propose à l'épicerie ","                         Ce que je propose à l'épicerie ","                         Ce que je propose à l'épicerie ","                         Ce que je propose à l'épicerie ","                         Ce que je propose à l'épicerie ","                         Ce que je propose à l'épicerie ","                         Ce que je propose à l'épicerie ","                         Ce que je propose à l'épicerie ","                         Ce que je propose à l'épicerie ","                         Ce que je propose à l'épicerie ","                         Ce que je propose à l'épicerie ","                         Ce que je propose à l'épicerie ","                         Ce que je propose à l'épicerie ","                         Ce que je propose à l'épicerie ","                         Ce que je propose à l'épicerie ","                         Ce que je propose à l'épicerie ","                         Ce que je propose à l'épicerie ","                         Ce que je propose à l'épicerie ","                         Ce que je propose à l'épicerie ","                         Ce que je propose à l'épicerie ","                         Ce que je propose à l'épicerie ","                         Ce que je propose à l'épicerie ","                         Ce que je propose à l'épicerie ","                         Ce que je propose à l'épicerie ","                         Ce que je propose à l'épicerie ","                         Ce que je propose à l'épicerie ","                         Ce que je propose à l'épicerie ","                         Ce que je propose à l'épicerie ","                         Ce que je propose à l'épicerie ","                         Ce que je propose à l'épicerie ","                         Ce que je propose à l'épicerie ","                         Ce que je propose à l'épicerie ","                         Ce que je propose à l'épicerie ","                         Ce que je propose à l'épicerie ","                         Ce que je propose à l'épicerie ","                         Ce que je propose à l'épicerie ","                         Ce que je propose à l'épicerie ","                         Ce que je propose à l'épicerie ","                         Ce que je propose à l'épicerie ","                         Ce que je propose à l'épicerie ","                         Ce que je propose à l'épicerie ","                         Ce que je propose à l'épicerie ","                         Ce que je propose à l'épicerie ","                         Ce que je propose à l'épicerie ","                         Ce que je propose à l'épicerie ","                         Ce que je propose à l'épicerie ","                         Ce que je propose à l'épicerie ","                         Ce que je propose à l'épicerie ","                         Ce que je propose à l'épicerie ","                         Ce que je propose à l'épicerie ","                         Ce que je propose à l'épicerie ","                         Ce que je propose à l'épicerie ","                         Ce que je propose à l'épicerie ","                         Ce que je propose à l'épicerie ","                         Ce que je propose à l'épicerie ","                         Ce que je propose à l'épicerie ","                         Ce que je propose à l'épicerie ","                         Ce que je propose à l'épicerie ","                         Ce que je propose à l'épicerie ","                         Ce que je propose à l'épicerie ","                         Ce que je propose à l'épicerie ","                         Ce que je propose à l'épicerie ","                         Ce que je propose à l'épicerie ","                         Ce que je propose à l'épicerie ","                         Ce que je propose à l'épicerie ","                         Ce que je propose à l'épicerie ","                         Ce que je propose à l'épicerie ","                         Ce que je propose à l'épicerie ","                         Ce que je propose à l'épicerie ","                         Ce que je propose à l'épicerie ","                         Ce que je propose à l'épicerie ","                         Ce que je propose à l'épicerie ","                         Ce que je propose à l'épicerie ","                         Ce que je propose à l'épicerie ","                         Ce que je propose à l'épicerie ","                         Ce que je propose à l'épicerie ","                         Ce que je propose à l'épicerie ","                         Ce que je propose à l'épicerie ","                         Ce que je propose à l'épicerie ","                         Ce que je propose à l'épicerie ","                         Ce que je propose à l'épicerie ","                         Ce que je propose à l'épicerie ","                         Ce que je propose à l'épicerie ","                         Ce que je propose à l'épicerie ","                         Ce que je propose à l'épicerie ","                         Ce que je propose à l'épicerie ","                         Ce que je propose à l'épicerie ","                         Ce que je propose à l'épicerie ","                         Ce que je propose à l'épicerie ","                         Ce que je propose à l'épicerie ","                         Ce que je propose à l'épicerie ","                         Ce que je propose à l'épicerie ","                         Ce que je propose à l'épicerie ","                         Ce que je propose à l'épicerie ","                         Ce que je propose à l'épicerie ","                         Ce que je propose à l'épicerie ","                         Ce que je propose à l'épicerie ","                         Ce que je propose à l'épicerie ","                         Ce que je propose à l'épicerie ","                         Ce que je propose à l'épicerie ","                         Ce que je propose à l'épicerie ","                         Ce que je propose à l'épicerie ","                         Ce que je propose à l'épicerie ","                         Ce que je propose à l'épicerie ","                         Ce que je propose à l'épicerie ","                         Ce que je propose à l'épicerie ","                         Ce que je propose à l'épicerie ","                         Ce que je propose à l'épicerie ","                         Ce que je propose à l'épicerie ","                         Ce que je propose à l'épicerie ","                         Ce que je propose à l'épicerie ","                         Ce que je propose à l'épicerie ","                         Ce que je propose à l'épicerie ","                         Ce que je propose à l'épicerie ","                         Ce que je propose à l'épicerie ","                         Ce que je propose à l'épicerie ","                         Ce que je propose à l'épicerie ","                         Ce que je propose à l'épicerie ","                         Ce que je propose à l'épicerie ","                         Ce que je propose à l'épicerie ","                         Ce que je propose à l'épicerie ","                         Ce que je propose à l'épicerie ","                         Ce que je propose à l'épicerie ","                         Ce que je propose à l'épicerie ","                         Ce que je propose à l'épicerie ","                         Ce que je propose à l'épicerie ","                         Ce que je propose à l'épicerie ","                         Ce que je propose à l'épicerie ","                         Ce que je propose à l'épicerie ","                         Ce que je propose à l'épicerie ","                         Ce que je propose à l'épicerie ","                         Ce que je propose à l'épicerie ","                         Ce que je propose à l'épicerie ","                         Ce que je propose à l'épicerie ","                         Ce que je propose à l'épicerie ","                         Ce que je propose à l'épicerie ","                         Ce que je propose à l'épicerie ","                         Ce que je propose à l'épicerie ","                         Ce que je propose à l'épicerie ","                         Ce que je propose à l'épicerie ","                         Ce que je propose à l'épicerie ","                         Ce que je propose à l'épicerie ","                         Ce que je propose à l'épicerie ","                         Ce que je propose à l'épicerie ","                         Ce que je propose à l'épicerie ","                         Ce que je propose à l'épicerie ","                         Ce que je propose à l'épicerie ","                         Ce que je propose à l'épicerie ","                         Ce que je propose à l'épicerie ","                         Ce que je propose à l'épicerie ","                         Ce que je propose à l'épicerie ","                         Ce que je propose à l'épicerie ","                         Ce que je propose à l'épicerie ","                         Ce que je propose à l'épicerie ","                         Ce que je propose à l'épicerie ","                         Ce que je propose à l'épicerie ","                         Ce que je propose à l'épicerie ","                         Ce que je propose à l'épicerie ","                         Ce que je propose à l'épicerie ","                         Ce que je propose à l'épicerie ","                         Ce que je propose à l'épicerie ","                         Ce que je propose à l'épicerie ","                         Ce que je propose à l'épicerie ","                         Ce que je propose à l'épicerie ","                         Ce que je propose à l'épicerie ","                         Ce que je propose à l'épicerie ","                         Ce que je propose à l'épicerie ","                         Ce que je propose à l'épicerie ","                         Ce que je propose à l'épicerie ","                         Ce que je propose à l'épicerie ","                         Ce que je propose à l'épicerie ","                         Ce que je propose à l'épicerie ","                         Ce que je propose à l'épicerie ","                         Ce que je propose à l'épicerie ","                         Ce que je propose à l'épicerie ","                         Ce que je propose à l'épicerie ","                         Ce que je propose à l'épicerie ","                         Ce que je propose à l'épicerie ","                         Ce que je propose à l'épicerie ","                         Ce que je propose à l'épicerie ","                         Ce que je propose à l'épicerie ","                         Ce que je propose à l'épicerie ","                         Ce que je propose à l'épicerie ","                         Ce que je propose à l'épicerie ","                         Ce que je propose à l'épicerie ","                         Ce que je propose à l'épicerie ","                         Ce que je propose à l'épicerie ","                         Ce que je propose à l'épicerie ","                         Ce que je propose à l'épicerie ","                         Ce que je propose à l'épicerie ","                         Ce que je propose à l'épicerie ","                         Ce que je propose à l'épicerie ","                         Ce que je propose à l'épicerie ","                         Ce que je propose à l'épicerie ","                         Ce que je propose à l'épicerie ","                         Ce que je propose à l'épicerie ","                         Ce que je propose à l'épicerie ","                         Ce que je propose à l'épicerie ","                         Ce que je propose à l'épicerie ","                         Ce que je propose à l'épicerie ","                         Ce que je propose à l'épicerie ","                         Ce que je propose à l'épicerie ","                         Ce que je propose à l'épicerie ","                         Ce que je propose à l'épicerie ","                         Ce que je propose à l'épicerie ","                         Ce que je propose à l'épicerie ","                         Ce que je propose à l'épicerie ","                         Ce que je propose à l'épicerie ","                         Ce que je propose à l'épicerie ","                         Ce que je propose à l'épicerie ","                         Ce que je propose à l'épicerie ","                         Ce que je propose à l'épicerie ","                         Ce que je propose à l'épicerie ","                         Ce que je propose à l'épicerie ","                         Ce que je propose à l'épicerie ","                         Ce que je propose à l'épicerie ","                         Ce que je propose à l'épicerie ","                         Ce que je propose à l'épicerie ","                         Ce que je propose à l'épicerie ","                         Ce que je propose à l'épicerie ","                         Ce que je propose à l'épicerie ","                         Ce que je propose à l'épicerie ","                         Ce que je propose à l'épicerie ","                         Ce que je propose à l'épicerie ","                         Ce que je propose à l'épicerie ","                         Ce que je propose à l'épicerie ","                         Ce que je propose à l'épicerie ","                         Ce que je propose à l'épicerie ","                         Ce que je propose à l'épicerie ","                         Ce que je propose à l'épicerie ","                         Ce que je propose à l'épicerie ","                         Ce que je propose à l'épicerie ","                         Ce que je propose à l'épicerie ","                         Ce que je propose à l'épicerie ","                         Ce que je propose à l'épicerie ","                         Ce que je propose à l'épicerie ","                         Ce que je propose à l'épicerie ","                         Ce que je propose à l'épicerie ","                         Ce que je propose à l'épicerie ","                         Ce que je propose à l'épicerie ","                         Ce que je propose à l'épicerie ","                         Ce que je propose à l'épicerie ","                         Ce que je propose à l'épicerie ","                         Ce que je propose à l'épicerie ","                         Ce que je propose à l'épicerie ","                         Ce que je propose à l'épicerie ","                         Ce que je propose à l'épicerie ","                         Ce que je propose à l'épicerie ","                         Ce que je propose à l'épicerie ","                         Ce que je propose à l'épicerie ","                         Ce que je propose à l'épicerie ","                         Ce que je propose à l'épicerie ","                         Ce que je propose à l'épicerie ","                         Ce que je propose à l'épicerie ","                         Ce que je propose à l'épicerie ","                         Ce que je propose à l'épicerie ","                         Ce que je propose à l'épicerie ","                         Ce que je propose à l'épicerie ","                         Ce que je propose à l'épicerie ","                         Ce que je propose à l'épicerie ","                         Ce que je propose à l'épicerie ","                         Ce que je propose à l'épicerie ","                         Ce que je propose à l'épicerie ","                         Ce que je propose à l'épicerie ","                         Ce que je propose à l'épicerie ","                         Ce que je propose à l'épicerie ","                         Ce que je propose à l'épicerie ","                         Ce que je propose à l'épicerie ","                         Ce que je propose à l'épicerie ","                         Ce que je propose à l'épicerie ","                         Ce que je propose à l'épicerie ","                         Ce que je propose à l'épicerie ","                         Ce que je propose à l'épicerie ","                         Ce que je propose à l'épicerie ","                         Ce que je propose à l'épicerie ","                         Ce que je propose à l'épicerie ","                         Ce que je propose à l'épicerie ","                         Ce que je propose à l'épicerie ","                         Ce que je propose à l'épicerie ","                         Ce que je propose à l'épicerie ","                         Ce que je propose à l'épicerie ","                         Ce que je propose à l'épicerie ","                         Ce que je propose à l'épicerie ","                         Ce que je propose à l'épicerie ","                         Ce que je propose à l'épicerie ","                         Ce que je propose à l'épicerie ","                         Ce que je propose à l'épicerie ","                         Ce que je propose à l'épicerie ","                         Ce que je propose à l'épicerie ","                         Ce que je propose à l'épicerie ","                         Ce que je propose à l'épicerie ","                         Ce que je propose à l'épicerie ","                         Ce que je propose à l'épicerie ","                         Ce que je propose à l'épicerie ","                         Ce que je propose à l'épicerie ","                         Ce que je propose à l'épicerie ","                         Ce que je propose à l'épicerie ","                         Ce que je propose à l'épicerie ","                         Ce que je propose à l'épicerie ","                         Ce que je propose à l'épicerie ","                         Ce que je propose à l'épicerie ","                         Ce que je propose à l'épicerie ","                         Ce que je propose à l'épicerie ","                         Ce que je propose à l'épicerie ","                         Ce que je propose à l'épicerie ","                         Ce que je propose à l'épicerie ","                         Ce que je propose à l'épicerie ","                         Ce que je propose à l'épicerie ","                         Ce que je propose à l'épicerie ","                         Ce que je propose à l'épicerie ","                         Ce que je propose à l'épicerie ","                         Ce que je propose à l'épicerie ","                         Ce que je propose à l'épicerie ","                         Ce que je propose à l'épicerie ","                         Ce que je propose à l'épicerie ","                         Ce que je propose à l'épicerie ","                         Ce que je propose à l'épicerie ","                         Ce que je propose à l'épicerie ","                         Ce que je propose à l'épicerie ","                         Ce que je propose à l'épicerie ","                         Ce que je propose à l'épicerie ","                         Ce que je propose à l'épicerie ","                         Ce que je propose à l'épicerie ","                         Ce que je propose à l'épicerie ","                         Ce que je propose à l'épicerie ","                         Ce que je propose à l'épicerie ","                         Ce que je propose à l'épicerie ","                         Ce que je propose à l'épicerie ","                         Ce que je propose à l'épicerie ","                         Ce que je propose à l'épicerie ","                         Ce que je propose à l'épicerie ","                         Ce que je propose à l'épicerie ","                         Ce que je propose à l'épicerie ","                         Ce que je propose à l'épicerie ","                         Ce que je propose à l'épicerie ","                         Ce que je propose à l'épicerie ","                         Ce que je propose à l'épicerie ","                         Ce que je propose à l'épicerie ","                         Ce que je propose à l'épicerie ","                         Ce que je propose à l'épicerie ","                         Ce que je propose à l'épicerie ","                         Ce que je propose à l'épicerie ","                         Ce que je propose à l'épicerie ","                         Ce que je propose à l'épicerie ","                         Ce que je propose à l'épicerie ","                         Ce que je propose à l'épicerie ","                         Ce que je propose à l'épicerie ","                         Ce que je propose à l'épicerie ","                         Ce que je propose à l'épicerie ","                         Ce que je propose à l'épicerie ","                         Ce que je propose à l'épicerie ","                         Ce que je propose à l'épicerie ","                         Ce que je propose à l'épicerie ","                         Ce que je propose à l'épicerie ","                         Ce que je propose à l'épicerie ","                         Ce que je propose à l'épicerie ","                         Ce que je propose à l'épicerie ","                         Ce que je propose à l'épicerie ","                         Ce que je propose à l'épicerie ","                         Ce que je propose à l'épicerie ","                         Ce que je propose à l'épicerie ","                         Ce que je propose à l'épicerie ","                         Ce que je propose à l'épicerie ","                         Ce que je propose à l'épicerie ","                         Ce que je propose à l'épicerie ","                         Ce que je propose à l'épicerie ","                         Ce que je propose à l'épicerie ","                         Ce que je propose à l'épicerie ","                         Ce que je propose à l'épicerie ","                         Ce que je propose à l'épicerie ","                         Ce que je propose à l'épicerie ","                         Ce que je propose à l'épicerie ","                         Ce que je propose à l'épicerie ","                         Ce que je propose à l'épicerie ","                         Ce que je propose à l'épicerie ","                         Ce que je propose à l'épicerie ","                         Ce que je propose à l'épicerie ","                         Ce que je propose à l'épicerie ","                         Ce que je propose à l'épicerie ","                         Ce que je propose à l'épicerie ","                         Ce que je propose à l'épicerie ","                         Ce que je propose à l'épicerie ","                         Ce que je propose à l'épicerie ","                         Ce que je propose à l'épicerie ","                         Ce que je propose à l'épicerie ","                         Ce que je propose à l'épicerie ","                         Ce que je propose à l'épicerie ","                         Ce que je propose à l'épicerie ","                         Ce que je propose à l'épicerie ","                         Ce que je propose à l'épicerie ","                         Ce que je propose à l'épicerie ","                         Ce que je propose à l'épicerie ","                         Ce que je propose à l'épicerie ","                         Ce que je propose à l'épicerie ","                         Ce que je propose à l'épicerie ","                         Ce que je propose à l'épicerie ","                         Ce que je propose à l'épicerie ","                         Ce que je propose à l'épicerie ","                         Ce que je propose à l'épicerie ","                         Ce que je propose à l'épicerie ","                         Ce que je propose à l'épicerie ","                         Ce que je propose à l'épicerie ","                         Ce que je propose à l'épicerie ","                         Ce que je propose à l'épicerie ","                         Ce que je propose à l'épicerie ","                         Ce que je propose à l'épicerie ","                         Ce que je propose à l'épicerie ","                         Ce que je propose à l'épicerie ","                         Ce que je propose à l'épicerie ","                         Ce que je propose à l'épicerie ","                         Ce que je propose à l'épicerie ","                         Ce que je propose à l'épicerie ","                         Ce que je propose à l'épicerie ","                         Ce que je propose à l'épicerie ","                         Ce que je propose à l'épicerie ","                         Ce que je propose à l'épicerie ","                         Ce que je propose à l'épicerie ","                         Ce que je propose à l'épicerie ","                         Ce que je propose à l'épicerie ","                         Ce que je propose à l'épicerie ","                         Ce que je propose à l'épicerie ","                         Ce que je propose à l'épicerie ","                         Ce que je propose à l'épicerie ","                         Ce que je propose à l'épicerie ","                         Ce que je propose à l'épicerie ","                         Ce que je propose à l'épicerie ","                         Ce que je propose à l'épicerie ","                         Ce que je propose à l'épicerie ","                         Ce que je propose à l'épicerie ","                         Ce que je propose à l'épicerie ","                         Ce que je propose à l'épicerie ","                         Ce que je propose à l'épicerie ","                         Ce que je propose à l'épicerie ","                         Ce que je propose à l'épicerie ","                         Ce que je propose à l'épicerie ","                         Ce que je propose à l'épicerie ","                         Ce que je propose à l'épicerie ","                         Ce que je propose à l'épicerie ","                         Ce que je propose à l'épicerie ","                         Ce que je propose à l'épicerie ","                         Ce que je propose à l'épicerie ","                         Ce que je propose à l'épicerie ","                         Ce que je propose à l'épicerie ","                         Ce que je propose à l'épicerie ","                         Ce que je propose à l'épicerie ","                         Ce que je propose à l'épicerie ","                         Ce que je propose à l'épicerie ","                         Ce que je propose à l'épicerie ","                         Ce que je propose à l'épicerie ","                         Ce que je propose à l'épicerie ","                         Ce que je propose à l'épicerie ","                         Ce que je propose à l'épicerie ","                         Ce que je propose à l'épicerie ","                         Ce que je propose à l'épicerie ","                         Ce que je propose à l'épicerie ","                         Ce que je propose à l'épicerie ","                         Ce que je propose à l'épicerie ","                         Ce que je propose à l'épicerie ","                         Ce que je propose à l'épicerie ","                         Ce que je propose à l'épicerie ","                         Ce que je propose à l'épicerie ","                         Ce que je propose à l'épicerie ","                         Ce que je propose à l'épicerie ","                         Ce que je propose à l'épicerie ","                         Ce que je propose à l'épicerie ","                         Ce que je propose à l'épicerie ","                         Ce que je propose à l'épicerie ","                         Ce que je propose à l'épicerie ","                         Ce que je propose à l'épicerie ","                         Ce que je propose à l'épicerie ","                         Ce que je propose à l'épicerie ","                         Ce que je propose à l'épicerie ","                         Ce que je propose à l'épicerie ","                         Ce que je propose à l'épicerie ","                         Ce que je propose à l'épicerie ","                         Ce que je propose à l'épicerie ","                         Ce que je propose à l'épicerie ","                         Ce que je propose à l'épicerie ","                         Ce que je propose à l'épicerie ","                         Ce que je propose à l'épicerie ","                         Ce que je propose à l'épicerie ","                         Ce que je propose à l'épicerie ","                         Ce que je propose à l'épicerie ","                         Ce que je propose à l'épicerie ","                         Ce que je propose à l'épicerie ","                         Ce que je propose à l'épicerie ","                         Ce que je propose à l'épicerie ","                         Ce que je propose à l'épicerie ","                         Ce que je propose à l'épicerie ","                         Ce que je propose à l'épicerie ","                         Ce que je propose à l'épicerie ","                         Ce que je propose à l'épicerie ","                         Ce que je propose à l'épicerie ","                         Ce que je propose à l'épicerie ","                         Ce que je propose à l'épicerie ","                         Ce que je propose à l'épicerie ","                         Ce que je propose à l'épicerie ","                         Ce que je propose à l'épicerie ","                         Ce que je propose à l'épicerie ","                         Ce que je propose à l'épicerie ","                         Ce que je propose à l'épicerie ","                         Ce que je propose à l'épicerie ","                         Ce que je propose à l'épicerie ","                         Ce que je propose à l'épicerie ","                         Ce que je propose à l'épicerie ","                         Ce que je propose à l'épicerie ","                         Ce que je propose à l'épicerie ","                         Ce que je propose à l'épicerie ","                         Ce que je propose à l'épicerie ","                         Ce que je propose à l'épicerie ","                         Ce que je propose à l'épicerie ","                         Ce que je propose à l'épicerie ","                         Ce que je propose à l'épicerie ","                         Ce que je propose à l'épicerie ","                         Ce que je propose à l'épicerie ","                         Ce que je propose à l'épicerie ","                         Ce que je propose à l'épicerie ","                         Ce que je propose à l'épicerie ","                         Ce que je propose à l'épicerie ","                         Ce que je propose à l'épicerie ","                         Ce que je propose à l'épicerie ","                         Ce que je propose à l'épicerie ","                         Ce que je propose à l'épicerie ","                         Ce que je propose à l'épicerie ","                         Ce que je propose à l'épicerie ","                         Ce que je propose à l'épicerie ","                         Ce que je propose à l'épicerie ","                         Ce que je propose à l'épicerie ","                         Ce que je propose à l'épicerie ","                         Ce que je propose à l'épicerie ","                         Ce que je propose à l'épicerie ","                         Ce que je propose à l'épicerie ","                         Ce que je propose à l'épicerie ","                         Ce que je propose à l'épicerie ","                         Ce que je propose à l'épicerie ","                         Ce que je propose à l'épicerie ","                         Ce que je propose à l'épicerie ","                         Ce que je propose à l'épicerie ","                         Ce que je propose à l'épicerie ","                         Ce que je propose à l'épicerie ","                         Ce que je propose à l'épicerie ","                         Ce que je propose à l'épicerie ","                         Ce que je propose à l'épicerie ","                         Ce que je propose à l'épicerie ","                         Ce que je propose à l'épicerie ","                         Ce que je propose à l'épicerie ","                         Ce que je propose à l'épicerie ","                         Ce que je propose à l'épicerie ","                         Ce que je propose à l'épicerie ","                         Ce que je propose à l'épicerie ","                         Ce que je propose à l'épicerie ","                         Ce que je propose à l'épicerie ","                         Ce que je propose à l'épicerie ","                         Ce que je propose à l'épicerie ","                         Ce que je propose à l'épicerie ","                         Ce que je propose à l'épicerie ","                         Ce que je propose à l'épicerie ","                         Ce que je propose à l'épicerie ","                         Ce que je propose à l'épicerie ","                         Ce que je propose à l'épicerie ","                         Ce que je propose à l'épicerie ","                         Ce que je propose à l'épicerie ","                         Ce que je propose à l'épicerie ","                         Ce que je propose à l'épicerie ","                         Ce que je propose à l'épicerie ","                         Ce que je propose à l'épicerie ","                         Ce que je propose à l'épicerie ","                         Ce que je propose à l'épicerie ","                         Ce que je propose à l'épicerie ","                         Ce que je propose à l'épicerie ","                         Ce que je propose à l'épicerie ","                         Ce que je propose à l'épicerie ","                         Ce que je propose à l'épicerie ","                         Ce que je propose à l'épicerie ","                         Ce que je propose à l'épicerie ","                         Ce que je propose à l'épicerie ","                         Ce que je propose à l'épicerie ","                         Ce que je propose à l'épicerie ","                         Ce que je propose à l'épicerie ","                         Ce que je propose à l'épicerie ","                         Ce que je propose à l'épicerie ","                         Ce que je propose à l'épicerie ","                         Ce que je propose à l'épicerie ","                         Ce que je propose à l'épicerie ","                         Ce que je propose à l'épicerie ","                         Ce que je propose à l'épicerie ","                         Ce que je propose à l'épicerie ","                         Ce que je propose à l'épicerie ","                         Ce que je propose à l'épicerie ","                         Ce que je propose à l'épicerie ","                         Ce que je propose à l'épicerie ","                         Ce que je propose à l'épicerie ","                         Ce que je propose à l'épicerie ","                         Ce que je propose à l'épicerie ","                         Ce que je propose à l'épicerie ","                         Ce que je propose à l'épicerie ","                         Ce que je propose à l'épicerie ","                         Ce que je propose à l'épicerie ","                         Ce que je propose à l'épicerie ","                         Ce que je propose à l'épicerie ","                         Ce que je propose à l'épicerie ","                         Ce que je propose à l'épicerie ","                         Ce que je propose à l'épicerie ","                         Ce que je propose à l'épicerie ","                         Ce que je propose à l'épicerie ","                         Ce que je propose à l'épicerie ","                         Ce que je propose à l'épicerie ","                         Ce que je propose à l'épicerie ","                         Ce que je propose à l'épicerie ","                         Ce que je propose à l'épicerie ","                         Ce que je propose à l'épicerie ","                         Ce que je propose à l'épicerie ","                         Ce que je propose à l'épicerie ","                         Ce que je propose à l'épicerie ","                         Ce que je propose à l'épicerie ","                         Ce que je propose à l'épicerie ","                         Ce que je propose à l'épicerie ","                         Ce que je propose à l'épicerie ","                         Ce que je propose à l'épicerie ","                         Ce que je propose à l'épicerie ","                         Ce que je propose à l'épicerie ","                         Ce que je propose à l'épicerie ","                         Ce que je propose à l'épicerie ","                         Ce que je propose à l'épicerie ","                         Ce que je propose à l'épicerie ","                         Ce que je propose à l'épicerie ","                         Ce que je propose à l'épicerie ","                         Ce que je propose à l'épicerie ","                         Ce que je propose à l'épicerie ","                         Ce que je propose à l'épicerie ","                         Ce que je propose à l'épicerie ","                         Ce que je propose à l'épicerie ","                         Ce que je propose à l'épicerie ","                         Ce que je propose à l'épicerie ","                         Ce que je propose à l'épicerie ","                         Ce que je propose à l'épicerie ","                         Ce que je propose à l'épicerie ","                         Ce que je propose à l'épicerie ","                         Ce que je propose à l'épicerie ","                         Ce que je propose à l'épicerie ","                         Ce que je propose à l'épicerie ","                         Ce que je propose à l'épicerie ","                         Ce que je propose à l'épicerie ","                         Ce que je propose à l'épicerie ","                         Ce que je propose à l'épicerie ","                         Ce que je propose à l'épicerie ","                         Ce que je propose à l'épicerie ","                         Ce que je propose à l'épicerie ","                         Ce que je propose à l'épicerie ","                         Ce que je propose à l'épicerie ","                         Ce que je propose à l'épicerie ","                         Ce que je propose à l'épicerie ","                         Ce que je propose à l'épicerie ","                         Ce que je propose à l'épicerie ","                         Ce que je propose à l'épicerie ","                         Ce que je propose à l'épicerie ","                         Ce que je propose à l'épicerie ","                         Ce que je propose à l'épicerie ","                         Ce que je propose à l'épicerie ","                         Ce que je propose à l'épicerie ","                         Ce que je propose à l'épicerie ","                         Ce que je propose à l'épicerie ","                         Ce que je propose à l'épicerie ","                         Ce que je propose à l'épicerie ","                         Ce que je propose à l'épicerie ","                         Ce que je propose à l'épicerie ","                         Ce que je propose à l'épicerie ","                         Ce que je propose à l'épicerie ","                         Ce que je propose à l'épicerie ","                         Ce que je propose à l'épicerie ","                         Ce que je propose à l'épicerie ","                         Ce que je propose à l'épicerie ","                         Ce que je propose à l'épicerie ","                         Ce que je propose à l'épicerie ","                         Ce que je propose à l'épicerie ","                         Ce que je propose à l'épicerie ","                         Ce que je propose à l'épicerie ","                         Ce que je propose à l'épicerie ","                         Ce que je propose à l'épicerie ","                         Ce que je propose à l'épicerie ","                         Ce que je propose à l'épicerie ","                         Ce que je propose à l'épicerie ","                         Ce que je propose à l'épicerie ","                         Ce que je propose à l'épicerie ","                         Ce que je propose à l'épicerie ","                         Ce que je propose à l'épicerie ","                         Ce que je propose à l'épicerie ","                         Ce que je propose à l'épicerie ","                         Ce que je propose à l'épicerie ","                         Ce que je propose à l'épicerie ","                         Ce que je propose à l'épicerie ","                         Ce que je propose à l'épicerie ","                         Ce que je propose à l'épicerie ","                         Ce que je propose à l'épicerie ","                         Ce que je propose à l'épicerie ","                         Ce que je propose à l'épicerie ","                         Ce que je propose à l'épicerie ","                         Ce que je propose à l'épicerie ","                         Ce que je propose à l'épicerie ","                         Ce que je propose à l'épicerie ","                         Ce que je propose à l'épicerie ","                         Ce que je propose à l'épicerie ","                         Ce que je propose à l'épicerie ","                         Ce que je propose à l'épicerie ","                         Ce que je propose à l'épicerie ","                         Ce que je propose à l'épicerie ","                         Ce que je propose à l'épicerie ","                         Ce que je propose à l'épicerie ","                         Ce que je propose à l'épicerie ","                         Ce que je propose à l'épicerie ","                         Ce que je propose à l'épicerie ","                         Ce que je propose à l'épicerie ","                         Ce que je propose à l'épicerie ","                         Ce que je propose à l'épicerie ","                         Ce que je propose à l'épicerie ","                         Ce que je propose à l'épicerie ","                         Ce que je propose à l'épicerie ","                         Ce que je propose à l'épicerie ","                         Ce que je propose à l'épicerie ","                         Ce que je propose à l'épicerie ","                         Ce que je propose à l'épicerie ","                         Ce que je propose à l'épicerie ","                         Ce que je propose à l'épicerie ","                         Ce que je propose à l'épicerie ","                         Ce que je propose à l'épicerie ","                         Ce que je propose à l'épicerie ","                         Ce que je propose à l'épicerie ","                         Ce que je propose à l'épicerie ","                         Ce que je propose à l'épicerie ","                         Ce que je propose à l'épicerie ","                         Ce que je propose à l'épicerie ","                         Ce que je propose à l'épicerie ","                         Ce que je propose à l'épicerie ","                         Ce que je propose à l'épicerie ","                         Ce que je propose à l'épicerie ","                         Ce que je propose à l'épicerie ","                         Ce que je propose à l'épicerie ","                         Ce que je propose à l'épicerie ","                         Ce que je propose à l'épicerie ","                         Ce que je propose à l'épicerie ","                         Ce que je propose à l'épicerie ","                         Ce que je propose à l'épicerie ","                         Ce que je propose à l'épicerie ","                         Ce que je propose à l'épicerie ","                         Ce que je propose à l'épicerie ","                         Ce que je propose à l'épicerie ","                         Ce que je propose à l'épicerie ","                         Ce que je propose à l'épicerie ","                         Ce que je propose à l'épicerie ","                         Ce que je propose à l'épicerie ","                         Ce que je propose à l'épicerie ","                         Ce que je propose à l'épicerie ","                         Ce que je propose à l'épicerie ","                         Ce que je propose à l'épicerie ","                         Ce que je propose à l'épicerie ","                         Ce que je propose à l'épicerie ","                         Ce que je propose à l'épicerie ","                         Ce que je propose à l'épicerie ","                         Ce que je propose à l'épicerie ","                         Ce que je propose à l'épicerie ","                         Ce que je propose à l'épicerie ","                         Ce que je propose à l'épicerie ","                         Ce que je propose à l'épicerie ","                         Ce que je propose à l'épicerie ","                         Ce que je propose à l'épicerie ","                         Ce que je propose à l'épicerie ","                         Ce que je propose à l'épicerie ","                         Ce que je propose à l'épicerie ","                         Ce que je propose à l'épicerie ","                         Ce que je propose à l'épicerie ","                         Ce que je propose à l'épicerie ","                         Ce que je propose à l'épicerie ","                         Ce que je propose à l'épicerie ","                         Ce que je propose à l'épicerie ","                         Ce que je propose à l'épicerie ","                         Ce que je propose à l'épicerie ","                         Ce que je propose à l'épicerie ","                         Ce que je propose à l'épicerie ","                         Ce que je propose à l'épicerie ","                         Ce que je propose à l'épicerie ","                         Ce que je propose à l'épicerie ","                         Ce que je propose à l'épicerie ","                         Ce que je propose à l'épicerie ","                         Ce que je propose à l'épicerie ","                         Ce que je propose à l'épicerie ","                         Ce que je propose à l'épicerie ","                         Ce que je propose à l'épicerie ","                         Ce que je propose à l'épicerie ","                         Ce que je propose à l'épicerie ","                         Ce que je propose à l'épicerie ","                         Ce que je propose à l'épicerie ","                         Ce que je propose à l'épicerie ","                         Ce que je propose à l'épicerie ","                         Ce que je propose à l'épicerie ","                         Ce que je propose à l'épicerie ","                         Ce que je propose à l'épicerie ","                         Ce que je propose à l'épicerie ","                         Ce que je propose à l'épicerie ","                         Ce que je propose à l'épicerie ","                         Ce que je propose à l'épicerie ","                         Ce que je propose à l'épicerie ","                         Ce que je propose à l'épicerie ","                         Ce que je propose à l'épicerie ","                         Ce que je propose à l'épicerie ","                         Ce que je propose à l'épicerie ","                         Ce que je propose à l'épicerie ","                         Ce que je propose à l'épicerie ","                         Ce que je propose à l'épicerie ","                         Ce que je propose à l'épicerie ","                         Ce que je propose à l'épicerie ","                         Ce que je propose à l'épicerie ","                         Ce que je propose à l'épicerie ","                         Ce que je propose à l'épicerie ","                         Ce que je propose à l'épicerie ","                         Ce que je propose à l'épicerie ","                         Ce que je propose à l'épicerie ","                         Ce que je propose à l'épicerie ","                         Ce que je propose à l'épicerie ","                         Ce que je propose à l'épicerie ","                         Ce que je propose à l'épicerie ","                         Ce que je propose à l'épicerie ","                         Ce que je propose à l'épicerie ","                         Ce que je propose à l'épicerie ","                         Ce que je propose à l'épicerie ","                         Ce que je propose à l'épicerie ","                         Ce que je propose à l'épicerie ","                         Ce que je propose à l'épicerie ","                         Ce que je propose à l'épicerie ","                         Ce que je propose à l'épicerie ","                         Ce que je propose à l'épicerie ","                         Ce que je propose à l'épicerie ","                         Ce que je propose à l'épicerie ","                         Ce que je propose à l'épicerie ","                         Ce que je propose à l'épicerie ","                         Ce que je propose à l'épicerie ","                         Ce que je propose à l'épicerie ","                         Ce que je propose à l'épicerie ","                         Ce que je propose à l'épicerie ","                         Ce que je propose à l'épicerie ","                         Ce que je propose à l'épicerie ","                         Ce que je propose à l'épicerie ","                         Ce que je propose à l'épicerie ","                         Ce que je propose à l'épicerie ","                         Ce que je propose à l'épicerie ","                         Ce que je propose à l'épicerie ","                         Ce que je propose à l'épicerie ","                         Ce que je propose à l'épicerie ","                         Ce que je propose à l'épicerie ","                         Ce que je propose à l'épicerie ","                         Ce que je propose à l'épicerie ","                         Ce que je propose à l'épicerie ","                         Ce que je propose à l'épicerie ","                         Ce que je propose à l'épicerie ","                         Ce que je propose à l'épicerie ","                         Ce que je propose à l'épicerie ","                         Ce que je propose à l'épicerie ","                         Ce que je propose à l'épicerie ","                         Ce que je propose à l'épicerie ","                         Ce que je propose à l'épicerie ","                         Ce que je propose à l'épicerie ","                         Ce que je propose à l'épicerie ","                         Ce que je propose à l'épicerie ","                         Ce que je propose à l'épicerie ","                         Ce que je propose à l'épicerie ","                         Ce que je propose à l'épicerie ","                         Ce que je propose à l'épicerie ","                         Ce que je propose à l'épicerie ","                         Ce que je propose à l'épicerie ","                         Ce que je propose à l'épicerie ","                         Ce que je propose à l'épicerie ","                         Ce que je propose à l'épicerie ","                         Ce que je propose à l'épicerie ","                         Ce que je propose à l'épicerie ","                         Ce que je propose à l'épicerie ","                         Ce que je propose à l'épicerie ","                         Ce que je propose à l'épicerie ","                         Ce que je propose à l'épicerie ","                         Ce que je propose à l'épicerie ","                         Ce que je propose à l'épicerie ","                         Ce que je propose à l'épicerie ","                         Ce que je propose à l'épicerie ","                         Ce que je propose à l'épicerie ","                         Ce que je propose à l'épicerie ","                         Ce que je propose à l'épicerie ","                         Ce que je propose à l'épicerie ","                         Ce que je propose à l'épicerie ","                         Ce que je propose à l'épicerie ","                         Ce que je propose à l'épicerie ","                         Ce que je propose à l'épicerie ","                         Ce que je propose à l'épicerie ","                         Ce que je propose à l'épicerie ","                         Ce que je propose à l'épicerie ","                         Ce que je propose à l'épicerie ","                         Ce que je propose à l'épicerie ","                         Ce que je propose à l'épicerie ","                         Ce que je propose à l'épicerie ","                         Ce que je propose à l'épicerie ","                         Ce que je propose à l'épicerie ","                         Ce que je propose à l'épicerie ","                         Ce que je propose à l'épicerie ","                         Ce que je propose à l'épicerie ","                         Ce que je propose à l'épicerie ","                         Ce que je propose à l'épicerie ","                         Ce que je propose à l'épicerie ","                         Ce que je propose à l'épicerie ","                         Ce que je propose à l'épicerie ","                         Ce que je propose à l'épicerie ","                         Ce que je propose à l'épicerie ","                         Ce que je propose à l'épicerie ","                         Ce que je propose à l'épicerie ","                         Ce que je propose à l'épicerie ","                         Ce que je propose à l'épicerie ","                         Ce que je propose à l'épicerie ","                         Ce que je propose à l'épicerie ","                         Ce que je propose à l'épicerie ","                         Ce que je propose à l'épicerie ","                         Ce que je propose à l'épicerie ","                         Ce que je propose à l'épicerie ","                         Ce que je propose à l'épicerie ","                         Ce que je propose à l'épicerie ","                         Ce que je propose à l'épicerie ","                         Ce que je propose à l'épicerie ","                         Ce que je propose à l'épicerie ","                         Ce que je propose à l'épicerie ","                         Ce que je propose à l'épicerie ","                         Ce que je propose à l'épicerie ","                         Ce que je propose à l'épicerie ","                         Ce que je propose à l'épicerie ","                         Ce que je propose à l'épicerie ","                         Ce que je propose à l'épicerie ","                         Ce que je propose à l'épicerie ","                         Ce que je propose à l'épicerie ","                         Ce que je propose à l'épicerie ","                         Ce que je propose à l'épicerie ","                         Ce que je propose à l'épicerie ","                         Ce que je propose à l'épicerie ","                         Ce que je propose à l'épicerie ","                         Ce que je propose à l'épicerie ","                         Ce que je propose à l'épicerie ","                         Ce que je propose à l'épicerie ","                         Ce que je propose à l'épicerie ","                         Ce que je propose à l'épicerie ","                         Ce que je propose à l'épicerie ","                         Ce que je propose à l'épicerie ","                         Ce que je propose à l'épicerie ","                         Ce que je propose à l'épicerie ","                         Ce que je propose à l'épicerie ","                         Ce que je propose à l'épicerie ","                         Ce que je propose à l'épicerie ","                         Ce que je propose à l'épicerie ","                         Ce que je propose à l'épicerie ","                         Ce que je propose à l'épicerie ","                         Ce que je propose à l'épicerie ","                         Ce que je propose à l'épicerie ","                         Ce que je propose à l'épicerie ","                         Ce que je propose à l'épicerie ","                         Ce que je propose à l'épicerie ","                         Ce que je propose à l'épicerie ","                         Ce que je propose à l'épicerie ","                         Ce que je propose à l'épicerie ","                         Ce que je propose à l'épicerie ","                         Ce que je propose à l'épicerie ","                         Ce que je propose à l'épicerie ","                         Ce que je propose à l'épicerie ","                         Ce que je propose à l'épicerie ","                         Ce que je propose à l'épicerie ","                         Ce que je propose à l'épicerie ","                         Ce que je propose à l'épicerie ","                         Ce que je propose à l'épicerie ","                         Ce que je propose à l'épicerie ","                         Ce que je propose à l'épicerie ","                         Ce que je propose à l'épicerie ","                         Ce que je propose à l'épicerie ","                         Ce que je propose à l'épicerie ","                         Ce que je propose à l'épicerie ","                         Ce que je propose à l'épicerie ","                         Ce que je propose à l'épicerie ","                         Ce que je propose à l'épicerie ","                         Ce que je propose à l'épicerie ","                         Ce que je propose à l'épicerie ","                         Ce que je propose à l'épicerie ","                         Ce que je propose à l'épicerie ","                         Ce que je propose à l'épicerie ","                         Ce que je propose à l'épicerie ","                         Ce que je propose à l'épicerie ","                         Ce que je propose à l'épicerie ","                         Ce que je propose à l'épicerie ","                         Ce que je propose à l'épicerie ","                         Ce que je propose à l'épicerie ","                         Ce que je propose à l'épicerie ","                         Ce que je propose à l'épicerie ","                         Ce que je propose à l'épicerie ","                         Ce que je propose à l'épicerie ","                         Ce que je propose à l'épicerie ","                         Ce que je propose à l'épicerie ","                         Ce que je propose à l'épicerie ","                         Ce que je propose à l'épicerie ","                         Ce que je propose à l'épicerie ","                         Ce que je propose à l'épicerie ","                         Ce que je propose à l'épicerie ","                         Ce que je propose à l'épicerie ","                         Ce que je propose à l'épicerie ","                         Ce que je propose à l'épicerie ","                         Ce que je propose à l'épicerie ","                         Ce que je propose à l'épicerie ","                         Ce que je propose à l'épicerie ","                         Ce que je propose à l'épicerie ","                         Ce que je propose à l'épicerie ","                         Ce que je propose à l'épicerie ","                         Ce que je propose à l'épicerie ","                         Ce que je propose à l'épicerie ","                         Ce que je propose à l'épicerie ","                         Ce que je propose à l'épicerie ","                         Ce que je propose à l'épicerie ","                         Ce que je propose à l'épicerie ","                         Ce que je propose à l'épicerie ","                         Ce que je propose à l'épicerie ","                         Ce que je propose à l'épicerie ","                         Ce que je propose à l'épicerie ","                         Ce que je propose à l'épicerie ","                         Ce que je propose à l'épicerie ","                         Ce que je propose à l'épicerie ","                         Ce que je propose à l'épicerie ","                         Ce que je propose à l'épicerie ","                         Ce que je propose à l'épicerie ","                         Ce que je propose à l'épicerie ","                         Ce que je propose à l'épicerie ","                         Ce que je propose à l'épicerie ","                         Ce que je propose à l'épicerie ","                         Ce que je propose à l'épicerie ","                         Ce que je propose à l'épicerie ","                         Ce que je propose à l'épicerie ","                         Ce que je propose à l'épicerie ","                         Ce que je propose à l'épicerie ","                         Ce que je propose à l'épicerie ","                         Ce que je propose à l'épicerie ","                         Ce que je propose à l'épicerie ","                         Ce que je propose à l'épicerie ","                         Ce que je propose à l'épicerie ","                         Ce que je propose à l'épicerie ","                         Ce que je propose à l'épicerie ","                         Ce que je propose à l'épicerie ","                         Ce que je propose à l'épicerie ","                         Ce que je propose à l'épicerie ","                         Ce que je propose à l'épicerie ","                         Ce que je propose à l'épicerie ","                         Ce que je propose à l'épicerie ","                         Ce que je propose à l'épicerie ","                         Ce que je propose à l'épicerie ","                         Ce que je propose à l'épicerie ","                         Ce que je propose à l'épicerie ","                         Ce que je propose à l'épicerie ","                         Ce que je propose à l'épicerie ","                         Ce que je propose à l'épicerie ","                         Ce que je propose à l'épicerie ","                         Ce que je propose à l'épicerie ","                         Ce que je propose à l'épicerie ","                         Ce que je propose à l'épicerie ","                         Ce que je propose à l'épicerie ","                         Ce que je propose à l'épicerie ","                         Ce que je propose à l'épicerie ","                         Ce que je propose à l'épicerie ","                         Ce que je propose à l'épicerie ","                         Ce que je propose à l'épicerie ","                         Ce que je propose à l'épicerie ","                         Ce que je propose à l'épicerie ","                         Ce que je propose à l'épicerie ","                         Ce que je propose à l'épicerie ","                         Ce que je propose à l'épicerie ","                         Ce que je propose à l'épicerie ","                         Ce que je propose à l'épicerie ","                         Ce que je propose à l'épicerie ","                         Ce que je propose à l'épicerie ","                         Ce que je propose à l'épicerie ","                         Ce que je propose à l'épicerie ","                         Ce que je propose à l'épicerie ","                         Ce que je propose à l'épicerie ","                         Ce que je propose à l'épicerie ","                         Ce que je propose à l'épicerie ","                         Ce que je propose à l'épicerie ","                         Ce que je propose à l'épicerie ","                         Ce que je propose à l'épicerie ","                         Ce que je propose à l'épicerie ","                         Ce que je propose à l'épicerie ","                         Ce que je propose à l'épicerie ","                         Ce que je propose à l'épicerie ","                         Ce que je propose à l'épicerie ","                         Ce que je propose à l'épicerie ","                         Ce que je propose à l'épicerie ","                         Ce que je propose à l'épicerie ","                         Ce que je propose à l'épicerie ","                         Ce que je propose à l'épicerie ","                         Ce que je propose à l'épicerie ","                         Ce que je propose à l'épicerie ","                         Ce que je propose à l'épicerie ","                         Ce que je propose à l'épicerie ","                         Ce que je propose à l'épicerie ","                         Ce que je propose à l'épicerie ","                         Ce que je propose à l'épicerie ","                         Ce que je propose à l'épicerie ","                         Ce que je propose à l'épicerie ","                         Ce que je propose à l'épicerie ","                         Ce que je propose à l'épicerie ","                         Ce que je propose à l'épicerie ","                         Ce que je propose à l'épicerie ","                         Ce que je propose à l'épicerie ","                         Ce que je propose à l'épicerie ","                         Ce que je propose à l'épicerie ","                         Ce que je propose à l'épicerie ","                         Ce que je propose à l'épicerie ","                         Ce que je propose à l'épicerie ","                         Ce que je propose à l'épicerie ","                         Ce que je propose à l'épicerie ","                         Ce que je propose à l'épicerie ","                         Ce que je propose à l'épicerie ","                         Ce que je propose à l'épicerie ","                         Ce que je propose à l'épicerie ","                         Ce que je propose à l'épicerie ","                         Ce que je propose à l'épicerie ","                         Ce que je propose à l'épicerie ","                         Ce que je propose à l'épicerie ","                         Ce que je propose à l'épicerie ","                         Ce que je propose à l'épicerie ","                         Ce que je propose à l'épicerie ","                         Ce que je propose à l'épicerie ","                         Ce que je propose à l'épicerie ","                         Ce que je propose à l'épicerie ","                         Ce que je propose à l'épicerie ","                         Ce que je propose à l'épicerie ","                         Ce que je propose à l'épicerie ","                         Ce que je propose à l'épicerie ","                         Ce que je propose à l'épicerie ","                         Ce que je propose à l'épicerie ","                         Ce que je propose à l'épicerie ","                         Ce que je propose à l'épicerie ","                         Ce que je propose à l'épicerie ","                         Ce que je propose à l'épicerie ","                         Ce que je propose à l'épicerie ","                         Ce que je propose à l'épicerie ","                         Ce que je propose à l'épicerie ","                         Ce que je propose à l'épicerie ","                         Ce que je propose à l'épicerie ","                         Ce que je propose à l'épicerie ","                         Ce que je propose à l'épicerie ","                         Ce que je propose à l'épicerie ","                         Ce que je propose à l'épicerie ","                         Ce que je propose à l'épicerie ","                         Ce que je propose à l'épicerie ","                         Ce que je propose à l'épicerie ","                         Ce que je propose à l'épicerie ","                         Ce que je propose à l'épicerie ","                         Ce que je propose à l'épicerie ","                         Ce que je propose à l'épicerie ","                         Ce que je propose à l'épicerie ","                         Ce que je propose à l'épicerie ","                         Ce que je propose à l'épicerie ","                         Ce que je propose à l'épicerie ","                         Ce que je propose à l'épicerie ","                         Ce que je propose à l'épicerie ","                         Ce que je propose à l'épicerie ","                         Ce que je propose à l'épicerie ","                         Ce que je propose à l'épicerie ","                         Ce que je propose à l'épicerie ","                         Ce que je propose à l'épicerie ","                         Ce que je propose à l'épicerie ","                         Ce que je propose à l'épicerie ","                         Ce que je propose à l'épicerie ","                         Ce que je propose à l'épicerie ","                         Ce que je propose à l'épicerie ","                         Ce que je propose à l'épicerie ","                         Ce que je propose à l'épicerie ","                         Ce que je propose à l'épicerie ","                         Ce que je propose à l'épicerie ","                         Ce que je propose à l'épicerie ","                         Ce que je propose à l'épicerie ","                         Ce que je propose à l'épicerie ","                         Ce que je propose à l'épicerie ","                         Ce que je propose à l'épicerie ","                         Ce que je propose à l'épicerie ","                         Ce que je propose à l'épicerie ","                         Ce que je propose à l'épicerie ","                         Ce que je propose à l'épicerie ","                         Ce que je propose à l'épicerie ","                         Ce que je propose à l'épicerie ","                         Ce que je propose à l'épicerie ","                         Ce que je propose à l'épicerie ","                         Ce que je propose à l'épicerie ","                         Ce que je propose à l'épicerie ","                         Ce que je propose à l'épicerie ","                         Ce que je propose à l'épicerie ","                         Ce que je propose à l'épicerie ","                         Ce que je propose à l'épicerie ","                         Ce que je propose à l'épicerie ","                         Ce que je propose à l'épicerie ","                         Ce que je propose à l'épicerie ","                         Ce que je propose à l'épicerie ","                         Ce que je propose à l'épicerie ","                         Ce que je propose à l'épicerie ","                         Ce que je propose à l'épicerie ","                         Ce que je propose à l'épicerie ","                         Ce que je propose à l'épicerie ","                         Ce que je propose à l'épicerie ","                         Ce que je propose à l'épicerie ","                         Ce que je propose à l'épicerie ","                         Ce que je propose à l'épicerie ","                         Ce que je propose à l'épicerie ","                         Ce que je propose à l'épicerie ","                         Ce que je propose à l'épicerie ","                         Ce que je propose à l'épicerie ","                         Ce que je propose à l'épicerie ","                         Ce que je propose à l'épicerie ","                         Ce que je propose à l'épicerie ","                         Ce que je propose à l'épicerie ","                         Ce que je propose à l'épicerie ","                         Ce que je propose à l'épicerie ","                         Ce que je propose à l'épicerie ","                         Ce que je propose à l'épicerie ","                         Ce que je propose à l'épicerie ","                         Ce que je propose à l'épicerie ","                         Ce que je propose à l'épicerie ","                         Ce que je propose à l'épicerie ","                         Ce que je propose à l'épicerie ","                         Ce que je propose à l'épicerie ","                         Ce que je propose à l'épicerie ","                         Ce que je propose à l'épicerie ","                         Ce que je propose à l'épicerie ","                         Ce que je propose à l'épicerie ","                         Ce que je propose à l'épicerie ","                         Ce que je propose à l'épicerie ","                         Ce que je propose à l'épicerie ","                         Ce que je propose à l'épicerie ","                         Ce que je propose à l'épicerie ","                         Ce que je propose à l'épicerie ","                         Ce que je propose à l'épicerie ","                         Ce que je propose à l'épicerie ","                         Ce que je propose à l'épicerie ","                         Ce que je propose à l'épicerie ","                         Ce que je propose à l'épicerie ","                         Ce que je propose à l'épicerie ","                         Ce que je propose à l'épicerie ","                         Ce que je propose à l'épicerie ","                         Ce que je propose à l'épicerie ","                         Ce que je propose à l'épicerie ","                         Ce que je propose à l'épicerie ","                         Ce que je propose à l'épicerie ","                         Ce que je propose à l'épicerie ","                         Ce que je propose à l'épicerie ","                         Ce que je propose à l'épicerie ","                         Ce que je propose à l'épicerie ","                         Ce que je propose à l'épicerie ","                         Ce que je propose à l'épicerie ","                         Ce que je propose à l'épicerie ","                         Ce que je propose à l'épicerie ","                         Ce que je propose à l'épicerie ","                         Ce que je propose à l'épicerie ","                         Ce que je propose à l'épicerie ","                         Ce que je propose à l'épicerie ","                         Ce que je propose à l'épicerie ","                         Ce que je propose à l'épicerie ","                         Ce que je propose à l'épicerie ","                         Ce que je propose à l'épicerie ","                         Ce que je propose à l'épicerie ","                         Ce que je propose à l'épicerie ","                         Ce que je propose à l'épicerie ","                         Ce que je propose à l'épicerie ","                         Ce que je propose à l'épicerie ","                         Ce que je propose à l'épicerie ","                         Ce que je propose à l'épicerie ","                         Ce que je propose à l'épicerie ","                         Ce que je propose à l'épicerie ","                         Ce que je propose à l'épicerie ","                         Ce que je propose à l'épicerie ","                         Ce que je propose à l'épicerie ","                         Ce que je propose à l'épicerie ","                         Ce que je propose à l'épicerie ","                         Ce que je propose à l'épicerie ","                         Ce que je propose à l'épicerie ","                         Ce que je propose à l'épicerie ","                         Ce que je propose à l'épicerie ","                         Ce que je propose à l'épicerie ","                         Ce que je propose à l'épicerie ","                         Ce que je propose à l'épicerie ","                         Ce que je propose à l'épicerie ","                         Ce que je propose à l'épicerie ","                         Ce que je propose à l'épicerie ","                         Ce que je propose à l'épicerie ","                         Ce que je propose à l'épicerie ","                         Ce que je propose à l'épicerie ","                         Ce que je propose à l'épicerie ","                         Ce que je propose à l'épicerie ","                         Ce que je propose à l'épicerie ","                         Ce que je propose à l'épicerie ","                         Ce que je propose à l'épicerie ","                         Ce que je propose à l'épicerie ","                         Ce que je propose à l'épicerie ","                         Ce que je propose à l'épicerie ","                         Ce que je propose à l'épicerie ","                         Ce que je propose à l'épicerie ","                         Ce que je propose à l'épicerie ","                         Ce que je propose à l'épicerie ","                         Ce que je propose à l'épicerie ","                         Ce que je propose à l'épicerie ","                         Ce que je propose à l'épicerie ","                         Ce que je propose à l'épicerie ","                         Ce que je propose à l'épicerie ","                         Ce que je propose à l'épicerie ","                         Ce que je propose à l'épicerie ","                         Ce que je propose à l'épicerie ","                         Ce que je propose à l'épicerie ","                         Ce que je propose à l'épicerie ","                         Ce que je propose à l'épicerie ","                         Ce que je propose à l'épicerie ","                         Ce que je propose à l'épicerie ","                         Ce que je propose à l'épicerie ","                         Ce que je propose à l'épicerie ","                         Ce que je propose à l'épicerie ","                         Ce que je propose à l'épicerie ","                         Ce que je propose à l'épicerie ","                         Ce que je propose à l'épicerie ","                         Ce que je propose à l'épicerie ","                         Ce que je propose à l'épicerie ","                         Ce que je propose à l'épicerie ","                         Ce que je propose à l'épicerie ","                         Ce que je propose à l'épicerie ","                         Ce que je propose à l'épicerie ","                         Ce que je propose à l'épicerie ","                         Ce que je propose à l'épicerie ","                         Ce que je propose à l'épicerie ","                         Ce que je propose à l'épicerie ","                         Ce que je propose à l'épicerie ","                         Ce que je propose à l'épicerie ","                         Ce que je propose à l'épicerie ","                         Ce que je propose à l'épicerie ","                         Ce que je propose à l'épicerie ","                         Ce que je propose à l'épicerie ","                         Ce que je propose à l'épicerie ","                         Ce que je propose à l'épicerie ","                         Ce que je propose à l'épicerie ","                         Ce que je propose à l'épicerie ","                         Ce que je propose à l'épicerie ","                         Ce que je propose à l'épicerie ","                         Ce que je propose à l'épicerie ","                         Ce que je propose à l'épicerie ","                         Ce que je propose à l'épicerie ","                         Ce que je propose à l'épicerie ","                         Ce que je propose à l'épicerie ","                         Ce que je propose à l'épicerie ","                         Ce que je propose à l'épicerie ","                         Ce que je propose à l'épicerie ","                         Ce que je propose à l'épicerie ","                         Ce que je propose à l'épicerie ","                         Ce que je propose à l'épicerie ","                         Ce que je propose à l'épicerie ","                         Ce que je propose à l'épicerie ","                         Ce que je propose à l'épicerie ","                         Ce que je propose à l'épicerie ","                         Ce que je propose à l'épicerie ","                         Ce que je propose à l'épicerie ","                         Ce que je propose à l'épicerie ","                         Ce que je propose à l'épicerie ","                         Ce que je propose à l'épicerie ","                         Ce que je propose à l'épicerie ","                         Ce que je propose à l'épicerie ","                         Ce que je propose à l'épicerie ","                         Ce que je propose à l'épicerie ","                         Ce que je propose à l'épicerie ","                         Ce que je propose à l'épicerie ","                         Ce que je propose à l'épicerie ","                         Ce que je propose à l'épicerie ","                         Ce que je propose à l'épicerie ","                         Ce que je propose à l'épicerie ","                         Ce que je propose à l'épicerie ","                         Ce que je propose à l'épicerie ","                         Ce que je propose à l'épicerie ","                         Ce que je propose à l'épicerie ","                         Ce que je propose à l'épicerie ","                         Ce que je propose à l'épicerie ","                         Ce que je propose à l'épicerie ","                         Ce que je propose à l'épicerie ","                         Ce que je propose à l'épicerie ","                         Ce que je propose à l'épicerie ","                         Ce que je propose à l'épicerie ","                         Ce que je propose à l'épicerie ","                         Ce que je propose à l'épicerie ","                         Ce que je propose à l'épicerie ","                         Ce que je propose à l'épicerie ","                         Ce que je propose à l'épicerie ","                         Ce que je propose à l'épicerie ","                         Ce que je propose à l'épicerie ","                         Ce que je propose à l'épicerie ","                         Ce que je propose à l'épicerie ","                         Ce que je propose à l'épicerie ","                         Ce que je propose à l'épicerie ","                         Ce que je propose à l'épicerie ","                         Ce que je propose à l'épicerie ","                         Ce que je propose à l'épicerie ","                         Ce que je propose à l'épicerie ","                         Ce que je propose à l'épicerie ","                         Ce que je propose à l'épicerie ","                         Ce que je propose à l'épicerie ","                         Ce que je propose à l'épicerie ","                         Ce que je propose à l'épicerie ","                         Ce que je propose à l'épicerie ","                         Ce que je propose à l'épicerie ","                         Ce que je propose à l'épicerie ","                         Ce que je propose à l'épicerie ","                         Ce que je propose à l'épicerie ","                         Ce que je propose à l'épicerie ","                         Ce que je propose à l'épicerie ","                         Ce que je propose à l'épicerie ","                         Ce que je propose à l'épicerie ","                         Ce que je propose à l'épicerie ","                         Ce que je propose à l'épicerie ","                         Ce que je propose à l'épicerie ","                         Ce que je propose à l'épicerie ","                         Ce que je propose à l'épicerie ","                         Ce que je propose à l'épicerie ","                         Ce que je propose à l'épicerie ","                         Ce que je propose à l'épicerie ","                         Ce que je propose à l'épicerie ","                         Ce que je propose à l'épicerie ","                         Ce que je propose à l'épicerie ","                         Ce que je propose à l'épicerie ","                         Ce que je propose à l'épicerie ","                         Ce que je propose à l'épicerie ","                         Ce que je propose à l'épicerie ","                         Ce que je propose à l'épicerie ","                         Ce que je propose à l'épicerie ","                         Ce que je propose à l'épicerie ","                         Ce que je propose à l'épicerie ","                         Ce que je propose à l'épicerie ","                         Ce que je propose à l'épicerie ","                         Ce que je propose à l'épicerie ","                         Ce que je propose à l'épicerie ","                         Ce que je propose à l'épicerie ","                         Ce que je propose à l'épicerie ","                         Ce que je propose à l'épicerie ","                         Ce que je propose à l'épicerie ","                         Ce que je propose à l'épicerie ","                         Ce que je propose à l'épicerie ","                         Ce que je propose à l'épicerie ","                         Ce que je propose à l'épicerie ","                         Ce que je propose à l'épicerie ","                         Ce que je propose à l'épicerie ","                         Ce que je propose à l'épicerie ","                         Ce que je propose à l'épicerie ","                         Ce que je propose à l'épicerie ","                         Ce que je propose à l'épicerie ","                         Ce que je propose à l'épicerie ","                         Ce que je propose à l'épicerie ","                         Ce que je propose à l'épicerie ","                         Ce que je propose à l'épicerie ","                         Ce que je propose à l'épicerie ","                         Ce que je propose à l'épicerie ","                         Ce que je propose à l'épicerie ","                         Ce que je propose à l'épicerie ","                         Ce que je propose à l'épicerie ","                         Ce que je propose à l'épicerie ","                         Ce que je propose à l'épicerie ","                         Ce que je propose à l'épicerie ","                         Ce que je propose à l'épicerie ","                         Ce que je propose à l'épicerie ","                         Ce que je propose à l'épicerie ","                         Ce que je propose à l'épicerie ","                         Ce que je propose à l'épicerie ","                         Ce que je propose à l'épicerie ","                         Ce que je propose à l'épicerie ","                         Ce que je propose à l'épicerie ","                         Ce que je propose à l'épicerie ","                         Ce que je propose à l'épicerie ","                         Ce que je propose à l'épicerie ","                         Ce que je propose à l'épicerie ","                         Ce que je propose à l'épicerie ","                         Ce que je propose à l'épicerie ","                         Ce que je propose à l'épicerie ","                         Ce que je propose à l'épicerie ","                         Ce que je propose à l'épicerie ","                         Ce que je propose à l'épicerie ","                         Ce que je propose à l'épicerie ","                         Ce que je propose à l'épicerie ","                         Ce que je propose à l'épicerie ","                         Ce que je propose à l'épicerie ","                         Ce que je propose à l'épicerie ","                         Ce que je propose à l'épicerie ","                         Ce que je propose à l'épicerie ","                         Ce que je propose à l'épicerie ","                         Ce que je propose à l'épicerie ","                         Ce que je propose à l'épicerie ","                         Ce que je propose à l'épicerie ","                         Ce que je propose à l'épicerie ","                         Ce que je propose à l'épicerie ","                         Ce que je propose à l'épicerie ","                         Ce que je propose à l'épicerie ","                         Ce que je propose à l'épicerie ","                         Ce que je propose à l'épicerie ","                         Ce que je propose à l'épicerie ","                         Ce que je propose à l'épicerie ","                         Ce que je propose à l'épicerie ","                         Ce que je propose à l'épicerie ","                         Ce que je propose à l'épicerie ","                         Ce que je propose à l'épicerie ","                         Ce que je propose à l'épicerie ","                         Ce que je propose à l'épicerie ","                         Ce que je propose à l'épicerie ","                         Ce que je propose à l'épicerie ","                         Ce que je propose à l'épicerie ","                         Ce que je propose à l'épicerie ","                         Ce que je propose à l'épicerie ","                         Ce que je propose à l'épicerie ","                         Ce que je propose à l'épicerie ","                         Ce que je propose à l'épicerie ","                         Ce que je propose à l'épicerie ","                         Ce que je propose à l'épicerie ","                         Ce que je propose à l'épicerie ","                         Ce que je propose à l'épicerie ","                         Ce que je propose à l'épicerie ","                         Ce que je propose à l'épicerie ","                         Ce que je propose à l'épicerie ","                         Ce que je propose à l'épicerie ","                         Ce que je propose à l'épicerie ","                         Ce que je propose à l'épicerie ","                         Ce que je propose à l'épicerie ","                         Ce que je propose à l'épicerie ","                         Ce que je propose à l'épicerie ","                         Ce que je propose à l'épicerie ","                         Ce que je propose à l'épicerie ","                         Ce que je propose à l'épicerie ","                         Ce que je propose à l'épicerie ","                         Ce que je propose à l'épicerie ","                         Ce que je propose à l'épicerie ","                         Ce que je propose à l'épicerie ","                         Ce que je propose à l'épicerie ","                         Ce que je propose à l'épicerie ","                         Ce que je propose à l'épicerie ","                         Ce que je propose à l'épicerie ","                         Ce que je propose à l'épicerie ","                         Ce que je propose à l'épicerie ","                         Ce que je propose à l'épicerie ","                         Ce que je propose à l'épicerie ","                         Ce que je propose à l'épicerie ","                         Ce que je propose à l'épicerie ","                         Ce que je propose à l'épicerie ","                         Ce que je propose à l'épicerie ","                         Ce que je propose à l'épicerie ","                         Ce que je propose à l'épicerie ","                         Ce que je propose à l'épicerie ","                         Ce que je propose à l'épicerie ","                         Ce que je propose à l'épicerie ","                         Ce que je propose à l'épicerie ","                         Ce que je propose à l'épicerie ","                         Ce que je propose à l'épicerie ","                         Ce que je propose à l'épicerie ","                         Ce que je propose à l'épicerie ","                         Ce que je propose à l'épicerie ","                         Ce que je propose à l'épicerie ","                         Ce que je propose à l'épicerie ","                         Ce que je propose à l'épicerie ","                         Ce que je propose à l'épicerie ","                         Ce que je propose à l'épicerie ","                         Ce que je propose à l'épicerie ","                         Ce que je propose à l'épicerie ","                         Ce que je propose à l'épicerie ","                         Ce que je propose à l'épicerie ","                         Ce que je propose à l'épicerie ","                         Ce que je propose à l'épicerie ","                         Ce que je propose à l'épicerie ","                         Ce que je propose à l'épicerie ","                         Ce que je propose à l'épicerie ","                         Ce que je propose à l'épicerie ","                         Ce que je propose à l'épicerie ","                         Ce que je propose à l'épicerie ","                         Ce que je propose à l'épicerie ","                         Ce que je propose à l'épicerie ","                         Ce que je propose à l'épicerie ","                         Ce que je propose à l'épicerie ","                         Ce que je propose à l'épicerie ","                         Ce que je propose à l'épicerie ","                         Ce que je propose à l'épicerie ","                         Ce que je propose à l'épicerie ","                         Ce que je propose à l'épicerie ","                         Ce que je propose à l'épicerie ","                         Ce que je propose à l'épicerie ","                         Ce que je propose à l'épicerie ","                         Ce que je propose à l'épicerie ","                         Ce que je propose à l'épicerie ","                         Ce que je propose à l'épicerie ","                         Ce que je propose à l'épicerie ","                         Ce que je propose à l'épicerie ","                         Ce que je propose à l'épicerie ","                         Ce que je propose à l'épicerie ","                         Ce que je propose à l'épicerie ","                         Ce que je propose à l'épicerie ","                         Ce que je propose à l'épicerie ","                         Ce que je propose à l'épicerie ","                         Ce que je propose à l'épicerie ","                         Ce que je propose à l'épicerie ","                         Ce que je propose à l'épicerie ","                         Ce que je propose à l'épicerie ","                         Ce que je propose à l'épicerie ","                         Ce que je propose à l'épicerie ","                         Ce que je propose à l'épicerie ","                         Ce que je propose à l'épicerie ","                         Ce que je propose à l'épicerie ","                         Ce que je propose à l'épicerie ","                         Ce que je propose à l'épicerie ","                         Ce que je propose à l'épicerie ","                         Ce que je propose à l'épicerie ","                         Ce que je propose à l'épicerie ","                         Ce que je propose à l'épicerie ","                         Ce que je propose à l'épicerie ","                         Ce que je propose à l'épicerie ","                         Ce que je propose à l'épicerie ","                         Ce que je propose à l'épicerie ","                         Ce que je propose à l'épicerie ","                         Ce que je propose à l'épicerie ","                         Ce que je propose à l'épicerie ","                         Ce que je propose à l'épicerie ","                         Ce que je propose à l'épicerie ","                         Ce que je propose à l'épicerie ","                         Ce que je propose à l'épicerie ","                         Ce que je propose à l'épicerie ","                         Ce que je propose à l'épicerie ","                         Ce que je propose à l'épicerie ","                         Ce que je propose à l'épicerie ","                         Ce que je propose à l'épicerie ","                         Ce que je propose à l'épicerie ","                         Ce que je propose à l'épicerie ","                         Ce que je propose à l'épicerie ","                         Ce que je propose à l'épicerie ","                         Ce que je propose à l'épicerie ","                         Ce que je propose à l'épicerie ","                         Ce que je propose à l'épicerie ","                         Ce que je propose à l'épicerie ","                         Ce que je propose à l'épicerie ","                         Ce que je propose à l'épicerie ","                         Ce que je propose à l'épicerie ","                         Ce que je propose à l'épicerie ","                         Ce que je propose à l'épicerie ","                         Ce que je propose à l'épicerie ","                         Ce que je propose à l'épicerie ","                         Ce que je propose à l'épicerie ","                         Ce que je propose à l'épicerie ","                         Ce que je propose à l'épicerie ","                         Ce que je propose à l'épicerie ","                         Ce que je propose à l'épicerie ","                         Ce que je propose à l'épicerie ","                         Ce que je propose à l'épicerie ","                         Ce que je propose à l'épicerie ","                         Ce que je propose à l'épicerie ","                         Ce que je propose à l'épicerie ","                         Ce que je propose à l'épicerie ","                         Ce que je propose à l'épicerie ","                         Ce que je propose à l'épicerie ","                         Ce que je propose à l'épicerie ","                         Ce que je propose à l'épicerie ","                         Ce que je propose à l'épicerie ","                         Ce que je propose à l'épicerie ","                         Ce que je propose à l'épicerie ","                         Ce que je propose à l'épicerie ","                         Ce que je propose à l'épicerie ","                         Ce que je propose à l'épicerie ","                         Ce que je propose à l'épicerie ","                         Ce que je propose à l'épicerie ","                         Ce que je propose à l'épicerie ","                         Ce que je propose à l'épicerie ","                         Ce que je propose à l'épicerie ","                         Ce que je propose à l'épicerie ","                         Ce que je propose à l'épicerie ","                         Ce que je propose à l'épicerie ","                         Ce que je propose à l'épicerie ","                         Ce que je propose à l'épicerie ","                         Ce que je propose à l'épicerie ","                         Ce que je propose à l'épicerie ","                         Ce que je propose à l'épicerie ","                         Ce que je propose à l'épicerie ","                         Ce que je propose à l'épicerie ","                         Ce que je propose à l'épicerie ","                         Ce que je propose à l'épicerie ","                         Ce que je propose à l'épicerie ","                         Ce que je propose à l'épicerie ","                         Ce que je propose à l'épicerie ","                         Ce que je propose à l'épicerie ","                         Ce que je propose à l'épicerie ","                         Ce que je propose à l'épicerie ","                         Ce que je propose à l'épicerie ","                         Ce que je propose à l'épicerie ","                         Ce que je propose à l'épicerie ","                         Ce que je propose à l'épicerie ","                         Ce que je propose à l'épicerie ","                         Ce que je propose à l'épicerie ","                         Ce que je propose à l'épicerie ","                         Ce que je propose à l'épicerie ","                         Ce que je propose à l'épicerie ","                         Ce que je propose à l'épicerie ","                         Ce que je propose à l'épicerie ","                         Ce que je propose à l'épicerie ","                         Ce que je propose à l'épicerie ","                         Ce que je propose à l'épicerie ","                         Ce que je propose à l'épicerie ","                         Ce que je propose à l'épicerie ","                         Ce que je propose à l'épicerie ","                         Ce que je propose à l'épicerie ","                         Ce que je propose à l'épicerie ","                         Ce que je propose à l'épicerie ","                         Ce que je propose à l'épicerie ","                         Ce que je propose à l'épicerie ","                         Ce que je propose à l'épicerie ","                         Ce que je propose à l'épicerie ","                         Ce que je propose à l'épicerie ","                         Ce que je propose à l'épicerie ","                         Ce que je propose à l'épicerie ","                         Ce que je propose à l'épicerie ","                         Ce que je propose à l'épicerie ","                         Ce que je propose à l'épicerie ","                         Ce que je propose à l'épicerie ","                         Ce que je propose à l'épicerie ","                         Ce que je propose à l'épicerie ","                         Ce que je propose à l'épicerie ","                         Ce que je propose à l'épicerie ","                         Ce que je propose à l'épicerie ","                         Ce que je propose à l'épicerie ","                         Ce que je propose à l'épicerie ","                         Ce que je propose à l'épicerie ","                         Ce que je propose à l'épicerie ","                         Ce que je propose à l'épicerie ","                         Ce que je propose à l'épicerie ","                         Ce que je propose à l'épicerie ","                         Ce que je propose à l'épicerie ","                         Ce que je propose à l'épicerie ","                         Ce que je propose à l'épicerie ","                         Ce que je propose à l'épicerie ","                         Ce que je propose à l'épicerie ","                         Ce que je propose à l'épicerie ","                         Ce que je propose à l'épicerie ","                         Ce que je propose à l'épicerie ","                         Ce que je propose à l'épicerie ","                         Ce que je propose à l'épicerie ","                         Ce que je propose à l'épicerie ","                         Ce que je propose à l'épicerie ","                         Ce que je propose à l'épicerie ","                         Ce que je propose à l'épicerie ","                         Ce que je propose à l'épicerie ","                         Ce que je propose à l'épicerie ","                         Ce que je propose à l'épicerie ","                         Ce que je propose à l'épicerie ","                         Ce que je propose à l'épicerie ","                         Ce que je propose à l'épicerie ","                         Ce que je propose à l'épicerie ","                         Ce que je propose à l'épicerie ","                         Ce que je propose à l'épicerie ","                         Ce que je propose à l'épicerie ","                         Ce que je propose à l'épicerie ","                         Ce que je propose à l'épicerie ","                         Ce que je propose à l'épicerie ","                         Ce que je propose à l'épicerie ","                         Ce que je propose à l'épicerie ","                         Ce que je propose à l'épicerie ","                         Ce que je propose à l'épicerie ","                         Ce que je propose à l'épicerie ","                         Ce que je propose à l'épicerie ","                         Ce que je propose à l'épicerie ","                         Ce que je propose à l'épicerie ","                         Ce que je propose à l'épicerie ","                         Ce que je propose à l'épicerie ","                         Ce que je propose à l'épicerie ","                         Ce que je propose à l'épicerie ","                         Ce que je propose à l'épicerie ","                         Ce que je propose à l'épicerie ","                         Ce que je propose à l'épicerie ","                         Ce que je propose à l'épicerie ","                         Ce que je propose à l'épicerie ","                         Ce que je propose à l'épicerie ","                         Ce que je propose à l'épicerie ","                         Ce que je propose à l'épicerie ","                         Ce que je propose à l'épicerie ","                         Ce que je propose à l'épicerie ","                         Ce que je propose à l'épicerie ","                         Ce que je propose à l'épicerie ","                         Ce que je propose à l'épicerie ","                         Ce que je propose à l'épicerie ","                         Ce que je propose à l'épicerie ","                         Ce que je propose à l'épicerie ","                         Ce que je propose à l'épicerie ","                         Ce que je propose à l'épicerie ","                         Ce que je propose à l'épicerie ","                         Ce que je propose à l'épicerie ","                         Ce que je propose à l'épicerie ","                         Ce que je propose à l'épicerie ","                         Ce que je propose à l'épicerie ","                         Ce que je propose à l'épicerie ","                         Ce que je propose à l'épicerie ","                         Ce que je propose à l'épicerie ","                         Ce que je propose à l'épicerie ","                         Ce que je propose à l'épicerie ","                         Ce que je propose à l'épicerie ","                         Ce que je propose à l'épicerie ","                         Ce que je propose à l'épicerie ","                         Ce que je propose à l'épicerie ","                         Ce que je propose à l'épicerie ","                         Ce que je propose à l'épicerie ","                         Ce que je propose à l'épicerie ","                         Ce que je propose à l'épicerie ","                         Ce que je propose à l'épicerie ","                         Ce que je propose à l'épicerie ","                         Ce que je propose à l'épicerie ","                         Ce que je propose à l'épicerie ","                         Ce que je propose à l'épicerie ","                         Ce que je propose à l'épicerie ","                         Ce que je propose à l'épicerie ","                         Ce que je propose à l'épicerie ","                         Ce que je propose à l'épicerie ","                         Ce que je propose à l'épicerie ","                         Ce que je propose à l'épicerie ","                         Ce que je propose à l'épicerie ","                         Ce que je propose à l'épicerie ","                         Ce que je propose à l'épicerie ","                         Ce que je propose à l'épicerie ","                         Ce que je propose à l'épicerie ","                         Ce que je propose à l'épicerie ","                         Ce que je propose à l'épicerie ","                         Ce que je propose à l'épicerie ","                         Ce que je propose à l'épicerie ","                         Ce que je propose à l'épicerie ","                         Ce que je propose à l'épicerie ","                         Ce que je propose à l'épicerie ","                         Ce que je propose à l'épicerie ","                         Ce que je propose à l'épicerie ","                         Ce que je propose à l'épicerie ","                         Ce que je propose à l'épicerie ","                         Ce que je propose à l'épicerie ","                         Ce que je propose à l'épicerie ","                         Ce que je propose à l'épicerie ","                         Ce que je propose à l'épicerie ","                         Ce que je propose à l'épicerie ","                         Ce que je propose à l'épicerie ","                         Ce que je propose à l'épicerie ","                         Ce que je propose à l'épicerie ","                         Ce que je propose à l'épicerie ","                         Ce que je propose à l'épicerie ","                         Ce que je propose à l'épicerie ","                         Ce que je propose à l'épicerie ","                         Ce que je propose à l'épicerie ","                         Ce que je propose à l'épicerie ","                         Ce que je propose à l'épicerie ","                         Ce que je propose à l'épicerie ","                         Ce que je propose à l'épicerie ","                         Ce que je propose à l'épicerie ","                         Ce que je propose à l'épicerie ","                         Ce que je propose à l'épicerie ","                         Ce que je propose à l'épicerie ","                         Ce que je propose à l'épicerie ","                         Ce que je propose à l'épicerie ","                         Ce que je propose à l'épicerie ","                         Ce que je propose à l'épicerie ","                         Ce que je propose à l'épicerie ","                         Ce que je propose à l'épicerie ","                         Ce que je propose à l'épicerie ","                         Ce que je propose à l'épicerie ","                         Ce que je propose à l'épicerie ","                         Ce que je propose à l'épicerie ","                         Ce que je propose à l'épicerie ","                         Ce que je propose à l'épicerie ","                         Ce que je propose à l'épicerie ","                         Ce que je propose à l'épicerie ","                         Ce que je propose à l'épicerie ","                         Ce que je propose à l'épicerie ","                         Ce que je propose à l'épicerie ","                         Ce que je propose à l'épicerie ","                         Ce que je propose à l'épicerie ","                         Ce que je propose à l'épicerie ","                         Ce que je propose à l'épicerie ","                         Ce que je propose à l'épicerie ","                         Ce que je propose à l'épicerie ","                         Ce que je propose à l'épicerie ","                         Ce que je propose à l'épicerie ","                         Ce que je propose à l'épicerie ","                         Ce que je propose à l'épicerie ","                         Ce que je propose à l'épicerie ","                         Ce que je propose à l'épicerie ","                         Ce que je propose à l'épicerie ","                         Ce que je propose à l'épicerie ","                         Ce que je propose à l'épicerie ","                         Ce que je propose à l'épicerie ","                         Ce que je propose à l'épicerie ","                         Ce que je propose à l'épicerie ","                         Ce que je propose à l'épicerie ","                         Ce que je propose à l'épicerie ","                         Ce que je propose à l'épicerie ","                         Ce que je propose à l'épicerie ","                         Ce que je propose à l'épicerie ","                         Ce que je propose à l'épicerie ","                         Ce que je propose à l'épicerie ","                         Ce que je propose à l'épicerie ","                         Ce que je propose à l'épicerie ","                         Ce que je propose à l'épicerie ","                         Ce que je propose à l'épicerie ","                         Ce que je propose à l'épicerie ","                         Ce que je propose à l'épicerie ","                         Ce que je propose à l'épicerie ","                         Ce que je propose à l'épicerie ","                         Ce que je propose à l'épicerie ","                         Ce que je propose à l'épicerie ","                         Ce que je propose à l'épicerie ","                         Ce que je propose à l'épicerie ","                         Ce que je propose à l'épicerie ","                         Ce que je propose à l'épicerie ","                         Ce que je propose à l'épicerie ","                         Ce que je propose à l'épicerie ","                         Ce que je propose à l'épicerie ","                         Ce que je propose à l'épicerie ","                         Ce que je propose à l'épicerie ","                         Ce que je propose à l'épicerie ","                         Ce que je propose à l'épicerie ","                         Ce que je propose à l'épicerie ","                         Ce que je propose à l'épicerie ","                         Ce que je propose à l'épicerie ","                         Ce que je propose à l'épicerie ","                         Ce que je propose à l'épicerie ","                         Ce que je propose à l'épicerie ","                         Ce que je propose à l'épicerie ","                         Ce que je propose à l'épicerie ","                         Ce que je propose à l'épicerie ","                         Ce que je propose à l'épicerie ","                         Ce que je propose à l'épicerie ","                         Ce que je propose à l'épicerie ","                         Ce que je propose à l'épicerie ","                         Ce que je propose à l'épicerie ","                         Ce que je propose à l'épicerie ","                         Ce que je propose à l'épicerie ","                         Ce que je propose à l'épicerie ","                         Ce que je propose à l'épicerie ","                         Ce que je propose à l'épicerie ","                         Ce que je propose à l'épicerie ","                         Ce que je propose à l'épicerie ","                         Ce que je propose à l'épicerie ","                         Ce que je propose à l'épicerie ","                         Ce que je propose à l'épicerie ","                         Ce que je propose à l'épicerie ","                         Ce que je propose à l'épicerie ","                         Ce que je propose à l'épicerie ","                         Ce que je propose à l'épicerie ","                         Ce que je propose à l'épicerie ","                         Ce que je propose à l'épicerie ","                         Ce que je propose à l'épicerie ","                         Ce que je propose à l'épicerie ","                         Ce que je propose à l'épicerie ","                         Ce que je propose à l'épicerie ","                         Ce que je propose à l'épicerie ","                         Ce que je propose à l'épicerie ","                         Ce que je propose à l'épicerie ","                         Ce que je propose à l'épicerie ","                         Ce que je propose à l'épicerie ","                         Ce que je propose à l'épicerie ","                         Ce que je propose à l'épicerie ","                         Ce que je propose à l'épicerie ","                         Ce que je propose à l'épicerie ","                         Ce que je propose à l'épicerie ","                         Ce que je propose à l'épicerie ","                         Ce que je propose à l'épicerie ","                         Ce que je propose à l'épicerie ","                         Ce que je propose à l'épicerie ","                         Ce que je propose à l'épicerie ","                         Ce que je propose à l'épicerie ","                         Ce que je propose à l'épicerie ","                         Ce que je propose à l'épicerie ","                         Ce que je propose à l'épicerie ","                         Ce que je propose à l'épicerie ","                         Ce que je propose à l'épicerie ","                         Ce que je propose à l'épicerie ","                         Ce que je propose à l'épicerie ","                         Ce que je propose à l'épicerie ","                         Ce que je propose à l'épicerie ","                         Ce que je propose à l'épicerie ","                         Ce que je propose à l'épicerie ","                         Ce que je propose à l'épicerie ","                         Ce que je propose à l'épicerie ","                         Ce que je propose à l'épicerie ","                         Ce que je propose à l'épicerie ","                         Ce que je propose à l'épicerie ","                         Ce que je propose à l'épicerie ","                         Ce que je propose à l'épicerie ","                         Ce que je propose à l'épicerie ","                         Ce que je propose à l'épicerie ","                         Ce que je propose à l'épicerie ","                         Ce que je propose à l'épicerie ","                         Ce que je propose à l'épicerie ","                         Ce que je propose à l'épicerie ","                         Ce que je propose à l'épicerie ","                         Ce que je propose à l'épicerie ","                         Ce que je propose à l'épicerie ","                         Ce que je propose à l'épicerie ","                         Ce que je propose à l'épicerie ","                         Ce que je propose à l'épicerie ","                         Ce que je propose à l'épicerie ","                         Ce que je propose à l'épicerie ","                         Ce que je propose à l'épicerie ","                         Ce que je propose à l'épicerie ","                         Ce que je propose à l'épicerie ","                         Ce que je propose à l'épicerie ","                         Ce que je propose à l'épicerie ","                         Ce que je propose à l'épicerie ","                         Ce que je propose à l'épicerie ","                         Ce que je propose à l'épicerie ","                         Ce que je propose à l'épicerie ","                         Ce que je propose à l'épicerie ","                         Ce que je propose à l'épicerie ","                         Ce que je propose à l'épicerie ","                         Ce que je propose à l'épicerie ","                         Ce que je propose à l'épicerie ","                         Ce que je propose à l'épicerie ","                         Ce que je propose à l'épicerie ","                         Ce que je propose à l'épicerie ","                         Ce que je propose à l'épicerie ","                         Ce que je propose à l'épicerie ","                         Ce que je propose à l'épicerie ","                         Ce que je propose à l'épicerie ","                         Ce que je propose à l'épicerie ","                         Ce que je propose à l'épicerie ","                         Ce que je propose à l'épicerie ","                         Ce que je propose à l'épicerie ","                         Ce que je propose à l'épicerie ","                         Ce que je propose à l'épicerie ","                         Ce que je propose à l'épicerie ","                         Ce que je propose à l'épicerie ","                         Ce que je propose à l'épicerie ","                         Ce que je propose à l'épicerie ","                         Ce que je propose à l'épicerie ","                         Ce que je propose à l'épicerie ","                         Ce que je propose à l'épicerie ","                         Ce que je propose à l'épicerie ","                         Ce que je propose à l'épicerie ","                         Ce que je propose à l'épicerie ","                         Ce que je propose à l'épicerie ","                         Ce que je propose à l'épicerie ","                         Ce que je propose à l'épicerie ","                         Ce que je propose à l'épicerie ","                         Ce que je propose à l'épicerie ","                         Ce que je propose à l'épicerie ","                         Ce que je propose à l'épicerie ","                         Ce que je propose à l'épicerie ","                         Ce que je propose à l'épicerie ","                         Ce que je propose à l'épicerie ","                         Ce que je propose à l'épicerie ","                         Ce que je propose à l'épicerie ","                         Ce que je propose à l'épicerie ","                         Ce que je propose à l'épicerie ","                         Ce que je propose à l'épicerie ","                         Ce que je propose à l'épicerie ","                         Ce que je propose à l'épicerie ","                         Ce que je propose à l'épicerie ","                         Ce que je propose à l'épicerie ","                         Ce que je propose à l'épicerie ","                         Ce que je propose à l'épicerie ","                         Ce que je propose à l'épicerie ","                         Ce que je propose à l'épicerie ","                         Ce que je propose à l'épicerie ","                         Ce que je propose à l'épicerie ","                         Ce que je propose à l'épicerie ","                         Ce que je propose à l'épicerie ","                         Ce que je propose à l'épicerie ","                         Ce que je propose à l'épicerie ","                         Ce que je propose à l'épicerie ","                         Ce que je propose à l'épicerie ","                         Ce que je propose à l'épicerie ","                         Ce que je propose à l'épicerie ","                         Ce que je propose à l'épicerie ","                         Ce que je propose à l'épicerie ","                         Ce que je propose à l'épicerie ","                         Ce que je propose à l'épicerie ","                         Ce que je propose à l'épicerie ","                         Ce que je propose à l'épicerie ","                         Ce que je propose à l'épicerie ","                         Ce que je propose à l'épicerie ","                         Ce que je propose à l'épicerie ","                         Ce que je propose à l'épicerie ","                         Ce que je propose à l'épicerie ","                         Ce que je propose à l'épicerie ","                         Ce que je propose à l'épicerie ","                         Ce que je propose à l'épicerie ","                         Ce que je propose à l'épicerie ","                         Ce que je propose à l'épicerie ","                         Ce que je propose à l'épicerie ","                         Ce que je propose à l'épicerie ","                         Ce que je propose à l'épicerie ","                         Ce que je propose à l'épicerie ","                         Ce que je propose à l'épicerie ","                         Ce que je propose à l'épicerie ","                         Ce que je propose à l'épicerie ","                         Ce que je propose à l'épicerie ","                         Ce que je propose à l'épicerie ","                         Ce que je propose à l'épicerie ","                         Ce que je propose à l'épicerie ","                         Ce que je propose à l'épicerie ","                         Ce que je propose à l'épicerie ","                         Ce que je propose à l'épicerie ","                         Ce que je propose à l'épicerie ","                         Ce que je propose à l'épicerie ","                         Ce que je propose à l'épicerie ","                         Ce que je propose à l'épicerie ","                         Ce que je propose à l'épicerie ","                         Ce que je propose à l'épicerie ","                         Ce que je propose à l'épicerie ","                         Ce que je propose à l'épicerie ","                         Ce que je propose à l'épicerie ","                         Ce que je propose à l'épicerie ","                         Ce que je propose à l'épicerie ","                         Ce que je propose à l'épicerie ","                         Ce que je propose à l'épicerie ","                         Ce que je propose à l'épicerie ","                         Ce que je propose à l'épicerie ","                         Ce que je propose à l'épicerie ","                         Ce que je propose à l'épicerie ","                         Ce que je propose à l'épicerie ","                         Ce que je propose à l'épicerie ","                         Ce que je propose à l'épicerie ","                         Ce que je propose à l'épicerie ","                         Ce que je propose à l'épicerie ","                         Ce que je propose à l'épicerie ","                         Ce que je propose à l'épicerie ","                         Ce que je propose à l'épicerie ","                         Ce que je propose à l'épicerie ","                         Ce que je propose à l'épicerie ","                         Ce que je propose à l'épicerie ","                         Ce que je propose à l'épicerie ","                         Ce que je propose à l'épicerie ","                         Ce que je propose à l'épicerie ","                         Ce que je propose à l'épicerie ","                         Ce que je propose à l'épicerie ","                         Ce que je propose à l'épicerie ","                         Ce que je propose à l'épicerie ","                         Ce que je propose à l'épicerie ","                         Ce que je propose à l'épicerie ","                         Ce que je propose à l'épicerie ","                         Ce que je propose à l'épicerie ","                         Ce que je propose à l'épicerie ","                         Ce que je propose à l'épicerie ","                         Ce que je propose à l'épicerie ","                         Ce que je propose à l'épicerie ","                         Ce que je propose à l'épicerie ","                         Ce que je propose à l'épicerie ","                         Ce que je propose à l'épicerie ","                         Ce que je propose à l'épicerie ","                         Ce que je propose à l'épicerie ","                         Ce que je propose à l'épicerie ","                         Ce que je propose à l'épicerie ","                         Ce que je propose à l'épicerie ","                         Ce que je propose à l'épicerie ","                         Ce que je propose à l'épicerie ","                         Ce que je propose à l'épicerie ","                         Ce que je propose à l'épicerie ","                         Ce que je propose à l'épicerie ","                         Ce que je propose à l'épicerie ","                         Ce que je propose à l'épicerie ","                         Ce que je propose à l'épicerie ","                         Ce que je propose à l'épicerie ","                         Ce que je propose à l'épicerie ","                         Ce que je propose à l'épicerie ","                         Ce que je propose à l'épicerie ","                         Ce que je propose à l'épicerie ","                         Ce que je propose à l'épicerie ","                         Ce que je propose à l'épicerie ","                         Ce que je propose à l'épicerie ","                         Ce que je propose à l'épicerie ","                         Ce que je propose à l'épicerie ","                         Ce que je propose à l'épicerie ","                         Ce que je propose à l'épicerie ","                         Ce que je propose à l'épicerie ","                         Ce que je propose à l'épicerie ","                         Ce que je propose à l'épicerie ","                         Ce que je propose à l'épicerie ","                         Ce que je propose à l'épicerie ","                         Ce que je propose à l'épicerie ","                         Ce que je propose à l'épicerie ","                         Ce que je propose à l'épicerie ","                         Ce que je propose à l'épicerie ","                         Ce que je propose à l'épicerie ","                         Ce que je propose à l'épicerie ","                         Ce que je propose à l'épicerie ","                         Ce que je propose à l'épicerie ","                         Ce que je propose à l'épicerie ","                         Ce que je propose à l'épicerie ","                         Ce que je propose à l'épicerie ","                         Ce que je propose à l'épicerie ","                         Ce que je propose à l'épicerie ","                         Ce que je propose à l'épicerie ","                         Ce que je propose à l'épicerie ","                         Ce que je propose à l'épicerie ","                         Ce que je propose à l'épicerie ","                         Ce que je propose à l'épicerie ","                         Ce que je propose à l'épicerie ","                         Ce que je propose à l'épicerie ","                         Ce que je propose à l'épicerie ","                         Ce que je propose à l'épicerie ","                         Ce que je propose à l'épicerie ","                         Ce que je propose à l'épicerie ","                         Ce que je propose à l'épicerie ","                         Ce que je propose à l'épicerie ","                         Ce que je propose à l'épicerie ","                         Ce que je propose à l'épicerie ","                         Ce que je propose à l'épicerie ","                         Ce que je propose à l'épicerie ","                         Ce que je propose à l'épicerie ","                         Ce que je propose à l'épicerie ","                         Ce que je propose à l'épicerie ","                         Ce que je propose à l'épicerie ","                         Ce que je propose à l'épicerie ","                         Ce que je propose à l'épicerie ","                         Ce que je propose à l'épicerie ","                         Ce que je propose à l'épicerie ","                         Ce que je propose à l'épicerie ","                         Ce que je propose à l'épicerie ","                         Ce que je propose à l'épicerie ","                         Ce que je propose à l'épicerie ","                         Ce que je propose à l'épicerie ","                         Ce que je propose à l'épicerie ","                         Ce que je propose à l'épicerie ","                         Ce que je propose à l'épicerie ","                         Ce que je propose à l'épicerie ","                         Ce que je propose à l'épicerie ","                         Ce que je propose à l'épicerie ","                         Ce que je propose à l'épicerie ","                         Ce que je propose à l'épicerie ","                         Ce que je propose à l'épicerie ","                         Ce que je propose à l'épicerie ","                         Ce que je propose à l'épicerie ","                         Ce que je propose à l'épicerie ","                         Ce que je propose à l'épicerie ","                         Ce que je propose à l'épicerie ","                         Ce que je propose à l'épicerie ","                         Ce que je propose à l'épicerie ","                         Ce que je propose à l'épicerie ","                         Ce que je propose à l'épicerie ","                         Ce que je propose à l'épicerie ","                         Ce que je propose à l'épicerie ","                         Ce que je propose à l'épicerie ","                         Ce que je propose à l'épicerie ","                         Ce que je propose à l'épicerie ","                         Ce que je propose à l'épicerie ","                         Ce que je propose à l'épicerie ","                         Ce que je propose à l'épicerie ","                         Ce que je propose à l'épicerie ","                         Ce que je propose à l'épicerie ","                         Ce que je propose à l'épicerie ","                         Ce que je propose à l'épicerie ","                         Ce que je propose à l'épicerie ","                         Ce que je propose à l'épicerie ","                         Ce que je propose à l'épicerie ","                         Ce que je propose à l'épicerie ","                         Ce que je propose à l'épicerie ","                         Ce que je propose à l'épicerie ","                         Ce que je propose à l'épicerie ","                         Ce que je propose à l'épicerie ","                         Ce que je propose à l'épicerie ","                         Ce que je propose à l'épicerie ","                         Ce que je propose à l'épicerie ","                         Ce que je propose à l'épicerie ","                         Ce que je propose à l'épicerie ","                         Ce que je propose à l'épicerie ","                         Ce que je propose à l'épicerie ","                         Ce que je propose à l'épicerie ","                         Ce que je propose à l'épicerie ","                         Ce que je propose à l'épicerie ","                         Ce que je propose à l'épicerie ","                         Ce que je propose à l'épicerie ","                         Ce que je propose à l'épicerie ","                         Ce que je propose à l'épicerie ","                         Ce que je propose à l'épicerie ","                         Ce que je propose à l'épicerie ","                         Ce que je propose à l'épicerie ","                         Ce que je propose à l'épicerie ","                         Ce que je propose à l'épicerie ","                         Ce que je propose à l'épicerie ","                         Ce que je propose à l'épicerie ","                         Ce que je propose à l'épicerie ","                         Ce que je propose à l'épicerie ","                         Ce que je propose à l'épicerie ","                         Ce que je propose à l'épicerie ","                         Ce que je propose à l'épicerie ","                         Ce que je propose à l'épicerie ","                         Ce que je propose à l'épicerie ","                         Ce que je propose à l'épicerie ","                         Ce que je propose à l'épicerie ","                         Ce que je propose à l'épicerie ","                         Ce que je propose à l'épicerie ","                         Ce que je propose à l'épicerie ","                         Ce que je propose à l'épicerie ","                         Ce que je propose à l'épicerie ","                         Ce que je propose à l'épicerie ","                         Ce que je propose à l'épicerie ","                         Ce que je propose à l'épicerie ","                         Ce que je propose à l'épicerie ","                         Ce que je propose à l'épicerie ","                         Ce que je propose à l'épicerie ","                         Ce que je propose à l'épicerie ","                         Ce que je propose à l'épicerie ","                         Ce que je propose à l'épicerie ","                         Ce que je propose à l'épicerie ","                         Ce que je propose à l'épicerie ","                         Ce que je propose à l'épicerie ","                         Ce que je propose à l'épicerie ","                         Ce que je propose à l'épicerie ","                         Ce que je propose à l'épicerie ","                         Ce que je propose à l'épicerie ","                         Ce que je propose à l'épicerie ","                         Ce que je propose à l'épicerie ","                         Ce que je propose à l'épicerie ","                         Ce que je propose à l'épicerie ","                         Ce que je propose à l'épicerie ","                         Ce que je propose à l'épicerie ","                         Ce que je propose à l'épicerie ","                         Ce que je propose à l'épicerie ","                         Ce que je propose à l'épicerie ","                         Ce que je propose à l'épicerie ","                         Ce que je propose à l'épicerie ","                         Ce que je propose à l'épicerie ","                         Ce que je propose à l'épicerie ","                         Ce que je propose à l'épicerie ","                         Ce que je propose à l'épicerie ","                         Ce que je propose à l'épicerie ","                         Ce que je propose à l'épicerie ","                         Ce que je propose à l'épicerie ","                         Ce que je propose à l'épicerie ","                         Ce que je propose à l'épicerie ","                         Ce que je propose à l'épicerie ","                         Ce que je propose à l'épicerie ","                         Ce que je propose à l'épicerie ","                         Ce que je propose à l'épicerie ","                         Ce que je propose à l'épicerie ","                         Ce que je propose à l'épicerie ","                         Ce que je propose à l'épicerie ","                         Ce que je propose à l'épicerie ","                         Ce que je propose à l'épicerie ","                         Ce que je propose à l'épicerie ","                         Ce que je propose à l'épicerie ","                         Ce que je propose à l'épicerie ","                         Ce que je propose à l'épicerie ","                         Ce que je propose à l'épicerie ","                         Ce que je propose à l'épicerie ","                         Ce que je propose à l'épicerie ","                         Ce que je propose à l'épicerie ","                         Ce que je propose à l'épicerie ","                         Ce que je propose à l'épicerie ","                         Ce que je propose à l'épicerie ","                         Ce que je propose à l'épicerie ","                         Ce que je propose à l'épicerie ","                         Ce que je propose à l'épicerie ","                         Ce que je propose à l'épicerie ","                         Ce que je propose à l'épicerie ","                         Ce que je propose à l'épicerie ","                         Ce que je propose à l'épicerie ","                         Ce que je propose à l'épicerie ","                         Ce que je propose à l'épicerie ","                         Ce que je propose à l'épicerie ","                         Ce que je propose à l'épicerie ","                         Ce que je propose à l'épicerie ","                         Ce que je propose à l'épicerie ","                         Ce que je propose à l'épicerie ","                         Ce que je propose à l'épicerie ","                         Ce que je propose à l'épicerie ","                         Ce que je propose à l'épicerie ","                         Ce que je propose à l'épicerie ","                         Ce que je propose à l'épicerie ","                         Ce que je propose à l'épicerie ","                         Ce que je propose à l'épicerie ","                         Ce que je propose à l'épicerie ","                         Ce que je propose à l'épicerie ","                         Ce que je propose à l'épicerie ","                         Ce que je propose à l'épicerie ","                         Ce que je propose à l'épicerie ","                         Ce que je propose à l'épicerie ","                         Ce que je propose à l'épicerie ","                         Ce que je propose à l'épicerie ","                         Ce que je propose à l'épicerie ","                         Ce que je propose à l'épicerie ","                         Ce que je propose à l'épicerie ","                         Ce que je propose à l'épicerie ","                         Ce que je propose à l'épicerie ","                         Ce que je propose à l'épicerie ","                         Ce que je propose à l'épicerie ","                         Ce que je propose à l'épicerie ","                         Ce que je propose à l'épicerie ","                         Ce que je propose à l'épicerie ","                         Ce que je propose à l'épicerie ","                         Ce que je propose à l'épicerie ","                         Ce que je propose à l'épicerie ","                         Ce que je propose à l'épicerie ","                         Ce que je propose à l'épicerie ","                         Ce que je propose à l'épicerie ","                         Ce que je propose à l'épicerie ","                         Ce que je propose à l'épicerie ","                         Ce que je propose à l'épicerie ","                         Ce que je propose à l'épicerie ","                         Ce que je propose à l'épicerie ","                         Ce que je propose à l'épicerie ","                         Ce que je propose à l'épicerie ","                         Ce que je propose à l'épicerie ","                         Ce que je propose à l'épicerie ","                         Ce que je propose à l'épicerie ","                         Ce que je propose à l'épicerie ","                         Ce que je propose à l'épicerie ","                         Ce que je propose à l'épicerie ","                         Ce que je propose à l'épicerie ","                         Ce que je propose à l'épicerie ","                         Ce que je propose à l'épicerie ","                         Ce que je propose à l'épicerie ","                         Ce que je propose à l'épicerie ","                         Ce que je propose à l'épicerie ","                         Ce que je propose à l'épicerie ","                         Ce que je propose à l'épicerie ","                         Ce que je propose à l'épicerie ","                         Ce que je propose à l'épicerie ","                         Ce que je propose à l'épicerie ","                         Ce que je propose à l'épicerie ","                         Ce que je propose à l'épicerie ","                         Ce que je propose à l'épicerie ","                         Ce que je propose à l'épicerie ","                         Ce que je propose à l'épicerie ","                         Ce que je propose à l'épicerie ","                         Ce que je propose à l'épicerie ","                         Ce que je propose à l'épicerie ","                         Ce que je propose à l'épicerie ","                         Ce que je propose à l'épicerie ","                         Ce que je propose à l'épicerie ","                         Ce que je propose à l'épicerie ","                         Ce que je propose à l'épicerie ","                         Ce que je propose à l'épicerie ","                         Ce que je propose à l'épicerie ","                         Ce que je propose à l'épicerie ","                         Ce que je propose à l'épicerie ","                         Ce que je propose à l'épicerie ","                         Ce que je propose à l'épicerie ","                         Ce que je propose à l'épicerie ","                         Ce que je propose à l'épicerie ","                         Ce que je propose à l'épicerie ","                         Ce que je propose à l'épicerie ","                         Ce que je propose à l'épicerie ","                         Ce que je propose à l'épicerie ","                         Ce que je propose à l'épicerie ","                         Ce que je propose à l'épicerie ","                         Ce que je propose à l'épicerie ","                         Ce que je propose à l'épicerie ","                         Ce que je propose à l'épicerie ","                         Ce que je propose à l'épicerie ","                         Ce que je propose à l'épicerie ","                         Ce que je propose à l'épicerie ","                         Ce que je propose à l'épicerie ","                         Ce que je propose à l'épicerie ","                         Ce que je propose à l'épicerie ","                         Ce que je propose à l'épicerie ","                         Ce que je propose à l'épicerie ","                         Ce que je propose à l'épicerie ","                         Ce que je propose à l'épicerie ","                         Ce que je propose à l'épicerie ","                         Ce que je propose à l'épicerie ","                         Ce que je propose à l'épicerie ","                         Ce que je propose à l'épicerie ","                         Ce que je propose à l'épicerie ","                         Ce que je propose à l'épicerie ","                         Ce que je propose à l'épicerie ","                         Ce que je propose à l'épicerie ","                         Ce que je propose à l'épicerie ","                         Ce que je propose à l'épicerie ","                         Ce que je propose à l'épicerie ","                         Ce que je propose à l'épicerie ","                         Ce que je propose à l'épicerie ","                         Ce que je propose à l'épicerie ","                         Ce que je propose à l'épicerie ","                         Ce que je propose à l'épicerie ","                         Ce que je propose à l'épicerie ","                         Ce que je propose à l'épicerie ","                         Ce que je propose à l'épicerie ","                         Ce que je propose à l'épicerie ","                         Ce que je propose à l'épicerie ","                         Ce que je propose à l'épicerie ","                         Ce que je propose à l'épicerie ","                         Ce que je propose à l'épicerie ","                         Ce que je propose à l'épicerie ","                         Ce que je propose à l'épicerie ","                         Ce que je propose à l'épicerie ","                         Ce que je propose à l'épicerie ","                         Ce que je propose à l'épicerie ","                         Ce que je propose à l'épicerie ","                         Ce que je propose à l'épicerie ","                         Ce que je propose à l'épicerie ","                         Ce que je propose à l'épicerie ","                         Ce que je propose à l'épicerie ","                         Ce que je propose à l'épicerie ","                         Ce que je propose à l'épicerie ","                         Ce que je propose à l'épicerie ","                         Ce que je propose à l'épicerie ","                         Ce que je propose à l'épicerie ","                         Ce que je propose à l'épicerie ","                         Ce que je propose à l'épicerie ","                         Ce que je propose à l'épicerie ","                         Ce que je propose à l'épicerie ","                         Ce que je propose à l'épicerie ","                         Ce que je propose à l'épicerie ","                         Ce que je propose à l'épicerie ","                         Ce que je propose à l'épicerie ","                         Ce que je propose à l'épicerie ","                         Ce que je propose à l'épicerie ","                         Ce que je propose à l'épicerie ","                         Ce que je propose à l'épicerie ","                         Ce que je propose à l'épicerie ","                         Ce que je propose à l'épicerie ","                         Ce que je propose à l'épicerie ","                         Ce que je propose à l'épicerie ","                         Ce que je propose à l'épicerie ","                         Ce que je propose à l'épicerie ","                         Ce que je propose à l'épicerie ","                         Ce que je propose à l'épicerie ","                         Ce que je propose à l'épicerie ","                         Ce que je propose à l'épicerie ","                         Ce que je propose à l'épicerie ","                         Ce que je propose à l'épicerie ","                         Ce que je propose à l'épicerie ","                         Ce que je propose à l'épicerie ","                         Ce que je propose à l'épicerie ","                         Ce que je propose à l'épicerie ","                         Ce que je propose à l'épicerie ","                         Ce que je propose à l'épicerie ","                         Ce que je propose à l'épicerie ","                         Ce que je propose à l'épicerie ","                         Ce que je propose à l'épicerie ","                         Ce que je propose à l'épicerie ","                         Ce que je propose à l'épicerie ","                         Ce que je propose à l'épicerie ","                         Ce que je propose à l'épicerie ","                         Ce que je propose à l'épicerie ","                         Ce que je propose à l'épicerie ","                         Ce que je propose à l'épicerie ","                         Ce que je propose à l'épicerie ","                         Ce que je propose à l'épicerie ","                         Ce que je propose à l'épicerie ","                         Ce que je propose à l'épicerie ","                         Ce que je propose à l'épicerie ","                         Ce que je propose à l'épicerie ","                         Ce que je propose à l'épicerie ","                         Ce que je propose à l'épicerie ","                         Ce que je propose à l'épicerie ","                         Ce que je propose à l'épicerie ","                         Ce que je propose à l'épicerie ","                         Ce que je propose à l'épicerie ","                         Ce que je propose à l'épicerie ","                         Ce que je propose à l'épicerie ","                         Ce que je propose à l'épicerie ","                         Ce que je propose à l'épicerie ","                         Ce que je propose à l'épicerie ","                         Ce que je propose à l'épicerie ","                         Ce que je propose à l'épicerie ","                         Ce que je propose à l'épicerie ","                         Ce que je propose à l'épicerie ","                         Ce que je propose à l'épicerie ","                         Ce que je propose à l'épicerie ","                         Ce que je propose à l'épicerie ","                         Ce que je propose à l'épicerie ","                         Ce que je propose à l'épicerie ","                         Ce que je propose à l'épicerie ","                         Ce que je propose à l'épicerie ","                         Ce que je propose à l'épicerie ","                         Ce que je propose à l'épicerie ","                         Ce que je propose à l'épicerie ","                         Ce que je propose à l'épicerie ","                         Ce que je propose à l'épicerie ","                         Ce que je propose à l'épicerie ","                         Ce que je propose à l'épicerie ","                         Ce que je propose à l'épicerie ","                         Ce que je propose à l'épicerie ","                         Ce que je propose à l'épicerie ","                         Ce que je propose à l'épicerie ","                         Ce que je propose à l'épicerie ","                         Ce que je propose à l'épicerie ","                         Ce que je propose à l'épicerie ","                         Ce que je propose à l'épicerie ","                         Ce que je propose à l'épicerie ","                         Ce que je propose à l'épicerie ","                         Ce que je propose à l'épicerie ","                         Ce que je propose à l'épicerie ","                         Ce que je propose à l'épicerie ","                         Ce que je propose à l'épicerie ","                         Ce que je propose à l'épicerie ","                         Ce que je propose à l'épicerie ","                         Ce que je propose à l'épicerie ","                         Ce que je propose à l'épicerie ","                         Ce que je propose à l'épicerie ","                         Ce que je propose à l'épicerie ","                         Ce que je propose à l'épicerie ","                         Ce que je propose à l'épicerie ","                         Ce que je propose à l'épicerie ","                         Ce que je propose à l'épicerie ","                         Ce que je propose à l'épicerie ","                         Ce que je propose à l'épicerie ","                         Ce que je propose à l'épicerie ","                         Ce que je propose à l'épicerie ","                         Ce que je propose à l'épicerie ","                         Ce que je propose à l'épicerie ","                         Ce que je propose à l'épicerie ","                         Ce que je propose à l'épicerie ","                         Ce que je propose à l'épicerie ","                         Ce que je propose à l'épicerie ","                         Ce que je propose à l'épicerie ","                         Ce que je propose à l'épicerie ","                         Ce que je propose à l'épicerie ","                         Ce que je propose à l'épicerie ","                         Ce que je propose à l'épicerie ","                         Ce que je propose à l'épicerie ","                         Ce que je propose à l'épicerie ","                         Ce que je propose à l'épicerie ","                         Ce que je propose à l'épicerie ","                         Ce que je propose à l'épicerie ","                         Ce que je propose à l'épicerie ","                         Ce que je propose à l'épicerie ","                         Ce que je propose à l'épicerie ","                         Ce que je propose à l'épicerie ","                         Ce que je propose à l'épicerie ","                         Ce que je propose à l'épicerie ","                         Ce que je propose à l'épicerie ","                         Ce que je propose à l'épicerie ","                         Ce que je propose à l'épicerie ","                         Ce que je propose à l'épicerie ","                         Ce que je propose à l'épicerie ","                         Ce que je propose à l'épicerie ","                         Ce que je propose à l'épicerie ","                         Ce que je propose à l'épicerie ","                         Ce que je propose à l'épicerie ","                         Ce que je propose à l'épicerie ","                         Ce que je propose à l'épicerie ","                         Ce que je propose à l'épicerie ","                         Ce que je propose à l'épicerie ","                         Ce que je propose à l'épicerie ","                         Ce que je propose à l'épicerie ","                         Ce que je propose à l'épicerie ","                         Ce que je propose à l'épicerie ","                         Ce que je propose à l'épicerie ","                         Ce que je propose à l'épicerie ","                         Ce que je propose à l'épicerie ","                         Ce que je propose à l'épicerie ","                         Ce que je propose à l'épicerie ","                         Ce que je propose à l'épicerie ","                         Ce que je propose à l'épicerie ","                         Ce que je propose à l'épicerie ","                         Ce que je propose à l'épicerie ","                         Ce que je propose à l'épicerie ","                         Ce que je propose à l'épicerie ","                         Ce que je propose à l'épicerie ","                         Ce que je propose à l'épicerie ","                         Ce que je propose à l'épicerie ","                         Ce que je propose à l'épicerie ","                         Ce que je propose à l'épicerie ","                         Ce que je propose à l'épicerie ","                         Ce que je propose à l'épicerie ","                         Ce que je propose à l'épicerie ","                         Ce que je propose à l'épicerie ","                         Ce que je propose à l'épicerie ","                         Ce que je propose à l'épicerie ","                         Ce que je propose à l'épicerie ","                         Ce que je propose à l'épicerie ","                         Ce que je propose à l'épicerie ","                         Ce que je propose à l'épicerie ","                         Ce que je propose à l'épicerie ","                         Ce que je propose à l'épicerie ","                         Ce que je propose à l'épicerie ","                         Ce que je propose à l'épicerie ","                         Ce que je propose à l'épicerie ","                         Ce que je propose à l'épicerie ","                         Ce que je propose à l'épicerie ","                         Ce que je propose à l'épicerie ","                         Ce que je propose à l'épicerie ","                         Ce que je propose à l'épicerie ","                         Ce que je propose à l'épicerie ","                         Ce que je propose à l'épicerie ","                         Ce que je propose à l'épicerie ","                         Ce que je propose à l'épicerie ","                         Ce que je propose à l'épicerie ","                         Ce que je propose à l'épicerie ","                         Ce que je propose à l'épicerie ","                         Ce que je propose à l'épicerie ","                         Ce que je propose à l'épicerie ","                         Ce que je propose à l'épicerie ","                         Ce que je propose à l'épicerie ","                         Ce que je propose à l'épicerie ","                         Ce que je propose à l'épicerie ","                         Ce que je propose à l'épicerie ","                         Ce que je propose à l'épicerie ","                         Ce que je propose à l'épicerie ","                         Ce que je propose à l'épicerie ","                         Ce que je propose à l'épicerie ","                         Ce que je propose à l'épicerie ","                         Ce que je propose à l'épicerie ","                         Ce que je propose à l'épicerie ","                         Ce que je propose à l'épicerie ","                         Ce que je propose à l'épicerie ","                         Ce que je propose à l'épicerie ","                         Ce que je propose à l'épicerie ","                         Ce que je propose à l'épicerie ","                         Ce que je propose à l'épicerie ","                         Ce que je propose à l'épicerie ","                         Ce que je propose à l'épicerie ","                         Ce que je propose à l'épicerie ","                         Ce que je propose à l'épicerie ","                         Ce que je propose à l'épicerie ","                         Ce que je propose à l'épicerie ","                         Ce que je propose à l'épicerie ","                         Ce que je propose à l'épicerie ","                         Ce que je propose à l'épicerie ","                         Ce que je propose à l'épicerie ","                         Ce que je propose à l'épicerie ","                         Ce que je propose à l'épicerie ","                         Ce que je propose à l'épicerie ","                         Ce que je propose à l'épicerie ","                         Ce que je propose à l'épicerie ","                         Ce que je propose à l'épicerie ","                         Ce que je propose à l'épicerie ","                         Ce que je propose à l'épicerie ","                         Ce que je propose à l'épicerie ","                         Ce que je propose à l'épicerie ","                         Ce que je propose à l'épicerie ","                         Ce que je propose à l'épicerie ","                         Ce que je propose à l'épicerie ","                         Ce que je propose à l'épicerie ","                         Ce que je propose à l'épicerie ","                         Ce que je propose à l'épicerie ","                         Ce que je propose à l'épicerie ","                         Ce que je propose à l'épicerie ","                         Ce que je propose à l'épicerie ","                         Ce que je propose à l'épicerie ","                         Ce que je propose à l'épicerie ","                         Ce que je propose à l'épicerie ","                         Ce que je propose à l'épicerie ","                         Ce que je propose à l'épicerie ","                         Ce que je propose à l'épicerie ","                         Ce que je propose à l'épicerie ","                         Ce que je propose à l'épicerie ","                         Ce que je propose à l'épicerie ","                         Ce que je propose à l'épicerie ","                         Ce que je propose à l'épicerie ","                         Ce que je propose à l'épicerie ","                         Ce que je propose à l'épicerie ","                         Ce que je propose à l'épicerie ","                         Ce que je propose à l'épicerie ","                         Ce que je propose à l'épicerie ","                         Ce que je propose à l'épicerie ","                         Ce que je propose à l'épicerie ","                         Ce que je propose à l'épicerie ","                         Ce que je propose à l'épicerie ","                         Ce que je propose à l'épicerie ","                         Ce que je propose à l'épicerie ","                         Ce que je propose à l'épicerie ","                         Ce que je propose à l'épicerie ","                         Ce que je propose à l'épicerie ","                         Ce que je propose à l'épicerie ","                         Ce que je propose à l'épicerie ","                         Ce que je propose à l'épicerie ","                         Ce que je propose à l'épicerie ","                         Ce que je propose à l'épicerie ","                         Ce que je propose à l'épicerie ","                         Ce que je propose à l'épicerie ","                         Ce que je propose à l'épicerie ","                         Ce que je propose à l'épicerie ","                         Ce que je propose à l'épicerie ","                         Ce que je propose à l'épicerie ","                         Ce que je propose à l'épicerie ","                         Ce que je propose à l'épicerie ","                         Ce que je propose à l'épicerie ","                         Ce que je propose à l'épicerie ","                         Ce que je propose à l'épicerie ","                         Ce que je propose à l'épicerie ","                         Ce que je propose à l'épicerie ","                         Ce que je propose à l'épicerie ","                         Ce que je propose à l'épicerie ","                         Ce que je propose à l'épicerie ","                         Ce que je propose à l'épicerie ","                         Ce que je propose à l'épicerie ","                         Ce que je propose à l'épicerie ","                         Ce que je propose à l'épicerie ","                         Ce que je propose à l'épicerie ","                         Ce que je propose à l'épicerie ","                         Ce que je propose à l'épicerie ","                         Ce que je propose à l'épicerie ","                         Ce que je propose à l'épicerie ","                         Ce que je propose à l'épicerie ","                         Ce que je propose à l'épicerie ","                         Ce que je propose à l'épicerie ","                         Ce que je propose à l'épicerie ","                         Ce que je propose à l'épicerie ","                         Ce que je propose à l'épicerie ","                         Ce que je propose à l'épicerie ","                         Ce que je propose à l'épicerie ","                         Ce que je propose à l'épicerie ","                         Ce que je propose à l'épicerie ","                         Ce que je propose à l'épicerie ","                         Ce que je propose à l'épicerie ","                         Ce que je propose à l'épicerie ","                         Ce que je propose à l'épicerie ","                         Ce que je propose à l'épicerie ","                         Ce que je propose à l'épicerie ","                         Ce que je propose à l'épicerie ","                         Ce que je propose à l'épicerie ","                         Ce que je propose à l'épicerie ","                         Ce que je propose à l'épicerie ","                         Ce que je propose à l'épicerie ","                         Ce que je propose à l'épicerie ","                         Ce que je propose à l'épicerie ","                         Ce que je propose à l'épicerie ","                         Ce que je propose à l'épicerie ","                         Ce que je propose à l'épicerie ","                         Ce que je propose à l'épicerie ","                         Ce que je propose à l'épicerie ","                         Ce que je propose à l'épicerie ","                         Ce que je propose à l'épicerie ","                         Ce que je propose à l'épicerie ","                         Ce que je propose à l'épicerie ","                         Ce que je propose à l'épicerie ","                         Ce que je propose à l'épicerie ","                         Ce que je propose à l'épicerie ","                         Ce que je propose à l'épicerie ","                         Ce que je propose à l'épicerie ","                         Ce que je propose à l'épicerie ","                         Ce que je propose à l'épicerie ","                         Ce que je propose à l'épicerie ","                         Ce que je propose à l'épicerie ","                         Ce que je propose à l'épicerie ","                         Ce que je propose à l'épicerie ","                         Ce que je propose à l'épicerie ","                         Ce que je propose à l'épicerie ","                         Ce que je propose à l'épicerie ","                         Ce que je propose à l'épicerie ","                         Ce que je propose à l'épicerie ","                         Ce que je propose à l'épicerie ","                         Ce que je propose à l'épicerie ","                         Ce que je propose à l'épicerie ","                         Ce que je propose à l'épicerie ","                         Ce que je propose à l'épicerie ","                         Ce que je propose à l'épicerie ","                         Ce que je propose à l'épicerie ","                         Ce que je propose à l'épicerie ","                         Ce que je propose à l'épicerie ","                         Ce que je propose à l'épicerie ","                         Ce que je propose à l'épicerie ","                         Ce que je propose à l'épicerie ","                         Ce que je propose à l'épicerie ","                         Ce que je propose à l'épicerie ","                         Ce que je propose à l'épicerie ","                         Ce que je propose à l'épicerie ","                         Ce que je propose à l'épicerie ","                         Ce que je propose à l'épicerie ","                         Ce que je propose à l'épicerie ","                         Ce que je propose à l'épicerie ","                         Ce que je propose à l'épicerie ","                         Ce que je propose à l'épicerie ","                         Ce que je propose à l'épicerie ","                         Ce que je propose à l'épicerie ","                         Ce que je propose à l'épicerie ","                         Ce que je propose à l'épicerie ","                         Ce que je propose à l'épicerie ","                         Ce que je propose à l'épicerie ","                         Ce que je propose à l'épicerie ","                         Ce que je propose à l'épicerie ","                         Ce que je propose à l'épicerie ","                         Ce que je propose à l'épicerie ","                         Ce que je propose à l'épicerie ","                         Ce que je propose à l'épicerie ","                         Ce que je propose à l'épicerie ","                         Ce que je propose à l'épicerie ","                         Ce que je propose à l'épicerie ","                         Ce que je propose à l'épicerie ","                         Ce que je propose à l'épicerie ","                         Ce que je propose à l'épicerie ","                         Ce que je propose à l'épicerie ","                         Ce que je propose à l'épicerie ","                         Ce que je propose à l'épicerie ","                         Ce que je propose à l'épicerie ","                         Ce que je propose à l'épicerie ","                         Ce que je propose à l'épicerie ","                         Ce que je propose à l'épicerie ","                         Ce que je propose à l'épicerie ","                         Ce que je propose à l'épicerie ","                         Ce que je propose à l'épicerie ","                         Ce que je propose à l'épicerie ","                         Ce que je propose à l'épicerie ","                         Ce que je propose à l'épicerie ","                         Ce que je propose à l'épicerie ","                         Ce que je propose à l'épicerie ","                         Ce que je propose à l'épicerie ","                         Ce que je propose à l'épicerie ","                         Ce que je propose à l'épicerie ","                         Ce que je propose à l'épicerie ","                         Ce que je propose à l'épicerie ","                         Ce que je propose à l'épicerie ","                         Ce que je propose à l'épicerie ","                         Ce que je propose à l'épicerie ","                         Ce que je propose à l'épicerie ","                         Ce que je propose à l'épicerie ","                         Ce que je propose à l'épicerie ","                         Ce que je propose à l'épicerie ","                         Ce que je propose à l'épicerie ","                         Ce que je propose à l'épicerie ","                         Ce que je propose à l'épicerie ","                         Ce que je propose à l'épicerie ","                         Ce que je propose à l'épicerie ","                         Ce que je propose à l'épicerie ","                         Ce que je propose à l'épicerie ","                         Ce que je propose à l'épicerie ","                         Ce que je propose à l'épicerie ","                         Ce que je propose à l'épicerie ","                         Ce que je propose à l'épicerie ","                         Ce que je propose à l'épicerie ","                         Ce que je propose à l'épicerie ","                         Ce que je propose à l'épicerie ","                         Ce que je propose à l'épicerie ","                         Ce que je propose à l'épicerie ","                         Ce que je propose à l'épicerie ","                         Ce que je propose à l'épicerie ","                         Ce que je propose à l'épicerie ","                         Ce que je propose à l'épicerie ","                         Ce que je propose à l'épicerie ","                         Ce que je propose à l'épicerie ","                         Ce que je propose à l'épicerie ","                         Ce que je propose à l'épicerie ","                         Ce que je propose à l'épicerie ","                         Ce que je propose à l'épicerie ","                         Ce que je propose à l'épicerie ","                         Ce que je propose à l'épicerie ","                         Ce que je propose à l'épicerie ","                         Ce que je propose à l'épicerie ","                         Ce que je propose à l'épicerie ","                         Ce que je propose à l'épicerie ","                         Ce que je propose à l'épicerie ","                         Ce que je propose à l'épicerie ","                         Ce que je propose à l'épicerie ","                         Ce que je propose à l'épicerie ","                         Ce que je propose à l'épicerie ","                         Ce que je propose à l'épicerie ","                         Ce que je propose à l'épicerie ","                         Ce que je propose à l'épicerie ","                         Ce que je propose à l'épicerie ","                         Ce que je propose à l'épicerie ","                         Ce que je propose à l'épicerie ","                         Ce que je propose à l'épicerie ","                         Ce que je propose à l'épicerie ","                         Ce que je propose à l'épicerie ","                         Ce que je propose à l'épicerie ","                         Ce que je propose à l'épicerie ","                         Ce que je propose à l'épicerie ","                         Ce que je propose à l'épicerie ","                         Ce que je propose à l'épicerie ","                         Ce que je propose à l'épicerie ","                         Ce que je propose à l'épicerie ","                         Ce que je propose à l'épicerie ","                         Ce que je propose à l'épicerie ","                         Ce que je propose à l'épicerie ","                         Ce que je propose à l'épicerie ","                         Ce que je propose à l'épicerie ","                         Ce que je propose à l'épicerie ","                         Ce que je propose à l'épicerie ","                         Ce que je propose à l'épicerie ","                         Ce que je propose à l'épicerie ","                         Ce que je propose à l'épicerie ","                         Ce que je propose à l'épicerie ","                         Ce que je propose à l'épicerie ","                         Ce que je propose à l'épicerie ","                         Ce que je propose à l'épicerie ","                         Ce que je propose à l'épicerie ","                         Ce que je propose à l'épicerie ","                         Ce que je propose à l'épicerie ","                         Ce que je propose à l'épicerie ","                         Ce que je propose à l'épicerie ","                         Ce que je propose à l'épicerie ","                         Ce que je propose à l'épicerie ","                         Ce que je propose à l'épicerie ","                         Ce que je propose à l'épicerie ","                         Ce que je propose à l'épicerie ","                         Ce que je propose à l'épicerie ","                         Ce que je propose à l'épicerie ","                         Ce que je propose à l'épicerie ","                         Ce que je propose à l'épicerie ","                         Ce que je propose à l'épicerie ","                         Ce que je propose à l'épicerie ","                         Ce que je propose à l'épicerie ","                         Ce que je propose à l'épicerie ","                         Ce que je propose à l'épicerie ","                         Ce que je propose à l'épicerie ","                         Ce que je propose à l'épicerie ","                         Ce que je propose à l'épicerie ","                         Ce que je propose à l'épicerie ","                         Ce que je propose à l'épicerie ","                         Ce que je propose à l'épicerie ","                         Ce que je propose à l'épicerie ","                         Ce que je propose à l'épicerie ","                         Ce que je propose à l'épicerie ","                         Ce que je propose à l'épicerie ","                         Ce que je propose à l'épicerie ","                         Ce que je propose à l'épicerie ","                         Ce que je propose à l'épicerie ","                         Ce que je propose à l'épicerie ","                         Ce que je propose à l'épicerie ","                         Ce que je propose à l'épicerie ","                         Ce que je propose à l'épicerie ","                         Ce que je propose à l'épicerie ","                         Ce que je propose à l'épicerie ","                         Ce que je propose à l'épicerie ","                         Ce que je propose à l'épicerie ","                         Ce que je propose à l'épicerie ","                         Ce que je propose à l'épicerie ","                         Ce que je propose à l'épicerie ","                         Ce que je propose à l'épicerie ","                         Ce que je propose à l'épicerie ","                         Ce que je propose à l'épicerie ","                         Ce que je propose à l'épicerie ","                         Ce que je propose à l'épicerie ","                         Ce que je propose à l'épicerie ","                         Ce que je propose à l'épicerie ","                         Ce que je propose à l'épicerie ","                         Ce que je propose à l'épicerie ","                         Ce que je propose à l'épicerie ","                         Ce que je propose à l'épicerie ","                         Ce que je propose à l'épicerie ","                         Ce que je propose à l'épicerie ","                         Ce que je propose à l'épicerie ","                         Ce que je propose à l'épicerie ","                         Ce que je propose à l'épicerie ","                         Ce que je propose à l'épicerie ","                         Ce que je propose à l'épicerie ","                         Ce que je propose à l'épicerie ","                         Ce que je propose à l'épicerie ","                         Ce que je propose à l'épicerie ","                         Ce que je propose à l'épicerie ","                         Ce que je propose à l'épicerie ","                         Ce que je propose à l'épicerie ","                         Ce que je propose à l'épicerie ","                         Ce que je propose à l'épicerie ","                         Ce que je propose à l'épicerie ","                         Ce que je propose à l'épicerie ","                         Ce que je propose à l'épicerie ","                         Ce que je propose à l'épicerie ","                         Ce que je propose à l'épicerie ","                         Ce que je propose à l'épicerie ","                         Ce que je propose à l'épicerie ","                         Ce que je propose à l'épicerie ","                         Ce que je propose à l'épicerie ","                         Ce que je propose à l'épicerie ","                         Ce que je propose à l'épicerie ","                         Ce que je propose à l'épicerie ","                         Ce que je propose à l'épicerie ","                         Ce que je propose à l'épicerie ","                         Ce que je propose à l'épicerie ","                         Ce que je propose à l'épicerie ","                         Ce que je propose à l'épicerie ","                         Ce que je propose à l'épicerie ","                         Ce que je propose à l'épicerie ","                         Ce que je propose à l'épicerie ","                         Ce que je propose à l'épicerie ","                         Ce que je propose à l'épicerie ","                         Ce que je propose à l'épicerie ","                         Ce que je propose à l'épicerie ","                         Ce que je propose à l'épicerie ","                         Ce que je propose à l'épicerie ","                         Ce que je propose à l'épicerie ","                         Ce que je propose à l'épicerie ","                         Ce que je propose à l'épicerie ","                         Ce que je propose à l'épicerie ","                         Ce que je propose à l'épicerie ","                         Ce que je propose à l'épicerie ","                         Ce que je propose à l'épicerie ","                         Ce que je propose à l'épicerie ","                         Ce que je propose à l'épicerie ","                         Ce que je propose à l'épicerie ","                         Ce que je propose à l'épicerie ","                         Ce que je propose à l'épicerie ","                         Ce que je propose à l'épicerie ","                         Ce que je propose à l'épicerie ","                         Ce que je propose à l'épicerie ","                         Ce que je propose à l'épicerie ","                         Ce que je propose à l'épicerie ","                         Ce que je propose à l'épicerie ","                         Ce que je propose à l'épicerie ","                         Ce que je propose à l'épicerie ","                         Ce que je propose à l'épicerie ","                         Ce que je propose à l'épicerie ","                         Ce que je propose à l'épicerie ","                         Ce que je propose à l'épicerie ","                         Ce que je propose à l'épicerie ","                         Ce que je propose à l'épicerie ","                         Ce que je propose à l'épicerie ","                         Ce que je propose à l'épicerie ","                         Ce que je propose à l'épicerie ","                         Ce que je propose à l'épicerie ","                         Ce que je propose à l'épicerie ","                         Ce que je propose à l'épicerie ","                         Ce que je propose à l'épicerie ","                         Ce que je propose à l'épicerie ","                         Ce que je propose à l'épicerie ","                         Ce que je propose à l'épicerie ","                         Ce que je propose à l'épicerie ","                         Ce que je propose à l'épicerie ","                         Ce que je propose à l'épicerie ","                         Ce que je propose à l'épicerie ","                         Ce que je propose à l'épicerie ","                         Ce que je propose à l'épicerie ","                         Ce que je propose à l'épicerie ","                         Ce que je propose à l'épicerie ","                         Ce que je propose à l'épicerie ","                         Ce que je propose à l'épicerie ","                         Ce que je propose à l'épicerie ","                         Ce que je propose à l'épicerie ","                         Ce que je propose à l'épicerie ","                         Ce que je propose à l'épicerie ","                         Ce que je propose à l'épicerie ","                         Ce que je propose à l'épicerie ","                         Ce que je propose à l'épicerie ","                         Ce que je propose à l'épicerie ","                         Ce que je propose à l'épicerie ","                         Ce que je propose à l'épicerie ","                         Ce que je propose à l'épicerie ","                         Ce que je propose à l'épicerie ","                         Ce que je propose à l'épicerie ","                         Ce que je propose à l'épicerie ","                         Ce que je propose à l'épicerie ","                         Ce que je propose à l'épicerie ","                         Ce que je propose à l'épicerie ","                         Ce que je propose à l'épicerie ","                         Ce que je propose à l'épicerie ","                         Ce que je propose à l'épicerie ","                         Ce que je propose à l'épicerie ","                         Ce que je propose à l'épicerie ","                         Ce que je propose à l'épicerie ","                         Ce que je propose à l'épicerie ","                         Ce que je propose à l'épicerie ","                         Ce que je propose à l'épicerie ","                         Ce que je propose à l'épicerie ","                         Ce que je propose à l'épicerie ","                         Ce que je propose à l'épicerie ","                         Ce que je propose à l'épicerie ","                         Ce que je propose à l'épicerie ","                         Ce que je propose à l'épicerie ","                         Ce que je propose à l'épicerie ","                         Ce que je propose à l'épicerie ","                         Ce que je propose à l'épicerie ","                         Ce que je propose à l'épicerie ","                         Ce que je propose à l'épicerie ","                         Ce que je propose à l'épicerie ","                         Ce que je propose à l'épicerie ","                         Ce que je propose à l'épicerie ","                         Ce que je propose à l'épicerie ","                         Ce que je propose à l'épicerie ","                         Ce que je propose à l'épicerie ","                         Ce que je propose à l'épicerie ","                         Ce que je propose à l'épicerie ","                         Ce que je propose à l'épicerie ","                         Ce que je propose à l'épicerie ","                         Ce que je propose à l'épicerie ","                         Ce que je propose à l'épicerie ","                         Ce que je propose à l'épicerie ","                         Ce que je propose à l'épicerie ","                         Ce que je propose à l'épicerie ","                         Ce que je propose à l'épicerie ","                         Ce que je propose à l'épicerie ","                         Ce que je propose à l'épicerie ","                         Ce que je propose à l'épicerie ","                         Ce que je propose à l'épicerie ","                         Ce que je propose à l'épicerie ","                         Ce que je propose à l'épicerie ","                         Ce que je propose à l'épicerie ","                         Ce que je propose à l'épicerie ","                         Ce que je propose à l'épicerie ","                         Ce que je propose à l'épicerie ","                         Ce que je propose à l'épicerie ","                         Ce que je propose à l'épicerie ","                         Ce que je propose à l'épicerie ","                         Ce que je propose à l'épicerie ","                         Ce que je propose à l'épicerie ","                         Ce que je propose à l'épicerie ","                         Ce que je propose à l'épicerie ","                         Ce que je propose à l'épicerie ","                         Ce que je propose à l'épicerie ","                         Ce que je propose à l'épicerie ","                         Ce que je propose à l'épicerie ","                         Ce que je propose à l'épicerie ","                         Ce que je propose à l'épicerie ","                         Ce que je propose à l'épicerie ","                         Ce que je propose à l'épicerie ","                         Ce que je propose à l'épicerie ","                         Ce que je propose à l'épicerie ","                         Ce que je propose à l'épicerie ","                         Ce que je propose à l'épicerie ","                         Ce que je propose à l'épicerie ","                         Ce que je propose à l'épicerie ","                         Ce que je propose à l'épicerie ","                         Ce que je propose à l'épicerie ","                         Ce que je propose à l'épicerie ","                         Ce que je propose à l'épicerie ","                         Ce que je propose à l'épicerie ","                         Ce que je propose à l'épicerie ","                         Ce que je propose à l'épicerie ","                         Ce que je propose à l'épicerie ","                         Ce que je propose à l'épicerie ","                         Ce que je propose à l'épicerie ","                         Ce que je propose à l'épicerie ","                         Ce que je propose à l'épicerie ","                         Ce que je propose à l'épicerie ","                         Ce que je propose à l'épicerie ","                         Ce que je propose à l'épicerie ","                         Ce que je propose à l'épicerie ","                         Ce que je propose à l'épicerie ","                         Ce que je propose à l'épicerie ","                         Ce que je propose à l'épicerie ","                         Ce que je propose à l'épicerie ","                         Ce que je propose à l'épicerie ","                         Ce que je propose à l'épicerie ","                         Ce que je propose à l'épicerie ","                         Ce que je propose à l'épicerie ","                         Ce que je propose à l'épicerie ","                         Ce que je propose à l'épicerie ","                         Ce que je propose à l'épicerie ","                         Ce que je propose à l'épicerie ","                         Ce que je propose à l'épicerie ","                         Ce que je propose à l'épicerie ","                         Ce que je propose à l'épicerie ","                         Ce que je propose à l'épicerie ","                         Ce que je propose à l'épicerie ","                         Ce que je propose à l'épicerie ","                         Ce que je propose à l'épicerie ","                         Ce que je propose à l'épicerie ","                         Ce que je propose à l'épicerie ","                         Ce que je propose à l'épicerie ","                         Ce que je propose à l'épicerie ","                         Ce que je propose à l'épicerie ","                         Ce que je propose à l'épicerie ","                         Ce que je propose à l'épicerie ","                         Ce que je propose à l'épicerie ","                         Ce que je propose à l'épicerie ","                         Ce que je propose à l'épicerie ","                         Ce que je propose à l'épicerie ","                         Ce que je propose à l'épicerie ","                         Ce que je propose à l'épicerie ","                         Ce que je propose à l'épicerie ","                         Ce que je propose à l'épicerie ","                         Ce que je propose à l'épicerie ","                         Ce que je propose à l'épicerie ","                         Ce que je propose à l'épicerie ","                         Ce que je propose à l'épicerie ","                         Ce que je propose à l'épicerie ","                         Ce que je propose à l'épicerie ","                         Ce que je propose à l'épicerie ","                         Ce que je propose à l'épicerie ","                         Ce que je propose à l'épicerie ","                         Ce que je propose à l'épicerie ","                         Ce que je propose à l'épicerie ","                         Ce que je propose à l'épicerie ","                         Ce que je propose à l'épicerie ","                         Ce que je propose à l'épicerie ","                         Ce que je propose à l'épicerie ","                         Ce que je propose à l'épicerie ","                         Ce que je propose à l'épicerie ","                         Ce que je propose à l'épicerie ","                         Ce que je propose à l'épicerie ","                         Ce que je propose à l'épicerie ","                         Ce que je propose à l'épicerie ","                         Ce que je propose à l'épicerie ","                         Ce que je propose à l'épicerie ","                         Ce que je propose à l'épicerie ","                         Ce que je propose à l'épicerie ","                         Ce que je propose à l'épicerie ","                         Ce que je propose à l'épicerie ","                         Ce que je propose à l'épicerie ","                         Ce que je propose à l'épicerie ","                         Ce que je propose à l'épicerie ","                         Ce que je propose à l'épicerie ","                         Ce que je propose à l'épicerie ","                         Ce que je propose à l'épicerie ","                         Ce que je propose à l'épicerie ","                         Ce que je propose à l'épicerie ","                         Ce que je propose à l'épicerie ","                         Ce que je propose à l'épicerie ","                         Ce que je propose à l'épicerie ","                         Ce que je propose à l'épicerie ","                         Ce que je propose à l'épicerie ","                         Ce que je propose à l'épicerie ","                         Ce que je propose à l'épicerie ","                         Ce que je propose à l'épicerie ","                         Ce que je propose à l'épicerie ","                         Ce que je propose à l'épicerie ","                         Ce que je propose à l'épicerie ","                         Ce que je propose à l'épicerie ","                         Ce que je propose à l'épicerie ","                         Ce que je propose à l'épicerie ","                         Ce que je propose à l'épicerie ","                         Ce que je propose à l'épicerie ","                         Ce que je propose à l'épicerie ","                         Ce que je propose à l'épicerie ","                         Ce que je propose à l'épicerie ","                         Ce que je propose à l'épicerie ","                         Ce que je propose à l'épicerie ","                         Ce que je propose à l'épicerie ","                         Ce que je propose à l'épicerie ","                         Ce que je propose à l'épicerie ","                         Ce que je propose à l'épicerie ","                         Ce que je propose à l'épicerie ","                         Ce que je propose à l'épicerie ","                         Ce que je propose à l'épicerie ","                         Ce que je propose à l'épicerie ","                         Ce que je propose à l'épicerie ","                         Ce que je propose à l'épicerie ","                         Ce que je propose à l'épicerie ","                         Ce que je propose à l'épicerie ","                         Ce que je propose à l'épicerie ","                         Ce que je propose à l'épicerie ","                         Ce que je propose à l'épicerie ","                         Ce que je propose à l'épicerie ","                         Ce que je propose à l'épicerie ","                         Ce que je propose à l'épicerie ","                         Ce que je propose à l'épicerie ","                         Ce que je propose à l'épicerie ","                         Ce que je propose à l'épicerie ","                         Ce que je propose à l'épicerie ","                         Ce que je propose à l'épicerie ","                         Ce que je propose à l'épicerie ","                         Ce que je propose à l'épicerie ","                         Ce que je propose à l'épicerie ","                         Ce que je propose à l'épicerie ","                         Ce que je propose à l'épicerie ","                         Ce que je propose à l'épicerie ","                         Ce que je propose à l'épicerie ","                         Ce que je propose à l'épicerie ","                         Ce que je propose à l'épicerie ","                         Ce que je propose à l'épicerie ","                         Ce que je propose à l'épicerie ","                         Ce que je propose à l'épicerie ","                         Ce que je propose à l'épicerie ","                         Ce que je propose à l'épicerie ","                         Ce que je propose à l'épicerie ","                         Ce que je propose à l'épicerie ","                         Ce que je propose à l'épicerie ","                         Ce que je propose à l'épicerie ","                         Ce que je propose à l'épicerie ","                         Ce que je propose à l'épicerie ","                         Ce que je propose à l'épicerie ","                         Ce que je propose à l'épicerie ","                         Ce que je propose à l'épicerie ","                         Ce que je propose à l'épicerie ","                         Ce que je propose à l'épicerie ","                         Ce que je propose à l'épicerie ","                         Ce que je propose à l'épicerie ","                         Ce que je propose à l'épicerie ","                         Ce que je propose à l'épicerie ","                         Ce que je propose à l'épicerie ","                         Ce que je propose à l'épicerie ","                         Ce que je propose à l'épicerie ","                         Ce que je propose à l'épicerie ","                         Ce que je propose à l'épicerie ","                         Ce que je propose à l'épicerie ","                         Ce que je propose à l'épicerie ","                         Ce que je propose à l'épicerie ","                         Ce que je propose à l'épicerie ","                         Ce que je propose à l'épicerie ","                         Ce que je propose à l'épicerie ","                         Ce que je propose à l'épicerie ","                         Ce que je propose à l'épicerie ","                         Ce que je propose à l'épicerie ","                         Ce que je propose à l'épicerie ","                         Ce que je propose à l'épicerie ","                         Ce que je propose à l'épicerie ","                         Ce que je propose à l'épicerie ","                         Ce que je propose à l'épicerie ","                         Ce que je propose à l'épicerie ","                         Ce que je propose à l'épicerie ","                         Ce que je propose à l'épicerie ","                         Ce que je propose à l'épicerie ","                         Ce que je propose à l'épicerie ","                         Ce que je propose à l'épicerie ","                         Ce que je propose à l'épicerie ","                         Ce que je propose à l'épicerie ","                         Ce que je propose à l'épicerie ","                         Ce que je propose à l'épicerie ","                         Ce que je propose à l'épicerie ","                         Ce que je propose à l'épicerie ","                         Ce que je propose à l'épicerie ","                         Ce que je propose à l'épicerie ","                         Ce que je propose à l'épicerie ","                         Ce que je propose à l'épicerie ","                         Ce que je propose à l'épicerie ","                         Ce que je propose à l'épicerie ","                         Ce que je propose à l'épicerie ","                         Ce que je propose à l'épicerie ","                         Ce que je propose à l'épicerie ","                         Ce que je propose à l'épicerie ","                         Ce que je propose à l'épicerie ","                         Ce que je propose à l'épicerie ","                         Ce que je propose à l'épicerie ","                         Ce que je propose à l'épicerie ","                         Ce que je propose à l'épicerie ","                         Ce que je propose à l'épicerie ","                         Ce que je propose à l'épicerie ","                         Ce que je propose à l'épicerie ","                         Ce que je propose à l'épicerie ","                         Ce que je propose à l'épicerie ","                         Ce que je propose à l'épicerie ","                         Ce que je propose à l'épicerie ","                         Ce que je propose à l'épicerie ","                         Ce que je propose à l'épicerie ","                         Ce que je propose à l'épicerie ","                         Ce que je propose à l'épicerie ","                         Ce que je propose à l'épicerie ","                         Ce que je propose à l'épicerie ","                         Ce que je propose à l'épicerie ","                         Ce que je propose à l'épicerie ","                         Ce que je propose à l'épicerie ","                         Ce que je propose à l'épicerie ","                         Ce que je propose à l'épicerie ","                         Ce que je propose à l'épicerie ","                         Ce que je propose à l'épicerie ","                         Ce que je propose à l'épicerie ","                         Ce que je propose à l'épicerie ","                         Ce que je propose à l'épicerie ","                         Ce que je propose à l'épicerie ","                         Ce que je propose à l'épicerie ","                         Ce que je propose à l'épicerie ","                         Ce que je propose à l'épicerie ","                         Ce que je propose à l'épicerie ","                         Ce que je propose à l'épicerie ","                         Ce que je propose à l'épicerie ","                         Ce que je propose à l'épicerie ","                         Ce que je propose à l'épicerie ","                         Ce que je propose à l'épicerie ","                         Ce que je propose à l'épicerie ","                         Ce que je propose à l'épicerie ","                         Ce que je propose à l'épicerie ","                         Ce que je propose à l'épicerie ","                         Ce que je propose à l'épicerie ","                         Ce que je propose à l'épicerie ","                         Ce que je propose à l'épicerie ","                         Ce que je propose à l'épicerie ","                         Ce que je propose à l'épicerie ","                         Ce que je propose à l'épicerie ","                         Ce que je propose à l'épicerie ","                         Ce que je propose à l'épicerie ","                         Ce que je propose à l'épicerie ","                         Ce que je propose à l'épicerie ","                         Ce que je propose à l'épicerie ","                         Ce que je propose à l'épicerie ","                         Ce que je propose à l'épicerie ","                         Ce que je propose à l'épicerie ","                         Ce que je propose à l'épicerie ","                         Ce que je propose à l'épicerie ","                         Ce que je propose à l'épicerie ","                         Ce que je propose à l'épicerie ","                         Ce que je propose à l'épicerie ","                         Ce que je propose à l'épicerie ","                         Ce que je propose à l'épicerie ","                         Ce que je propose à l'épicerie ","                         Ce que je propose à l'épicerie ","                         Ce que je propose à l'épicerie ","                         Ce que je propose à l'épicerie ","                         Ce que je propose à l'épicerie ","                         Ce que je propose à l'épicerie ","                         Ce que je propose à l'épicerie ","                         Ce que je propose à l'épicerie ","                         Ce que je propose à l'épicerie ","                         Ce que je propose à l'épicerie ","                         Ce que je propose à l'épicerie ","                         Ce que je propose à l'épicerie ","                         Ce que je propose à l'épicerie ","                         Ce que je propose à l'épicerie ","                         Ce que je propose à l'épicerie ","                         Ce que je propose à l'épicerie ","                         Ce que je propose à l'épicerie ","                         Ce que je propose à l'épicerie ","                         Ce que je propose à l'épicerie ","                         Ce que je propose à l'épicerie ","                         Ce que je propose à l'épicerie ","                         Ce que je propose à l'épicerie ","                         Ce que je propose à l'épicerie ","                         Ce que je propose à l'épicerie ","                         Ce que je propose à l'épicerie ","                         Ce que je propose à l'épicerie ","                         Ce que je propose à l'épicerie ","                         Ce que je propose à l'épicerie ","                         Ce que je propose à l'épicerie ","                         Ce que je propose à l'épicerie ","                         Ce que je propose à l'épicerie ","                         Ce que je propose à l'épicerie ","                         Ce que je propose à l'épicerie ","                         Ce que je propose à l'épicerie ","                         Ce que je propose à l'épicerie ","                         Ce que je propose à l'épicerie ","                         Ce que je propose à l'épicerie ","                         Ce que je propose à l'épicerie ","                         Ce que je propose à l'épicerie ","                         Ce que je propose à l'épicerie ","                         Ce que je propose à l'épicerie ","                         Ce que je propose à l'épicerie ","                         Ce que je propose à l'épicerie ","                         Ce que je propose à l'épicerie ","                         Ce que je propose à l'épicerie ","                         Ce que je propose à l'épicerie ","                         Ce que je propose à l'épicerie ","                         Ce que je propose à l'épicerie ","                         Ce que je propose à l'épicerie ","                         Ce que je propose à l'épicerie ","                         Ce que je propose à l'épicerie ","                         Ce que je propose à l'épicerie ","                         Ce que je propose à l'épicerie ","                         Ce que je propose à l'épicerie ","                         Ce que je propose à l'épicerie ","                         Ce que je propose à l'épicerie ","                         Ce que je propose à l'épicerie ","                         Ce que je propose à l'épicerie ","                         Ce que je propose à l'épicerie ","                         Ce que je propose à l'épicerie ","                         Ce que je propose à l'épicerie ","                         Ce que je propose à l'épicerie ","                         Ce que je propose à l'épicerie ","                         Ce que je propose à l'épicerie ","                         Ce que je propose à l'épicerie ","                         Ce que je propose à l'épicerie ","                         Ce que je propose à l'épicerie ","                         Ce que je propose à l'épicerie ","                         Ce que je propose à l'épicerie ","                         Ce que je propose à l'épicerie ","                         Ce que je propose à l'épicerie ","                         Ce que je propose à l'épicerie ","                         Ce que je propose à l'épicerie ","                         Ce que je propose à l'épicerie ","                         Ce que je propose à l'épicerie ","                         Ce que je propose à l'épicerie ","                         Ce que je propose à l'épicerie ","                         Ce que je propose à l'épicerie ","                         Ce que je propose à l'épicerie ","                         Ce que je propose à l'épicerie ","                         Ce que je propose à l'épicerie ","                         Ce que je propose à l'épicerie ","                         Ce que je propose à l'épicerie ","                         Ce que je propose à l'épicerie ","                         Ce que je propose à l'épicerie ","                         Ce que je propose à l'épicerie ","                         Ce que je propose à l'épicerie ","                         Ce que je propose à l'épicerie ","                         Ce que je propose à l'épicerie ","                         Ce que je propose à l'épicerie ","                         Ce que je propose à l'épicerie ","                         Ce que je propose à l'épicerie ","                         Ce que je propose à l'épicerie ","                         Ce que je propose à l'épicerie ","                         Ce que je propose à l'épicerie ","                         Ce que je propose à l'épicerie ","                         Ce que je propose à l'épicerie ","                         Ce que je propose à l'épicerie ","                         Ce que je propose à l'épicerie ","                         Ce que je propose à l'épicerie ","                         Ce que je propose à l'épicerie ","                         Ce que je propose à l'épicerie ","                         Ce que je propose à l'épicerie ","                         Ce que je propose à l'épicerie ","                         Ce que je propose à l'épicerie ","                         Ce que je propose à l'épicerie ","                         Ce que je propose à l'épicerie ","                         Ce que je propose à l'épicerie ","                         Ce que je propose à l'épicerie ","                         Ce que je propose à l'épicerie ","                         Ce que je propose à l'épicerie ","                         Ce que je propose à l'épicerie ","                         Ce que je propose à l'épicerie ","                         Ce que je propose à l'épicerie ","                         Ce que je propose à l'épicerie ","                         Ce que je propose à l'épicerie ","                         Ce que je propose à l'épicerie ","                         Ce que je propose à l'épicerie ","                         Ce que je propose à l'épicerie ","                         Ce que je propose à l'épicerie ","                         Ce que je propose à l'épicerie ","                         Ce que je propose à l'épicerie ","                         Ce que je propose à l'épicerie ","                         Ce que je propose à l'épicerie ","                         Ce que je propose à l'épicerie ","                         Ce que je propose à l'épicerie ","                         Ce que je propose à l'épicerie ","                         Ce que je propose à l'épicerie ","                         Ce que je propose à l'épicerie ","                         Ce que je propose à l'épicerie ","                         Ce que je propose à l'épicerie ","                         Ce que je propose à l'épicerie ","                         Ce que je propose à l'épicerie ","                         Ce que je propose à l'épicerie ","                         Ce que je propose à l'épicerie ","                         Ce que je propose à l'épicerie ","                         Ce que je propose à l'épicerie ","                         Ce que je propose à l'épicerie ","                         Ce que je propose à l'épicerie ","                         Ce que je propose à l'épicerie ","                         Ce que je propose à l'épicerie ","                         Ce que je propose à l'épicerie ","                         Ce que je propose à l'épicerie ","                         Ce que je propose à l'épicerie ","                         Ce que je propose à l'épicerie ","                         Ce que je propose à l'épicerie ","                         Ce que je propose à l'épicerie ","                         Ce que je propose à l'épicerie ","                         Ce que je propose à l'épicerie ","                         Ce que je propose à l'épicerie ","                         Ce que je propose à l'épicerie ","                         Ce que je propose à l'épicerie ","                         Ce que je propose à l'épicerie ","                         Ce que je propose à l'épicerie ","                         Ce que je propose à l'épicerie ","                         Ce que je propose à l'épicerie ","                         Ce que je propose à l'épicerie ","                         Ce que je propose à l'épicerie ","                         Ce que je propose à l'épicerie ","                         Ce que je propose à l'épicerie ","                         Ce que je propose à l'épicerie ","                         Ce que je propose à l'épicerie ","                         Ce que je propose à l'épicerie ","                         Ce que je propose à l'épicerie ","                         Ce que je propose à l'épicerie ","                         Ce que je propose à l'épicerie ","                         Ce que je propose à l'épicerie ","                         Ce que je propose à l'épicerie ","                         Ce que je propose à l'épicerie ","                         Ce que je propose à l'épicerie ","                         Ce que je propose à l'épicerie ","                         Ce que je propose à l'épicerie ","                         Ce que je propose à l'épicerie ","                         Ce que je propose à l'épicerie ","                         Ce que je propose à l'épicerie ","                         Ce que je propose à l'épicerie ","                         Ce que je propose à l'épicerie ","                         Ce que je propose à l'épicerie ","                         Ce que je propose à l'épicerie ","                         Ce que je propose à l'épicerie ","                         Ce que je propose à l'épicerie ","                         Ce que je propose à l'épicerie ","                         Ce que je propose à l'épicerie ","                         Ce que je propose à l'épicerie ","                         Ce que je propose à l'épicerie ","                         Ce que je propose à l'épicerie ","                         Ce que je propose à l'épicerie ","                         Ce que je propose à l'épicerie ","                         Ce que je propose à l'épicerie ","                         Ce que je propose à l'épicerie ","                         Ce que je propose à l'épicerie ","                         Ce que je propose à l'épicerie ","                         Ce que je propose à l'épicerie ","                         Ce que je propose à l'épicerie ","                         Ce que je propose à l'épicerie ","                         Ce que je propose à l'épicerie ","                         Ce que je propose à l'épicerie ","                         Ce que je propose à l'épicerie ","                         Ce que je propose à l'épicerie ","                         Ce que je propose à l'épicerie ","                         Ce que je propose à l'épicerie ","                         Ce que je propose à l'épicerie ","                         Ce que je propose à l'épicerie ","                         Ce que je propose à l'épicerie ","                         Ce que je propose à l'épicerie ","                         Ce que je propose à l'épicerie ","                         Ce que je propose à l'épicerie ","                         Ce que je propose à l'épicerie ","                         Ce que je propose à l'épicerie ","                         Ce que je propose à l'épicerie ","                         Ce que je propose à l'épicerie ","                         Ce que je propose à l'épicerie ","                         Ce que je propose à l'épicerie ","                         Ce que je propose à l'épicerie ","                         Ce que je propose à l'épicerie ","                         Ce que je propose à l'épicerie ","                         Ce que je propose à l'épicerie ","                         Ce que je propose à l'épicerie ","                         Ce que je propose à l'épicerie ","                         Ce que je propose à l'épicerie ","                         Ce que je propose à l'épicerie ","                         Ce que je propose à l'épicerie ","                         Ce que je propose à l'épicerie ","                         Ce que je propose à l'épicerie ","                         Ce que je propose à l'épicerie ","                         Ce que je propose à l'épicerie ","                         Ce que je propose à l'épicerie ","                         Ce que je propose à l'épicerie ","                         Ce que je propose à l'épicerie ","                         Ce que je propose à l'épicerie ","                         Ce que je propose à l'épicerie ","                         Ce que je propose à l'épicerie ","                         Ce que je propose à l'épicerie ","                         Ce que je propose à l'épicerie ","                         Ce que je propose à l'épicerie ","                         Ce que je propose à l'épicerie ","                         Ce que je propose à l'épicerie ","                         Ce que je propose à l'épicerie ","                         Ce que je propose à l'épicerie ","                         Ce que je propose à l'épicerie ","                         Ce que je propose à l'épicerie ","                         Ce que je propose à l'épicerie ","                         Ce que je propose à l'épicerie ","                         Ce que je propose à l'épicerie ","                         Ce que je propose à l'épicerie ","                         Ce que je propose à l'épicerie ","                         Ce que je propose à l'épicerie ","                         Ce que je propose à l'épicerie ","                         Ce que je propose à l'épicerie ","                         Ce que je propose à l'épicerie ","                         Ce que je propose à l'épicerie ","                         Ce que je propose à l'épicerie ","                         Ce que je propose à l'épicerie ","                         Ce que je propose à l'épicerie ","                         Ce que je propose à l'épicerie ","                         Ce que je propose à l'épicerie ","                         Ce que je propose à l'épicerie ","                         Ce que je propose à l'épicerie ","                         Ce que je propose à l'épicerie ","                         Ce que je propose à l'épicerie ","                         Ce que je propose à l'épicerie ","                         Ce que je propose à l'épicerie ","                         Ce que je propose à l'épicerie ","                         Ce que je propose à l'épicerie ","                         Ce que je propose à l'épicerie ","                         Ce que je propose à l'épicerie ","                         Ce que je propose à l'épicerie ","                         Ce que je propose à l'épicerie ","                         Ce que je propose à l'épicerie ","                         Ce que je propose à l'épicerie ","                         Ce que je propose à l'épicerie ","                         Ce que je propose à l'épicerie ","                         Ce que je propose à l'épicerie ","                         Ce que je propose à l'épicerie ","                         Ce que je propose à l'épicerie ","                         Ce que je propose à l'épicerie ","                         Ce que je propose à l'épicerie ","                         Ce que je propose à l'épicerie ","                         Ce que je propose à l'épicerie ","                         Ce que je propose à l'épicerie ","                         Ce que je propose à l'épicerie ","                         Ce que je propose à l'épicerie ","                         Ce que je propose à l'épicerie ","                         Ce que je propose à l'épicerie ","                         Ce que je propose à l'épicerie ","                         Ce que je propose à l'épicerie ","                         Ce que je propose à l'épicerie ","                         Ce que je propose à l'épicerie ","                         Ce que je propose à l'épicerie ","                         Ce que je propose à l'épicerie ","                         Ce que je propose à l'épicerie ","                         Ce que je propose à l'épicerie ","                         Ce que je propose à l'épicerie ","                         Ce que je propose à l'épicerie ","                         Ce que je propose à l'épicerie ","                         Ce que je propose à l'épicerie ","                         Ce que je propose à l'épicerie ","                         Ce que je propose à l'épicerie ","                         Ce que je propose à l'épicerie ","                         Ce que je propose à l'épicerie ","                         Ce que je propose à l'épicerie ","                         Ce que je propose à l'épicerie ","                         Ce que je propose à l'épicerie ","                         Ce que je propose à l'épicerie ","                         Ce que je propose à l'épicerie ","                         Ce que je propose à l'épicerie ","                         Ce que je propose à l'épicerie ","                         Ce que je propose à l'épicerie ","                         Ce que je propose à l'épicerie ","                         Ce que je propose à l'épicerie ","                         Ce que je propose à l'épicerie ","                         Ce que je propose à l'épicerie ","                         Ce que je propose à l'épicerie ","                         Ce que je propose à l'épicerie ","                         Ce que je propose à l'épicerie ","                         Ce que je propose à l'épicerie ","                         Ce que je propose à l'épicerie ","                         Ce que je propose à l'épicerie ","                         Ce que je propose à l'épicerie ","                         Ce que je propose à l'épicerie ","                         Ce que je propose à l'épicerie ","                         Ce que je propose à l'épicerie ","                         Ce que je propose à l'épicerie ","                         Ce que je propose à l'épicerie ","                         Ce que je propose à l'épicerie ","                         Ce que je propose à l'épicerie ","                         Ce que je propose à l'épicerie ","                         Ce que je propose à l'épicerie ","                         Ce que je propose à l'épicerie ","                         Ce que je propose à l'épicerie ","                         Ce que je propose à l'épicerie ","                         Ce que je propose à l'épicerie ","                         Ce que je propose à l'épicerie ","                         Ce que je propose à l'épicerie ","                         Ce que je propose à l'épicerie ","                         Ce que je propose à l'épicerie ","                         Ce que je propose à l'épicerie ","                         Ce que je propose à l'épicerie ","                         Ce que je propose à l'épicerie ","                         Ce que je propose à l'épicerie ","                         Ce que je propose à l'épicerie ","                         Ce que je propose à l'épicerie ","                         Ce que je propose à l'épicerie ","                         Ce que je propose à l'épicerie ","                         Ce que je propose à l'épicerie ","                         Ce que je propose à l'épicerie ","                         Ce que je propose à l'épicerie ","                         Ce que je propose à l'épicerie ","                         Ce que je propose à l'épicerie ","                         Ce que je propose à l'épicerie ","                         Ce que je propose à l'épicerie ","                         Ce que je propose à l'épicerie ","                         Ce que je propose à l'épicerie ","                         Ce que je propose à l'épicerie ","                         Ce que je propose à l'épicerie ","                         Ce que je propose à l'épicerie ","                         Ce que je propose à l'épicerie ","                         Ce que je propose à l'épicerie ","                         Ce que je propose à l'épicerie ","                         Ce que je propose à l'épicerie ","                         Ce que je propose à l'épicerie ","                         Ce que je propose à l'épicerie ","                         Ce que je propose à l'épicerie ","                         Ce que je propose à l'épicerie ","                         Ce que je propose à l'épicerie ","                         Ce que je propose à l'épicerie ","                         Ce que je propose à l'épicerie ","                         Ce que je propose à l'épicerie ","                         Ce que je propose à l'épicerie ","                         Ce que je propose à l'épicerie ","                         Ce que je propose à l'épicerie ","                         Ce que je propose à l'épicerie ","                         Ce que je propose à l'épicerie ","                         Ce que je propose à l'épicerie ","                         Ce que je propose à l'épicerie ","                         Ce que je propose à l'épicerie ","                         Ce que je propose à l'épicerie ","                         Ce que je propose à l'épicerie ","                         Ce que je propose à l'épicerie ","                         Ce que je propose à l'épicerie ","                         Ce que je propose à l'épicerie ","                         Ce que je propose à l'épicerie ","                         Ce que je propose à l'épicerie ","                         Ce que je propose à l'épicerie ","                         Ce que je propose à l'épicerie ","                         Ce que je propose à l'épicerie ","                         Ce que je propose à l'épicerie ","                         Ce que je propose à l'épicerie ","                         Ce que je propose à l'épicerie ","                         Ce que je propose à l'épicerie ","                         Ce que je propose à l'épicerie ","                         Ce que je propose à l'épicerie ","                         Ce que je propose à l'épicerie ","                         Ce que je propose à l'épicerie ","                         Ce que je propose à l'épicerie ","                         Ce que je propose à l'épicerie ","                         Ce que je propose à l'épicerie ","                         Ce que je propose à l'épicerie ","                         Ce que je propose à l'épicerie ","                         Ce que je propose à l'épicerie ","                         Ce que je propose à l'épicerie ","                         Ce que je propose à l'épicerie ","                         Ce que je propose à l'épicerie ","                         Ce que je propose à l'épicerie ","                         Ce que je propose à l'épicerie ","                         Ce que je propose à l'épicerie ","                         Ce que je propose à l'épicerie ","                         Ce que je propose à l'épicerie ","                         Ce que je propose à l'épicerie ","                         Ce que je propose à l'épicerie ","                         Ce que je propose à l'épicerie ","                         Ce que je propose à l'épicerie ","                         Ce que je propose à l'épicerie ","                         Ce que je propose à l'épicerie ","                         Ce que je propose à l'épicerie ","                         Ce que je propose à l'épicerie ","                         Ce que je propose à l'épicerie ","                         Ce que je propose à l'épicerie ","                         Ce que je propose à l'épicerie ","                         Ce que je propose à l'épicerie ","                         Ce que je propose à l'épicerie ","                         Ce que je propose à l'épicerie ","                         Ce que je propose à l'épicerie ","                         Ce que je propose à l'épicerie ","                         Ce que je propose à l'épicerie ","                         Ce que je propose à l'épicerie ","                         Ce que je propose à l'épicerie ","                         Ce que je propose à l'épicerie ","                         Ce que je propose à l'épicerie ","                         Ce que je propose à l'épicerie ","                         Ce que je propose à l'épicerie ","                         Ce que je propose à l'épicerie ","                         Ce que je propose à l'épicerie ","                         Ce que je propose à l'épicerie ","                         Ce que je propose à l'épicerie ","                         Ce que je propose à l'épicerie ","                         Ce que je propose à l'épicerie ","                         Ce que je propose à l'épicerie ","                         Ce que je propose à l'épicerie ","                         Ce que je propose à l'épicerie ","                         Ce que je propose à l'épicerie ","                         Ce que je propose à l'épicerie ","                         Ce que je propose à l'épicerie ","                         Ce que je propose à l'épicerie ","                         Ce que je propose à l'épicerie ","                         Ce que je propose à l'épicerie ","                         Ce que je propose à l'épicerie ","                         Ce que je propose à l'épicerie ","                         Ce que je propose à l'épicerie ","                         Ce que je propose à l'épicerie ","                         Ce que je propose à l'épicerie ","                         Ce que je propose à l'épicerie ","                         Ce que je propose à l'épicerie ","                         Ce que je propose à l'épicerie ","                         Ce que je propose à l'épicerie ","                         Ce que je propose à l'épicerie ","                         Ce que je propose à l'épicerie ","                         Ce que je propose à l'épicerie ","                         Ce que je propose à l'épicerie ","                         Ce que je propose à l'épicerie ","                         Ce que je propose à l'épicerie ","                         Ce que je propose à l'épicerie ","                         Ce que je propose à l'épicerie ","                         Ce que je propose à l'épicerie ","                         Ce que je propose à l'épicerie ","                         Ce que je propose à l'épicerie ","                         Ce que je propose à l'épicerie ","                         Ce que je propose à l'épicerie ","                         Ce que je propose à l'épicerie ","                         Ce que je propose à l'épicerie ","                         Ce que je propose à l'épicerie ","                         Ce que je propose à l'épicerie ","                         Ce que je propose à l'épicerie ","                         Ce que je propose à l'épicerie ","                         Ce que je propose à l'épicerie ","                         Ce que je propose à l'épicerie ","                         Ce que je propose à l'épicerie ","                         Ce que je propose à l'épicerie ","                         Ce que je propose à l'épicerie ","                         Ce que je propose à l'épicerie ","                         Ce que je propose à l'épicerie ","                         Ce que je propose à l'épicerie ","                         Ce que je propose à l'épicerie ","                         Ce que je propose à l'épicerie ","                         Ce que je propose à l'épicerie ","                         Ce que je propose à l'épicerie ","                         Ce que je propose à l'épicerie ","                         Ce que je propose à l'épicerie ","                         Ce que je propose à l'épicerie ","                         Ce que je propose à l'épicerie ","                         Ce que je propose à l'épicerie ","                         Ce que je propose à l'épicerie ","                         Ce que je propose à l'épicerie ","                         Ce que je propose à l'épicerie ","                         Ce que je propose à l'épicerie ","                         Ce que je propose à l'épicerie ","                         Ce que je propose à l'épicerie ","                         Ce que je propose à l'épicerie ","                         Ce que je propose à l'épicerie ","                         Ce que je propose à l'épicerie ","                         Ce que je propose à l'épicerie ","                         Ce que je propose à l'épicerie ","                         Ce que je propose à l'épicerie ","                         Ce que je propose à l'épicerie ","                         Ce que je propose à l'épicerie ","                         Ce que je propose à l'épicerie ","                         Ce que je propose à l'épicerie ","                         Ce que je propose à l'épicerie ","                         Ce que je propose à l'épicerie ","                         Ce que je propose à l'épicerie ","                         Ce que je propose à l'épicerie ","                         Ce que je propose à l'épicerie ","                         Ce que je propose à l'épicerie ","                         Ce que je propose à l'épicerie ","                         Ce que je propose à l'épicerie ","                         Ce que je propose à l'épicerie ","                         Ce que je propose à l'épicerie ","                         Ce que je propose à l'épicerie ","                         Ce que je propose à l'épicerie ","                         Ce que je propose à l'épicerie ","                         Ce que je propose à l'épicerie ","                         Ce que je propose à l'épicerie ","                         Ce que je propose à l'épicerie ","                         Ce que je propose à l'épicerie ","                         Ce que je propose à l'épicerie ","                         Ce que je propose à l'épicerie ","                         Ce que je propose à l'épicerie ","                         Ce que je propose à l'épicerie ","                         Ce que je propose à l'épicerie ","                         Ce que je propose à l'épicerie ","                         Ce que je propose à l'épicerie ","                         Ce que je propose à l'épicerie ","                         Ce que je propose à l'épicerie ","                         Ce que je propose à l'épicerie ","                         Ce que je propose à l'épicerie ","                         Ce que je propose à l'épicerie ","                         Ce que je propose à l'épicerie ","                         Ce que je propose à l'épicerie ","                         Ce que je propose à l'épicerie ","                         Ce que je propose à l'épicerie ","                         Ce que je propose à l'épicerie ","                         Ce que je propose à l'épicerie ","                         Ce que je propose à l'épicerie ","                         Ce que je propose à l'épicerie ","                         Ce que je propose à l'épicerie ","                         Ce que je propose à l'épicerie ","                         Ce que je propose à l'épicerie ","                         Ce que je propose à l'épicerie ","                         Ce que je propose à l'épicerie ","                         Ce que je propose à l'épicerie ","                         Ce que je propose à l'épicerie ","                         Ce que je propose à l'épicerie ","                         Ce que je propose à l'épicerie ","                         Ce que je propose à l'épicerie ","                         Ce que je propose à l'épicerie ","                         Ce que je propose à l'épicerie ","                         Ce que je propose à l'épicerie ","                         Ce que je propose à l'épicerie ","                         Ce que je propose à l'épicerie ","                         Ce que je propose à l'épicerie ","                         Ce que je propose à l'épicerie ","                         Ce que je propose à l'épicerie ","                         Ce que je propose à l'épicerie ","                         Ce que je propose à l'épicerie ","                         Ce que je propose à l'épicerie ","                         Ce que je propose à l'épicerie ","                         Ce que je propose à l'épicerie ","                         Ce que je propose à l'épicerie ","                         Ce que je propose à l'épicerie ","                         Ce que je propose à l'épicerie ","                         Ce que je propose à l'épicerie ","                         Ce que je propose à l'épicerie ","                         Ce que je propose à l'épicerie ","                         Ce que je propose à l'épicerie ","                         Ce que je propose à l'épicerie ","                         Ce que je propose à l'épicerie ","                         Ce que je propose à l'épicerie ","                         Ce que je propose à l'épicerie ","                         Ce que je propose à l'épicerie ","                         Ce que je propose à l'épicerie ","                         Ce que je propose à l'épicerie ","                         Ce que je propose à l'épicerie ","                         Ce que je propose à l'épicerie ","                         Ce que je propose à l'épicerie ","                         Ce que je propose à l'épicerie ","                         Ce que je propose à l'épicerie ","                         Ce que je propose à l'épicerie ","                         Ce que je propose à l'épicerie ","                         Ce que je propose à l'épicerie ","                         Ce que je propose à l'épicerie ","                         Ce que je propose à l'épicerie ","                         Ce que je propose à l'épicerie ","                         Ce que je propose à l'épicerie ","                         Ce que je propose à l'épicerie ","                         Ce que je propose à l'épicerie ","                         Ce que je propose à l'épicerie ","                         Ce que je propose à l'épicerie ","                         Ce que je propose à l'épicerie ","                         Ce que je propose à l'épicerie ","                         Ce que je propose à l'épicerie ","                         Ce que je propose à l'épicerie ","                         Ce que je propose à l'épicerie ","                         Ce que je propose à l'épicerie ","                         Ce que je propose à l'épicerie ","                         Ce que je propose à l'épicerie ","                         Ce que je propose à l'épicerie ","                         Ce que je propose à l'épicerie ","                         Ce que je propose à l'épicerie ","                         Ce que je propose à l'épicerie ","                         Ce que je propose à l'épicerie ","                         Ce que je propose à l'épicerie ","                         Ce que je propose à l'épicerie ","                         Ce que je propose à l'épicerie ","                         Ce que je propose à l'épicerie ","                         Ce que je propose à l'épicerie ","                         Ce que je propose à l'épicerie ","                         Ce que je propose à l'épicerie ","                         Ce que je propose à l'épicerie ","                         Ce que je propose à l'épicerie ","                         Ce que je propose à l'épicerie ","                         Ce que je propose à l'épicerie ","                         Ce que je propose à l'épicerie ","                         Ce que je propose à l'épicerie ","                         Ce que je propose à l'épicerie ","                         Ce que je propose à l'épicerie ","                         Ce que je propose à l'épicerie ","                         Ce que je propose à l'épicerie ","                         Ce que je propose à l'épicerie ","                         Ce que je propose à l'épicerie ","                         Ce que je propose à l'épicerie ","                         Ce que je propose à l'épicerie ","                         Ce que je propose à l'épicerie ","                         Ce que je propose à l'épicerie ","                         Ce que je propose à l'épicerie ","                         Ce que je propose à l'épicerie ","                         Ce que je propose à l'épicerie ","                         Ce que je propose à l'épicerie ","                         Ce que je propose à l'épicerie ","                         Ce que je propose à l'épicerie ","                         Ce que je propose à l'épicerie ","                         Ce que je propose à l'épicerie ","                         Ce que je propose à l'épicerie ","                         Ce que je propose à l'épicerie ","                         Ce que je propose à l'épicerie ","                         Ce que je propose à l'épicerie ","                         Ce que je propose à l'épicerie ","                         Ce que je propose à l'épicerie ","                         Ce que je propose à l'épicerie ","                         Ce que je propose à l'épicerie ","                         Ce que je propose à l'épicerie ","                         Ce que je propose à l'épicerie ","                         Ce que je propose à l'épicerie ","                         Ce que je propose à l'épicerie ","                         Ce que je propose à l'épicerie ","                         Ce que je propose à l'épicerie ","                         Ce que je propose à l'épicerie ","                         Ce que je propose à l'épicerie ","                         Ce que je propose à l'épicerie ","                         Ce que je propose à l'épicerie ","                         Ce que je propose à l'épicerie ","                         Ce que je propose à l'épicerie ","                         Ce que je propose à l'épicerie ","                         Ce que je propose à l'épicerie ","                         Ce que je propose à l'épicerie ","                         Ce que je propose à l'épicerie ","                         Ce que je propose à l'épicerie ","                         Ce que je propose à l'épicerie ","                         Ce que je propose à l'épicerie ","                         Ce que je propose à l'épicerie ","                         Ce que je propose à l'épicerie ","                         Ce que je propose à l'épicerie ","                         Ce que je propose à l'épicerie ","                         Ce que je propose à l'épicerie ","                         Ce que je propose à l'épicerie ","                         Ce que je propose à l'épicerie ","                         Ce que je propose à l'épicerie ","                         Ce que je propose à l'épicerie ","                         Ce que je propose à l'épicerie ","                         Ce que je propose à l'épicerie ","                         Ce que je propose à l'épicerie ","                         Ce que je propose à l'épicerie ","                         Ce que je propose à l'épicerie ","                         Ce que je propose à l'épicerie ","                         Ce que je propose à l'épicerie ","                         Ce que je propose à l'épicerie ","                         Ce que je propose à l'épicerie ","                         Ce que je propose à l'épicerie ","                         Ce que je propose à l'épicerie ","                         Ce que je propose à l'épicerie ","                         Ce que je propose à l'épicerie ","                         Ce que je propose à l'épicerie ","                         Ce que je propose à l'épicerie ","                         Ce que je propose à l'épicerie ","                         Ce que je propose à l'épicerie ","                         Ce que je propose à l'épicerie ","                         Ce que je propose à l'épicerie ","                         Ce que je propose à l'épicerie ","                         Ce que je propose à l'épicerie ","                         Ce que je propose à l'épicerie ","                         Ce que je propose à l'épicerie ","                         Ce que je propose à l'épicerie ","                         Ce que je propose à l'épicerie ","                         Ce que je propose à l'épicerie ","                         Ce que je propose à l'épicerie ","                         Ce que je propose à l'épicerie ","                         Ce que je propose à l'épicerie ","                         Ce que je propose à l'épicerie ","                         Ce que je propose à l'épicerie ","                         Ce que je propose à l'épicerie ","                         Ce que je propose à l'épicerie ","                         Ce que je propose à l'épicerie ","                         Ce que je propose à l'épicerie ","                         Ce que je propose à l'épicerie ","                         Ce que je propose à l'épicerie ","                         Ce que je propose à l'épicerie ","                         Ce que je propose à l'épicerie ","                         Ce que je propose à l'épicerie ","                         Ce que je propose à l'épicerie ","                         Ce que je propose à l'épicerie ","                         Ce que je propose à l'épicerie ","                         Ce que je propose à l'épicerie ","                         Ce que je propose à l'épicerie ","                         Ce que je propose à l'épicerie ","                         Ce que je propose à l'épicerie ","                         Ce que je propose à l'épicerie ","                         Ce que je propose à l'épicerie ","                         Ce que je propose à l'épicerie ","                         Ce que je propose à l'épicerie ","                         Ce que je propose à l'épicerie ","                         Ce que je propose à l'épicerie ","                         Ce que je propose à l'épicerie ","                         Ce que je propose à l'épicerie ","                         Ce que je propose à l'épicerie ","                         Ce que je propose à l'épicerie ","                         Ce que je propose à l'épicerie ","                         Ce que je propose à l'épicerie ","                         Ce que je propose à l'épicerie ","                         Ce que je propose à l'épicerie ","                         Ce que je propose à l'épicerie ","                         Ce que je propose à l'épicerie ","                         Ce que je propose à l'épicerie ","                         Ce que je propose à l'épicerie ","                         Ce que je propose à l'épicerie ","                         Ce que je propose à l'épicerie ","                         Ce que je propose à l'épicerie ","                         Ce que je propose à l'épicerie ","                         Ce que je propose à l'épicerie ","                         Ce que je propose à l'épicerie ","                         Ce que je propose à l'épicerie ","                         Ce que je propose à l'épicerie ","                         Ce que je propose à l'épicerie ","                         Ce que je propose à l'épicerie ","                         Ce que je propose à l'épicerie ","                         Ce que je propose à l'épicerie ","                         Ce que je propose à l'épicerie ","                         Ce que je propose à l'épicerie ","                         Ce que je propose à l'épicerie ","                         Ce que je propose à l'épicerie ","                         Ce que je propose à l'épicerie ","                         Ce que je propose à l'épicerie ","                         Ce que je propose à l'épicerie ","                         Ce que je propose à l'épicerie ","                         Ce que je propose à l'épicerie ","                         Ce que je propose à l'épicerie ","                         Ce que je propose à l'épicerie ","                         Ce que je propose à l'épicerie ","                         Ce que je propose à l'épicerie ","                         Ce que je propose à l'épicerie ","                         Ce que je propose à l'épicerie ","                         Ce que je propose à l'épicerie ","                         Ce que je propose à l'épicerie ","                         Ce que je propose à l'épicerie ","                         Ce que je propose à l'épicerie ","                         Ce que je propose à l'épicerie ","                         Ce que je propose à l'épicerie ","                         Ce que je propose à l'épicerie ","                         Ce que je propose à l'épicerie ","                         Ce que je propose à l'épicerie ","                         Ce que je propose à l'épicerie ","                         Ce que je propose à l'épicerie ","                         Ce que je propose à l'épicerie ","                         Ce que je propose à l'épicerie ","                         Ce que je propose à l'épicerie ","                         Ce que je propose à l'épicerie ","                         Ce que je propose à l'épicerie ","                         Ce que je propose à l'épicerie ","                         Ce que je propose à l'épicerie ","                         Ce que je propose à l'épicerie ","                         Ce que je propose à l'épicerie ","                         Ce que je propose à l'épicerie ","                         Ce que je propose à l'épicerie ","                         Ce que je propose à l'épicerie ","                         Ce que je propose à l'épicerie ","                         Ce que je propose à l'épicerie ","                         Ce que je propose à l'épicerie ","                         Ce que je propose à l'épicerie ","                         Ce que je propose à l'épicerie ","                         Ce que je propose à l'épicerie ","                         Ce que je propose à l'épicerie ","                         Ce que je propose à l'épicerie ","                         Ce que je propose à l'épicerie ","                         Ce que je propose à l'épicerie ","                         Ce que je propose à l'épicerie ","                         Ce que je propose à l'épicerie ","                         Ce que je propose à l'épicerie ","                         Ce que je propose à l'épicerie ","                         Ce que je propose à l'épicerie ","                         Ce que je propose à l'épicerie ","                         Ce que je propose à l'épicerie ","                         Ce que je propose à l'épicerie ","                         Ce que je propose à l'épicerie ","                         Ce que je propose à l'épicerie ","                         Ce que je propose à l'épicerie ","                         Ce que je propose à l'épicerie ","                         Ce que je propose à l'épicerie ","                         Ce que je propose à l'épicerie ","                         Ce que je propose à l'épicerie ","                         Ce que je propose à l'épicerie ","                         Ce que je propose à l'épicerie ","                         Ce que je propose à l'épicerie ","                         Ce que je propose à l'épicerie ","                         Ce que je propose à l'épicerie ","                         Ce que je propose à l'épicerie ","                         Ce que je propose à l'épicerie ","                         Ce que je propose à l'épicerie ","                         Ce que je propose à l'épicerie ","                         Ce que je propose à l'épicerie ","                         Ce que je propose à l'épicerie ","                         Ce que je propose à l'épicerie ","                         Ce que je propose à l'épicerie ","                         Ce que je propose à l'épicerie ","                         Ce que je propose à l'épicerie ","                         Ce que je propose à l'épicerie ","                         Ce que je propose à l'épicerie ","                         Ce que je propose à l'épicerie ","                         Ce que je propose à l'épicerie ","                         Ce que je propose à l'épicerie ","                         Ce que je propose à l'épicerie ","                         Ce que je propose à l'épicerie ","                         Ce que je propose à l'épicerie ","                         Ce que je propose à l'épicerie ","                         Ce que je propose à l'épicerie ","                         Ce que je propose à l'épicerie ","                         Ce que je propose à l'épicerie ","                         Ce que je propose à l'épicerie ","                         Ce que je propose à l'épicerie ","                         Ce que je propose à l'épicerie ","                         Ce que je propose à l'épicerie ","                         Ce que je propose à l'épicerie ","                         Ce que je propose à l'épicerie ","                         Ce que je propose à l'épicerie ","                         Ce que je propose à l'épicerie ","                         Ce que je propose à l'épicerie ","                         Ce que je propose à l'épicerie ","                         Ce que je propose à l'épicerie ","                         Ce que je propose à l'épicerie ","                         Ce que je propose à l'épicerie ","                         Ce que je propose à l'épicerie ","                         Ce que je propose à l'épicerie ","                         Ce que je propose à l'épicerie ","                         Ce que je propose à l'épicerie ","                         Ce que je propose à l'épicerie ","                         Ce que je propose à l'épicerie ","                         Ce que je propose à l'épicerie ","                         Ce que je propose à l'épicerie ","                         Ce que je propose à l'épicerie ","                         Ce que je propose à l'épicerie ","                         Ce que je propose à l'épicerie ","                         Ce que je propose à l'épicerie ","                         Ce que je propose à l'épicerie ","                         Ce que je propose à l'épicerie ","                         Ce que je propose à l'épicerie ","                         Ce que je propose à l'épicerie ","                         Ce que je propose à l'épicerie ","                         Ce que je propose à l'épicerie ","                         Ce que je propose à l'épicerie ","                         Ce que je propose à l'épicerie ","                         Ce que je propose à l'épicerie ","                         Ce que je propose à l'épicerie ","                         Ce que je propose à l'épicerie ","                         Ce que je propose à l'épicerie ","                         Ce que je propose à l'épicerie ","                         Ce que je propose à l'épicerie ","                         Ce que je propose à l'épicerie ","                         Ce que je propose à l'épicerie ","                         Ce que je propose à l'épicerie ","                         Ce que je propose à l'épicerie ","                         Ce que je propose à l'épicerie ","                         Ce que je propose à l'épicerie ","                         Ce que je propose à l'épicerie ","                         Ce que je propose à l'épicerie ","                         Ce que je propose à l'épicerie ","                         Ce que je propose à l'épicerie ","                         Ce que je propose à l'épicerie ","                         Ce que je propose à l'épicerie ","                         Ce que je propose à l'épicerie ","                         Ce que je propose à l'épicerie ","                         Ce que je propose à l'épicerie ","                         Ce que je propose à l'épicerie ","                         Ce que je propose à l'épicerie ","                         Ce que je propose à l'épicerie ","                         Ce que je propose à l'épicerie ","                         Ce que je propose à l'épicerie ","                         Ce que je propose à l'épicerie ","                         Ce que je propose à l'épicerie ","                         Ce que je propose à l'épicerie ","                         Ce que je propose à l'épicerie ","                         Ce que je propose à l'épicerie ","                         Ce que je propose à l'épicerie ","                         Ce que je propose à l'épicerie ","                         Ce que je propose à l'épicerie ","                         Ce que je propose à l'épicerie ","                         Ce que je propose à l'épicerie ","                         Ce que je propose à l'épicerie ","                         Ce que je propose à l'épicerie ","                         Ce que je propose à l'épicerie ","                         Ce que je propose à l'épicerie ","                         Ce que je propose à l'épicerie ","                         Ce que je propose à l'épicerie ","                         Ce que je propose à l'épicerie ","                         Ce que je propose à l'épicerie ","                         Ce que je propose à l'épicerie ","                         Ce que je propose à l'épicerie ","                         Ce que je propose à l'épicerie ","                         Ce que je propose à l'épicerie ","                         Ce que je propose à l'épicerie ","                         Ce que je propose à l'épicerie ","                         Ce que je propose à l'épicerie ","                         Ce que je propose à l'épicerie ","                         Ce que je propose à l'épicerie ","                         Ce que je propose à l'épicerie ","                         Ce que je propose à l'épicerie ","                         Ce que je propose à l'épicerie ","                         Ce que je propose à l'épicerie ","                         Ce que je propose à l'épicerie ","                         Ce que je propose à l'épicerie ","                         Ce que je propose à l'épicerie ","                         Ce que je propose à l'épicerie ","                         Ce que je propose à l'épicerie ","                         Ce que je propose à l'épicerie ","                         Ce que je propose à l'épicerie ","                         Ce que je propose à l'épicerie ","                         Ce que je propose à l'épicerie ","                         Ce que je propose à l'épicerie ","                         Ce que je propose à l'épicerie ","                         Ce que je propose à l'épicerie ","                         Ce que je propose à l'épicerie ","                         Ce que je propose à l'épicerie ","                         Ce que je propose à l'épicerie ","                         Ce que je propose à l'épicerie ","                         Ce que je propose à l'épicerie ","                         Ce que je propose à l'épicerie ","                         Ce que je propose à l'épicerie ","                         Ce que je propose à l'épicerie ","                         Ce que je propose à l'épicerie ","                         Ce que je propose à l'épicerie ","                         Ce que je propose à l'épicerie ","                         Ce que je propose à l'épicerie ","                         Ce que je propose à l'épicerie ","                         Ce que je propose à l'épicerie ","                         Ce que je propose à l'épicerie ","                         Ce que je propose à l'épicerie ","                         Ce que je propose à l'épicerie ","                         Ce que je propose à l'épicerie ","                         Ce que je propose à l'épicerie ","                         Ce que je propose à l'épicerie ","                         Ce que je propose à l'épicerie ","                         Ce que je propose à l'épicerie ","                         Ce que je propose à l'épicerie ","                         Ce que je propose à l'épicerie ","                         Ce que je propose à l'épicerie ","                         Ce que je propose à l'épicerie ","                         Ce que je propose à l'épicerie ","                         Ce que je propose à l'épicerie ","                         Ce que je propose à l'épicerie ","                         Ce que je propose à l'épicerie ","                         Ce que je propose à l'épicerie ","                         Ce que je propose à l'épicerie ","                         Ce que je propose à l'épicerie ","                         Ce que je propose à l'épicerie ","                         Ce que je propose à l'épicerie ","                         Ce que je propose à l'épicerie ","                         Ce que je propose à l'épicerie ","                         Ce que je propose à l'épicerie ","                         Ce que je propose à l'épicerie ","                         Ce que je propose à l'épicerie ","                         Ce que je propose à l'épicerie ","                         Ce que je propose à l'épicerie ","                         Ce que je propose à l'épicerie ","                         Ce que je propose à l'épicerie ","                         Ce que je propose à l'épicerie ","                         Ce que je propose à l'épicerie ","                         Ce que je propose à l'épicerie ","                         Ce que je propose à l'épicerie ","                         Ce que je propose à l'épicerie ","                         Ce que je propose à l'épicerie ","                         Ce que je propose à l'épicerie ","                         Ce que je propose à l'épicerie ","                         Ce que je propose à l'épicerie ","                         Ce que je propose à l'épicerie ","                         Ce que je propose à l'épicerie ","                         Ce que je propose à l'épicerie ","                         Ce que je propose à l'épicerie ","                         Ce que je propose à l'épicerie ","                         Ce que je propose à l'épicerie ","                         Ce que je propose à l'épicerie ","                         Ce que je propose à l'épicerie ","                         Ce que je propose à l'épicerie ","                         Ce que je propose à l'épicerie ","                         Ce que je propose à l'épicerie ","                         Ce que je propose à l'épicerie ","                         Ce que je propose à l'épicerie ","                         Ce que je propose à l'épicerie ","                         Ce que je propose à l'épicerie ","                         Ce que je propose à l'épicerie ","                         Ce que je propose à l'épicerie ","                         Ce que je propose à l'épicerie ","                         Ce que je propose à l'épicerie ","                         Ce que je propose à l'épicerie ","                         Ce que je propose à l'épicerie ","                         Ce que je propose à l'épicerie ","                         Ce que je propose à l'épicerie ","                         Ce que je propose à l'épicerie ","                         Ce que je propose à l'épicerie ","                         Ce que je propose à l'épicerie ","                         Ce que je propose à l'épicerie ","                         Ce que je propose à l'épicerie ","                         Ce que je propose à l'épicerie ","                         Ce que je propose à l'épicerie ","                         Ce que je propose à l'épicerie ","                         Ce que je propose à l'épicerie ","                         Ce que je propose à l'épicerie ","                         Ce que je propose à l'épicerie ","                         Ce que je propose à l'épicerie ","                         Ce que je propose à l'épicerie ","                         Ce que je propose à l'épicerie ","                         Ce que je propose à l'épicerie ","                         Ce que je propose à l'épicerie ","                         Ce que je propose à l'épicerie ","                         Ce que je propose à l'épicerie ","                         Ce que je propose à l'épicerie ","                         Ce que je propose à l'épicerie ","                         Ce que je propose à l'épicerie ","                         Ce que je propose à l'épicerie ","                         Ce que je propose à l'épicerie ","                         Ce que je propose à l'épicerie ","                         Ce que je propose à l'épicerie ","                         Ce que je propose à l'épicerie ","                         Ce que je propose à l'épicerie ","                         Ce que je propose à l'épicerie ","                         Ce que je propose à l'épicerie ","                         Ce que je propose à l'épicerie ","                         Ce que je propose à l'épicerie ","                         Ce que je propose à l'épicerie ","                         Ce que je propose à l'épicerie ","                         Ce que je propose à l'épicerie ","                         Ce que je propose à l'épicerie ","                         Ce que je propose à l'épicerie ","                         Ce que je propose à l'épicerie ","                         Ce que je propose à l'épicerie ","                         Ce que je propose à l'épicerie ","                         Ce que je propose à l'épicerie ","                         Ce que je propose à l'épicerie ","                         Ce que je propose à l'épicerie ","                         Ce que je propose à l'épicerie ","                         Ce que je propose à l'épicerie ","                         Ce que je propose à l'épicerie ","                         Ce que je propose à l'épicerie ","                         Ce que je propose à l'épicerie ","                         Ce que je propose à l'épicerie ","                         Ce que je propose à l'épicerie ","                         Ce que je propose à l'épicerie ","                         Ce que je propose à l'épicerie ","                         Ce que je propose à l'épicerie ","                         Ce que je propose à l'épicerie ","                         Ce que je propose à l'épicerie ","                         Ce que je propose à l'épicerie ","                         Ce que je propose à l'épicerie ","                         Ce que je propose à l'épicerie ","                         Ce que je propose à l'épicerie ","                         Ce que je propose à l'épicerie ","                         Ce que je propose à l'épicerie ","                         Ce que je propose à l'épicerie ","                         Ce que je propose à l'épicerie ","                         Ce que je propose à l'épicerie ","                         Ce que je propose à l'épicerie ","                         Ce que je propose à l'épicerie ","                         Ce que je propose à l'épicerie ","                         Ce que je propose à l'épicerie ","                         Ce que je propose à l'épicerie ","                         Ce que je propose à l'épicerie ","                         Ce que je propose à l'épicerie ","                         Ce que je propose à l'épicerie ","                         Ce que je propose à l'épicerie ","                         Ce que je propose à l'épicerie ","                         Ce que je propose à l'épicerie ","                         Ce que je propose à l'épicerie ","                         Ce que je propose à l'épicerie ","                         Ce que je propose à l'épicerie ","                         Ce que je propose à l'épicerie ","                         Ce que je propose à l'épicerie ","                         Ce que je propose à l'épicerie ","                         Ce que je propose à l'épicerie ","                         Ce que je propose à l'épicerie ","                         Ce que je propose à l'épicerie ","                         Ce que je propose à l'épicerie ","                         Ce que je propose à l'épicerie ","                         Ce que je propose à l'épicerie ","                         Ce que je propose à l'épicerie ","                         Ce que je propose à l'épicerie ","                         Ce que je propose à l'épicerie ","                         Ce que je propose à l'épicerie ","                         Ce que je propose à l'épicerie ","                         Ce que je propose à l'épicerie ","                         Ce que je propose à l'épicerie ","                         Ce que je propose à l'épicerie ","                         Ce que je propose à l'épicerie ","                         Ce que je propose à l'épicerie ","                         Ce que je propose à l'épicerie ","                         Ce que je propose à l'épicerie ","                         Ce que je propose à l'épicerie ","                         Ce que je propose à l'épicerie ","                         Ce que je propose à l'épicerie ","                         Ce que je propose à l'épicerie ","                         Ce que je propose à l'épicerie ","                         Ce que je propose à l'épicerie ","                         Ce que je propose à l'épicerie ","                         Ce que je propose à l'épicerie ","                         Ce que je propose à l'épicerie ","                         Ce que je propose à l'épicerie ","                         Ce que je propose à l'épicerie ","                         Ce que je propose à l'épicerie ","                         Ce que je propose à l'épicerie ","                         Ce que je propose à l'épicerie ","                         Ce que je propose à l'épicerie ","                         Ce que je propose à l'épicerie ","                         Ce que je propose à l'épicerie ","                         Ce que je propose à l'épicerie ","                         Ce que je propose à l'épicerie ","                         Ce que je propose à l'épicerie ","                         Ce que je propose à l'épicerie ","                         Ce que je propose à l'épicerie ","                         Ce que je propose à l'épicerie ","                         Ce que je propose à l'épicerie ","                         Ce que je propose à l'épicerie ","                         Ce que je propose à l'épicerie ","                         Ce que je propose à l'épicerie ","                         Ce que je propose à l'épicerie ","                         Ce que je propose à l'épicerie ","                         Ce que je propose à l'épicerie ","                         Ce que je propose à l'épicerie ","                         Ce que je propose à l'épicerie ","                         Ce que je propose à l'épicerie ","                         Ce que je propose à l'épicerie ","                         Ce que je propose à l'épicerie ","                         Ce que je propose à l'épicerie ","                         Ce que je propose à l'épicerie ","                         Ce que je propose à l'épicerie ","                         Ce que je propose à l'épicerie ","                         Ce que je propose à l'épicerie ","                         Ce que je propose à l'épicerie ","                         Ce que je propose à l'épicerie ","                         Ce que je propose à l'épicerie ","                         Ce que je propose à l'épicerie ","                         Ce que je propose à l'épicerie ","                         Ce que je propose à l'épicerie ","                         Ce que je propose à l'épicerie ","                         Ce que je propose à l'épicerie ","                         Ce que je propose à l'épicerie ","                         Ce que je propose à l'épicerie ","                         Ce que je propose à l'épicerie ","                         Ce que je propose à l'épicerie ","                         Ce que je propose à l'épicerie ","                         Ce que je propose à l'épicerie ","                         Ce que je propose à l'épicerie ","                         Ce que je propose à l'épicerie ","                         Ce que je propose à l'épicerie ","                         Ce que je propose à l'épicerie ","                         Ce que je propose à l'épicerie ","                         Ce que je propose à l'épicerie ","                         Ce que je propose à l'épicerie ","                         Ce que je propose à l'épicerie ","                         Ce que je propose à l'épicerie ","                         Ce que je propose à l'épicerie ","                         Ce que je propose à l'épicerie ","                         Ce que je propose à l'épicerie ","                         Ce que je propose à l'épicerie ","                         Ce que je propose à l'épicerie ","                         Ce que je propose à l'épicerie ","                         Ce que je propose à l'épicerie ","                         Ce que je propose à l'épicerie ","                         Ce que je propose à l'épicerie ","                         Ce que je propose à l'épicerie ","                         Ce que je propose à l'épicerie ","                         Ce que je propose à l'épicerie ","                         Ce que je propose à l'épicerie ","                         Ce que je propose à l'épicerie ","                         Ce que je propose à l'épicerie ","                         Ce que je propose à l'épicerie ","                         Ce que je propose à l'épicerie ","                         Ce que je propose à l'épicerie ","                         Ce que je propose à l'épicerie ","                         Ce que je propose à l'épicerie ","                         Ce que je propose à l'épicerie ","                         Ce que je propose à l'épicerie ","                         Ce que je propose à l'épicerie ","                         Ce que je propose à l'épicerie ","                         Ce que je propose à l'épicerie ","                         Ce que je propose à l'épicerie ","                         Ce que je propose à l'épicerie ","                         Ce que je propose à l'épicerie ","                         Ce que je propose à l'épicerie ","                         Ce que je propose à l'épicerie ","                         Ce que je propose à l'épicerie ","                         Ce que je propose à l'épicerie ","                         Ce que je propose à l'épicerie ","                         Ce que je propose à l'épicerie ","                         Ce que je propose à l'épicerie ","                         Ce que je propose à l'épicerie ","                         Ce que je propose à l'épicerie ","                         Ce que je propose à l'épicerie ","                         Ce que je propose à l'épicerie ","                         Ce que je propose à l'épicerie ","                         Ce que je propose à l'épicerie ","                         Ce que je propose à l'épicerie ","                         Ce que je propose à l'épicerie ","                         Ce que je propose à l'épicerie ","                         Ce que je propose à l'épicerie ","                         Ce que je propose à l'épicerie ","                         Ce que je propose à l'épicerie ","                         Ce que je propose à l'épicerie ","                         Ce que je propose à l'épicerie ","                         Ce que je propose à l'épicerie ","                         Ce que je propose à l'épicerie ","                         Ce que je propose à l'épicerie ","                         Ce que je propose à l'épicerie ","                         Ce que je propose à l'épicerie ","                         Ce que je propose à l'épicerie ","                         Ce que je propose à l'épicerie ","                         Ce que je propose à l'épicerie ","                         Ce que je propose à l'épicerie ","                         Ce que je propose à l'épicerie ","                         Ce que je propose à l'épicerie ","                         Ce que je propose à l'épicerie ","                         Ce que je propose à l'épicerie ","                         Ce que je propose à l'épicerie ","                         Ce que je propose à l'épicerie ","                         Ce que je propose à l'épicerie ","                         Ce que je propose à l'épicerie ","                         Ce que je propose à l'épicerie ","                         Ce que je propose à l'épicerie ","                         Ce que je propose à l'épicerie ","                         Ce que je propose à l'épicerie ","                         Ce que je propose à l'épicerie ","                         Ce que je propose à l'épicerie ","                         Ce que je propose à l'épicerie ","                         Ce que je propose à l'épicerie ","                         Ce que je propose à l'épicerie ","                         Ce que je propose à l'épicerie ","                         Ce que je propose à l'épicerie ","                         Ce que je propose à l'épicerie ","                         Ce que je propose à l'épicerie ","                         Ce que je propose à l'épicerie ","                         Ce que je propose à l'épicerie ","                         Ce que je propose à l'épicerie ","                         Ce que je propose à l'épicerie ","                         Ce que je propose à l'épicerie ","                         Ce que je propose à l'épicerie ","                         Ce que je propose à l'épicerie ","                         Ce que je propose à l'épicerie ","                         Ce que je propose à l'épicerie ","                         Ce que je propose à l'épicerie ","                         Ce que je propose à l'épicerie ","                         Ce que je propose à l'épicerie ","                         Ce que je propose à l'épicerie ","                         Ce que je propose à l'épicerie ","                         Ce que je propose à l'épicerie ","                         Ce que je propose à l'épicerie ","                         Ce que je propose à l'épicerie ","                         Ce que je propose à l'épicerie ","                         Ce que je propose à l'épicerie ","                         Ce que je propose à l'épicerie ","                         Ce que je propose à l'épicerie ","                         Ce que je propose à l'épicerie ","                         Ce que je propose à l'épicerie ","                         Ce que je propose à l'épicerie ","                         Ce que je propose à l'épicerie ","                         Ce que je propose à l'épicerie ","                         Ce que je propose à l'épicerie ","                         Ce que je propose à l'épicerie ","                         Ce que je propose à l'épicerie ","                         Ce que je propose à l'épicerie ","                         Ce que je propose à l'épicerie ","                         Ce que je propose à l'épicerie ","                         Ce que je propose à l'épicerie ","                         Ce que je propose à l'épicerie ","                         Ce que je propose à l'épicerie ","                         Ce que je propose à l'épicerie ","                         Ce que je propose à l'épicerie ","                         Ce que je propose à l'épicerie ","                         Ce que je propose à l'épicerie ","                         Ce que je propose à l'épicerie ","                         Ce que je propose à l'épicerie ","                         Ce que je propose à l'épicerie ","                         Ce que je propose à l'épicerie ","                         Ce que je propose à l'épicerie ","                         Ce que je propose à l'épicerie ","                         Ce que je propose à l'épicerie ","                         Ce que je propose à l'épicerie ","                         Ce que je propose à l'épicerie ","                         Ce que je propose à l'épicerie ","                         Ce que je propose à l'épicerie ","                         Ce que je propose à l'épicerie ","                         Ce que je propose à l'épicerie ","                         Ce que je propose à l'épicerie ","                         Ce que je propose à l'épicerie ","                         Ce que je propose à l'épicerie ","                         Ce que je propose à l'épicerie ","                         Ce que je propose à l'épicerie ","                         Ce que je propose à l'épicerie ","                         Ce que je propose à l'épicerie ","                         Ce que je propose à l'épicerie ","                         Ce que je propose à l'épicerie ","                         Ce que je propose à l'épicerie ","                         Ce que je propose à l'épicerie ","                         Ce que je propose à l'épicerie ","                         Ce que je propose à l'épicerie ","                         Ce que je propose à l'épicerie ","                         Ce que je propose à l'épicerie ","                         Ce que je propose à l'épicerie ","                         Ce que je propose à l'épicerie ","                         Ce que je propose à l'épicerie ","                         Ce que je propose à l'épicerie ","                         Ce que je propose à l'épicerie ","                         Ce que je propose à l'épicerie ","                         Ce que je propose à l'épicerie ","                         Ce que je propose à l'épicerie ","                         Ce que je propose à l'épicerie ","                         Ce que je propose à l'épicerie ","                         Ce que je propose à l'épicerie ","                         Ce que je propose à l'épicerie ","                         Ce que je propose à l'épicerie ","                         Ce que je propose à l'épicerie ","                         Ce que je propose à l'épicerie ","                         Ce que je propose à l'épicerie ","                         Ce que je propose à l'épicerie ","                         Ce que je propose à l'épicerie ","                         Ce que je propose à l'épicerie ","                         Ce que je propose à l'épicerie ","                         Ce que je propose à l'épicerie ","                         Ce que je propose à l'épicerie ","                         Ce que je propose à l'épicerie ","                         Ce que je propose à l'épicerie ","                         Ce que je propose à l'épicerie ","                         Ce que je propose à l'épicerie ","                         Ce que je propose à l'épicerie ","                         Ce que je propose à l'épicerie ","                         Ce que je propose à l'épicerie ","                         Ce que je propose à l'épicerie ","                         Ce que je propose à l'épicerie ","                         Ce que je propose à l'épicerie ","                         Ce que je propose à l'épicerie ","                         Ce que je propose à l'épicerie ","                         Ce que je propose à l'épicerie ","                         Ce que je propose à l'épicerie ","                         Ce que je propose à l'épicerie ","                         Ce que je propose à l'épicerie ","                         Ce que je propose à l'épicerie ","                         Ce que je propose à l'épicerie ","                         Ce que je propose à l'épicerie ","                         Ce que je propose à l'épicerie ","                         Ce que je propose à l'épicerie ","                         Ce que je propose à l'épicerie ","                         Ce que je propose à l'épicerie ","                         Ce que je propose à l'épicerie ","                         Ce que je propose à l'épicerie ","                         Ce que je propose à l'épicerie ","                         Ce que je propose à l'épicerie ","                         Ce que je propose à l'épicerie ","                         Ce que je propose à l'épicerie ","                         Ce que je propose à l'épicerie ","                         Ce que je propose à l'épicerie ","                         Ce que je propose à l'épicerie ","                         Ce que je propose à l'épicerie ","                         Ce que je propose à l'épicerie ","                         Ce que je propose à l'épicerie ","                         Ce que je propose à l'épicerie ","                         Ce que je propose à l'épicerie ","                         Ce que je propose à l'épicerie ","                         Ce que je propose à l'épicerie ","                         Ce que je propose à l'épicerie ","                         Ce que je propose à l'épicerie ","                         Ce que je propose à l'épicerie ","                         Ce que je propose à l'épicerie ","                         Ce que je propose à l'épicerie ","                         Ce que je propose à l'épicerie ","                         Ce que je propose à l'épicerie ","                         Ce que je propose à l'épicerie ","                         Ce que je propose à l'épicerie ","                         Ce que je propose à l'épicerie ","                         Ce que je propose à l'épicerie ","                         Ce que je propose à l'épicerie ","                         Ce que je propose à l'épicerie ","                         Ce que je propose à l'épicerie ","                         Ce que je propose à l'épicerie ","                         Ce que je propose à l'épicerie ","                         Ce que je propose à l'épicerie ","                         Ce que je propose à l'épicerie ","                         Ce que je propose à l'épicerie ","                         Ce que je propose à l'épicerie ","                         Ce que je propose à l'épicerie ","                         Ce que je propose à l'épicerie ","                         Ce que je propose à l'épicerie ","                         Ce que je propose à l'épicerie ","                         Ce que je propose à l'épicerie ","                         Ce que je propose à l'épicerie ","                         Ce que je propose à l'épicerie ","                         Ce que je propose à l'épicerie ","                         Ce que je propose à l'épicerie ","                         Ce que je propose à l'épicerie ","                         Ce que je propose à l'épicerie ","                         Ce que je propose à l'épicerie ","                         Ce que je propose à l'épicerie ","                         Ce que je propose à l'épicerie ","                         Ce que je propose à l'épicerie ","                         Ce que je propose à l'épicerie ","                         Ce que je propose à l'épicerie ","                         Ce que je propose à l'épicerie ","                         Ce que je propose à l'épicerie ","                         Ce que je propose à l'épicerie ","                         Ce que je propose à l'épicerie ","                         Ce que je propose à l'épicerie ","                         Ce que je propose à l'épicerie ","                         Ce que je propose à l'épicerie ","                         Ce que je propose à l'épicerie ","                         Ce que je propose à l'épicerie ","                         Ce que je propose à l'épicerie ","                         Ce que je propose à l'épicerie ","                         Ce que je propose à l'épicerie ","                         Ce que je propose à l'épicerie ","                         Ce que je propose à l'épicerie ","                         Ce que je propose à l'épicerie ","                         Ce que je propose à l'épicerie ","                         Ce que je propose à l'épicerie ","                         Ce que je propose à l'épicerie ","                         Ce que je propose à l'épicerie ","                         Ce que je propose à l'épicerie ","                         Ce que je propose à l'épicerie ","                         Ce que je propose à l'épicerie ","                         Ce que je propose à l'épicerie ","                         Ce que je propose à l'épicerie ","                         Ce que je propose à l'épicerie ","                         Ce que je propose à l'épicerie ","                         Ce que je propose à l'épicerie ","                         Ce que je propose à l'épicerie ","                         Ce que je propose à l'épicerie ","                         Ce que je propose à l'épicerie ","                         Ce que je propose à l'épicerie ","                         Ce que je propose à l'épicerie ","                         Ce que je propose à l'épicerie ","                         Ce que je propose à l'épicerie ","                         Ce que je propose à l'épicerie ","                         Ce que je propose à l'épicerie ","                         Ce que je propose à l'épicerie ","                         Ce que je propose à l'épicerie ","                         Ce que je propose à l'épicerie ","                         Ce que je propose à l'épicerie ","                         Ce que je propose à l'épicerie ","                         Ce que je propose à l'épicerie ","                         Ce que je propose à l'épicerie ","                         Ce que je propose à l'épicerie ","                         Ce que je propose à l'épicerie ","                         Ce que je propose à l'épicerie ","                         Ce que je propose à l'épicerie ","                         Ce que je propose à l'épicerie ","                         Ce que je propose à l'épicerie ","                         Ce que je propose à l'épicerie ","                         Ce que je propose à l'épicerie ","                         Ce que je propose à l'épicerie ","                         Ce que je propose à l'épicerie ","                         Ce que je propose à l'épicerie ","                         Ce que je propose à l'épicerie ","                         Ce que je propose à l'épicerie ","                         Ce que je propose à l'épicerie ","                         Ce que je propose à l'épicerie ","                         Ce que je propose à l'épicerie ","                         Ce que je propose à l'épicerie ","                         Ce que je propose à l'épicerie ","                         Ce que je propose à l'épicerie ","                         Ce que je propose à l'épicerie ","                         Ce que je propose à l'épicerie ","                         Ce que je propose à l'épicerie ","                         Ce que je propose à l'épicerie ","                         Ce que je propose à l'épicerie ","                         Ce que je propose à l'épicerie ","                         Ce que je propose à l'épicerie ","                         Ce que je propose à l'épicerie ","                         Ce que je propose à l'épicerie ","                         Ce que je propose à l'épicerie ","                         Ce que je propose à l'épicerie ","                         Ce que je propose à l'épicerie ","                         Ce que je propose à l'épicerie ","                         Ce que je propose à l'épicerie ","                         Ce que je propose à l'épicerie ","                         Ce que je propose à l'épicerie ","                         Ce que je propose à l'épicerie ","                         Ce que je propose à l'épicerie ","                         Ce que je propose à l'épicerie ","                         Ce que je propose à l'épicerie ","                         Ce que je propose à l'épicerie ","                         Ce que je propose à l'épicerie ","                         Ce que je propose à l'épicerie ","                         Ce que je propose à l'épicerie ","                         Ce que je propose à l'épicerie ","                         Ce que je propose à l'épicerie ","                         Ce que je propose à l'épicerie ","                         Ce que je propose à l'épicerie ","                         Ce que je propose à l'épicerie ","                         Ce que je propose à l'épicerie ","                         Ce que je propose à l'épicerie ","                         Ce que je propose à l'épicerie ","                         Ce que je propose à l'épicerie ","                         Ce que je propose à l'épicerie ","                         Ce que je propose à l'épicerie ","                         Ce que je propose à l'épicerie ","                         Ce que je propose à l'épicerie ","                         Ce que je propose à l'épicerie ","                         Ce que je propose à l'épicerie ","                         Ce que je propose à l'épicerie ","                         Ce que je propose à l'épicerie ","                         Ce que je propose à l'épicerie ","                         Ce que je propose à l'épicerie ","                         Ce que je propose à l'épicerie ","                         Ce que je propose à l'épicerie ","                         Ce que je propose à l'épicerie ","                         Ce que je propose à l'épicerie ","                         Ce que je propose à l'épicerie ","                         Ce que je propose à l'épicerie ","                         Ce que je propose à l'épicerie ","                         Ce que je propose à l'épicerie ","                         Ce que je propose à l'épicerie ","                         Ce que je propose à l'épicerie ","                         Ce que je propose à l'épicerie ","                         Ce que je propose à l'épicerie ","                         Ce que je propose à l'épicerie ","                         Ce que je propose à l'épicerie ","                         Ce que je propose à l'épicerie ","                         Ce que je propose à l'épicerie ","                         Ce que je propose à l'épicerie ","                         Ce que je propose à l'épicerie ","                         Ce que je propose à l'épicerie ","                         Ce que je propose à l'épicerie ","                         Ce que je propose à l'épicerie ","                         Ce que je propose à l'épicerie ","                         Ce que je propose à l'épicerie ","                         Ce que je propose à l'épicerie ","                         Ce que je propose à l'épicerie ","                         Ce que je propose à l'épicerie ","                         Ce que je propose à l'épicerie ","                         Ce que je propose à l'épicerie ","                         Ce que je propose à l'épicerie ","                         Ce que je propose à l'épicerie ","                         Ce que je propose à l'épicerie ","                         Ce que je propose à l'épicerie ","                         Ce que je propose à l'épicerie ","                         Ce que je propose à l'épicerie ","                         Ce que je propose à l'épicerie ","                         Ce que je propose à l'épicerie ","                         Ce que je propose à l'épicerie ","                         Ce que je propose à l'épicerie ","                         Ce que je propose à l'épicerie ","                         Ce que je propose à l'épicerie ","                         Ce que je propose à l'épicerie ","                         Ce que je propose à l'épicerie ","                         Ce que je propose à l'épicerie ","                         Ce que je propose à l'épicerie ","                         Ce que je propose à l'épicerie ","                         Ce que je propose à l'épicerie ","                         Ce que je propose à l'épicerie ","                         Ce que je propose à l'épicerie ","                         Ce que je propose à l'épicerie ","                         Ce que je propose à l'épicerie ","                         Ce que je propose à l'épicerie ","                         Ce que je propose à l'épicerie ","                         Ce que je propose à l'épicerie ","                         Ce que je propose à l'épicerie ","                         Ce que je propose à l'épicerie ","                         Ce que je propose à l'épicerie ","                         Ce que je propose à l'épicerie ","                         Ce que je propose à l'épicerie ","                         Ce que je propose à l'épicerie ","                         Ce que je propose à l'épicerie ","                         Ce que je propose à l'épicerie ","                         Ce que je propose à l'épicerie ","                         Ce que je propose à l'épicerie ","                         Ce que je propose à l'épicerie ","                         Ce que je propose à l'épicerie ","                         Ce que je propose à l'épicerie ","                         Ce que je propose à l'épicerie ","                         Ce que je propose à l'épicerie ","                         Ce que je propose à l'épicerie ","                         Ce que je propose à l'épicerie ","                         Ce que je propose à l'épicerie ","                         Ce que je propose à l'épicerie ","                         Ce que je propose à l'épicerie ","                         Ce que je propose à l'épicerie ","                         Ce que je propose à l'épicerie ","                         Ce que je propose à l'épicerie ","                         Ce que je propose à l'épicerie ","                         Ce que je propose à l'épicerie ","                         Ce que je propose à l'épicerie ","                         Ce que je propose à l'épicerie ","                         Ce que je propose à l'épicerie ","                         Ce que je propose à l'épicerie ","                         Ce que je propose à l'épicerie ","                         Ce que je propose à l'épicerie ","                         Ce que je propose à l'épicerie ","                         Ce que je propose à l'épicerie ","                         Ce que je propose à l'épicerie ","                         Ce que je propose à l'épicerie ","                         Ce que je propose à l'épicerie ","                         Ce que je propose à l'épicerie ","                         Ce que je propose à l'épicerie ","                         Ce que je propose à l'épicerie ","                         Ce que je propose à l'épicerie ","                         Ce que je propose à l'épicerie ","                         Ce que je propose à l'épicerie ","                         Ce que je propose à l'épicerie ","                         Ce que je propose à l'épicerie ","                         Ce que je propose à l'épicerie ","                         Ce que je propose à l'épicerie ","                         Ce que je propose à l'épicerie ","                         Ce que je propose à l'épicerie ","                         Ce que je propose à l'épicerie ","                         Ce que je propose à l'épicerie ","                         Ce que je propose à l'épicerie ","                         Ce que je propose à l'épicerie ","                         Ce que je propose à l'épicerie ","                         Ce que je propose à l'épicerie ","                         Ce que je propose à l'épicerie ","                         Ce que je propose à l'épicerie ","                         Ce que je propose à l'épicerie ","                         Ce que je propose à l'épicerie ","                         Ce que je propose à l'épicerie ","                         Ce que je propose à l'épicerie ","                         Ce que je propose à l'épicerie ","                         Ce que je propose à l'épicerie ","                         Ce que je propose à l'épicerie ","                         Ce que je propose à l'épicerie ","                         Ce que je propose à l'épicerie ","                         Ce que je propose à l'épicerie ","                         Ce que je propose à l'épicerie ","                         Ce que je propose à l'épicerie ","                         Ce que je propose à l'épicerie ","                         Ce que je propose à l'épicerie ","                         Ce que je propose à l'épicerie ","                         Ce que je propose à l'épicerie ","                         Ce que je propose à l'épicerie ","                         Ce que je propose à l'épicerie ","                         Ce que je propose à l'épicerie ","                         Ce que je propose à l'épicerie ","                         Ce que je propose à l'épicerie ","                         Ce que je propose à l'épicerie ","                         Ce que je propose à l'épicerie ","                         Ce que je propose à l'épicerie ","                         Ce que je propose à l'épicerie ","                         Ce que je propose à l'épicerie ","                         Ce que je propose à l'épicerie ","                         Ce que je propose à l'épicerie ","                         Ce que je propose à l'épicerie ","                         Ce que je propose à l'épicerie ","                         Ce que je propose à l'épicerie ","                         Ce que je propose à l'épicerie ","                         Ce que je propose à l'épicerie ","                         Ce que je propose à l'épicerie ","                         Ce que je propose à l'épicerie ","                         Ce que je propose à l'épicerie ","                         Ce que je propose à l'épicerie ","                         Ce que je propose à l'épicerie ","                         Ce que je propose à l'épicerie ","                         Ce que je propose à l'épicerie ","                         Ce que je propose à l'épicerie ","                         Ce que je propose à l'épicerie ","                         Ce que je propose à l'épicerie ","                         Ce que je propose à l'épicerie ","                         Ce que je propose à l'épicerie ","                         Ce que je propose à l'épicerie ","                         Ce que je propose à l'épicerie ","                         Ce que je propose à l'épicerie ","                         Ce que je propose à l'épicerie ","                         Ce que je propose à l'épicerie ","                         Ce que je propose à l'épicerie ","                         Ce que je propose à l'épicerie ","                         Ce que je propose à l'épicerie ","                         Ce que je propose à l'épicerie ","                         Ce que je propose à l'épicerie ","                         Ce que je propose à l'épicerie ","                         Ce que je propose à l'épicerie ","                         Ce que je propose à l'épicerie ","                         Ce que je propose à l'épicerie ","                         Ce que je propose à l'épicerie ","                         Ce que je propose à l'épicerie ","                         Ce que je propose à l'épicerie ","                         Ce que je propose à l'épicerie ","                         Ce que je propose à l'épicerie ","                         Ce que je propose à l'épicerie ","                         Ce que je propose à l'épicerie ","                         Ce que je propose à l'épicerie ","                         Ce que je propose à l'épicerie ","                         Ce que je propose à l'épicerie ","                         Ce que je propose à l'épicerie ","                         Ce que je propose à l'épicerie ","                         Ce que je propose à l'épicerie ","                         Ce que je propose à l'épicerie ","                         Ce que je propose à l'épicerie ","                         Ce que je propose à l'épicerie ","                         Ce que je propose à l'épicerie ","                         Ce que je propose à l'épicerie ","                         Ce que je propose à l'épicerie ","                         Ce que je propose à l'épicerie ","                         Ce que je propose à l'épicerie ","                         Ce que je propose à l'épicerie ","                         Ce que je propose à l'épicerie ","                         Ce que je propose à l'épicerie ","                         Ce que je propose à l'épicerie ","                         Ce que je propose à l'épicerie ","                         Ce que je propose à l'épicerie ","                         Ce que je propose à l'épicerie ","                         Ce que je propose à l'épicerie ","                         Ce que je propose à l'épicerie ","                         Ce que je propose à l'épicerie ","                         Ce que je propose à l'épicerie ","                         Ce que je propose à l'épicerie ","                         Ce que je propose à l'épicerie ","                         Ce que je propose à l'épicerie ","                         Ce que je propose à l'épicerie ","                         Ce que je propose à l'épicerie ","                         Ce que je propose à l'épicerie ","                         Ce que je propose à l'épicerie ","                         Ce que je propose à l'épicerie ","                         Ce que je propose à l'épicerie ","                         Ce que je propose à l'épicerie ","                         Ce que je propose à l'épicerie ","                         Ce que je propose à l'épicerie ","                         Ce que je propose à l'épicerie ","                         Ce que je propose à l'épicerie ","                         Ce que je propose à l'épicerie ","                         Ce que je propose à l'épicerie ","                         Ce que je propose à l'épicerie ","                         Ce que je propose à l'épicerie ","                         Ce que je propose à l'épicerie ","                         Ce que je propose à l'épicerie ","                         Ce que je propose à l'épicerie ","                         Ce que je propose à l'épicerie ","                         Ce que je propose à l'épicerie ","                         Ce que je propose à l'épicerie ","                         Ce que je propose à l'épicerie ","                         Ce que je propose à l'épicerie ","                         Ce que je propose à l'épicerie ","                         Ce que je propose à l'épicerie ","                         Ce que je propose à l'épicerie ","                         Ce que je propose à l'épicerie ","                         Ce que je propose à l'épicerie ","                         Ce que je propose à l'épicerie ","                         Ce que je propose à l'épicerie ","                         Ce que je propose à l'épicerie ","                         Ce que je propose à l'épicerie ","                         Ce que je propose à l'épicerie ","                         Ce que je propose à l'épicerie ","                         Ce que je propose à l'épicerie ","                         Ce que je propose à l'épicerie ","                         Ce que je propose à l'épicerie ","                         Ce que je propose à l'épicerie ","                         Ce que je propose à l'épicerie ","                         Ce que je propose à l'épicerie ","                         Ce que je propose à l'épicerie ","                         Ce que je propose à l'épicerie ","                         Ce que je propose à l'épicerie ","                         Ce que je propose à l'épicerie ","                         Ce que je propose à l'épicerie ","                         Ce que je propose à l'épicerie ","                         Ce que je propose à l'épicerie ","                         Ce que je propose à l'épicerie ","                         Ce que je propose à l'épicerie ","                         Ce que je propose à l'épicerie ","                         Ce que je propose à l'épicerie ","                         Ce que je propose à l'épicerie ","                         Ce que je propose à l'épicerie ","                         Ce que je propose à l'épicerie ","                         Ce que je propose à l'épicerie ","                         Ce que je propose à l'épicerie ","                         Ce que je propose à l'épicerie ","                         Ce que je propose à l'épicerie ","                         Ce que je propose à l'épicerie ","                         Ce que je propose à l'épicerie ","                         Ce que je propose à l'épicerie ","                         Ce que je propose à l'épicerie ","                         Ce que je propose à l'épicerie ","                         Ce que je propose à l'épicerie ","                         Ce que je propose à l'épicerie ","                         Ce que je propose à l'épicerie ","                         Ce que je propose à l'épicerie ","                         Ce que je propose à l'épicerie ","                         Ce que je propose à l'épicerie ","                         Ce que je propose à l'épicerie ","                         Ce que je propose à l'épicerie ","                         Ce que je propose à l'épicerie ","                         Ce que je propose à l'épicerie ","                         Ce que je propose à l'épicerie ","                         Ce que je propose à l'épicerie ","                         Ce que je propose à l'épicerie ","                         Ce que je propose à l'épicerie ","                         Ce que je propose à l'épicerie ","                         Ce que je propose à l'épicerie ","                         Ce que je propose à l'épicerie ","                         Ce que je propose à l'épicerie ","                         Ce que je propose à l'épicerie ","                         Ce que je propose à l'épicerie ","                         Ce que je propose à l'épicerie ","                         Ce que je propose à l'épicerie ","                         Ce que je propose à l'épicerie ","                         Ce que je propose à l'épicerie ","                         Ce que je propose à l'épicerie ","                         Ce que je propose à l'épicerie ","                         Ce que je propose à l'épicerie ","                         Ce que je propose à l'épicerie ","                         Ce que je propose à l'épicerie ","                         Ce que je propose à l'épicerie ","                         Ce que je propose à l'épicerie ","                         Ce que je propose à l'épicerie ","                         Ce que je propose à l'épicerie ","                         Ce que je propose à l'épicerie ","                         Ce que je propose à l'épicerie ","                         Ce que je propose à l'épicerie ","                         Ce que je propose à l'épicerie ","                         Ce que je propose à l'épicerie ","                         Ce que je propose à l'épicerie ","                         Ce que je propose à l'épicerie ","                         Ce que je propose à l'épicerie ","                         Ce que je propose à l'épicerie ","                         Ce que je propose à l'épicerie ","                         Ce que je propose à l'épicerie ","                         Ce que je propose à l'épicerie ","                         Ce que je propose à l'épicerie ","                         Ce que je propose à l'épicerie ","                         Ce que je propose à l'épicerie ","                         Ce que je propose à l'épicerie ","                         Ce que je propose à l'épicerie ","                         Ce que je propose à l'épicerie ","                         Ce que je propose à l'épicerie ","                         Ce que je propose à l'épicerie ","                         Ce que je propose à l'épicerie ","                         Ce que je propose à l'épicerie ","                         Ce que je propose à l'épicerie ","                         Ce que je propose à l'épicerie ","                         Ce que je propose à l'épicerie ","                         Ce que je propose à l'épicerie ","                         Ce que je propose à l'épicerie ","                         Ce que je propose à l'épicerie ","                         Ce que je propose à l'épicerie ","                         Ce que je propose à l'épicerie ","                         Ce que je propose à l'épicerie ","                         Ce que je propose à l'épicerie ","                         Ce que je propose à l'épicerie ","                         Ce que je propose à l'épicerie ","                         Ce que je propose à l'épicerie ","                         Ce que je propose à l'épicerie ","                         Ce que je propose à l'épicerie ","                         Ce que je propose à l'épicerie ","                         Ce que je propose à l'épicerie ","                         Ce que je propose à l'épicerie ","                         Ce que je propose à l'épicerie ","                         Ce que je propose à l'épicerie ","                         Ce que je propose à l'épicerie ","                         Ce que je propose à l'épicerie ","                         Ce que je propose à l'épicerie ","                         Ce que je propose à l'épicerie ","                         Ce que je propose à l'épicerie ","                         Ce que je propose à l'épicerie ","                         Ce que je propose à l'épicerie ","                         Ce que je propose à l'épicerie ","                         Ce que je propose à l'épicerie ","                         Ce que je propose à l'épicerie ","                         Ce que je propose à l'épicerie ","                         Ce que je propose à l'épicerie ","                         Ce que je propose à l'épicerie ","                         Ce que je propose à l'épicerie ","                         Ce que je propose à l'épicerie ","                         Ce que je propose à l'épicerie ","                         Ce que je propose à l'épicerie ","                         Ce que je propose à l'épicerie ","                         Ce que je propose à l'épicerie ","                         Ce que je propose à l'épicerie ","                         Ce que je propose à l'épicerie ","                         Ce que je propose à l'épicerie ","                         Ce que je propose à l'épicerie ","                         Ce que je propose à l'épicerie ","                         Ce que je propose à l'épicerie ","                         Ce que je propose à l'épicerie ","                         Ce que je propose à l'épicerie ","                         Ce que je propose à l'épicerie ","                         Ce que je propose à l'épicerie ","                         Ce que je propose à l'épicerie ","                         Ce que je propose à l'épicerie ","                         Ce que je propose à l'épicerie ","                         Ce que je propose à l'épicerie ","                         Ce que je propose à l'épicerie ","                         Ce que je propose à l'épicerie ","                         Ce que je propose à l'épicerie ","                         Ce que je propose à l'épicerie ","                         Ce que je propose à l'épicerie ","                         Ce que je propose à l'épicerie ","                         Ce que je propose à l'épicerie ","                         Ce que je propose à l'épicerie ","                         Ce que je propose à l'épicerie ","                         Ce que je propose à l'épicerie ","                         Ce que je propose à l'épicerie ","                         Ce que je propose à l'épicerie ","                         Ce que je propose à l'épicerie ","                         Ce que je propose à l'épicerie ","                         Ce que je propose à l'épicerie ","                         Ce que je propose à l'épicerie ","                         Ce que je propose à l'épicerie ","                         Ce que je propose à l'épicerie ","                         Ce que je propose à l'épicerie ","                         Ce que je propose à l'épicerie ","                         Ce que je propose à l'épicerie ","                         Ce que je propose à l'épicerie ","                         Ce que je propose à l'épicerie ","                         Ce que je propose à l'épicerie ","                         Ce que je propose à l'épicerie ","                         Ce que je propose à l'épicerie ","                         Ce que je propose à l'épicerie ","                         Ce que je propose à l'épicerie ","                         Ce que je propose à l'épicerie ","                         Ce que je propose à l'épicerie ","                         Ce que je propose à l'épicerie ","                         Ce que je propose à l'épicerie ","                         Ce que je propose à l'épicerie ","                         Ce que je propose à l'épicerie ","                         Ce que je propose à l'épicerie ","                         Ce que je propose à l'épicerie ","                         Ce que je propose à l'épicerie ","                         Ce que je propose à l'épicerie ","                         Ce que je propose à l'épicerie ","                         Ce que je propose à l'épicerie ","                         Ce que je propose à l'épicerie ","                         Ce que je propose à l'épicerie ","                         Ce que je propose à l'épicerie ","                         Ce que je propose à l'épicerie ","                         Ce que je propose à l'épicerie ","                         Ce que je propose à l'épicerie ","                         Ce que je propose à l'épicerie ","                         Ce que je propose à l'épicerie ","                         Ce que je propose à l'épicerie ","                         Ce que je propose à l'épicerie ","                         Ce que je propose à l'épicerie ","                         Ce que je propose à l'épicerie ","                         Ce que je propose à l'épicerie ","                         Ce que je propose à l'épicerie ","                         Ce que je propose à l'épicerie ","                         Ce que je propose à l'épicerie ","                         Ce que je propose à l'épicerie ","                         Ce que je propose à l'épicerie ","                         Ce que je propose à l'épicerie ","                         Ce que je propose à l'épicerie ","                         Ce que je propose à l'épicerie ","                         Ce que je propose à l'épicerie ","                         Ce que je propose à l'épicerie ","                         Ce que je propose à l'épicerie ","                         Ce que je propose à l'épicerie ","                         Ce que je propose à l'épicerie ","                         Ce que je propose à l'épicerie ","                         Ce que je propose à l'épicerie ","                         Ce que je propose à l'épicerie ","                         Ce que je propose à l'épicerie ","                         Ce que je propose à l'épicerie ","                         Ce que je propose à l'épicerie ","                         Ce que je propose à l'épicerie ","                         Ce que je propose à l'épicerie ","                         Ce que je propose à l'épicerie ","                         Ce que je propose à l'épicerie ","                         Ce que je propose à l'épicerie ","                         Ce que je propose à l'épicerie ","                         Ce que je propose à l'épicerie ","                         Ce que je propose à l'épicerie ","                         Ce que je propose à l'épicerie ","                         Ce que je propose à l'épicerie ","                         Ce que je propose à l'épicerie ","                         Ce que je propose à l'épicerie ","                         Ce que je propose à l'épicerie ","                         Ce que je propose à l'épicerie ","                         Ce que je propose à l'épicerie ","                         Ce que je propose à l'épicerie ","                         Ce que je propose à l'épicerie ","                         Ce que je propose à l'épicerie ","                         Ce que je propose à l'épicerie ","                         Ce que je propose à l'épicerie ","                         Ce que je propose à l'épicerie ","                         Ce que je propose à l'épicerie ","                         Ce que je propose à l'épicerie ","                         Ce que je propose à l'épicerie ","                         Ce que je propose à l'épicerie ","                         Ce que je propose à l'épicerie ","                         Ce que je propose à l'épicerie ","                         Ce que je propose à l'épicerie ","                         Ce que je propose à l'épicerie ","                         Ce que je propose à l'épicerie ","                         Ce que je propose à l'épicerie ","                         Ce que je propose à l'épicerie ","                         Ce que je propose à l'épicerie ","                         Ce que je propose à l'épicerie ","                         Ce que je propose à l'épicerie ","                         Ce que je propose à l'épicerie ","                         Ce que je propose à l'épicerie ","                         Ce que je propose à l'épicerie ","                         Ce que je propose à l'épicerie ","                         Ce que je propose à l'épicerie ","                         Ce que je propose à l'épicerie ","                         Ce que je propose à l'épicerie ","                         Ce que je propose à l'épicerie ","                         Ce que je propose à l'épicerie ","                         Ce que je propose à l'épicerie ","                         Ce que je propose à l'épicerie ","                         Ce que je propose à l'épicerie ","                         Ce que je propose à l'épicerie ","                         Ce que je propose à l'épicerie ","                         Ce que je propose à l'épicerie ","                         Ce que je propose à l'épicerie ","                         Ce que je propose à l'épicerie ","                         Ce que je propose à l'épicerie ","                         Ce que je propose à l'épicerie ","                         Ce que je propose à l'épicerie ","                         Ce que je propose à l'épicerie ","                         Ce que je propose à l'épicerie ","                         Ce que je propose à l'épicerie ","                         Ce que je propose à l'épicerie ","                         Ce que je propose à l'épicerie ","                         Ce que je propose à l'épicerie ","                         Ce que je propose à l'épicerie ","                         Ce que je propose à l'épicerie ","                         Ce que je propose à l'épicerie ","                         Ce que je propose à l'épicerie ","                         Ce que je propose à l'épicerie ","                         Ce que je propose à l'épicerie ","                         Ce que je propose à l'épicerie ","                         Ce que je propose à l'épicerie ","                         Ce que je propose à l'épicerie ","                         Ce que je propose à l'épicerie ","                         Ce que je propose à l'épicerie ","                         Ce que je propose à l'épicerie ","                         Ce que je propose à l'épicerie ","                         Ce que je propose à l'épicerie ","                         Ce que je propose à l'épicerie ","                         Ce que je propose à l'épicerie ","                         Ce que je propose à l'épicerie ","                         Ce que je propose à l'épicerie ","                         Ce que je propose à l'épicerie ","                         Ce que je propose à l'épicerie ","                         Ce que je propose à l'épicerie ","                         Ce que je propose à l'épicerie ","                         Ce que je propose à l'épicerie ","                         Ce que je propose à l'épicerie ","                         Ce que je propose à l'épicerie ","                         Ce que je propose à l'épicerie ","                         Ce que je propose à l'épicerie ","                         Ce que je propose à l'épicerie ","                         Ce que je propose à l'épicerie ","                         Ce que je propose à l'épicerie ","                         Ce que je propose à l'épicerie ","                         Ce que je propose à l'épicerie ","                         Ce que je propose à l'épicerie ","                         Ce que je propose à l'épicerie ","                         Ce que je propose à l'épicerie ","                         Ce que je propose à l'épicerie ","                         Ce que je propose à l'épicerie ","                         Ce que je propose à l'épicerie ","                         Ce que je propose à l'épicerie ","                         Ce que je propose à l'épicerie ","                         Ce que je propose à l'épicerie ","                         Ce que je propose à l'épicerie ","                         Ce que je propose à l'épicerie ","                         Ce que je propose à l'épicerie ","                         Ce que je propose à l'épicerie ","                         Ce que je propose à l'épicerie ","                         Ce que je propose à l'épicerie ","                         Ce que je propose à l'épicerie ","                         Ce que je propose à l'épicerie ","                         Ce que je propose à l'épicerie ","                         Ce que je propose à l'épicerie ","                         Ce que je propose à l'épicerie ","                         Ce que je propose à l'épicerie ","                         Ce que je propose à l'épicerie ","                         Ce que je propose à l'épicerie ","                         Ce que je propose à l'épicerie ","                         Ce que je propose à l'épicerie ","                         Ce que je propose à l'épicerie ","                         Ce que je propose à l'épicerie ","                         Ce que je propose à l'épicerie ","                         Ce que je propose à l'épicerie ","                         Ce que je propose à l'épicerie ","                         Ce que je propose à l'épicerie ","                         Ce que je propose à l'épicerie ","                         Ce que je propose à l'épicerie ","                         Ce que je propose à l'épicerie ","                         Ce que je propose à l'épicerie ","                         Ce que je propose à l'épicerie ","                         Ce que je propose à l'épicerie ","                         Ce que je propose à l'épicerie ","                         Ce que je propose à l'épicerie ","                         Ce que je propose à l'épicerie ","                         Ce que je propose à l'épicerie ","                         Ce que je propose à l'épicerie ","                         Ce que je propose à l'épicerie ","                         Ce que je propose à l'épicerie ","                         Ce que je propose à l'épicerie ","                         Ce que je propose à l'épicerie ","                         Ce que je propose à l'épicerie ","                         Ce que je propose à l'épicerie ","                         Ce que je propose à l'épicerie ","                         Ce que je propose à l'épicerie ","                         Ce que je propose à l'épicerie ","                         Ce que je propose à l'épicerie ","                         Ce que je propose à l'épicerie ","                         Ce que je propose à l'épicerie ","                         Ce que je propose à l'épicerie ","                         Ce que je propose à l'épicerie ","                         Ce que je propose à l'épicerie ","                         Ce que je propose à l'épicerie ","                         Ce que je propose à l'épicerie ","                         Ce que je propose à l'épicerie ","                         Ce que je propose à l'épicerie ","                         Ce que je propose à l'épicerie ","                         Ce que je propose à l'épicerie ","                         Ce que je propose à l'épicerie ","                         Ce que je propose à l'épicerie ","                         Ce que je propose à l'épicerie ","                         Ce que je propose à l'épicerie ","                         Ce que je propose à l'épicerie ","                         Ce que je propose à l'épicerie ","                         Ce que je propose à l'épicerie ","                         Ce que je propose à l'épicerie ","                         Ce que je propose à l'épicerie ","                         Ce que je propose à l'épicerie ","                         Ce que je propose à l'épicerie ","                         Ce que je propose à l'épicerie ","                         Ce que je propose à l'épicerie ","                         Ce que je propose à l'épicerie ","                         Ce que je propose à l'épicerie ","                         Ce que je propose à l'épicerie ","                         Ce que je propose à l'épicerie ","                         Ce que je propose à l'épicerie ","                         Ce que je propose à l'épicerie ","                         Ce que je propose à l'épicerie ","                         Ce que je propose à l'épicerie ","                         Ce que je propose à l'épicerie ","                         Ce que je propose à l'épicerie ","                         Ce que je propose à l'épicerie ","                         Ce que je propose à l'épicerie ","                         Ce que je propose à l'épicerie ","                         Ce que je propose à l'épicerie ","                         Ce que je propose à l'épicerie ","                         Ce que je propose à l'épicerie ","                         Ce que je propose à l'épicerie ","                         Ce que je propose à l'épicerie ","                         Ce que je propose à l'épicerie ","                         Ce que je propose à l'épicerie ","                         Ce que je propose à l'épicerie ","                         Ce que je propose à l'épicerie ","                         Ce que je propose à l'épicerie ","                         Ce que je propose à l'épicerie ","                         Ce que je propose à l'épicerie ","                         Ce que je propose à l'épicerie ","                         Ce que je propose à l'épicerie ","                         Ce que je propose à l'épicerie ","                         Ce que je propose à l'épicerie ","                         Ce que je propose à l'épicerie ","                         Ce que je propose à l'épicerie ","                         Ce que je propose à l'épicerie ","                         Ce que je propose à l'épicerie ","                         Ce que je propose à l'épicerie ","                         Ce que je propose à l'épicerie ","                         Ce que je propose à l'épicerie ","                         Ce que je propose à l'épicerie ","                         Ce que je propose à l'épicerie ","                         Ce que je propose à l'épicerie ","                         Ce que je propose à l'épicerie ","                         Ce que je propose à l'épicerie ","                         Ce que je propose à l'épicerie ","                         Ce que je propose à l'épicerie ","                         Ce que je propose à l'épicerie ","                         Ce que je propose à l'épicerie ","                         Ce que je propose à l'épicerie ","                         Ce que je propose à l'épicerie ","                         Ce que je propose à l'épicerie ","                         Ce que je propose à l'épicerie ","                         Ce que je propose à l'épicerie ","                         Ce que je propose à l'épicerie ","                         Ce que je propose à l'épicerie ","                         Ce que je propose à l'épicerie ","                         Ce que je propose à l'épicerie ","                         Ce que je propose à l'épicerie ","                         Ce que je propose à l'épicerie ","                         Ce que je propose à l'épicerie ","                         Ce que je propose à l'épicerie ","                         Ce que je propose à l'épicerie ","                         Ce que je propose à l'épicerie ","                         Ce que je propose à l'épicerie ","                         Ce que je propose à l'épicerie ","                         Ce que je propose à l'épicerie ","                         Ce que je propose à l'épicerie ","                         Ce que je propose à l'épicerie ","                         Ce que je propose à l'épicerie ","                         Ce que je propose à l'épicerie ","                         Ce que je propose à l'épicerie ","                         Ce que je propose à l'épicerie ","                         Ce que je propose à l'épicerie ","                         Ce que je propose à l'épicerie ","                         Ce que je propose à l'épicerie ","                         Ce que je propose à l'épicerie ","                         Ce que je propose à l'épicerie ","                         Ce que je propose à l'épicerie ","                         Ce que je propose à l'épicerie ","                         Ce que je propose à l'épicerie ","                         Ce que je propose à l'épicerie ","                         Ce que je propose à l'épicerie ","                         Ce que je propose à l'épicerie ","                         Ce que je propose à l'épicerie ","                         Ce que je propose à l'épicerie ","                         Ce que je propose à l'épicerie ","                         Ce que je propose à l'épicerie ","                         Ce que je propose à l'épicerie ","                         Ce que je propose à l'épicerie ","                         Ce que je propose à l'épicerie ","                         Ce que je propose à l'épicerie ","                         Ce que je propose à l'épicerie ","                         Ce que je propose à l'épicerie ","                         Ce que je propose à l'épicerie ","                         Ce que je propose à l'épicerie ","                         Ce que je propose à l'épicerie ","                         Ce que je propose à l'épicerie ","                         Ce que je propose à l'épicerie ","                         Ce que je propose à l'épicerie ","                         Ce que je propose à l'épicerie ","                         Ce que je propose à l'épicerie ","                         Ce que je propose à l'épicerie ","                         Ce que je propose à l'épicerie ","                         Ce que je propose à l'épicerie ","                         Ce que je propose à l'épicerie ","                         Ce que je propose à l'épicerie ","                         Ce que je propose à l'épicerie ","                         Ce que je propose à l'épicerie ","                         Ce que je propose à l'épicerie ","                         Ce que je propose à l'épicerie ","                         Ce que je propose à l'épicerie ","                         Ce que je propose à l'épicerie ","                         Ce que je propose à l'épicerie ","                         Ce que je propose à l'épicerie ","                         Ce que je propose à l'épicerie ","                         Ce que je propose à l'épicerie ","                         Ce que je propose à l'épicerie ","                         Ce que je propose à l'épicerie ","                         Ce que je propose à l'épicerie ","                         Ce que je propose à l'épicerie ","                         Ce que je propose à l'épicerie ","                         Ce que je propose à l'épicerie ","                         Ce que je propose à l'épicerie ","                         Ce que je propose à l'épicerie ","                         Ce que je propose à l'épicerie ","                         Ce que je propose à l'épicerie ","                         Ce que je propose à l'épicerie ","                         Ce que je propose à l'épicerie ","                         Ce que je propose à l'épicerie ","                         Ce que je propose à l'épicerie ","                         Ce que je propose à l'épicerie ","                         Ce que je propose à l'épicerie ","                         Ce que je propose à l'épicerie ","                         Ce que je propose à l'épicerie ","                         Ce que je propose à l'épicerie ","                         Ce que je propose à l'épicerie ","                         Ce que je propose à l'épicerie ","                         Ce que je propose à l'épicerie ","                         Ce que je propose à l'épicerie ","                         Ce que je propose à l'épicerie ","                         Ce que je propose à l'épicerie ","                         Ce que je propose à l'épicerie ","                         Ce que je propose à l'épicerie ","                         Ce que je propose à l'épicerie ","                         Ce que je propose à l'épicerie ","                         Ce que je propose à l'épicerie ","                         Ce que je propose à l'épicerie ","                         Ce que je propose à l'épicerie ","                         Ce que je propose à l'épicerie ","                         Ce que je propose à l'épicerie ","                         Ce que je propose à l'épicerie ","                         Ce que je propose à l'épicerie ","                         Ce que je propose à l'épicerie ","                         Ce que je propose à l'épicerie ","                         Ce que je propose à l'épicerie ","                         Ce que je propose à l'épicerie ","                         Ce que je propose à l'épicerie ","                         Ce que je propose à l'épicerie ","                         Ce que je propose à l'épicerie ","                         Ce que je propose à l'épicerie ","                         Ce que je propose à l'épicerie ","                         Ce que je propose à l'épicerie ","                         Ce que je propose à l'épicerie ","                         Ce que je propose à l'épicerie ","                         Ce que je propose à l'épicerie ","                         Ce que je propose à l'épicerie ","                         Ce que je propose à l'épicerie ","                         Ce que je propose à l'épicerie ","                         Ce que je propose à l'épicerie ","                         Ce que je propose à l'épicerie ","                         Ce que je propose à l'épicerie ","                         Ce que je propose à l'épicerie ","                         Ce que je propose à l'épicerie ","                         Ce que je propose à l'épicerie ","                         Ce que je propose à l'épicerie ","                         Ce que je propose à l'épicerie ","                         Ce que je propose à l'épicerie ","                         Ce que je propose à l'épicerie ","                         Ce que je propose à l'épicerie ","                         Ce que je propose à l'épicerie ","                         Ce que je propose à l'épicerie ","                         Ce que je propose à l'épicerie ","                         Ce que je propose à l'épicerie ","                         Ce que je propose à l'épicerie ","                         Ce que je propose à l'épicerie ","                         Ce que je propose à l'épicerie ","                         Ce que je propose à l'épicerie ","                         Ce que je propose à l'épicerie ","                         Ce que je propose à l'épicerie ","                         Ce que je propose à l'épicerie ","                         Ce que je propose à l'épicerie ","                         Ce que je propose à l'épicerie ","                         Ce que je propose à l'épicerie ","                         Ce que je propose à l'épicerie ","                         Ce que je propose à l'épicerie ","                         Ce que je propose à l'épicerie ","                         Ce que je propose à l'épicerie ","                         Ce que je propose à l'épicerie ","                         Ce que je propose à l'épicerie ","                         Ce que je propose à l'épicerie ","                         Ce que je propose à l'épicerie ","                         Ce que je propose à l'épicerie ","                         Ce que je propose à l'épicerie ","                         Ce que je propose à l'épicerie ","                         Ce que je propose à l'épicerie ","                         Ce que je propose à l'épicerie ","                         Ce que je propose à l'épicerie ","                         Ce que je propose à l'épicerie ","                         Ce que je propose à l'épicerie ","                         Ce que je propose à l'épicerie ","                         Ce que je propose à l'épicerie ","                         Ce que je propose à l'épicerie ","                         Ce que je propose à l'épicerie ","                         Ce que je propose à l'épicerie ","                         Ce que je propose à l'épicerie ","                         Ce que je propose à l'épicerie ","                         Ce que je propose à l'épicerie ","                         Ce que je propose à l'épicerie ","                         Ce que je propose à l'épicerie ","                         Ce que je propose à l'épicerie ","                         Ce que je propose à l'épicerie ","                         Ce que je propose à l'épicerie ","                         Ce que je propose à l'épicerie ","                         Ce que je propose à l'épicerie ","                         Ce que je propose à l'épicerie ","                         Ce que je propose à l'épicerie ","                         Ce que je propose à l'épicerie ","                         Ce que je propose à l'épicerie ","                         Ce que je propose à l'épicerie ","                         Ce que je propose à l'épicerie ","                         Ce que je propose à l'épicerie ","                         Ce que je propose à l'épicerie ","                         Ce que je propose à l'épicerie ","                         Ce que je propose à l'épicerie ","                         Ce que je propose à l'épicerie ","                         Ce que je propose à l'épicerie ","                         Ce que je propose à l'épicerie ","                         Ce que je propose à l'épicerie ","                         Ce que je propose à l'épicerie ","                         Ce que je propose à l'épicerie ","                         Ce que je propose à l'épicerie ","                         Ce que je propose à l'épicerie ","                         Ce que je propose à l'épicerie ","                         Ce que je propose à l'épicerie ","                         Ce que je propose à l'épicerie ","                         Ce que je propose à l'épicerie ","                         Ce que je propose à l'épicerie ","                         Ce que je propose à l'épicerie ","                         Ce que je propose à l'épicerie ","                         Ce que je propose à l'épicerie ","                         Ce que je propose à l'épicerie ","                         Ce que je propose à l'épicerie ","                         Ce que je propose à l'épicerie ","                         Ce que je propose à l'épicerie ","                         Ce que je propose à l'épicerie ","                         Ce que je propose à l'épicerie ","                         Ce que je propose à l'épicerie ","                         Ce que je propose à l'épicerie ","                         Ce que je propose à l'épicerie ","                         Ce que je propose à l'épicerie ","                         Ce que je propose à l'épicerie ","                         Ce que je propose à l'épicerie ","                         Ce que je propose à l'épicerie ","                         Ce que je propose à l'épicerie ","                         Ce que je propose à l'épicerie ","                         Ce que je propose à l'épicerie ","                         Ce que je propose à l'épicerie ","                         Ce que je propose à l'épicerie ","                         Ce que je propose à l'épicerie ","                         Ce que je propose à l'épicerie ","                         Ce que je propose à l'épicerie ","                         Ce que je propose à l'épicerie ","                         Ce que je propose à l'épicerie ","                         Ce que je propose à l'épicerie ","                         Ce que je propose à l'épicerie ","                         Ce que je propose à l'épicerie ","                         Ce que je propose à l'épicerie ","                         Ce que je propose à l'épicerie ","                         Ce que je propose à l'épicerie ","                         Ce que je propose à l'épicerie ","                         Ce que je propose à l'épicerie ","                         Ce que je propose à l'épicerie ","                         Ce que je propose à l'épicerie ","                         Ce que je propose à l'épicerie ","                         Ce que je propose à l'épicerie ","                         Ce que je propose à l'épicerie ","                         Ce que je propose à l'épicerie ","                         Ce que je propose à l'épicerie ","                         Ce que je propose à l'épicerie ","                         Ce que je propose à l'épicerie ","                         Ce que je propose à l'épicerie ","                         Ce que je propose à l'épicerie ","                         Ce que je propose à l'épicerie ","                         Ce que je propose à l'épicerie ","                         Ce que je propose à l'épicerie ","                         Ce que je propose à l'épicerie ","                         Ce que je propose à l'épicerie ","                         Ce que je propose à l'épicerie ","                         Ce que je propose à l'épicerie ","                         Ce que je propose à l'épicerie ","                         Ce que je propose à l'épicerie ","                         Ce que je propose à l'épicerie ","                         Ce que je propose à l'épicerie ","                         Ce que je propose à l'épicerie ","                         Ce que je propose à l'épicerie ","                         Ce que je propose à l'épicerie ","                         Ce que je propose à l'épicerie ","                         Ce que je propose à l'épicerie ","                         Ce que je propose à l'épicerie ","                         Ce que je propose à l'épicerie ","                         Ce que je propose à l'épicerie ","                         Ce que je propose à l'épicerie ","                         Ce que je propose à l'épicerie ","                         Ce que je propose à l'épicerie ","                         Ce que je propose à l'épicerie ","                         Ce que je propose à l'épicerie ","                         Ce que je propose à l'épicerie ","                         Ce que je propose à l'épicerie ","                         Ce que je propose à l'épicerie ","                         Ce que je propose à l'épicerie ","                         Ce que je propose à l'épicerie ","                         Ce que je propose à l'épicerie ","                         Ce que je propose à l'épicerie ","                         Ce que je propose à l'épicerie ","                         Ce que je propose à l'épicerie ","                         Ce que je propose à l'épicerie ","                         Ce que je propose à l'épicerie ","                         Ce que je propose à l'épicerie ","                         Ce que je propose à l'épicerie ","                         Ce que je propose à l'épicerie ","                         Ce que je propose à l'épicerie ","                         Ce que je propose à l'épicerie ","                         Ce que je propose à l'épicerie ","                         Ce que je propose à l'épicerie ","                         Ce que je propose à l'épicerie ","                         Ce que je propose à l'épicerie ","                         Ce que je propose à l'épicerie ","                         Ce que je propose à l'épicerie ","                         Ce que je propose à l'épicerie ","                         Ce que je propose à l'épicerie ","                         Ce que je propose à l'épicerie ","                         Ce que je propose à l'épicerie ","                         Ce que je propose à l'épicerie ","                         Ce que je propose à l'épicerie ","                         Ce que je propose à l'épicerie ","                         Ce que je propose à l'épicerie ","                         Ce que je propose à l'épicerie ","                         Ce que je propose à l'épicerie ","                         Ce que je propose à l'épicerie ","                         Ce que je propose à l'épicerie ","                         Ce que je propose à l'épicerie ","                         Ce que je propose à l'épicerie ","                         Ce que je propose à l'épicerie ","                         Ce que je propose à l'épicerie ","                         Ce que je propose à l'épicerie ","                         Ce que je propose à l'épicerie ","                         Ce que je propose à l'épicerie ","                         Ce que je propose à l'épicerie ","                         Ce que je propose à l'épicerie ","                         Ce que je propose à l'épicerie ","                         Ce que je propose à l'épicerie ","                         Ce que je propose à l'épicerie ","                         Ce que je propose à l'épicerie ","                         Ce que je propose à l'épicerie ","                         Ce que je propose à l'épicerie ","                         Ce que je propose à l'épicerie ","                         Ce que je propose à l'épicerie ","                         Ce que je propose à l'épicerie ","                         Ce que je propose à l'épicerie ","                         Ce que je propose à l'épicerie ","                         Ce que je propose à l'épicerie ","                         Ce que je propose à l'épicerie ","                         Ce que je propose à l'épicerie ","                         Ce que je propose à l'épicerie ","                         Ce que je propose à l'épicerie ","                         Ce que je propose à l'épicerie ","                         Ce que je propose à l'épicerie ","                         Ce que je propose à l'épicerie ","                         Ce que je propose à l'épicerie ","                         Ce que je propose à l'épicerie ","                         Ce que je propose à l'épicerie ","                         Ce que je propose à l'épicerie ","                         Ce que je propose à l'épicerie ","                         Ce que je propose à l'épicerie ","                         Ce que je propose à l'épicerie ","                         Ce que je propose à l'épicerie ","                         Ce que je propose à l'épicerie ","                         Ce que je propose à l'épicerie ","                         Ce que je propose à l'épicerie ","                         Ce que je propose à l'épicerie ","                         Ce que je propose à l'épicerie ","                         Ce que je propose à l'épicerie ","                         Ce que je propose à l'épicerie ","                         Ce que je propose à l'épicerie ","                         Ce que je propose à l'épicerie ","                         Ce que je propose à l'épicerie ","                         Ce que je propose à l'épicerie ","                         Ce que je propose à l'épicerie ","                         Ce que je propose à l'épicerie ","                         Ce que je propose à l'épicerie ","                         Ce que je propose à l'épicerie ","                         Ce que je propose à l'épicerie ","                         Ce que je propose à l'épicerie ","                         Ce que je propose à l'épicerie ","                         Ce que je propose à l'épicerie ","                         Ce que je propose à l'épicerie ","                         Ce que je propose à l'épicerie ","                         Ce que je propose à l'épicerie ","                         Ce que je propose à l'épicerie ","                         Ce que je propose à l'épicerie ","                         Ce que je propose à l'épicerie ","                         Ce que je propose à l'épicerie ","                         Ce que je propose à l'épicerie ","                         Ce que je propose à l'épicerie ","                         Ce que je propose à l'épicerie ","                         Ce que je propose à l'épicerie ","                         Ce que je propose à l'épicerie ","                         Ce que je propose à l'épicerie ","                         Ce que je propose à l'épicerie ","                         Ce que je propose à l'épicerie ","                         Ce que je propose à l'épicerie ","                         Ce que je propose à l'épicerie ","                         Ce que je propose à l'épicerie ","                         Ce que je propose à l'épicerie ","                         Ce que je propose à l'épicerie ","                         Ce que je propose à l'épicerie ","                         Ce que je propose à l'épicerie ","                         Ce que je propose à l'épicerie ","                         Ce que je propose à l'épicerie ","                         Ce que je propose à l'épicerie ","                         Ce que je propose à l'épicerie ","                         Ce que je propose à l'épicerie ","                         Ce que je propose à l'épicerie ","                         Ce que je propose à l'épicerie ","                         Ce que je propose à l'épicerie ","                         Ce que je propose à l'épicerie ","                         Ce que je propose à l'épicerie ","                         Ce que je propose à l'épicerie ","                         Ce que je propose à l'épicerie ","                         Ce que je propose à l'épicerie ","                         Ce que je propose à l'épicerie ","                         Ce que je propose à l'épicerie ","                         Ce que je propose à l'épicerie ","                         Ce que je propose à l'épicerie ","                         Ce que je propose à l'épicerie ","                         Ce que je propose à l'épicerie ","                         Ce que je propose à l'épicerie ","                         Ce que je propose à l'épicerie ","                         Ce que je propose à l'épicerie ","                         Ce que je propose à l'épicerie ","                         Ce que je propose à l'épicerie ","                         Ce que je propose à l'épicerie ","                         Ce que je propose à l'épicerie ","                         Ce que je propose à l'épicerie ","                         Ce que je propose à l'épicerie ","                         Ce que je propose à l'épicerie ","                         Ce que je propose à l'épicerie ","                         Ce que je propose à l'épicerie ","                         Ce que je propose à l'épicerie ","                         Ce que je propose à l'épicerie ","                         Ce que je propose à l'épicerie ","                         Ce que je propose à l'épicerie ","                         Ce que je propose à l'épicerie ","                         Ce que je propose à l'épicerie ","                         Ce que je propose à l'épicerie ","                         Ce que je propose à l'épicerie ","                         Ce que je propose à l'épicerie ","                         Ce que je propose à l'épicerie ","                         Ce que je propose à l'épicerie ","                         Ce que je propose à l'épicerie ","                         Ce que je propose à l'épicerie ","                         Ce que je propose à l'épicerie ","                         Ce que je propose à l'épicerie ","                         Ce que je propose à l'épicerie ","                         Ce que je propose à l'épicerie ","                         Ce que je propose à l'épicerie ","                         Ce que je propose à l'épicerie ","                         Ce que je propose à l'épicerie ","                         Ce que je propose à l'épicerie ","                         Ce que je propose à l'épicerie ","                         Ce que je propose à l'épicerie ","                         Ce que je propose à l'épicerie ","                         Ce que je propose à l'épicerie ","                         Ce que je propose à l'épicerie ","                         Ce que je propose à l'épicerie ","                         Ce que je propose à l'épicerie ","                         Ce que je propose à l'épicerie ","                         Ce que je propose à l'épicerie ","                         Ce que je propose à l'épicerie ","                         Ce que je propose à l'épicerie ","                         Ce que je propose à l'épicerie ","                         Ce que je propose à l'épicerie ","                         Ce que je propose à l'épicerie ","                         Ce que je propose à l'épicerie ","                         Ce que je propose à l'épicerie ","                         Ce que je propose à l'épicerie ","                         Ce que je propose à l'épicerie ","                         Ce que je propose à l'épicerie ","                         Ce que je propose à l'épicerie ","                         Ce que je propose à l'épicerie ","                         Ce que je propose à l'épicerie ","                         Ce que je propose à l'épicerie ","                         Ce que je propose à l'épicerie ","                         Ce que je propose à l'épicerie ","                         Ce que je propose à l'épicerie ","                         Ce que je propose à l'épicerie ","                         Ce que je propose à l'épicerie ","                         Ce que je propose à l'épicerie ","                         Ce que je propose à l'épicerie ","                         Ce que je propose à l'épicerie ","                         Ce que je propose à l'épicerie ","                         Ce que je propose à l'épicerie ","                         Ce que je propose à l'épicerie ","                         Ce que je propose à l'épicerie ","                         Ce que je propose à l'épicerie ","                         Ce que je propose à l'épicerie ","                         Ce que je propose à l'épicerie ","                         Ce que je propose à l'épicerie ","                         Ce que je propose à l'épicerie ","                         Ce que je propose à l'épicerie ","                         Ce que je propose à l'épicerie ","                         Ce que je propose à l'épicerie ","                         Ce que je propose à l'épicerie ","                         Ce que je propose à l'épicerie ","                         Ce que je propose à l'épicerie ","                         Ce que je propose à l'épicerie ","                         Ce que je propose à l'épicerie ","                         Ce que je propose à l'épicerie ","                         Ce que je propose à l'épicerie ","                         Ce que je propose à l'épicerie ","                         Ce que je propose à l'épicerie ","                         Ce que je propose à l'épicerie ","                         Ce que je propose à l'épicerie ","                         Ce que je propose à l'épicerie ","                         Ce que je propose à l'épicerie ","                         Ce que je propose à l'épicerie ","                         Ce que je propose à l'épicerie ","                         Ce que je propose à l'épicerie ","                         Ce que je propose à l'épicerie ","                         Ce que je propose à l'épicerie ","                         Ce que je propose à l'épicerie ","                         Ce que je propose à l'épicerie ","                         Ce que je propose à l'épicerie ","                         Ce que je propose à l'épicerie ","                         Ce que je propose à l'épicerie ","                         Ce que je propose à l'épicerie ","                         Ce que je propose à l'épicerie ","                         Ce que je propose à l'épicerie ","                         Ce que je propose à l'épicerie ","                         Ce que je propose à l'épicerie ","                         Ce que je propose à l'épicerie ","                         Ce que je propose à l'épicerie ","                         Ce que je propose à l'épicerie ","                         Ce que je propose à l'épicerie ","                         Ce que je propose à l'épicerie ","                         Ce que je propose à l'épicerie ","                         Ce que je propose à l'épicerie ","                         Ce que je propose à l'épicerie ","                         Ce que je propose à l'épicerie ","                         Ce que je propose à l'épicerie ","                         Ce que je propose à l'épicerie ","                         Ce que je propose à l'épicerie ","                         Ce que je propose à l'épicerie ","                         Ce que je propose à l'épicerie ","                         Ce que je propose à l'épicerie ","                         Ce que je propose à l'épicerie ","                         Ce que je propose à l'épicerie ","                         Ce que je propose à l'épicerie ","                         Ce que je propose à l'épicerie ","                         Ce que je propose à l'épicerie ","                         Ce que je propose à l'épicerie ","                         Ce que je propose à l'épicerie ","                         Ce que je propose à l'épicerie ","                         Ce que je propose à l'épicerie ","                         Ce que je propose à l'épicerie ","                         Ce que je propose à l'épicerie ","                         Ce que je propose à l'épicerie ","                         Ce que je propose à l'épicerie ","                         Ce que je propose à l'épicerie ","                         Ce que je propose à l'épicerie ","                         Ce que je propose à l'épicerie ","                         Ce que je propose à l'épicerie ","                         Ce que je propose à l'épicerie ","                         Ce que je propose à l'épicerie ","                         Ce que je propose à l'épicerie ","                         Ce que je propose à l'épicerie ","                         Ce que je propose à l'épicerie ","                         Ce que je propose à l'épicerie ","                         Ce que je propose à l'épicerie ","                         Ce que je propose à l'épicerie ","                         Ce que je propose à l'épicerie ","                         Ce que je propose à l'épicerie ","                         Ce que je propose à l'épicerie ","                         Ce que je propose à l'épicerie ","                         Ce que je propose à l'épicerie ","                         Ce que je propose à l'épicerie ","                         Ce que je propose à l'épicerie ","                         Ce que je propose à l'épicerie ","                         Ce que je propose à l'épicerie ","                         Ce que je propose à l'épicerie ","                         Ce que je propose à l'épicerie ","                         Ce que je propose à l'épicerie ","                         Ce que je propose à l'épicerie ","                         Ce que je propose à l'épicerie ","                         Ce que je propose à l'épicerie ","                         Ce que je propose à l'épicerie ","                         Ce que je propose à l'épicerie ","                         Ce que je propose à l'épicerie ","                         Ce que je propose à l'épicerie ","                         Ce que je propose à l'épicerie ","                         Ce que je propose à l'épicerie ","                         Ce que je propose à l'épicerie ","                         Ce que je propose à l'épicerie ","                         Ce que je propose à l'épicerie ","                         Ce que je propose à l'épicerie ","                         Ce que je propose à l'épicerie ","                         Ce que je propose à l'épicerie ","                         Ce que je propose à l'épicerie ","                         Ce que je propose à l'épicerie ","                         Ce que je propose à l'épicerie ","                         Ce que je propose à l'épicerie ","                         Ce que je propose à l'épicerie ","                         Ce que je propose à l'épicerie ","                         Ce que je propose à l'épicerie ","                         Ce que je propose à l'épicerie ","                         Ce que je propose à l'épicerie ","                         Ce que je propose à l'épicerie ","                         Ce que je propose à l'épicerie ","                         Ce que je propose à l'épicerie ","                         Ce que je propose à l'épicerie ","                         Ce que je propose à l'épicerie ","                         Ce que je propose à l'épicerie ","                         Ce que je propose à l'épicerie ","                         Ce que je propose à l'épicerie ","                         Ce que je propose à l'épicerie ","                         Ce que je propose à l'épicerie ","                         Ce que je propose à l'épicerie ","                         Ce que je propose à l'épicerie ","                         Ce que je propose à l'épicerie ","                         Ce que je propose à l'épicerie ","                         Ce que je propose à l'épicerie ","                         Ce que je propose à l'épicerie ","                         Ce que je propose à l'épicerie ","                         Ce que je propose à l'épicerie ","                         Ce que je propose à l'épicerie ","                         Ce que je propose à l'épicerie ","                         Ce que je propose à l'épicerie ","                         Ce que je propose à l'épicerie ","                         Ce que je propose à l'épicerie ","                         Ce que je propose à l'épicerie ","                         Ce que je propose à l'épicerie ","                         Ce que je propose à l'épicerie ","                         Ce que je propose à l'épicerie ","                         Ce que je propose à l'épicerie ","                         Ce que je propose à l'épicerie ","                         Ce que je propose à l'épicerie ","                         Ce que je propose à l'épicerie ","                         Ce que je propose à l'épicerie ","                         Ce que je propose à l'épicerie ","                         Ce que je propose à l'épicerie ","                         Ce que je propose à l'épicerie ","                         Ce que je propose à l'épicerie ","                         Ce que je propose à l'épicerie ","                         Ce que je propose à l'épicerie ","                         Ce que je propose à l'épicerie ","                         Ce que je propose à l'épicerie ","                         Ce que je propose à l'épicerie ","                         Ce que je propose à l'épicerie ","                         Ce que je propose à l'épicerie ","                         Ce que je propose à l'épicerie ","                         Ce que je propose à l'épicerie ","                         Ce que je propose à l'épicerie ","                         Ce que je propose à l'épicerie ","                         Ce que je propose à l'épicerie ","                         Ce que je propose à l'épicerie ","                         Ce que je propose à l'épicerie ","                         Ce que je propose à l'épicerie ","                         Ce que je propose à l'épicerie ","                         Ce que je propose à l'épicerie ","                         Ce que je propose à l'épicerie ","                         Ce que je propose à l'épicerie ","                         Ce que je propose à l'épicerie ","                         Ce que je propose à l'épicerie ","                         Ce que je propose à l'épicerie ","                         Ce que je propose à l'épicerie ","                         Ce que je propose à l'épicerie ","                         Ce que je propose à l'épicerie ","                         Ce que je propose à l'épicerie ","                         Ce que je propose à l'épicerie ","                         Ce que je propose à l'épicerie ","                         Ce que je propose à l'épicerie ","                         Ce que je propose à l'épicerie ","                         Ce que je propose à l'épicerie ","                         Ce que je propose à l'épicerie ","                         Ce que je propose à l'épicerie ","                         Ce que je propose à l'épicerie ","                         Ce que je propose à l'épicerie ","                         Ce que je propose à l'épicerie ","                         Ce que je propose à l'épicerie ","                         Ce que je propose à l'épicerie ","                         Ce que je propose à l'épicerie ","                         Ce que je propose à l'épicerie ","                         Ce que je propose à l'épicerie ","                         Ce que je propose à l'épicerie ","                         Ce que je propose à l'épicerie ","                         Ce que je propose à l'épicerie ","                         Ce que je propose à l'épicerie ","                         Ce que je propose à l'épicerie ","                         Ce que je propose à l'épicerie ","                         Ce que je propose à l'épicerie ","                         Ce que je propose à l'épicerie ","                         Ce que je propose à l'épicerie ","                         Ce que je propose à l'épicerie ","                         Ce que je propose à l'épicerie ","                         Ce que je propose à l'épicerie ","                         Ce que je propose à l'épicerie ","                         Ce que je propose à l'épicerie ","                         Ce que je propose à l'épicerie ","                         Ce que je propose à l'épicerie ","                         Ce que je propose à l'épicerie ","                         Ce que je propose à l'épicerie ","                         Ce que je propose à l'épicerie ","                         Ce que je propose à l'épicerie ","                         Ce que je propose à l'épicerie ","                         Ce que je propose à l'épicerie ","                         Ce que je propose à l'épicerie ","                         Ce que je propose à l'épicerie ","                         Ce que je propose à l'épicerie ","                         Ce que je propose à l'épicerie ","                         Ce que je propose à l'épicerie ","                         Ce que je propose à l'épicerie ","                         Ce que je propose à l'épicerie ","                         Ce que je propose à l'épicerie ","                         Ce que je propose à l'épicerie ","                         Ce que je propose à l'épicerie ","                         Ce que je propose à l'épicerie ","                         Ce que je propose à l'épicerie ","                         Ce que je propose à l'épicerie ","                         Ce que je propose à l'épicerie ","                         Ce que je propose à l'épicerie ","                         Ce que je propose à l'épicerie ","                         Ce que je propose à l'épicerie ","                         Ce que je propose à l'épicerie ","                         Ce que je propose à l'épicerie ","                         Ce que je propose à l'épicerie ","                         Ce que je propose à l'épicerie ","                         Ce que je propose à l'épicerie ","                         Ce que je propose à l'épicerie ","                         Ce que je propose à l'épicerie ","                         Ce que je propose à l'épicerie ","                         Ce que je propose à l'épicerie ","                         Ce que je propose à l'épicerie ","                         Ce que je propose à l'épicerie ","                         Ce que je propose à l'épicerie ","                         Ce que je propose à l'épicerie ","                         Ce que je propose à l'épicerie ","                         Ce que je propose à l'épicerie ","                         Ce que je propose à l'épicerie ","                         Ce que je propose à l'épicerie ","                         Ce que je propose à l'épicerie ","                         Ce que je propose à l'épicerie ","                         Ce que je propose à l'épicerie ","                         Ce que je propose à l'épicerie ","                         Ce que je propose à l'épicerie ","                         Ce que je propose à l'épicerie ","                         Ce que je propose à l'épicerie ","                         Ce que je propose à l'épicerie ","                         Ce que je propose à l'épicerie ","                         Ce que je propose à l'épicerie ","                         Ce que je propose à l'épicerie ","                         Ce que je propose à l'épicerie ","                         Ce que je propose à l'épicerie ","                         Ce que je propose à l'épicerie ","                         Ce que je propose à l'épicerie ","                         Ce que je propose à l'épicerie ","                         Ce que je propose à l'épicerie ","                         Ce que je propose à l'épicerie ","                         Ce que je propose à l'épicerie ","                         Ce que je propose à l'épicerie ","                         Ce que je propose à l'épicerie ","                         Ce que je propose à l'épicerie ","                         Ce que je propose à l'épicerie ","                         Ce que je propose à l'épicerie ","                         Ce que je propose à l'épicerie ","                         Ce que je propose à l'épicerie ","                         Ce que je propose à l'épicerie ","                         Ce que je propose à l'épicerie ","                         Ce que je propose à l'épicerie ","                         Ce que je propose à l'épicerie ","                         Ce que je propose à l'épicerie ","                         Ce que je propose à l'épicerie ","                         Ce que je propose à l'épicerie ","                         Ce que je propose à l'épicerie ","                         Ce que je propose à l'épicerie ","                         Ce que je propose à l'épicerie ","                         Ce que je propose à l'épicerie ","                         Ce que je propose à l'épicerie ","                         Ce que je propose à l'épicerie ","                         Ce que je propose à l'épicerie ","                         Ce que je propose à l'épicerie ","                         Ce que je propose à l'épicerie ","                         Ce que je propose à l'épicerie ","                         Ce que je propose à l'épicerie ","                         Ce que je propose à l'épicerie ","                         Ce que je propose à l'épicerie ","                         Ce que je propose à l'épicerie ","                         Ce que je propose à l'épicerie ","                         Ce que je propose à l'épicerie ","                         Ce que je propose à l'épicerie ","                         Ce que je propose à l'épicerie ","                         Ce que je propose à l'épicerie ","                         Ce que je propose à l'épicerie ","                         Ce que je propose à l'épicerie ","                         Ce que je propose à l'épicerie ","                         Ce que je propose à l'épicerie ","                         Ce que je propose à l'épicerie ","                         Ce que je propose à l'épicerie ","                         Ce que je propose à l'épicerie ","                         Ce que je propose à l'épicerie ","                         Ce que je propose à l'épicerie ","                         Ce que je propose à l'épicerie ","                         Ce que je propose à l'épicerie ","                         Ce que je propose à l'épicerie ","                         Ce que je propose à l'épicerie ","                         Ce que je propose à l'épicerie ","                         Ce que je propose à l'épicerie ","                         Ce que je propose à l'épicerie ","                         Ce que je propose à l'épicerie ","                         Ce que je propose à l'épicerie ","                         Ce que je propose à l'épicerie ","                         Ce que je propose à l'épicerie ","                         Ce que je propose à l'épicerie ","                         Ce que je propose à l'épicerie ","                         Ce que je propose à l'épicerie ","                         Ce que je propose à l'épicerie ","                         Ce que je propose à l'épicerie ","                         Ce que je propose à l'épicerie ","                         Ce que je propose à l'épicerie ","                         Ce que je propose à l'épicerie ","                         Ce que je propose à l'épicerie ","                         Ce que je propose à l'épicerie ","                         Ce que je propose à l'épicerie ","                         Ce que je propose à l'épicerie ","                         Ce que je propose à l'épicerie ","                         Ce que je propose à l'épicerie ","                         Ce que je propose à l'épicerie ","                         Ce que je propose à l'épicerie ","                         Ce que je propose à l'épicerie ","                         Ce que je propose à l'épicerie ","                         Ce que je propose à l'épicerie ","                         Ce que je propose à l'épicerie ","                         Ce que je propose à l'épicerie ","                         Ce que je propose à l'épicerie ","                         Ce que je propose à l'épicerie ","                         Ce que je propose à l'épicerie ","                         Ce que je propose à l'épicerie ","                         Ce que je propose à l'épicerie ","                         Ce que je propose à l'épicerie ","                         Ce que je propose à l'épicerie ","                         Ce que je propose à l'épicerie ","                         Ce que je propose à l'épicerie ","                         Ce que je propose à l'épicerie ","                         Ce que je propose à l'épicerie ","                         Ce que je propose à l'épicerie ","                         Ce que je propose à l'épicerie ","                         Ce que je propose à l'épicerie ","                         Ce que je propose à l'épicerie ","                         Ce que je propose à l'épicerie ","                         Ce que je propose à l'épicerie ","                         Ce que je propose à l'épicerie ","                         Ce que je propose à l'épicerie ","                         Ce que je propose à l'épicerie ","                         Ce que je propose à l'épicerie ","                         Ce que je propose à l'épicerie ","                         Ce que je propose à l'épicerie ","                         Ce que je propose à l'épicerie ","                         Ce que je propose à l'épicerie ","                         Ce que je propose à l'épicerie ","                         Ce que je propose à l'épicerie ","                         Ce que je propose à l'épicerie ","                         Ce que je propose à l'épicerie ","                         Ce que je propose à l'épicerie ","                         Ce que je propose à l'épicerie ","                         Ce que je propose à l'épicerie ","                         Ce que je propose à l'épicerie ","                         Ce que je propose à l'épicerie ","                         Ce que je propose à l'épicerie ","                         Ce que je propose à l'épicerie ","                         Ce que je propose à l'épicerie ","                         Ce que je propose à l'épicerie ","                         Ce que je propose à l'épicerie ","                         Ce que je propose à l'épicerie ","                         Ce que je propose à l'épicerie ","                         Ce que je propose à l'épicerie ","                         Ce que je propose à l'épicerie ","                         Ce que je propose à l'épicerie ","                         Ce que je propose à l'épicerie ","                         Ce que je propose à l'épicerie ","                         Ce que je propose à l'épicerie ","                         Ce que je propose à l'épicerie ","                         Ce que je propose à l'épicerie ","                         Ce que je propose à l'épicerie ","                         Ce que je propose à l'épicerie ","                         Ce que je propose à l'épicerie ","                         Ce que je propose à l'épicerie ","                         Ce que je propose à l'épicerie ","                         Ce que je propose à l'épicerie ","                         Ce que je propose à l'épicerie ","                         Ce que je propose à l'épicerie ","                         Ce que je propose à l'épicerie ","                         Ce que je propose à l'épicerie ","                         Ce que je propose à l'épicerie ","                         Ce que je propose à l'épicerie ","                         Ce que je propose à l'épicerie ","                         Ce que je propose à l'épicerie ","                         Ce que je propose à l'épicerie ","                         Ce que je propose à l'épicerie ","                         Ce que je propose à l'épicerie ","                         Ce que je propose à l'épicerie ","                         Ce que je propose à l'épicerie ","                         Ce que je propose à l'épicerie ","                         Ce que je propose à l'épicerie ","                         Ce que je propose à l'épicerie ","                         Ce que je propose à l'épicerie ","                         Ce que je propose à l'épicerie ","                         Ce que je propose à l'épicerie ","                         Ce que je propose à l'épicerie ","                         Ce que je propose à l'épicerie ","                         Ce que je propose à l'épicerie ","                         Ce que je propose à l'épicerie ","                         Ce que je propose à l'épicerie ","                         Ce que je propose à l'épicerie ","                         Ce que je propose à l'épicerie ","                         Ce que je propose à l'épicerie ","                         Ce que je propose à l'épicerie ","                         Ce que je propose à l'épicerie ","                         Ce que je propose à l'épicerie ","                         Ce que je propose à l'épicerie ","                         Ce que je propose à l'épicerie ","                         Ce que je propose à l'épicerie ","                         Ce que je propose à l'épicerie ","                         Ce que je propose à l'épicerie ","                         Ce que je propose à l'épicerie ","                         Ce que je propose à l'épicerie ","                         Ce que je propose à l'épicerie ","                         Ce que je propose à l'épicerie ","                         Ce que je propose à l'épicerie ","                         Ce que je propose à l'épicerie ","                         Ce que je propose à l'épicerie ","                         Ce que je propose à l'épicerie ","                         Ce que je propose à l'épicerie ","                         Ce que je propose à l'épicerie ","                         Ce que je propose à l'épicerie ","                         Ce que je propose à l'épicerie ","                         Ce que je propose à l'épicerie ","                         Ce que je propose à l'épicerie ","                         Ce que je propose à l'épicerie ","                         Ce que je propose à l'épicerie ","                         Ce que je propose à l'épicerie ","                         Ce que je propose à l'épicerie ","                         Ce que je propose à l'épicerie ","                         Ce que je propose à l'épicerie ","                         Ce que je propose à l'épicerie ","                         Ce que je propose à l'épicerie ","                         Ce que je propose à l'épicerie ","                         Ce que je propose à l'épicerie ","                         Ce que je propose à l'épicerie ","                         Ce que je propose à l'épicerie ","                         Ce que je propose à l'épicerie ","                         Ce que je propose à l'épicerie ","                         Ce que je propose à l'épicerie ","                         Ce que je propose à l'épicerie ","                         Ce que je propose à l'épicerie ","                         Ce que je propose à l'épicerie ","                         Ce que je propose à l'épicerie ","                         Ce que je propose à l'épicerie ","                         Ce que je propose à l'épicerie ","                         Ce que je propose à l'épicerie ","                         Ce que je propose à l'épicerie ","                         Ce que je propose à l'épicerie ","                         Ce que je propose à l'épicerie ","                         Ce que je propose à l'épicerie ","                         Ce que je propose à l'épicerie ","                         Ce que je propose à l'épicerie ","                         Ce que je propose à l'épicerie ","                         Ce que je propose à l'épicerie ","                         Ce que je propose à l'épicerie ","                         Ce que je propose à l'épicerie ","                         Ce que je propose à l'épicerie ","                         Ce que je propose à l'épicerie ","                         Ce que je propose à l'épicerie ","                         Ce que je propose à l'épicerie ","                         Ce que je propose à l'épicerie ","                         Ce que je propose à l'épicerie ","                         Ce que je propose à l'épicerie ","                         Ce que je propose à l'épicerie ","                         Ce que je propose à l'épicerie ","                         Ce que je propose à l'épicerie ","                         Ce que je propose à l'épicerie ","                         Ce que je propose à l'épicerie ","                         Ce que je propose à l'épicerie ","                         Ce que je propose à l'épicerie ","                         Ce que je propose à l'épicerie ","                         Ce que je propose à l'épicerie ","                         Ce que je propose à l'épicerie ","                         Ce que je propose à l'épicerie ","                         Ce que je propose à l'épicerie ","                         Ce que je propose à l'épicerie ","                         Ce que je propose à l'épicerie ","                         Ce que je propose à l'épicerie ","                         Ce que je propose à l'épicerie ","                         Ce que je propose à l'épicerie ","                         Ce que je propose à l'épicerie ","                         Ce que je propose à l'épicerie ","                         Ce que je propose à l'épicerie ","                         Ce que je propose à l'épicerie ","                         Ce que je propose à l'épicerie ","                         Ce que je propose à l'épicerie ","                         Ce que je propose à l'épicerie ","                         Ce que je propose à l'épicerie ","                         Ce que je propose à l'épicerie ","                         Ce que je propose à l'épicerie ","                         Ce que je propose à l'épicerie ","                         Ce que je propose à l'épicerie ","                         Ce que je propose à l'épicerie ","                         Ce que je propose à l'épicerie ","                         Ce que je propose à l'épicerie ","                         Ce que je propose à l'épicerie ","                         Ce que je propose à l'épicerie ","                         Ce que je propose à l'épicerie ","                         Ce que je propose à l'épicerie ","                         Ce que je propose à l'épicerie ","                         Ce que je propose à l'épicerie ","                         Ce que je propose à l'épicerie ","                         Ce que je propose à l'épicerie ","                         Ce que je propose à l'épicerie ","                         Ce que je propose à l'épicerie ","                         Ce que je propose à l'épicerie ","                         Ce que je propose à l'épicerie ","                         Ce que je propose à l'épicerie ","                         Ce que je propose à l'épicerie ","                         Ce que je propose à l'épicerie ","                         Ce que je propose à l'épicerie ","                         Ce que je propose à l'épicerie ","                         Ce que je propose à l'épicerie ","                         Ce que je propose à l'épicerie ","                         Ce que je propose à l'épicerie ","                         Ce que je propose à l'épicerie ","                         Ce que je propose à l'épicerie ","                         Ce que je propose à l'épicerie ","                         Ce que je propose à l'épicerie ","                         Ce que je propose à l'épicerie ","                         Ce que je propose à l'épicerie ","                         Ce que je propose à l'épicerie ","                         Ce que je propose à l'épicerie ","                         Ce que je propose à l'épicerie ","                         Ce que je propose à l'épicerie ","                         Ce que je propose à l'épicerie ","                         Ce que je propose à l'épicerie ","                         Ce que je propose à l'épicerie ","                         Ce que je propose à l'épicerie ","                         Ce que je propose à l'épicerie ","                         Ce que je propose à l'épicerie ","                         Ce que je propose à l'épicerie ","                         Ce que je propose à l'épicerie ","                         Ce que je propose à l'épicerie ","                         Ce que je propose à l'épicerie ","                         Ce que je propose à l'épicerie ","                         Ce que je propose à l'épicerie ","                         Ce que je propose à l'épicerie ","                         Ce que je propose à l'épicerie ","                         Ce que je propose à l'épicerie ","                         Ce que je propose à l'épicerie ","                         Ce que je propose à l'épicerie ","                         Ce que je propose à l'épicerie ","                         Ce que je propose à l'épicerie ","                         Ce que je propose à l'épicerie ","                         Ce que je propose à l'épicerie ","                         Ce que je propose à l'épicerie ","                         Ce que je propose à l'épicerie ","                         Ce que je propose à l'épicerie ","                         Ce que je propose à l'épicerie ","                         Ce que je propose à l'épicerie ","                         Ce que je propose à l'épicerie ","                         Ce que je propose à l'épicerie ","                         Ce que je propose à l'épicerie ","                         Ce que je propose à l'épicerie ","                         Ce que je propose à l'épicerie ","                         Ce que je propose à l'épicerie ","                         Ce que je propose à l'épicerie ","                         Ce que je propose à l'épicerie ","                         Ce que je propose à l'épicerie ","                         Ce que je propose à l'épicerie ","                         Ce que je propose à l'épicerie ","                         Ce que je propose à l'épicerie ","                         Ce que je propose à l'épicerie ","                         Ce que je propose à l'épicerie ","                         Ce que je propose à l'épicerie ","                         Ce que je propose à l'épicerie ","                         Ce que je propose à l'épicerie ","                         Ce que je propose à l'épicerie ","                         Ce que je propose à l'épicerie ","                         Ce que je propose à l'épicerie ","                         Ce que je propose à l'épicerie ","                         Ce que je propose à l'épicerie ","                         Ce que je propose à l'épicerie ","                         Ce que je propose à l'épicerie ","                         Ce que je propose à l'épicerie ","                         Ce que je propose à l'épicerie ","                         Ce que je propose à l'épicerie ","                         Ce que je propose à l'épicerie ","                         Ce que je propose à l'épicerie ","                         Ce que je propose à l'épicerie ","                         Ce que je propose à l'épicerie ","                         Ce que je propose à l'épicerie ","                         Ce que je propose à l'épicerie ","                         Ce que je propose à l'épicerie ","                         Ce que je propose à l'épicerie ","                         Ce que je propose à l'épicerie ","                         Ce que je propose à l'épicerie ","                         Ce que je propose à l'épicerie ","                         Ce que je propose à l'épicerie ","                         Ce que je propose à l'épicerie ","                         Ce que je propose à l'épicerie ","                         Ce que je propose à l'épicerie ","                         Ce que je propose à l'épicerie ","                         Ce que je propose à l'épicerie ","                         Ce que je propose à l'épicerie ","                         Ce que je propose à l'épicerie ","                         Ce que je propose à l'épicerie ","                         Ce que je propose à l'épicerie ","                         Ce que je propose à l'épicerie ","                         Ce que je propose à l'épicerie ","                         Ce que je propose à l'épicerie ","                         Ce que je propose à l'épicerie ","                         Ce que je propose à l'épicerie ","                         Ce que je propose à l'épicerie ","                         Ce que je propose à l'épicerie ","                         Ce que je propose à l'épicerie ","                         Ce que je propose à l'épicerie ","                         Ce que je propose à l'épicerie ","                         Ce que je propose à l'épicerie ","                         Ce que je propose à l'épicerie ","                         Ce que je propose à l'épicerie ","                         Ce que je propose à l'épicerie ","                         Ce que je propose à l'épicerie ","                         Ce que je propose à l'épicerie ","                         Ce que je propose à l'épicerie ","                         Ce que je propose à l'épicerie ","                         Ce que je propose à l'épicerie ","                         Ce que je propose à l'épicerie ","                         Ce que je propose à l'épicerie ","                         Ce que je propose à l'épicerie ","                         Ce que je propose à l'épicerie ","                         Ce que je propose à l'épicerie ","                         Ce que je propose à l'épicerie ","                         Ce que je propose à l'épicerie ","                         Ce que je propose à l'épicerie ","                         Ce que je propose à l'épicerie ","                         Ce que je propose à l'épicerie ","                         Ce que je propose à l'épicerie ","                         Ce que je propose à l'épicerie ","                         Ce que je propose à l'épicerie ","                         Ce que je propose à l'épicerie ","                         Ce que je propose à l'épicerie ","                         Ce que je propose à l'épicerie ","                         Ce que je propose à l'épicerie ","                         Ce que je propose à l'épicerie ","                         Ce que je propose à l'épicerie ","                         Ce que je propose à l'épicerie ","                         Ce que je propose à l'épicerie ","                         Ce que je propose à l'épicerie ","                         Ce que je propose à l'épicerie ","                         Ce que je propose à l'épicerie ","                         Ce que je propose à l'épicerie ","                         Ce que je propose à l'épicerie ","                         Ce que je propose à l'épicerie ","                         Ce que je propose à l'épicerie ","                         Ce que je propose à l'épicerie ","                         Ce que je propose à l'épicerie ","                         Ce que je propose à l'épicerie ","                         Ce que je propose à l'épicerie ","                         Ce que je propose à l'épicerie ","                         Ce que je propose à l'épicerie ","                         Ce que je propose à l'épicerie ","                         Ce que je propose à l'épicerie ","                         Ce que je propose à l'épicerie ","                         Ce que je propose à l'épicerie ","                         Ce que je propose à l'épicerie ","                         Ce que je propose à l'épicerie ","                         Ce que je propose à l'épicerie ","                         Ce que je propose à l'épicerie ","                         Ce que je propose à l'épicerie ","                         Ce que je propose à l'épicerie ","                         Ce que je propose à l'épicerie ","                         Ce que je propose à l'épicerie ","                         Ce que je propose à l'épicerie ","                         Ce que je propose à l'épicerie ","                         Ce que je propose à l'épicerie ","                         Ce que je propose à l'épicerie ","                         Ce que je propose à l'épicerie ","                         Ce que je propose à l'épicerie ","                         Ce que je propose à l'épicerie ","                         Ce que je propose à l'épicerie ","                         Ce que je propose à l'épicerie ","                         Ce que je propose à l'épicerie ","                         Ce que je propose à l'épicerie ","                         Ce que je propose à l'épicerie ","                         Ce que je propose à l'épicerie ","                         Ce que je propose à l'épicerie ","                         Ce que je propose à l'épicerie ","                         Ce que je propose à l'épicerie ","                         Ce que je propose à l'épicerie ","                         Ce que je propose à l'épicerie ","                         Ce que je propose à l'épicerie ","                         Ce que je propose à l'épicerie ","                         Ce que je propose à l'épicerie ","                         Ce que je propose à l'épicerie ","                         Ce que je propose à l'épicerie ","                         Ce que je propose à l'épicerie ","                         Ce que je propose à l'épicerie ","                         Ce que je propose à l'épicerie ","                         Ce que je propose à l'épicerie ","                         Ce que je propose à l'épicerie ","                         Ce que je propose à l'épicerie ","                         Ce que je propose à l'épicerie ","                         Ce que je propose à l'épicerie ","                         Ce que je propose à l'épicerie ","                         Ce que je propose à l'épicerie ","                         Ce que je propose à l'épicerie ","                         Ce que je propose à l'épicerie ","                         Ce que je propose à l'épicerie ","                         Ce que je propose à l'épicerie ","                         Ce que je propose à l'épicerie ","                         Ce que je propose à l'épicerie ","                         Ce que je propose à l'épicerie ","                         Ce que je propose à l'épicerie ","                         Ce que je propose à l'épicerie ","                         Ce que je propose à l'épicerie ","                         Ce que je propose à l'épicerie ","                         Ce que je propose à l'épicerie ","                         Ce que je propose à l'épicerie ","                         Ce que je propose à l'épicerie ","                         Ce que je propose à l'épicerie ","                         Ce que je propose à l'épicerie ","                         Ce que je propose à l'épicerie ","                         Ce que je propose à l'épicerie ","                         Ce que je propose à l'épicerie ","                         Ce que je propose à l'épicerie ","                         Ce que je propose à l'épicerie ","                         Ce que je propose à l'épicerie ","                         Ce que je propose à l'épicerie ","                         Ce que je propose à l'épicerie ","                         Ce que je propose à l'épicerie ","                         Ce que je propose à l'épicerie ","                         Ce que je propose à l'épicerie ","                         Ce que je propose à l'épicerie ","                         Ce que je propose à l'épicerie ","                         Ce que je propose à l'épicerie ","                         Ce que je propose à l'épicerie ","                         Ce que je propose à l'épicerie ","                         Ce que je propose à l'épicerie ","                         Ce que je propose à l'épicerie ","                         Ce que je propose à l'épicerie ","                         Ce que je propose à l'épicerie ","                         Ce que je propose à l'épicerie ","                         Ce que je propose à l'épicerie ","                         Ce que je propose à l'épicerie ","                         Ce que je propose à l'épicerie ","                         Ce que je propose à l'épicerie ","                         Ce que je propose à l'épicerie ","                         Ce que je propose à l'épicerie ","                         Ce que je propose à l'épicerie ","                         Ce que je propose à l'épicerie ","                         Ce que je propose à l'épicerie ","                         Ce que je propose à l'épicerie ","                         Ce que je propose à l'épicerie ","                         Ce que je propose à l'épicerie ","                         Ce que je propose à l'épicerie ","                         Ce que je propose à l'épicerie ","                         Ce que je propose à l'épicerie ","                         Ce que je propose à l'épicerie ","                         Ce que je propose à l'épicerie ","                         Ce que je propose à l'épicerie ","                         Ce que je propose à l'épicerie ","                         Ce que je propose à l'épicerie ","                         Ce que je propose à l'épicerie ","                         Ce que je propose à l'épicerie ","                         Ce que je propose à l'épicerie ","                         Ce que je propose à l'épicerie ","                         Ce que je propose à l'épicerie ","                         Ce que je propose à l'épicerie ","                         Ce que je propose à l'épicerie ","                         Ce que je propose à l'épicerie ","                         Ce que je propose à l'épicerie ","                         Ce que je propose à l'épicerie ","                         Ce que je propose à l'épicerie ","                         Ce que je propose à l'épicerie ","                         Ce que je propose à l'épicerie ","                         Ce que je propose à l'épicerie ","                         Ce que je propose à l'épicerie ","                         Ce que je propose à l'épicerie ","                         Ce que je propose à l'épicerie ","                         Ce que je propose à l'épicerie ","                         Ce que je propose à l'épicerie ","                         Ce que je propose à l'épicerie ","                         Ce que je propose à l'épicerie ","                         Ce que je propose à l'épicerie ","                         Ce que je propose à l'épicerie ","                         Ce que je propose à l'épicerie ","                         Ce que je propose à l'épicerie ","                         Ce que je propose à l'épicerie ","                         Ce que je propose à l'épicerie ","                         Ce que je propose à l'épicerie ","                         Ce que je propose à l'épicerie ","                         Ce que je propose à l'épicerie ","                         Ce que je propose à l'épicerie ","                         Ce que je propose à l'épicerie ","                         Ce que je propose à l'épicerie ","                         Ce que je propose à l'épicerie ","                         Ce que je propose à l'épicerie ","                         Ce que je propose à l'épicerie ","                         Ce que je propose à l'épicerie ","                         Ce que je propose à l'épicerie ","                         Ce que je propose à l'épicerie ","                         Ce que je propose à l'épicerie ","                         Ce que je propose à l'épicerie ","                         Ce que je propose à l'épicerie ","                         Ce que je propose à l'épicerie ","                         Ce que je propose à l'épicerie ","                         Ce que je propose à l'épicerie ","                         Ce que je propose à l'épicerie ","                         Ce que je propose à l'épicerie ","                         Ce que je propose à l'épicerie ","                         Ce que je propose à l'épicerie ","                         Ce que je propose à l'épicerie ","                         Ce que je propose à l'épicerie ","                         Ce que je propose à l'épicerie ","                         Ce que je propose à l'épicerie ","                         Ce que je propose à l'épicerie ","                         Ce que je propose à l'épicerie ","                         Ce que je propose à l'épicerie ","                         Ce que je propose à l'épicerie ","                         Ce que je propose à l'épicerie ","                         Ce que je propose à l'épicerie ","                         Ce que je propose à l'épicerie ","                         Ce que je propose à l'épicerie ","                         Ce que je propose à l'épicerie ","                         Ce que je propose à l'épicerie ","                         Ce que je propose à l'épicerie ","                         Ce que je propose à l'épicerie ","                         Ce que je propose à l'épicerie ","                         Ce que je propose à l'épicerie ","                         Ce que je propose à l'épicerie ","                         Ce que je propose à l'épicerie ","                         Ce que je propose à l'épicerie ","                         Ce que je propose à l'épicerie ","                         Ce que je propose à l'épicerie ","                         Ce que je propose à l'épicerie ","                         Ce que je propose à l'épicerie ","                         Ce que je propose à l'épicerie ","                         Ce que je propose à l'épicerie ","                         Ce que je propose à l'épicerie ","                         Ce que je propose à l'épicerie ","                         Ce que je propose à l'épicerie ","                         Ce que je propose à l'épicerie ","                         Ce que je propose à l'épicerie ","                         Ce que je propose à l'épicerie ","                         Ce que je propose à l'épicerie ","                         Ce que je propose à l'épicerie ","                         Ce que je propose à l'épicerie ","                         Ce que je propose à l'épicerie ","                         Ce que je propose à l'épicerie ","                         Ce que je propose à l'épicerie ","                         Ce que je propose à l'épicerie ","                         Ce que je propose à l'épicerie ","                         Ce que je propose à l'épicerie ","                         Ce que je propose à l'épicerie ","                         Ce que je propose à l'épicerie ","                         Ce que je propose à l'épicerie ","                         Ce que je propose à l'épicerie ","                         Ce que je propose à l'épicerie ","                         Ce que je propose à l'épicerie ","                         Ce que je propose à l'épicerie ","                         Ce que je propose à l'épicerie ","                         Ce que je propose à l'épicerie ","                         Ce que je propose à l'épicerie ","                         Ce que je propose à l'épicerie ","                         Ce que je propose à l'épicerie ","                         Ce que je propose à l'épicerie ","                         Ce que je propose à l'épicerie ","                         Ce que je propose à l'épicerie ","                         Ce que je propose à l'épicerie ","                         Ce que je propose à l'épicerie ","                         Ce que je propose à l'épicerie ","                         Ce que je propose à l'épicerie ","                         Ce que je propose à l'épicerie ","                         Ce que je propose à l'épicerie ","                         Ce que je propose à l'épicerie ","                         Ce que je propose à l'épicerie ","                         Ce que je propose à l'épicerie ","                         Ce que je propose à l'épicerie ","                         Ce que je propose à l'épicerie ","                         Ce que je propose à l'épicerie ","                         Ce que je propose à l'épicerie ","                         Ce que je propose à l'épicerie ","                         Ce que je propose à l'épicerie ","                         Ce que je propose à l'épicerie ","                         Ce que je propose à l'épicerie ","                         Ce que je propose à l'épicerie ","                         Ce que je propose à l'épicerie ","                         Ce que je propose à l'épicerie ","                         Ce que je propose à l'épicerie ","                         Ce que je propose à l'épicerie ","                         Ce que je propose à l'épicerie ","                         Ce que je propose à l'épicerie ","                         Ce que je propose à l'épicerie ","                         Ce que je propose à l'épicerie ","                         Ce que je propose à l'épicerie ","                         Ce que je propose à l'épicerie ","                         Ce que je propose à l'épicerie ","                         Ce que je propose à l'épicerie ","                         Ce que je propose à l'épicerie ","                         Ce que je propose à l'épicerie ","                         Ce que je propose à l'épicerie ","                         Ce que je propose à l'épicerie ","                         Ce que je propose à l'épicerie ","                         Ce que je propose à l'épicerie ","                         Ce que je propose à l'épicerie ","                         Ce que je propose à l'épicerie ","                         Ce que je propose à l'épicerie ","                         Ce que je propose à l'épicerie ","                         Ce que je propose à l'épicerie ","                         Ce que je propose à l'épicerie ","                         Ce que je propose à l'épicerie ","                         Ce que je propose à l'épicerie ","                         Ce que je propose à l'épicerie ","                         Ce que je propose à l'épicerie ","                         Ce que je propose à l'épicerie ","                         Ce que je propose à l'épicerie ","                         Ce que je propose à l'épicerie ","                         Ce que je propose à l'épicerie ","                         Ce que je propose à l'épicerie ","                         Ce que je propose à l'épicerie ","                         Ce que je propose à l'épicerie ","                         Ce que je propose à l'épicerie ","                         Ce que je propose à l'épicerie ","                         Ce que je propose à l'épicerie ","                         Ce que je propose à l'épicerie ","                         Ce que je propose à l'épicerie ","                         Ce que je propose à l'épicerie ","                         Ce que je propose à l'épicerie ","                         Ce que je propose à l'épicerie ","                         Ce que je propose à l'épicerie ","                         Ce que je propose à l'épicerie ","                         Ce que je propose à l'épicerie ","                         Ce que je propose à l'épicerie ","                         Ce que je propose à l'épicerie ","                         Ce que je propose à l'épicerie ","                         Ce que je propose à l'épicerie ","                         Ce que je propose à l'épicerie ","                         Ce que je propose à l'épicerie ","                         Ce que je propose à l'épicerie ","                         Ce que je propose à l'épicerie ","                         Ce que je propose à l'épicerie ","                         Ce que je propose à l'épicerie ","                         Ce que je propose à l'épicerie ","                         Ce que je propose à l'épicerie ","                         Ce que je propose à l'épicerie ","                         Ce que je propose à l'épicerie ","                         Ce que je propose à l'épicerie ","                         Ce que je propose à l'épicerie ","                         Ce que je propose à l'épicerie ","                         Ce que je propose à l'épicerie ","                         Ce que je propose à l'épicerie ","                         Ce que je propose à l'épicerie ","                         Ce que je propose à l'épicerie ","                         Ce que je propose à l'épicerie ","                         Ce que je propose à l'épicerie ","                         Ce que je propose à l'épicerie ","                         Ce que je propose à l'épicerie ","                         Ce que je propose à l'épicerie ","                         Ce que je propose à l'épicerie ","                         Ce que je propose à l'épicerie ","                         Ce que je propose à l'épicerie ","                         Ce que je propose à l'épicerie ","                         Ce que je propose à l'épicerie ","                         Ce que je propose à l'épicerie ","                         Ce que je propose à l'épicerie ","                         Ce que je propose à l'épicerie ","                         Ce que je propose à l'épicerie ","                         Ce que je propose à l'épicerie ","                         Ce que je propose à l'épicerie ","                         Ce que je propose à l'épicerie ","                         Ce que je propose à l'épicerie ","                         Ce que je propose à l'épicerie ","                         Ce que je propose à l'épicerie ","                         Ce que je propose à l'épicerie ","                         Ce que je propose à l'épicerie ","                         Ce que je propose à l'épicerie ","                         Ce que je propose à l'épicerie ","                         Ce que je propose à l'épicerie ","                         Ce que je propose à l'épicerie ","                         Ce que je propose à l'épicerie ","                         Ce que je propose à l'épicerie ","                         Ce que je propose à l'épicerie ","                         Ce que je propose à l'épicerie ","                         Ce que je propose à l'épicerie ","                         Ce que je propose à l'épicerie ","                         Ce que je propose à l'épicerie ","                         Ce que je propose à l'épicerie ","                         Ce que je propose à l'épicerie ","                         Ce que je propose à l'épicerie ","                         Ce que je propose à l'épicerie ","                         Ce que je propose à l'épicerie ","                         Ce que je propose à l'épicerie ","                         Ce que je propose à l'épicerie ","                         Ce que je propose à l'épicerie ","                         Ce que je propose à l'épicerie ","                         Ce que je propose à l'épicerie ","                         Ce que je propose à l'épicerie ","                         Ce que je propose à l'épicerie ","                         Ce que je propose à l'épicerie ","                         Ce que je propose à l'épicerie ","                         Ce que je propose à l'épicerie ","                         Ce que je propose à l'épicerie ","                         Ce que je propose à l'épicerie ","                         Ce que je propose à l'épicerie ","                         Ce que je propose à l'épicerie ","                         Ce que je propose à l'épicerie ","                         Ce que je propose à l'épicerie ","                         Ce que je propose à l'épicerie ","                         Ce que je propose à l'épicerie ","                         Ce que je propose à l'épicerie ","                         Ce que je propose à l'épicerie ","                         Ce que je propose à l'épicerie ","                         Ce que je propose à l'épicerie ","                         Ce que je propose à l'épicerie ","                         Ce que je propose à l'épicerie ","                         Ce que je propose à l'épicerie ","                         Ce que je propose à l'épicerie ","                         Ce que je propose à l'épicerie ","                         Ce que je propose à l'épicerie ","                         Ce que je propose à l'épicerie ","                         Ce que je propose à l'épicerie ","                         Ce que je propose à l'épicerie ","                         Ce que je propose à l'épicerie ","                         Ce que je propose à l'épicerie ","                         Ce que je propose à l'épicerie ","                         Ce que je propose à l'épicerie ","                         Ce que je propose à l'épicerie ","                         Ce que je propose à l'épicerie ","                         Ce que je propose à l'épicerie ","                         Ce que je propose à l'épicerie ","                         Ce que je propose à l'épicerie ","                         Ce que je propose à l'épicerie ","                         Ce que je propose à l'épicerie ","                         Ce que je propose à l'épicerie ","                         Ce que je propose à l'épicerie ","                         Ce que je propose à l'épicerie ","                         Ce que je propose à l'épicerie ","                         Ce que je propose à l'épicerie ","                         Ce que je propose à l'épicerie ","                         Ce que je propose à l'épicerie ","                         Ce que je propose à l'épicerie ","                         Ce que je propose à l'épicerie ","                         Ce que je propose à l'épicerie ","                         Ce que je propose à l'épicerie ","                         Ce que je propose à l'épicerie ","                         Ce que je propose à l'épicerie ","                         Ce que je propose à l'épicerie ","                         Ce que je propose à l'épicerie ","                         Ce que je propose à l'épicerie ","                         Ce que je propose à l'épicerie ","                         Ce que je propose à l'épicerie ","                         Ce que je propose à l'épicerie ","                         Ce que je propose à l'épicerie ","                         Ce que je propose à l'épicerie ","                         Ce que je propose à l'épicerie ","                         Ce que je propose à l'épicerie ","                         Ce que je propose à l'épicerie ","                         Ce que je propose à l'épicerie ","                         Ce que je propose à l'épicerie ","                         Ce que je propose à l'épicerie ","                         Ce que je propose à l'épicerie ","                         Ce que je propose à l'épicerie ","                         Ce que je propose à l'épicerie ","                         Ce que je propose à l'épicerie ","                         Ce que je propose à l'épicerie ","                         Ce que je propose à l'épicerie ","                         Ce que je propose à l'épicerie ","                         Ce que je propose à l'épicerie ","                         Ce que je propose à l'épicerie ","                         Ce que je propose à l'épicerie ","                         Ce que je propose à l'épicerie ","                         Ce que je propose à l'épicerie ","                         Ce que je propose à l'épicerie ","                         Ce que je propose à l'épicerie ","                         Ce que je propose à l'épicerie ","                         Ce que je propose à l'épicerie ","                         Ce que je propose à l'épicerie ","                         Ce que je propose à l'épicerie ","                         Ce que je propose à l'épicerie ","                         Ce que je propose à l'épicerie ","                         Ce que je propose à l'épicerie ","                         Ce que je propose à l'épicerie ","                         Ce que je propose à l'épicerie ","                         Ce que je propose à l'épicerie ","                         Ce que je propose à l'épicerie ","                         Ce que je propose à l'épicerie ","                         Ce que je propose à l'épicerie ","                         Ce que je propose à l'épicerie ","                         Ce que je propose à l'épicerie ","                         Ce que je propose à l'épicerie ","                         Ce que je propose à l'épicerie ","                         Ce que je propose à l'épicerie ","                         Ce que je propose à l'épicerie ","                         Ce que je propose à l'épicerie ","                         Ce que je propose à l'épicerie ","                         Ce que je propose à l'épicerie ","                         Ce que je propose à l'épicerie ","                         Ce que je propose à l'épicerie ","                         Ce que je propose à l'épicerie ","                         Ce que je propose à l'épicerie ","                         Ce que je propose à l'épicerie ","                         Ce que je propose à l'épicerie ","                         Ce que je propose à l'épicerie ","                         Ce que je propose à l'épicerie ","                         Ce que je propose à l'épicerie ","                         Ce que je propose à l'épicerie ","                         Ce que je propose à l'épicerie ","                         Ce que je propose à l'épicerie ","                         Ce que je propose à l'épicerie ","                         Ce que je propose à l'épicerie ","                         Ce que je propose à l'épicerie ","                         Ce que je propose à l'épicerie ","                         Ce que je propose à l'épicerie ","                         Ce que je propose à l'épicerie ","                         Ce que je propose à l'épicerie ","                         Ce que je propose à l'épicerie ","                         Ce que je propose à l'épicerie ","                         Ce que je propose à l'épicerie ","                         Ce que je propose à l'épicerie ","                         Ce que je propose à l'épicerie ","                         Ce que je propose à l'épicerie ","                         Ce que je propose à l'épicerie ","                         Ce que je propose à l'épicerie ","                         Ce que je propose à l'épicerie ","                         Ce que je propose à l'épicerie ","                         Ce que je propose à l'épicerie ","                         Ce que je propose à l'épicerie ","                         Ce que je propose à l'épicerie ","                         Ce que je propose à l'épicerie ","                         Ce que je propose à l'épicerie ","                         Ce que je propose à l'épicerie ","                         Ce que je propose à l'épicerie ","                         Ce que je propose à l'épicerie ","                         Ce que je propose à l'épicerie ","                         Ce que je propose à l'épicerie ","                         Ce que je propose à l'épicerie ","                         Ce que je propose à l'épicerie ","                         Ce que je propose à l'épicerie ","                         Ce que je propose à l'épicerie ","                         Ce que je propose à l'épicerie ","                         Ce que je propose à l'épicerie ","                         Ce que je propose à l'épicerie ","                         Ce que je propose à l'épicerie ","                         Ce que je propose à l'épicerie ","                         Ce que je propose à l'épicerie ","                         Ce que je propose à l'épicerie ","                         Ce que je propose à l'épicerie ","                         Ce que je propose à l'épicerie ","                         Ce que je propose à l'épicerie ","                         Ce que je propose à l'épicerie ","                         Ce que je propose à l'épicerie ","                         Ce que je propose à l'épicerie ","                         Ce que je propose à l'épicerie ","                         Ce que je propose à l'épicerie ","                         Ce que je propose à l'épicerie ","                         Ce que je propose à l'épicerie ","                         Ce que je propose à l'épicerie ","                         Ce que je propose à l'épicerie ","                         Ce que je propose à l'épicerie ","                         Ce que je propose à l'épicerie ","                         Ce que je propose à l'épicerie ","                         Ce que je propose à l'épicerie ","                         Ce que je propose à l'épicerie ","                         Ce que je propose à l'épicerie ","                         Ce que je propose à l'épicerie ","                         Ce que je propose à l'épicerie ","                         Ce que je propose à l'épicerie ","                         Ce que je propose à l'épicerie ","                         Ce que je propose à l'épicerie ","                         Ce que je propose à l'épicerie ","                         Ce que je propose à l'épicerie ","                         Ce que je propose à l'épicerie ","                         Ce que je propose à l'épicerie ","                         Ce que je propose à l'épicerie ","                         Ce que je propose à l'épicerie ","                         Ce que je propose à l'épicerie ","                         Ce que je propose à l'épicerie ","                         Ce que je propose à l'épicerie ","                         Ce que je propose à l'épicerie ","                         Ce que je propose à l'épicerie ","                         Ce que je propose à l'épicerie ","                         Ce que je propose à l'épicerie ","                         Ce que je propose à l'épicerie ","                         Ce que je propose à l'épicerie ","                         Ce que je propose à l'épicerie ","                         Ce que je propose à l'épicerie ","                         Ce que je propose à l'épicerie ","                         Ce que je propose à l'épicerie ","                         Ce que je propose à l'épicerie ","                         Ce que je propose à l'épicerie ","                         Ce que je propose à l'épicerie ","                         Ce que je propose à l'épicerie ","                         Ce que je propose à l'épicerie ","                         Ce que je propose à l'épicerie ","                         Ce que je propose à l'épicerie ","                         Ce que je propose à l'épicerie ","                         Ce que je propose à l'épicerie ","                         Ce que je propose à l'épicerie ","                         Ce que je propose à l'épicerie ","                         Ce que je propose à l'épicerie ","                         Ce que je propose à l'épicerie ","                         Ce que je propose à l'épicerie ","                         Ce que je propose à l'épicerie ","                         Ce que je propose à l'épicerie ","                         Ce que je propose à l'épicerie ","                         Ce que je propose à l'épicerie ","                         Ce que je propose à l'épicerie ","                         Ce que je propose à l'épicerie ","                         Ce que je propose à l'épicerie ","                         Ce que je propose à l'épicerie ","                         Ce que je propose à l'épicerie ","                         Ce que je propose à l'épicerie ","                         Ce que je propose à l'épicerie ","                         Ce que je propose à l'épicerie ","                         Ce que je propose à l'épicerie ","                         Ce que je propose à l'épicerie ","                         Ce que je propose à l'épicerie ","                         Ce que je propose à l'épicerie ","                         Ce que je propose à l'épicerie ","                         Ce que je propose à l'épicerie ","                         Ce que je propose à l'épicerie ","                         Ce que je propose à l'épicerie ","                         Ce que je propose à l'épicerie ","                         Ce que je propose à l'épicerie ","                         Ce que je propose à l'épicerie ","                         Ce que je propose à l'épicerie ","                         Ce que je propose à l'épicerie ","                         Ce que je propose à l'épicerie ","                         Ce que je propose à l'épicerie ","                         Ce que je propose à l'épicerie ","                         Ce que je propose à l'épicerie ","                         Ce que je propose à l'épicerie ","                         Ce que je propose à l'épicerie ","                         Ce que je propose à l'épicerie ","                         Ce que je propose à l'épicerie ","                         Ce que je propose à l'épicerie ","                         Ce que je propose à l'épicerie ","                         Ce que je propose à l'épicerie ","                         Ce que je propose à l'épicerie ","                         Ce que je propose à l'épicerie ","                         Ce que je propose à l'épicerie ","                         Ce que je propose à l'épicerie ","                         Ce que je propose à l'épicerie ","                         Ce que je propose à l'épicerie ","                         Ce que je propose à l'épicerie ","                         Ce que je propose à l'épicerie ","                         Ce que je propose à l'épicerie ","                         Ce que je propose à l'épicerie ","                         Ce que je propose à l'épicerie ","                         Ce que je propose à l'épicerie ","                         Ce que je propose à l'épicerie ","                         Ce que je propose à l'épicerie ","                         Ce que je propose à l'épicerie ","                         Ce que je propose à l'épicerie ","                         Ce que je propose à l'épicerie ","                         Ce que je propose à l'épicerie ","                         Ce que je propose à l'épicerie ","                         Ce que je propose à l'épicerie ","                         Ce que je propose à l'épicerie ","                         Ce que je propose à l'épicerie ","                         Ce que je propose à l'épicerie ","                         Ce que je propose à l'épicerie ","                         Ce que je propose à l'épicerie ","                         Ce que je propose à l'épicerie ","                         Ce que je propose à l'épicerie ","                         Ce que je propose à l'épicerie ","                         Ce que je propose à l'épicerie ","                         Ce que je propose à l'épicerie ","                         Ce que je propose à l'épicerie ","                         Ce que je propose à l'épicerie ","                         Ce que je propose à l'épicerie ","                         Ce que je propose à l'épicerie ","                         Ce que je propose à l'épicerie ","                         Ce que je propose à l'épicerie ","                         Ce que je propose à l'épicerie ","                         Ce que je propose à l'épicerie ","                         Ce que je propose à l'épicerie ","                         Ce que je propose à l'épicerie ","                         Ce que je propose à l'épicerie ","                         Ce que je propose à l'épicerie ","                         Ce que je propose à l'épicerie ","                         Ce que je propose à l'épicerie ","                         Ce que je propose à l'épicerie ","                         Ce que je propose à l'épicerie ","                         Ce que je propose à l'épicerie ","                         Ce que je propose à l'épicerie ","                         Ce que je propose à l'épicerie ","                         Ce que je propose à l'épicerie ","                         Ce que je propose à l'épicerie ","                         Ce que je propose à l'épicerie ","                         Ce que je propose à l'épicerie ","                         Ce que je propose à l'épicerie ","                         Ce que je propose à l'épicerie ","                         Ce que je propose à l'épicerie ","                         Ce que je propose à l'épicerie ","                         Ce que je propose à l'épicerie ","                         Ce que je propose à l'épicerie ","                         Ce que je propose à l'épicerie ","                         Ce que je propose à l'épicerie ","                         Ce que je propose à l'épicerie ","                         Ce que je propose à l'épicerie ","                         Ce que je propose à l'épicerie ","                         Ce que je propose à l'épicerie ","                         Ce que je propose à l'épicerie ","                         Ce que je propose à l'épicerie ","                         Ce que je propose à l'épicerie ","                         Ce que je propose à l'épicerie ","                         Ce que je propose à l'épicerie ","                         Ce que je propose à l'épicerie ","                         Ce que je propose à l'épicerie ","                         Ce que je propose à l'épicerie ","                         Ce que je propose à l'épicerie ","                         Ce que je propose à l'épicerie ","                         Ce que je propose à l'épicerie ","                         Ce que je propose à l'épicerie ","                         Ce que je propose à l'épicerie ","                         Ce que je propose à l'épicerie ","                         Ce que je propose à l'épicerie ","                         Ce que je propose à l'épicerie ","                         Ce que je propose à l'épicerie ","                         Ce que je propose à l'épicerie ","                         Ce que je propose à l'épicerie ","                         Ce que je propose à l'épicerie ","                         Ce que je propose à l'épicerie ","                         Ce que je propose à l'épicerie ","                         Ce que je propose à l'épicerie ","                         Ce que je propose à l'épicerie ","                         Ce que je propose à l'épicerie ","                         Ce que je propose à l'épicerie ","                         Ce que je propose à l'épicerie ","                         Ce que je propose à l'épicerie ","                         Ce que je propose à l'épicerie ","                         Ce que je propose à l'épicerie ","                         Ce que je propose à l'épicerie ","                         Ce que je propose à l'épicerie ","                         Ce que je propose à l'épicerie ","                         Ce que je propose à l'épicerie ","                         Ce que je propose à l'épicerie ","                         Ce que je propose à l'épicerie ","                         Ce que je propose à l'épicerie ","                         Ce que je propose à l'épicerie ","                         Ce que je propose à l'épicerie ","                         Ce que je propose à l'épicerie ","                         Ce que je propose à l'épicerie ","                         Ce que je propose à l'épicerie ","                         Ce que je propose à l'épicerie ","                         Ce que je propose à l'épicerie ","                         Ce que je propose à l'épicerie ","                         Ce que je propose à l'épicerie ","                         Ce que je propose à l'épicerie ","                         Ce que je propose à l'épicerie ","                         Ce que je propose à l'épicerie ","                         Ce que je propose à l'épicerie ","                         Ce que je propose à l'épicerie ","                         Ce que je propose à l'épicerie ","                         Ce que je propose à l'épicerie ","                         Ce que je propose à l'épicerie ","                         Ce que je propose à l'épicerie ","                         Ce que je propose à l'épicerie ","                         Ce que je propose à l'épicerie ","                         Ce que je propose à l'épicerie ","                         Ce que je propose à l'épicerie ","                         Ce que je propose à l'épicerie ","                         Ce que je propose à l'épicerie ","                         Ce que je propose à l'épicerie ","                         Ce que je propose à l'épicerie ","                         Ce que je propose à l'épicerie ","                         Ce que je propose à l'épicerie ","                         Ce que je propose à l'épicerie ","                         Ce que je propose à l'épicerie ","                         Ce que je propose à l'épicerie ","                         Ce que je propose à l'épicerie ","                         Ce que je propose à l'épicerie ","                         Ce que je propose à l'épicerie ","                         Ce que je propose à l'épicerie ","                         Ce que je propose à l'épicerie ","                         Ce que je propose à l'épicerie ","                         Ce que je propose à l'épicerie ","                         Ce que je propose à l'épicerie ","                         Ce que je propose à l'épicerie ","                         Ce que je propose à l'épicerie ","                         Ce que je propose à l'épicerie ","                         Ce que je propose à l'épicerie ","                         Ce que je propose à l'épicerie ","                         Ce que je propose à l'épicerie ","                         Ce que je propose à l'épicerie ","                         Ce que je propose à l'épicerie ","                         Ce que je propose à l'épicerie ","                         Ce que je propose à l'épicerie ","                         Ce que je propose à l'épicerie ","                         Ce que je propose à l'épicerie ","                         Ce que je propose à l'épicerie ","                         Ce que je propose à l'épicerie ","                         Ce que je propose à l'épicerie ","                         Ce que je propose à l'épicerie ","                         Ce que je propose à l'épicerie ","                         Ce que je propose à l'épicerie ","                         Ce que je propose à l'épicerie ","                         Ce que je propose à l'épicerie ","                         Ce que je propose à l'épicerie ","                         Ce que je propose à l'épicerie ","                         Ce que je propose à l'épicerie ","                         Ce que je propose à l'épicerie ","                         Ce que je propose à l'épicerie ","                         Ce que je propose à l'épicerie ","                         Ce que je propose à l'épicerie ","                         Ce que je propose à l'épicerie ","                         Ce que je propose à l'épicerie ","                         Ce que je propose à l'épicerie ","                         Ce que je propose à l'épicerie ","                         Ce que je propose à l'épicerie ","                         Ce que je propose à l'épicerie ","                         Ce que je propose à l'épicerie ","                         Ce que je propose à l'épicerie ","                         Ce que je propose à l'épicerie ","                         Ce que je propose à l'épicerie ","                         Ce que je propose à l'épicerie ","                         Ce que je propose à l'épicerie ","                         Ce que je propose à l'épicerie ","                         Ce que je propose à l'épicerie ","                         Ce que je propose à l'épicerie ","                         Ce que je propose à l'épicerie ","                         Ce que je propose à l'épicerie ","                         Ce que je propose à l'épicerie ","                         Ce que je propose à l'épicerie ","                         Ce que je propose à l'épicerie ","                         Ce que je propose à l'épicerie ","                         Ce que je propose à l'épicerie ","                         Ce que je propose à l'épicerie ","                         Ce que je propose à l'épicerie ","                         Ce que je propose à l'épicerie ","                         Ce que je propose à l'épicerie ","                         Ce que je propose à l'épicerie ","                         Ce que je propose à l'épicerie ","                         Ce que je propose à l'épicerie ","                         Ce que je propose à l'épicerie ","                         Ce que je propose à l'épicerie ","                         Ce que je propose à l'épicerie ","                         Ce que je propose à l'épicerie ","                         Ce que je propose à l'épicerie ","                         Ce que je propose à l'épicerie ","                         Ce que je propose à l'épicerie ","                         Ce que je propose à l'épicerie ","                         Ce que je propose à l'épicerie ","                         Ce que je propose à l'épicerie ","                         Ce que je propose à l'épicerie ","                         Ce que je propose à l'épicerie ","                         Ce que je propose à l'épicerie ","                         Ce que je propose à l'épicerie ","                         Ce que je propose à l'épicerie ","                         Ce que je propose à l'épicerie ","                         Ce que je propose à l'épicerie ","                         Ce que je propose à l'épicerie ","                         Ce que je propose à l'épicerie ","                         Ce que je propose à l'épicerie ","                         Ce que je propose à l'épicerie ","                         Ce que je propose à l'épicerie ","                         Ce que je propose à l'épicerie ","                         Ce que je propose à l'épicerie ","                         Ce que je propose à l'épicerie ","                         Ce que je propose à l'épicerie ","                         Ce que je propose à l'épicerie ","                         Ce que je propose à l'épicerie ","                         Ce que je propose à l'épicerie ","                         Ce que je propose à l'épicerie ","                         Ce que je propose à l'épicerie ","                         Ce que je propose à l'épicerie ","                         Ce que je propose à l'épicerie ","                         Ce que je propose à l'épicerie ","                         Ce que je propose à l'épicerie ","                         Ce que je propose à l'épicerie ","                         Ce que je propose à l'épicerie ","                         Ce que je propose à l'épicerie ","                         Ce que je propose à l'épicerie ","                         Ce que je propose à l'épicerie ","                         Ce que je propose à l'épicerie ","                         Ce que je propose à l'épicerie ","                         Ce que je propose à l'épicerie ","                         Ce que je propose à l'épicerie ","                         Ce que je propose à l'épicerie ","                         Ce que je propose à l'épicerie ","                         Ce que je propose à l'épicerie ","                         Ce que je propose à l'épicerie ","                         Ce que je propose à l'épicerie ","                         Ce que je propose à l'épicerie ","                         Ce que je propose à l'épicerie ","                         Ce que je propose à l'épicerie ","                         Ce que je propose à l'épicerie ","                         Ce que je propose à l'épicerie ","                         Ce que je propose à l'épicerie ","                         Ce que je propose à l'épicerie ","                         Ce que je propose à l'épicerie ","                         Ce que je propose à l'épicerie ","                         Ce que je propose à l'épicerie ","                         Ce que je propose à l'épicerie ","                         Ce que je propose à l'épicerie ","                         Ce que je propose à l'épicerie ","                         Ce que je propose à l'épicerie ","                         Ce que je propose à l'épicerie ","                         Ce que je propose à l'épicerie ","                         Ce que je propose à l'épicerie ","                         Ce que je propose à l'épicerie ","                         Ce que je propose à l'épicerie ","                         Ce que je propose à l'épicerie ","                         Ce que je propose à l'épicerie ","                         Ce que je propose à l'épicerie ","                         Ce que je propose à l'épicerie ","                         Ce que je propose à l'épicerie ","                         Ce que je propose à l'épicerie ","                         Ce que je propose à l'épicerie ","                         Ce que je propose à l'épicerie ","                         Ce que je propose à l'épicerie ","                         Ce que je propose à l'épicerie ","                         Ce que je propose à l'épicerie ","                         Ce que je propose à l'épicerie ","                         Ce que je propose à l'épicerie ","                         Ce que je propose à l'épicerie ","                         Ce que je propose à l'épicerie ","                         Ce que je propose à l'épicerie ","                         Ce que je propose à l'épicerie ","                         Ce que je propose à l'épicerie ","                         Ce que je propose à l'épicerie ","                         Ce que je propose à l'épicerie ","                         Ce que je propose à l'épicerie ","                         Ce que je propose à l'épicerie ","                         Ce que je propose à l'épicerie ","                         Ce que je propose à l'épicerie ","                         Ce que je propose à l'épicerie ","                         Ce que je propose à l'épicerie ","                         Ce que je propose à l'épicerie ","                         Ce que je propose à l'épicerie ","                         Ce que je propose à l'épicerie ","                         Ce que je propose à l'épicerie ","                         Ce que je propose à l'épicerie ","                         Ce que je propose à l'épicerie ","                         Ce que je propose à l'épicerie ","                         Ce que je propose à l'épicerie ","                         Ce que je propose à l'épicerie ","                         Ce que je propose à l'épicerie ","                         Ce que je propose à l'épicerie ","                         Ce que je propose à l'épicerie ","                         Ce que je propose à l'épicerie ","                         Ce que je propose à l'épicerie ","                         Ce que je propose à l'épicerie ","                         Ce que je propose à l'épicerie ","                         Ce que je propose à l'épicerie ","                         Ce que je propose à l'épicerie ","                         Ce que je propose à l'épicerie ","                         Ce que je propose à l'épicerie ","                         Ce que je propose à l'épicerie ","                         Ce que je propose à l'épicerie ","                         Ce que je propose à l'épicerie ","                         Ce que je propose à l'épicerie ","                         Ce que je propose à l'épicerie ","                         Ce que je propose à l'épicerie ","                         Ce que je propose à l'épicerie ","                         Ce que je propose à l'épicerie ","                         Ce que je propose à l'épicerie ","                         Ce que je propose à l'épicerie ","                         Ce que je propose à l'épicerie ","                         Ce que je propose à l'épicerie ","                         Ce que je propose à l'épicerie ","                         Ce que je propose à l'épicerie ","                         Ce que je propose à l'épicerie ","                         Ce que je propose à l'épicerie ","                         Ce que je propose à l'épicerie ","                         Ce que je propose à l'épicerie ","                         Ce que je propose à l'épicerie ","                         Ce que je propose à l'épicerie ","                         Ce que je propose à l'épicerie ","                         Ce que je propose à l'épicerie ","                         Ce que je propose à l'épicerie ","                         Ce que je propose à l'épicerie ","                         Ce que je propose à l'épicerie ","                         Ce que je propose à l'épicerie ","                         Ce que je propose à l'épicerie ","                         Ce que je propose à l'épicerie ","                         Ce que je propose à l'épicerie ","                         Ce que je propose à l'épicerie ","                         Ce que je propose à l'épicerie ","                         Ce que je propose à l'épicerie ","                         Ce que je propose à l'épicerie ","                         Ce que je propose à l'épicerie ","                         Ce que je propose à l'épicerie ","                         Ce que je propose à l'épicerie ","                         Ce que je propose à l'épicerie ","                         Ce que je propose à l'épicerie ","                         Ce que je propose à l'épicerie ","                         Ce que je propose à l'épicerie ","                         Ce que je propose à l'épicerie ","                         Ce que je propose à l'épicerie ","                         Ce que je propose à l'épicerie ","                         Ce que je propose à l'épicerie ","                         Ce que je propose à l'épicerie ","                         Ce que je propose à l'épicerie ","                         Ce que je propose à l'épicerie ","                         Ce que je propose à l'épicerie ","                         Ce que je propose à l'épicerie ","                         Ce que je propose à l'épicerie ","                         Ce que je propose à l'épicerie ","                         Ce que je propose à l'épicerie ","                         Ce que je propose à l'épicerie ","                         Ce que je propose à l'épicerie ","                         Ce que je propose à l'épicerie ","                         Ce que je propose à l'épicerie ","                         Ce que je propose à l'épicerie ","                         Ce que je propose à l'épicerie ","                         Ce que je propose à l'épicerie ","                         Ce que je propose à l'épicerie ","                         Ce que je propose à l'épicerie ","                         Ce que je propose à l'épicerie ","                         Ce que je propose à l'épicerie ","                         Ce que je propose à l'épicerie ","                         Ce que je propose à l'épicerie ","                         Ce que je propose à l'épicerie ","                         Ce que je propose à l'épicerie ","                         Ce que je propose à l'épicerie ","                         Ce que je propose à l'épicerie ","                         Ce que je propose à l'épicerie ","                         Ce que je propose à l'épicerie ","                         Ce que je propose à l'épicerie ","                         Ce que je propose à l'épicerie ","                         Ce que je propose à l'épicerie ","                         Ce que je propose à l'épicerie ","                         Ce que je propose à l'épicerie ","                         Ce que je propose à l'épicerie ","                         Ce que je propose à l'épicerie ","                         Ce que je propose à l'épicerie ","                         Ce que je propose à l'épicerie ","                         Ce que je propose à l'épicerie ","                         Ce que je propose à l'épicerie ","                         Ce que je propose à l'épicerie ","                         Ce que je propose à l'épicerie ","                         Ce que je propose à l'épicerie ","                         Ce que je propose à l'épicerie ","                         Ce que je propose à l'épicerie ","                         Ce que je propose à l'épicerie ","                         Ce que je propose à l'épicerie ","                         Ce que je propose à l'épicerie ","                         Ce que je propose à l'épicerie ","                         Ce que je propose à l'épicerie ","                         Ce que je propose à l'épicerie ","                         Ce que je propose à l'épicerie ","                         Ce que je propose à l'épicerie ","                         Ce que je propose à l'épicerie ","                         Ce que je propose à l'épicerie ","                         Ce que je propose à l'épicerie ","                         Ce que je propose à l'épicerie ","                         Ce que je propose à l'épicerie ","                         Ce que je propose à l'épicerie ","                         Ce que je propose à l'épicerie ","                         Ce que je propose à l'épicerie ","                         Ce que je propose à l'épicerie ","                         Ce que je propose à l'épicerie ","                         Ce que je propose à l'épicerie ","                         Ce que je propose à l'épicerie ","                         Ce que je propose à l'épicerie ","                         Ce que je propose à l'épicerie ","                         Ce que je propose à l'épicerie ","                         Ce que je propose à l'épicerie ","                         Ce que je propose à l'épicerie ","                         Ce que je propose à l'épicerie ","                         Ce que je propose à l'épicerie ","                         Ce que je propose à l'épicerie ","                         Ce que je propose à l'épicerie ","                         Ce que je propose à l'épicerie ","                         Ce que je propose à l'épicerie ","                         Ce que je propose à l'épicerie ","                         Ce que je propose à l'épicerie ","                         Ce que je propose à l'épicerie ","                         Ce que je propose à l'épicerie ","                         Ce que je propose à l'épicerie ","                         Ce que je propose à l'épicerie ","                         Ce que je propose à l'épicerie ","                         Ce que je propose à l'épicerie ","                         Ce que je propose à l'épicerie ","                         Ce que je propose à l'épicerie ","                         Ce que je propose à l'épicerie ","                         Ce que je propose à l'épicerie ","                         Ce que je propose à l'épicerie ","                         Ce que je propose à l'épicerie ","                         Ce que je propose à l'épicerie ","                         Ce que je propose à l'épicerie ","                         Ce que je propose à l'épicerie ","                         Ce que je propose à l'épicerie ","                         Ce que je propose à l'épicerie ","                         Ce que je propose à l'épicerie ","                         Ce que je propose à l'épicerie ","                         Ce que je propose à l'épicerie ","                         Ce que je propose à l'épicerie ","                         Ce que je propose à l'épicerie ","                         Ce que je propose à l'épicerie ","                         Ce que je propose à l'épicerie ","                         Ce que je propose à l'épicerie ","                         Ce que je propose à l'épicerie ","                         Ce que je propose à l'épicerie ","                         Ce que je propose à l'épicerie ","                         Ce que je propose à l'épicerie ","                         Ce que je propose à l'épicerie ","                         Ce que je propose à l'épicerie ","                         Ce que je propose à l'épicerie ","                         Ce que je propose à l'épicerie ","                         Ce que je propose à l'épicerie ","                         Ce que je propose à l'épicerie ","                         Ce que je propose à l'épicerie ","                         Ce que je propose à l'épicerie ","                         Ce que je propose à l'épicerie ","                         Ce que je propose à l'épicerie ","                         Ce que je propose à l'épicerie ","                         Ce que je propose à l'épicerie ","                         Ce que je propose à l'épicerie ","                         Ce que je propose à l'épicerie ","                         Ce que je propose à l'épicerie ","                         Ce que je propose à l'épicerie ","                         Ce que je propose à l'épicerie ","                         Ce que je propose à l'épicerie ","                         Ce que je propose à l'épicerie ","                         Ce que je propose à l'épicerie ","                         Ce que je propose à l'épicerie ","                         Ce que je propose à l'épicerie ","                         Ce que je propose à l'épicerie ","                         Ce que je propose à l'épicerie ","                         Ce que je propose à l'épicerie ","                         Ce que je propose à l'épicerie ","                         Ce que je propose à l'épicerie ","                         Ce que je propose à l'épicerie ","                         Ce que je propose à l'épicerie ","                         Ce que je propose à l'épicerie ","                         Ce que je propose à l'épicerie ","                         Ce que je propose à l'épicerie ","                         Ce que je propose à l'épicerie ","                         Ce que je propose à l'épicerie ","                         Ce que je propose à l'épicerie ","                         Ce que je propose à l'épicerie ","                         Ce que je propose à l'épicerie ","                         Ce que je propose à l'épicerie ","                         Ce que je propose à l'épicerie ","                         Ce que je propose à l'épicerie ","                         Ce que je propose à l'épicerie ","                         Ce que je propose à l'épicerie ","                         Ce que je propose à l'épicerie ","                         Ce que je propose à l'épicerie ","                         Ce que je propose à l'épicerie ","                         Ce que je propose à l'épicerie ","                         Ce que je propose à l'épicerie ","                         Ce que je propose à l'épicerie ","                         Ce que je propose à l'épicerie ","                         Ce que je propose à l'épicerie ","                         Ce que je propose à l'épicerie ","                         Ce que je propose à l'épicerie ","                         Ce que je propose à l'épicerie ","                         Ce que je propose à l'épicerie ","                         Ce que je propose à l'épicerie ","                         Ce que je propose à l'épicerie ","                         Ce que je propose à l'épicerie ","                         Ce que je propose à l'épicerie ","                         Ce que je propose à l'épicerie ","                         Ce que je propose à l'épicerie ","                         Ce que je propose à l'épicerie ","                         Ce que je propose à l'épicerie ","                         Ce que je propose à l'épicerie ","                         Ce que je propose à l'épicerie ","                         Ce que je propose à l'épicerie ","                         Ce que je propose à l'épicerie ","                         Ce que je propose à l'épicerie ","                         Ce que je propose à l'épicerie ","                         Ce que je propose à l'épicerie ","                         Ce que je propose à l'épicerie ","                         Ce que je propose à l'épicerie ","                         Ce que je propose à l'épicerie ","                         Ce que je propose à l'épicerie ","                         Ce que je propose à l'épicerie ","                         Ce que je propose à l'épicerie ","                         Ce que je propose à l'épicerie ","                         Ce que je propose à l'épicerie ","                         Ce que je propose à l'épicerie ","                         Ce que je propose à l'épicerie ","                         Ce que je propose à l'épicerie ","                         Ce que je propose à l'épicerie ","                         Ce que je propose à l'épicerie ","                         Ce que je propose à l'épicerie ","                         Ce que je propose à l'épicerie ","                         Ce que je propose à l'épicerie ","                         Ce que je propose à l'épicerie ","                         Ce que je propose à l'épicerie ","                         Ce que je propose à l'épicerie ","                         Ce que je propose à l'épicerie ","                         Ce que je propose à l'épicerie ","                         Ce que je propose à l'épicerie ","                         Ce que je propose à l'épicerie ","                         Ce que je propose à l'épicerie ","                         Ce que je propose à l'épicerie ","                         Ce que je propose à l'épicerie ","                         Ce que je propose à l'épicerie ","                         Ce que je propose à l'épicerie ","                         Ce que je propose à l'épicerie ","                         Ce que je propose à l'épicerie ","                         Ce que je propose à l'épicerie ","                         Ce que je propose à l'épicerie ","                         Ce que je propose à l'épicerie ","                         Ce que je propose à l'épicerie ","                         Ce que je propose à l'épicerie ","                         Ce que je propose à l'épicerie ","                         Ce que je propose à l'épicerie ","                         Ce que je propose à l'épicerie ","                         Ce que je propose à l'épicerie ","                         Ce que je propose à l'épicerie ","                         Ce que je propose à l'épicerie ","                         Ce que je propose à l'épicerie ","                         Ce que je propose à l'épicerie ","                         Ce que je propose à l'épicerie ","                         Ce que je propose à l'épicerie ","                         Ce que je propose à l'épicerie ","                         Ce que je propose à l'épicerie ","                         Ce que je propose à l'épicerie ","                         Ce que je propose à l'épicerie ","                         Ce que je propose à l'épicerie ","                         Ce que je propose à l'épicerie ","                         Ce que je propose à l'épicerie ","                         Ce que je propose à l'épicerie ","                         Ce que je propose à l'épicerie ","                         Ce que je propose à l'épicerie ","                         Ce que je propose à l'épicerie ","                         Ce que je propose à l'épicerie ","                         Ce que je propose à l'épicerie ","                         Ce que je propose à l'épicerie ","                         Ce que je propose à l'épicerie ","                         Ce que je propose à l'épicerie ","                         Ce que je propose à l'épicerie ","                         Ce que je propose à l'épicerie ","                         Ce que je propose à l'épicerie ","                         Ce que je propose à l'épicerie ","                         Ce que je propose à l'épicerie ","                         Ce que je propose à l'épicerie ","                         Ce que je propose à l'épicerie ","                         Ce que je propose à l'épicerie ","                         Ce que je propose à l'épicerie ","                         Ce que je propose à l'épicerie ","                         Ce que je propose à l'épicerie ","                         Ce que je propose à l'épicerie ","                         Ce que je propose à l'épicerie ","                         Ce que je propose à l'épicerie ","                         Ce que je propose à l'épicerie ","                         Ce que je propose à l'épicerie ","                         Ce que je propose à l'épicerie ","                         Ce que je propose à l'épicerie ","                         Ce que je propose à l'épicerie ","                         Ce que je propose à l'épicerie ","                         Ce que je propose à l'épicerie ","                         Ce que je propose à l'épicerie ","                         Ce que je propose à l'épicerie ","                         Ce que je propose à l'épicerie ","                         Ce que je propose à l'épicerie ","                         Ce que je propose à l'épicerie ","                         Ce que je propose à l'épicerie ","                         Ce que je propose à l'épicerie ","                         Ce que je propose à l'épicerie ","                         Ce que je propose à l'épicerie ","                         Ce que je propose à l'épicerie ","                         Ce que je propose à l'épicerie ","                         Ce que je propose à l'épicerie ","                         Ce que je propose à l'épicerie ","                         Ce que je propose à l'épicerie ","                         Ce que je propose à l'épicerie ","                         Ce que je propose à l'épicerie ","                         Ce que je propose à l'épicerie ","                         Ce que je propose à l'épicerie ","                         Ce que je propose à l'épicerie ","                         Ce que je propose à l'épicerie ","                         Ce que je propose à l'épicerie ","                         Ce que je propose à l'épicerie ","                         Ce que je propose à l'épicerie ","                         Ce que je propose à l'épicerie ","                         Ce que je propose à l'épicerie ","                         Ce que je propose à l'épicerie ","                         Ce que je propose à l'épicerie ","                         Ce que je propose à l'épicerie ","                         Ce que je propose à l'épicerie ","                         Ce que je propose à l'épicerie ","                         Ce que je propose à l'épicerie ","                         Ce que je propose à l'épicerie ","                         Ce que je propose à l'épicerie ","                         Ce que je propose à l'épicerie ","                         Ce que je propose à l'épicerie ","                         Ce que je propose à l'épicerie ","                         Ce que je propose à l'épicerie ","                         Ce que je propose à l'épicerie ","                         Ce que je propose à l'épicerie ","                         Ce que je propose à l'épicerie ","                         Ce que je propose à l'épicerie ","                         Ce que je propose à l'épicerie ","                         Ce que je propose à l'épicerie ","                         Ce que je propose à l'épicerie ","                         Ce que je propose à l'épicerie ","                         Ce que je propose à l'épicerie ","                         Ce que je propose à l'épicerie ","                         Ce que je propose à l'épicerie ","                         Ce que je propose à l'épicerie ","                         Ce que je propose à l'épicerie ","                         Ce que je propose à l'épicerie ","                         Ce que je propose à l'épicerie ","                         Ce que je propose à l'épicerie ","                         Ce que je propose à l'épicerie ","                         Ce que je propose à l'épicerie ","                         Ce que je propose à l'épicerie ","                         Ce que je propose à l'épicerie ","                         Ce que je propose à l'épicerie ","                         Ce que je propose à l'épicerie ","                         Ce que je propose à l'épicerie ","                         Ce que je propose à l'épicerie ","                         Ce que je propose à l'épicerie ","                         Ce que je propose à l'épicerie ","                         Ce que je propose à l'épicerie ","                         Ce que je propose à l'épicerie ","                         Ce que je propose à l'épicerie ","                         Ce que je propose à l'épicerie ","                         Ce que je propose à l'épicerie ","                         Ce que je propose à l'épicerie ","                         Ce que je propose à l'épicerie ","                         Ce que je propose à l'épicerie ","                         Ce que je propose à l'épicerie ","                         Ce que je propose à l'épicerie ","                         Ce que je propose à l'épicerie ","                         Ce que je propose à l'épicerie ","                         Ce que je propose à l'épicerie ","                         Ce que je propose à l'épicerie ","                         Ce que je propose à l'épicerie ","                         Ce que je propose à l'épicerie ","                         Ce que je propose à l'épicerie ","                         Ce que je propose à l'épicerie ","                         Ce que je propose à l'épicerie ","                         Ce que je propose à l'épicerie ","                         Ce que je propose à l'épicerie ","                         Ce que je propose à l'épicerie ","                         Ce que je propose à l'épicerie ","                         Ce que je propose à l'épicerie ","                         Ce que je propose à l'épicerie ","                         Ce que je propose à l'épicerie ","                         Ce que je propose à l'épicerie ","                         Ce que je propose à l'épicerie ","                         Ce que je propose à l'épicerie ","                         Ce que je propose à l'épicerie ","                         Ce que je propose à l'épicerie ","                         Ce que je propose à l'épicerie ","                         Ce que je propose à l'épicerie ","                         Ce que je propose à l'épicerie ","                         Ce que je propose à l'épicerie ","                         Ce que je propose à l'épicerie ","                         Ce que je propose à l'épicerie ","                         Ce que je propose à l'épicerie ","                         Ce que je propose à l'épicerie ","                         Ce que je propose à l'épicerie ","                         Ce que je propose à l'épicerie ","                         Ce que je propose à l'épicerie ","                         Ce que je propose à l'épicerie ","                         Ce que je propose à l'épicerie ","                         Ce que je propose à l'épicerie ","                         Ce que je propose à l'épicerie ","                         Ce que je propose à l'épicerie ","                         Ce que je propose à l'épicerie ","                         Ce que je propose à l'épicerie ","                         Ce que je propose à l'épicerie ","                         Ce que je propose à l'épicerie ","                         Ce que je propose à l'épicerie ","                         Ce que je propose à l'épicerie ","                         Ce que je propose à l'épicerie ","                         Ce que je propose à l'épicerie ","                         Ce que je propose à l'épicerie ","                         Ce que je propose à l'épicerie ","                         Ce que je propose à l'épicerie ","                         Ce que je propose à l'épicerie ","                         Ce que je propose à l'épicerie ","                         Ce que je propose à l'épicerie ","                         Ce que je propose à l'épicerie ","                         Ce que je propose à l'épicerie ","                         Ce que je propose à l'épicerie ","                         Ce que je propose à l'épicerie ","                         Ce que je propose à l'épicerie ","                         Ce que je propose à l'épicerie ","                         Ce que je propose à l'épicerie ","                         Ce que je propose à l'épicerie ","                         Ce que je propose à l'épicerie ","                         Ce que je propose à l'épicerie ","                         Ce que je propose à l'épicerie ","                         Ce que je propose à l'épicerie ","                         Ce que je propose à l'épicerie ","                         Ce que je propose à l'épicerie ","                         Ce que je propose à l'épicerie ","                         Ce que je propose à l'épicerie ","                         Ce que je propose à l'épicerie ","                         Ce que je propose à l'épicerie ","                         Ce que je propose à l'épicerie "]
[null,"⏳ Après un an et demi d’ouverture, j’ai réalisé que faire ses courses en vrac pouvait  prendre du temps. ⏳"]
[null,"💡 Une idée m’est donc venue:"]
[null,"➡️ “Si vous ne pouvez pas venir chez Grain de Luce, c’est Grain de Luce qui viendra à vous!”"]
[]
[null,"🎉 Je suis donc ravie de vous présenter la première version du service de livraison de l'épicerie vrac Grain de Luce ! 🎉"]
[]
[null,"Il va vous permettre de profiter de tous les avantages de l'épicerie vrac, en commandant tout ce dont vous avez besoin \nen quelques clics, sans les contraintes de temps, de contenants ou de distance."]
[]
[null,"🛵 Vous pourrez recevoir votre commande directement chez vous ou à votre travail.🛵"]
[]
[null,"♻️ Dans des emballages écologiques ou des bocaux pour minimiser l'impact environnemental de mes livraisons."]
[]
[null,"                                        Comment ça marche 🛵"]
["1. \n Remplir le bon de commande en indiquant les quantités \n","    En Vrac \n  (Grammes ou KG)                                                                                                                                à la pièce"]
["2. \nVérifier le panier pour finaliser votre commande\n"]
["3. \nValider votre commande par email ou telephone"]
["4. \nJe renseigne comment je souhaite récupérer ma commande","               OPTION 1:                                                                                                                 OPTION 2: \n                                                                                                                                                                                                   "]
["5.\n Je partage mes retours, idées à Luce :-) qui vous en sera extrêmement reconnaissante "]

{"sheet":"Panier","index":2,"n_rows":542,"n_cols":5,"rows_kept":542,"cut":false,"hidden":false,"merged":[]}
["Montant Total de la commande",{"$f":"SUM(C3:C542)","v":0},"euros"]
["🥜 Produits","💲Prix de vente","💰 Montant","⚖️ Quantité","Catégories"]
["Ail des Ours ","135€ / kg",{"$f":"VLOOKUP(A3,'Alimentaire vrac'!A:I,9)","v":0},{"$f":"VLOOKUP(A3,'Alimentaire vrac'!A:I,6)","v":0},"Alimentaire Vrac"]
["Biscuits Apéro - Gruyère","30,50€ / kg",{"$f":"VLOOKUP(A4,'Alimentaire vrac'!A:I,9)","v":0},{"$f":"VLOOKUP(A4,'Alimentaire vrac'!A:I,6)","v":0},"Alimentaire Vrac"]
["Abricots secs","13,90€ / kg",{"$f":"VLOOKUP(A5,'Alimentaire vrac'!A:I,9)","v":0},{"$f":"VLOOKUP(A5,'Alimentaire vrac'!A:I,6)","v":0},"Alimentaire Vrac"]
["Ail en Granulé ","50€ / kg",{"$f":"VLOOKUP(A6,'Alimentaire vrac'!A:I,9)","v":0},{"$f":"VLOOKUP(A6,'Alimentaire vrac'!A:I,6)","v":0},"Alimentaire Vrac"]
["Ail en Poudre ","50€ / kg",{"$f":"VLOOKUP(A7,'Alimentaire vrac'!A:I,9)","v":0},{"$f":"VLOOKUP(A7,'Alimentaire vrac'!A:I,6)","v":0},"Alimentaire Vrac"]
["Amandes Caramel Chocolat","35€ / kg",{"$f":"VLOOKUP(A8,'Alimentaire vrac'!A:I,9)","v":0},{"$f":"VLOOKUP(A8,'Alimentaire vrac'!A:I,6)","v":0},"Alimentaire Vrac"]
["Amandes Coco Miel ","35€ / kg",{"$f":"VLOOKUP(A9,'Alimentaire vrac'!A:I,9)","v":0},{"$f":"VLOOKUP(A9,'Alimentaire vrac'!A:I,6)","v":0},"Alimentaire Vrac"]
["Amandes Décortiquées entières ","19,9€ / kg",{"$f":"VLOOKUP(A10,'Alimentaire vrac'!A:I,9)","v":0},{"$f":"VLOOKUP(A10,'Alimentaire vrac'!A:I,6)","v":0},"Alimentaire Vrac"]
["Amandes Sésame Miel","35€/kg",{"$f":"VLOOKUP(A11,'Alimentaire vrac'!A:I,9)","v":0},{"$f":"VLOOKUP(A11,'Alimentaire vrac'!A:I,6)","v":0},"Alimentaire Vrac"]
["Amidon de maïs","5,50€ / kg",{"$f":"VLOOKUP(A12,'Alimentaire vrac'!A:I,9)","v":0},{"$f":"VLOOKUP(A12,'Alimentaire vrac'!A:I,6)","v":0},"Alimentaire Vrac"]
["Après shampoing Solide - Cheveux abimés & secs - 80g ",12.5,{"$f":"VLOOKUP(A13,Hygiène!A:I,9,FALSE)","v":0},{"$f":"VLOOKUP(A13,Hygiène!A:I,6,FALSE)","v":0},"Produits d'hygiène coporelle"]
["Après shampoing Solide - Cheveux abîmés & secs - sans HE - 80g ",12.5,{"$f":"VLOOKUP(A14,Hygiène!A:I,9,FALSE)","v":0},{"$f":"VLOOKUP(A14,Hygiène!A:I,6,FALSE)","v":0},"Produits d'hygiène coporelle"]
["Après shampoing Solide - Nourrissant & démêlant - 80g ",12.5,{"$f":"VLOOKUP(A15,Hygiène!A:I,9,FALSE)","v":0},{"$f":"VLOOKUP(A15,Hygiène!A:I,6,FALSE)","v":0},"Produits d'hygiène coporelle"]
["Après shampoing Vrac - Huile d’argan","29,00 € / kg",{"$f":"VLOOKUP(A16,Hygiène!A:I,9,FALSE)","v":0},{"$f":"VLOOKUP(A16,Hygiène!A:I,6,FALSE)","v":0},"Produits d'hygiène coporelle"]
["Arachides décortiquées grillées nature","12€ / kg",{"$f":"VLOOKUP(A17,'Alimentaire vrac'!A:I,9)","v":0},{"$f":"VLOOKUP(A17,'Alimentaire vrac'!A:I,6)","v":0},"Alimentaire Vrac"]
["Assouplissant - Vrac","5,00€ / kg",{"$f":"VLOOKUP(A18,Entretien!A:I,9,FALSE)","v":0},{"$f":"VLOOKUP(A18,Entretien!A:F,6)","v":0},"Produits d'entretiens"]
["Baies de Goji","29,90€",{"$f":"VLOOKUP(A19,'Alimentaire vrac'!A:I,9)","v":0},{"$f":"VLOOKUP(A19,'Alimentaire vrac'!A:I,6)","v":0},"Alimentaire Vrac"]
["Basilic Feuilles","27,00€ / kg",{"$f":"VLOOKUP(A20,'Alimentaire vrac'!A:I,9)","v":0},{"$f":"VLOOKUP(A20,'Alimentaire vrac'!A:I,6)","v":0},"Alimentaire Vrac"]
["Baume à Barbe",13.9,{"$f":"VLOOKUP(A21,Hygiène!A:I,9,FALSE)","v":0},{"$f":"VLOOKUP(A21,Hygiène!A:I,6,FALSE)","v":0},"Produits d'hygiène coporelle"]
["Baume à lèvre Agrumes - Endro","7,50€",{"$f":"VLOOKUP(A22,Hygiène!A:I,9,FALSE)","v":0},{"$f":"VLOOKUP(A22,Hygiène!A:I,6,FALSE)","v":0},"Produits d'hygiène coporelle"]
["Baume à lèvre Fruits Rouges - Endro","7,50€",{"$f":"VLOOKUP(A23,Hygiène!A:I,9,FALSE)","v":0},{"$f":"VLOOKUP(A23,Hygiène!A:I,6,FALSE)","v":0},"Produits d'hygiène coporelle"]
["Baume Mini  Multi-usages Fleurs d’été - Clemence & Vivien ","5,90€",{"$f":"VLOOKUP(A24,Hygiène!A:I,9,FALSE)","v":0},{"$f":"VLOOKUP(A24,Hygiène!A:I,6,FALSE)","v":0},"Produits d'hygiène coporelle"]
["Baume Mini Multi-usages Lait d’amande - Clemence & Vivien ","5,90€",{"$f":"VLOOKUP(A25,Hygiène!A:I,9,FALSE)","v":0},{"$f":"VLOOKUP(A25,Hygiène!A:I,6,FALSE)","v":0},"Produits d'hygiène coporelle"]
["Baume Multi-usages Fleurs d’été - Clemence & Vivien ",12.5,{"$f":"VLOOKUP(A26,Hygiène!A:I,9,FALSE)","v":0},{"$f":"VLOOKUP(A26,Hygiène!A:I,6,FALSE)","v":0},"Produits d'hygiène coporelle"]
["Baume Multi-usages Lait d’amande - Clemence & Vivien ",12.5,{"$f":"VLOOKUP(A27,Hygiène!A:I,9,FALSE)","v":0},{"$f":"VLOOKUP(A27,Hygiène!A:I,6,FALSE)","v":0},"Produits d'hygiène coporelle"]
["Bavoir - Petit","9,50€",{"$f":"VLOOKUP(A28,'Zéro déchets'!A:I,8,FALSE)","v":0},{"$f":"VLOOKUP(A28,'Zéro déchets'!A:J,6)","v":0},"Zéros déchets et Bocaux"]
["Beurre de cacahuètes - Chocolat Lait - Go Nuts - 270g","6,50€",{"$f":"VLOOKUP(A29,'Alimentaire conditionné'!A:I,9)","v":0},{"$f":"VLOOKUP(A29,'Alimentaire conditionné'!A:F,6)","v":0},"Alimentaire Conditionné"]
["Beurre de cacahuètes - Chocolat Noir - Go Nuts - 500g",8.9,{"$f":"VLOOKUP(A30,'Alimentaire conditionné'!A:I,9)","v":0},{"$f":"VLOOKUP(A30,'Alimentaire conditionné'!A:F,6)","v":0},"Alimentaire Conditionné"]
["Beurre de cacahuètes - Go Nuts - 270g","4,95 €",{"$f":"VLOOKUP(A31,'Alimentaire conditionné'!A:I,9)","v":0},{"$f":"VLOOKUP(A31,'Alimentaire conditionné'!A:F,6)","v":0},"Alimentaire Conditionné"]
["Beurre de cacahuètes - Go Nuts - 500g","8,90 €",{"$f":"VLOOKUP(A32,'Alimentaire conditionné'!A:I,9)","v":0},{"$f":"VLOOKUP(A32,'Alimentaire conditionné'!A:F,6)","v":0},"Alimentaire Conditionné"]
["Beurre de cacahuètes Extra Crunchy - Go Nuts - 270g","4,90 €",{"$f":"VLOOKUP(A33,'Alimentaire conditionné'!A:I,9)","v":0},{"$f":"VLOOKUP(A33,'Alimentaire conditionné'!A:F,6)","v":0},"Alimentaire Conditionné"]
["Beurre de cacao Iris - pour le corps - Lamazuna","8,50 €",{"$f":"VLOOKUP(A34,Hygiène!A:I,9,FALSE)","v":0},{"$f":"VLOOKUP(A34,Hygiène!A:I,6,FALSE)","v":0},"Produits d'hygiène coporelle"]
["Bicarbonate de soude - Vrac","4,90 € / kg",{"$f":"VLOOKUP(A35,Entretien!A:I,9,FALSE)","v":0},{"$f":"VLOOKUP(A35,Entretien!A:F,6)","v":0},"Produits d'entretiens"]
["Biere Blanche - La St Bonn’Beer - 33cl","3,00 €",{"$f":"VLOOKUP(A36,'Boissons conditionnées'!A:I,9)","v":0},{"$f":"VLOOKUP(A36,'Boissons conditionnées'!A:I,6)","v":0},"Boissons conditionnées"]
["Biere Blanche - La St Bonn’Beer - 75cl","6,50 €",{"$f":"VLOOKUP(A37,'Boissons conditionnées'!A:I,9)","v":0},{"$f":"VLOOKUP(A37,'Boissons conditionnées'!A:I,6)","v":0},"Boissons conditionnées"]
["Biere Blonde - La Promesse - 33cl","3,00 €",{"$f":"VLOOKUP(A38,'Boissons conditionnées'!A:I,9)","v":0},{"$f":"VLOOKUP(A38,'Boissons conditionnées'!A:I,6)","v":0},"Boissons conditionnées"]
["Biere Blonde - La Promesse - 75cl","6,50 €",{"$f":"VLOOKUP(A39,'Boissons conditionnées'!A:I,9)","v":0},{"$f":"VLOOKUP(A39,'Boissons conditionnées'!A:I,6)","v":0},"Boissons conditionnées"]
["Biere IPA - La Collector - 33cl","3,00 €",{"$f":"VLOOKUP(A40,'Boissons conditionnées'!A:I,9)","v":0},{"$f":"VLOOKUP(A40,'Boissons conditionnées'!A:I,6)","v":0},"Boissons conditionnées"]
["Biere IPA - La Collector- 75cl","6,50 €",{"$f":"VLOOKUP(A41,'Boissons conditionnées'!A:I,9)","v":0},{"$f":"VLOOKUP(A41,'Boissons conditionnées'!A:I,6)","v":0},"Boissons conditionnées"]
["Biere IPA - La Gonette - 33cl","3,00 €",{"$f":"VLOOKUP(A42,'Boissons conditionnées'!A:I,9)","v":0},{"$f":"VLOOKUP(A42,'Boissons conditionnées'!A:I,6)","v":0},"Boissons conditionnées"]
["Biere IPA - La Gonette - 75cl","6,50 €",{"$f":"VLOOKUP(A43,'Boissons conditionnées'!A:I,9)","v":0},{"$f":"VLOOKUP(A43,'Boissons conditionnées'!A:I,6)","v":0},"Boissons conditionnées"]
["Biscuits 1péro -Tortillas ","29€/kg",{"$f":"VLOOKUP(A44,'Alimentaire vrac'!A:I,9)","v":0},{"$f":"VLOOKUP(A44,'Alimentaire vrac'!A:I,6)","v":0},"Alimentaire Vrac"]
["Biscuits Apéro - Cumin & pois chiches","30,00€ / kg",{"$f":"VLOOKUP(A45,'Alimentaire vrac'!A:I,9)","v":0},{"$f":"VLOOKUP(A45,'Alimentaire vrac'!A:I,6)","v":0},"Alimentaire Vrac"]
["Biscuits Apéro - Noix de Cajou - Curry","34,50€ / kg",{"$f":"VLOOKUP(A46,'Alimentaire vrac'!A:I,9)","v":0},{"$f":"VLOOKUP(A46,'Alimentaire vrac'!A:I,6)","v":0},"Alimentaire Vrac"]
["Biscuits Apéro - Noix de Cajou - Herbes de Provence","34,50€ / kg",{"$f":"VLOOKUP(A47,'Alimentaire vrac'!A:I,9)","v":0},{"$f":"VLOOKUP(A47,'Alimentaire vrac'!A:I,6)","v":0},"Alimentaire Vrac"]
["Biscuits Apéro - Noix de Cajou - Parmesan","34,50€ / kg",{"$f":"VLOOKUP(A48,'Alimentaire vrac'!A:I,9)","v":0},{"$f":"VLOOKUP(A48,'Alimentaire vrac'!A:I,6)","v":0},"Alimentaire Vrac"]
["Biscuits Apéro - Noix de Cajou - Poivre de Kampot","34,50€ / kg",{"$f":"VLOOKUP(A49,'Alimentaire vrac'!A:I,9)","v":0},{"$f":"VLOOKUP(A49,'Alimentaire vrac'!A:I,6)","v":0},"Alimentaire Vrac"]
["Biscuits Apéro - Noix de Cajou - Sweet chili","34,50€ / kg",{"$f":"VLOOKUP(A50,'Alimentaire vrac'!A:I,9)","v":0},{"$f":"VLOOKUP(A50,'Alimentaire vrac'!A:I,6)","v":0},"Alimentaire Vrac"]
["Biscuits Apéro - Noix de Cajou - Tandoori","34,50€ / kg",{"$f":"VLOOKUP(A51,'Alimentaire vrac'!A:I,9)","v":0},{"$f":"VLOOKUP(A51,'Alimentaire vrac'!A:I,6)","v":0},"Alimentaire Vrac"]
["Biscuits Apéro - Oignon & Paprika","30,00€ / kg",{"$f":"VLOOKUP(A52,'Alimentaire vrac'!A:I,9)","v":0},{"$f":"VLOOKUP(A52,'Alimentaire vrac'!A:I,6)","v":0},"Alimentaire Vrac"]
["Biscuits Apéro - Tomate & Oignons","30,00€ / kg",{"$f":"VLOOKUP(A53,'Alimentaire vrac'!A:I,9)","v":0},{"$f":"VLOOKUP(A53,'Alimentaire vrac'!A:I,6)","v":0},"Alimentaire Vrac"]
["Biscuits P’tit Dej - Avoine Miel","18,00€ / kg",{"$f":"VLOOKUP(A54,'Alimentaire vrac'!A:I,9)","v":0},{"$f":"VLOOKUP(A54,'Alimentaire vrac'!A:I,6)","v":0},"Alimentaire Vrac"]
["Biscuits P’tit Dej - Cacao & Pépites de Chocolat","18,00€ / kg",{"$f":"VLOOKUP(A55,'Alimentaire vrac'!A:I,9)","v":0},{"$f":"VLOOKUP(A55,'Alimentaire vrac'!A:I,6)","v":0},"Alimentaire Vrac"]
["Biscuits Sucrés - Chocolat","25,00€ / kg",{"$f":"VLOOKUP(A56,'Alimentaire vrac'!A:I,9)","v":0},{"$f":"VLOOKUP(A56,'Alimentaire vrac'!A:I,6)","v":0},"Alimentaire Vrac"]
["Biscuits sucrés - Cookies Vegan bio","23,00€ / kg",{"$f":"VLOOKUP(A57,'Alimentaire vrac'!A:I,9)","v":0},{"$f":"VLOOKUP(A57,'Alimentaire vrac'!A:I,6)","v":0},"Alimentaire Vrac"]
["Biscuits Sucrés - Nature au Beurre","30,00€ / kg",{"$f":"VLOOKUP(A58,'Alimentaire vrac'!A:I,9)","v":0},{"$f":"VLOOKUP(A58,'Alimentaire vrac'!A:I,6)","v":0},"Alimentaire Vrac"]
["Biscuits Sucrés - Pomme au beurre ","25,00€ / kg",{"$f":"VLOOKUP(A59,'Alimentaire vrac'!A:I,9)","v":0},{"$f":"VLOOKUP(A59,'Alimentaire vrac'!A:I,6)","v":0},"Alimentaire Vrac"]
["Biscuits Sucrés - Sans Gluten - Choco Noisette","30,00€ / kg",{"$f":"VLOOKUP(A60,'Alimentaire vrac'!A:I,9)","v":0},{"$f":"VLOOKUP(A60,'Alimentaire vrac'!A:I,6)","v":0},"Alimentaire Vrac"]
["Biscuits Sucrés - Sans Gluten - Figue","30,00€ / kg",{"$f":"VLOOKUP(A61,'Alimentaire vrac'!A:I,9)","v":0},{"$f":"VLOOKUP(A61,'Alimentaire vrac'!A:I,6)","v":0},"Alimentaire Vrac"]
["Blanc de Blanc du Jura - Jacquier",9.5,{"$f":"VLOOKUP(A62,'Boissons conditionnées'!A:I,9)","v":0},{"$f":"VLOOKUP(A62,'Boissons conditionnées'!A:I,6)","v":0},"Boissons conditionnées"]
["Blé Pré cuit mondé","4,00€ / kg",{"$f":"VLOOKUP(A63,'Alimentaire vrac'!A:I,9)","v":0},{"$f":"VLOOKUP(A63,'Alimentaire vrac'!A:I,6)","v":0},"Alimentaire Vrac"]
["Bocal - Asperges vertes - 185g","4,90€",{"$f":"VLOOKUP(A64,'Alimentaire conditionné'!A:I,9)","v":0},{"$f":"VLOOKUP(A64,'Alimentaire conditionné'!A:F,6)","v":0},"Alimentaire Conditionné"]
["Bocal - Chili végétarien - 355g","4,50 €",{"$f":"VLOOKUP(A65,'Alimentaire conditionné'!A:I,9)","v":0},{"$f":"VLOOKUP(A65,'Alimentaire conditionné'!A:F,6)","v":0},"Alimentaire Conditionné"]
["Bocal - Chili végétarien - 670g","5,95 €",{"$f":"VLOOKUP(A66,'Alimentaire conditionné'!A:I,9)","v":0},{"$f":"VLOOKUP(A66,'Alimentaire conditionné'!A:F,6)","v":0},"Alimentaire Conditionné"]
["Bocal - Cocotte Indienne haricots blancs, riz complet, tofu - 360g","4,50 €",{"$f":"VLOOKUP(A67,'Alimentaire conditionné'!A:I,9)","v":0},{"$f":"VLOOKUP(A67,'Alimentaire conditionné'!A:F,6)","v":0},"Alimentaire Conditionné"]
["Bocal - Couscous aux 7 légumes - 1kg","6,95 €",{"$f":"VLOOKUP(A68,'Alimentaire conditionné'!A:I,9)","v":0},{"$f":"VLOOKUP(A68,'Alimentaire conditionné'!A:F,6)","v":0},"Alimentaire Conditionné"]
["Bocal - Curry d’aubergines - 345g",4.5,{"$f":"VLOOKUP(A69,'Alimentaire conditionné'!A:I,9)","v":0},{"$f":"VLOOKUP(A69,'Alimentaire conditionné'!A:F,6)","v":0},"Alimentaire Conditionné"]
["Bocal - Curry d’aubergines - 650g",6.5,{"$f":"VLOOKUP(A70,'Alimentaire conditionné'!A:I,9)","v":0},{"$f":"VLOOKUP(A70,'Alimentaire conditionné'!A:F,6)","v":0},"Alimentaire Conditionné"]
["Bocal - Curry de lentilles coco - 345g","4,50 €",{"$f":"VLOOKUP(A71,'Alimentaire conditionné'!A:I,9)","v":0},{"$f":"VLOOKUP(A71,'Alimentaire conditionné'!A:F,6)","v":0},"Alimentaire Conditionné"]
["Bocal - Epinards en branches - 445g","6,20 €",{"$f":"VLOOKUP(A72,'Alimentaire conditionné'!A:I,9)","v":0},{"$f":"VLOOKUP(A72,'Alimentaire conditionné'!A:F,6)","v":0},"Alimentaire Conditionné"]
["Bocal - Flageolets Demeter - 215g","3,30€",{"$f":"VLOOKUP(A73,'Alimentaire conditionné'!A:I,9)","v":0},{"$f":"VLOOKUP(A73,'Alimentaire conditionné'!A:F,6)","v":0},"Alimentaire Conditionné"]
["Bocal - Haricots Coco - 690g","4,50€",{"$f":"VLOOKUP(A74,'Alimentaire conditionné'!A:I,9)","v":0},{"$f":"VLOOKUP(A74,'Alimentaire conditionné'!A:F,6)","v":0},"Alimentaire Conditionné"]
["Bocal - Haricots Rouges - 255g","3,20€",{"$f":"VLOOKUP(A75,'Alimentaire conditionné'!A:I,9)","v":0},{"$f":"VLOOKUP(A75,'Alimentaire conditionné'!A:F,6)","v":0},"Alimentaire Conditionné"]
["Bocal - Haricots verts extra fins - 345g","4,20€",{"$f":"VLOOKUP(A76,'Alimentaire conditionné'!A:I,9)","v":0},{"$f":"VLOOKUP(A76,'Alimentaire conditionné'!A:F,6)","v":0},"Alimentaire Conditionné"]
["Bocal - Korma de légumes 680g","6,50€",{"$f":"VLOOKUP(A77,'Alimentaire conditionné'!A:I,9)","v":0},{"$f":"VLOOKUP(A77,'Alimentaire conditionné'!A:F,6)","v":0},"Alimentaire Conditionné"]
["Bocal - Lentilles vertes aux petits légumes - 420g","4,50€",{"$f":"VLOOKUP(A78,'Alimentaire conditionné'!A:I,9)","v":0},{"$f":"VLOOKUP(A78,'Alimentaire conditionné'!A:F,6)","v":0},"Alimentaire Conditionné"]
["Bocal - Macédoine de légumes - 230g","2,90 €",{"$f":"VLOOKUP(A79,'Alimentaire conditionné'!A:I,9)","v":0},{"$f":"VLOOKUP(A79,'Alimentaire conditionné'!A:F,6)","v":0},"Alimentaire Conditionné"]
["Bocal - Mais doux - 240g","2,90€",{"$f":"VLOOKUP(A80,'Alimentaire conditionné'!A:I,9)","v":0},{"$f":"VLOOKUP(A80,'Alimentaire conditionné'!A:F,6)","v":0},"Alimentaire Conditionné"]
["Bocal - Moussaka vegan, Aubergines, soja, légumes - 345g","4,50 €",{"$f":"VLOOKUP(A81,'Alimentaire conditionné'!A:I,9)","v":0},{"$f":"VLOOKUP(A81,'Alimentaire conditionné'!A:F,6)","v":0},"Alimentaire Conditionné"]
["Bocal - Petits pois extra fins - 240g","3,50 €",{"$f":"VLOOKUP(A82,'Alimentaire conditionné'!A:I,9)","v":0},{"$f":"VLOOKUP(A82,'Alimentaire conditionné'!A:F,6)","v":0},"Alimentaire Conditionné"]
["Bocal - Petits pois extra fins - 445g","5,10 €",{"$f":"VLOOKUP(A83,'Alimentaire conditionné'!A:I,9)","v":0},{"$f":"VLOOKUP(A83,'Alimentaire conditionné'!A:F,6)","v":0},"Alimentaire Conditionné"]
["Bocal - Petits Pois très fins et carottes - 425g","5,50 €",{"$f":"VLOOKUP(A84,'Alimentaire conditionné'!A:I,9)","v":0},{"$f":"VLOOKUP(A84,'Alimentaire conditionné'!A:F,6)","v":0},"Alimentaire Conditionné"]
["Bocal - Pois Chiche - 230g","3,50 €",{"$f":"VLOOKUP(A85,'Alimentaire conditionné'!A:I,9)","v":0},{"$f":"VLOOKUP(A85,'Alimentaire conditionné'!A:F,6)","v":0},"Alimentaire Conditionné"]
["Bocal - Pois Chiches - 420g","5,00 €",{"$f":"VLOOKUP(A86,'Alimentaire conditionné'!A:I,9)","v":0},{"$f":"VLOOKUP(A86,'Alimentaire conditionné'!A:F,6)","v":0},"Alimentaire Conditionné"]
["Bocal - Préparation  tarte aux oignons 345g","4,50€",{"$f":"VLOOKUP(A87,'Alimentaire conditionné'!A:I,9)","v":0},{"$f":"VLOOKUP(A87,'Alimentaire conditionné'!A:F,6)","v":0},"Alimentaire Conditionné"]
["Bocal - Préparation tarte aux poireaux 345g","4,50€",{"$f":"VLOOKUP(A88,'Alimentaire conditionné'!A:I,9)","v":0},{"$f":"VLOOKUP(A88,'Alimentaire conditionné'!A:F,6)","v":0},"Alimentaire Conditionné"]
["Bocal - Ratatouille à la provençale - 650g","5,10€",{"$f":"VLOOKUP(A89,'Alimentaire conditionné'!A:I,9)","v":0},{"$f":"VLOOKUP(A89,'Alimentaire conditionné'!A:F,6)","v":0},"Alimentaire Conditionné"]
["Bocal - Risotto d’automne -350g","4,90€",{"$f":"VLOOKUP(A90,'Alimentaire conditionné'!A:I,9)","v":0},{"$f":"VLOOKUP(A90,'Alimentaire conditionné'!A:F,6)","v":0},"Alimentaire Conditionné"]
["Bocal - Sauce bolognaise végétale au soja - 340g","3,30€",{"$f":"VLOOKUP(A91,'Alimentaire conditionné'!A:I,9)","v":0},{"$f":"VLOOKUP(A91,'Alimentaire conditionné'!A:F,6)","v":0},"Alimentaire Conditionné"]
["Bocal - Sauce Vegan - 185g","3,50€",{"$f":"VLOOKUP(A92,'Alimentaire conditionné'!A:I,9)","v":0},{"$f":"VLOOKUP(A92,'Alimentaire conditionné'!A:F,6)","v":0},"Alimentaire Conditionné"]
["Bocal - Tikka Masala aux légumes et pois chiches - 360g","4,50€",{"$f":"VLOOKUP(A93,'Alimentaire conditionné'!A:I,9)","v":0},{"$f":"VLOOKUP(A93,'Alimentaire conditionné'!A:F,6)","v":0},"Alimentaire Conditionné"]
["Bocal Haricots beurre extra fins - 180g","2,90 €",{"$f":"VLOOKUP(A94,'Alimentaire conditionné'!A:I,9)","v":0},{"$f":"VLOOKUP(A94,'Alimentaire conditionné'!A:F,6)","v":0},"Alimentaire Conditionné"]
["Boisson végétale - Avoine","2,10 €",{"$f":"VLOOKUP(A95,'Boissons conditionnées'!A:I,9)","v":0},{"$f":"VLOOKUP(A95,'Boissons conditionnées'!A:I,6)","v":0},"Boissons conditionnées"]
["Boisson végétale - So amande Nature UHT - 1L","2,60 €",{"$f":"VLOOKUP(A96,'Boissons conditionnées'!A:I,9)","v":0},{"$f":"VLOOKUP(A96,'Boissons conditionnées'!A:I,6)","v":0},"Boissons conditionnées"]
["Boisson végétale - Soja Nature - 1L","2,10 €",{"$f":"VLOOKUP(A97,'Boissons conditionnées'!A:I,9)","v":0},{"$f":"VLOOKUP(A97,'Boissons conditionnées'!A:I,6)","v":0},"Boissons conditionnées"]
["Boisson végétale - Sojade UHT Calcium - 1L","2,60€",{"$f":"VLOOKUP(A98,'Boissons conditionnées'!A:I,9)","v":0},{"$f":"VLOOKUP(A98,'Boissons conditionnées'!A:I,6)","v":0},"Boissons conditionnées"]
["Bol 15x7 Gravé Cap Bambou","14,90 €",{"$f":"VLOOKUP(A99,'Zéro déchets'!A:I,8,FALSE)","v":0},{"$f":"VLOOKUP(A99,'Zéro déchets'!A:J,6)","v":0},"Zéros déchets et Bocaux"]
["Bougies de Léa - Brûle Parfum","15,50 €",{"$f":"VLOOKUP(A100,'Zéro déchets'!A:I,8,FALSE)","v":0},{"$f":"VLOOKUP(A100,'Zéro déchets'!A:J,6)","v":0},"Zéros déchets et Bocaux"]
["Bougies de Léa - Grandes bougies Parfumées ","18,00 €",{"$f":"VLOOKUP(A101,'Zéro déchets'!A:I,8,FALSE)","v":0},{"$f":"VLOOKUP(A101,'Zéro déchets'!A:J,6)","v":0},"Zéros déchets et Bocaux"]
["Bougies de Léa - Petites bougies Parfumées ","11,00 €",{"$f":"VLOOKUP(A102,'Zéro déchets'!A:I,8,FALSE)","v":0},{"$f":"VLOOKUP(A102,'Zéro déchets'!A:J,6)","v":0},"Zéros déchets et Bocaux"]
["Bougies de Léa - Suspensions parfumées","6€",{"$f":"VLOOKUP(A103,'Zéro déchets'!A:I,8,FALSE)","v":0},{"$f":"VLOOKUP(A103,'Zéro déchets'!A:J,6)","v":0},"Zéros déchets et Bocaux"]
["Bouillon de légumes - Sans levure & huile de palme","24,00€ / kg",{"$f":"VLOOKUP(A104,'Alimentaire vrac'!A:I,9)","v":0},{"$f":"VLOOKUP(A104,'Alimentaire vrac'!A:I,6)","v":0},"Alimentaire Vrac"]
["Boule à Thé diamètre 50mm",3.5,{"$f":"VLOOKUP(A105,'Zéro déchets'!A:I,8,FALSE)","v":0},{"$f":"VLOOKUP(A105,'Zéro déchets'!A:J,6)","v":0},"Zéros déchets et Bocaux"]
["Boulgour","3,10€ / kg",{"$f":"VLOOKUP(A106,'Alimentaire vrac'!A:I,9)","v":0},{"$f":"VLOOKUP(A106,'Alimentaire vrac'!A:I,6)","v":0},"Alimentaire Vrac"]
["Brosse à cheveux Bébé","9,50 €",{"$f":"VLOOKUP(A107,Hygiène!A:I,9,FALSE)","v":0},{"$f":"VLOOKUP(A107,Hygiène!A:I,6,FALSE)","v":0},"Produits d'hygiène coporelle"]
["Brosse à cheveux Démélante","14,90 €",{"$f":"VLOOKUP(A108,Hygiène!A:I,9,FALSE)","v":0},{"$f":"VLOOKUP(A108,Hygiène!A:I,6,FALSE)","v":0},"Produits d'hygiène coporelle"]
["Brosse à cheveux Démélante Enfants",9.5,{"$f":"VLOOKUP(A109,Hygiène!A:I,9,FALSE)","v":0},{"$f":"VLOOKUP(A109,Hygiène!A:I,6,FALSE)","v":0},"Produits d'hygiène coporelle"]
["Brosse à dent - Lot de 3 têtes extra souples",7.9,{"$f":"VLOOKUP(A110,Hygiène!A:I,9,FALSE)","v":0},{"$f":"VLOOKUP(A110,Hygiène!A:I,6,FALSE)","v":0},"Produits d'hygiène coporelle"]
["Brosse à dent - Lot de 3 têtes medium",7.9,{"$f":"VLOOKUP(A111,Hygiène!A:I,9,FALSE)","v":0},{"$f":"VLOOKUP(A111,Hygiène!A:I,6,FALSE)","v":0},"Produits d'hygiène coporelle"]
["Brosse à dent - Lot de 3 têtes souples",7.9,{"$f":"VLOOKUP(A112,Hygiène!A:I,9,FALSE)","v":0},{"$f":"VLOOKUP(A112,Hygiène!A:I,6,FALSE)","v":0},"Produits d'hygiène coporelle"]
["Brosse à dent à tête rechargeable - manche bioplastic",3.5,{"$f":"VLOOKUP(A113,Hygiène!A:I,9,FALSE)","v":0},{"$f":"VLOOKUP(A113,Hygiène!A:I,6,FALSE)","v":0},"Produits d'hygiène coporelle"]
["Accessoires - Brosse à vaisselle - Recharges","5,50 €",{"$f":"VLOOKUP(A114,Entretien!A:I,9,FALSE)","v":0},{"$f":"VLOOKUP(A114,Entretien!A:F,6,FALSE)","v":0},"Produits d'entretiens"]
["Accessoires - Brosse à vaisselle à tête rechargeable - Lamazuna","24,90 €",{"$f":"VLOOKUP(A115,Entretien!A:I,9,FALSE)","v":0},{"$f":"VLOOKUP(A115,Entretien!A:F,6,FALSE)","v":0},"Produits d'entretiens"]
["Accessoires - Brosse à vaisselle en bois avec manche","6,50 €",{"$f":"VLOOKUP(A116,Entretien!A:I,9,FALSE)","v":0},{"$f":"VLOOKUP(A116,Entretien!A:F,6,FALSE)","v":0},"Produits d'entretiens"]
["Brosses à dents enfants - Jaune","3,50 €",{"$f":"VLOOKUP(A117,Hygiène!A:I,9,FALSE)","v":0},{"$f":"VLOOKUP(A117,Hygiène!A:I,6,FALSE)","v":0},"Produits d'hygiène coporelle"]
["Brosses à dents enfants - Violet","3,50 €",{"$f":"VLOOKUP(A118,Hygiène!A:I,9,FALSE)","v":0},{"$f":"VLOOKUP(A118,Hygiène!A:I,6,FALSE)","v":0},"Produits d'hygiène coporelle"]
["Café - Dagosette colombie (capsule)","0,40€",{"$f":"VLOOKUP(A119,'Boissons en vrac'!A:I,9)","v":0},{"$f":"VLOOKUP(A119,'Boissons en vrac'!A:F,6)","v":0},"Boisson en vrac"]
["Café - Dosette Americ’ain (senseo)","0,20€ / pièce",{"$f":"VLOOKUP(A120,'Boissons en vrac'!A:I,9)","v":0},{"$f":"VLOOKUP(A120,'Boissons en vrac'!A:F,6)","v":0},"Boisson en vrac"]
["Café - Grains - Colombie","19,90€ / kg",{"$f":"VLOOKUP(A121,'Boissons en vrac'!A:I,9)","v":0},{"$f":"VLOOKUP(A121,'Boissons en vrac'!A:F,6)","v":0},"Boisson en vrac"]
["Café - Grains - Moka Djimmah ","19,90€ / kg",{"$f":"VLOOKUP(A122,'Boissons en vrac'!A:I,9)","v":0},{"$f":"VLOOKUP(A122,'Boissons en vrac'!A:F,6)","v":0},"Boisson en vrac"]
["Cannelle en Poudre","56,00€ / kg",{"$f":"VLOOKUP(A123,'Alimentaire vrac'!A:I,9)","v":0},{"$f":"VLOOKUP(A123,'Alimentaire vrac'!A:I,6)","v":0},"Alimentaire Vrac"]
["Cannelle en Tuyau","62,00€ / kg",{"$f":"VLOOKUP(A124,'Alimentaire vrac'!A:I,9)","v":0},{"$f":"VLOOKUP(A124,'Alimentaire vrac'!A:I,6)","v":0},"Alimentaire Vrac"]
["Lingettes démaquillantes - Lot de 5 Carrés","7,50 €",{"$f":"VLOOKUP(A125,'Zéro déchets'!A:I,8,FALSE)","v":0},{"$f":"VLOOKUP(A125,'Zéro déchets'!A:J,6)","v":0},"Zéros déchets et Bocaux"]
["Céréales - Choco crisp ","9,50 € / kg",{"$f":"VLOOKUP(A126,'Alimentaire vrac'!A:I,9)","v":0},{"$f":"VLOOKUP(A126,'Alimentaire vrac'!A:I,6)","v":0},"Alimentaire Vrac"]
["Céréales - Corn Flakes ","8,50€ / kg",{"$f":"VLOOKUP(A127,'Alimentaire vrac'!A:I,9)","v":0},{"$f":"VLOOKUP(A127,'Alimentaire vrac'!A:I,6)","v":0},"Alimentaire Vrac"]
["Céréales - Crosti Choco Noisettes ",11,{"$f":"VLOOKUP(A128,'Alimentaire vrac'!A:I,9)","v":0},{"$f":"VLOOKUP(A128,'Alimentaire vrac'!A:I,6)","v":0},"Alimentaire Vrac"]
["Céréales - Flocons Avoine Gros ","3,50€ / kg",{"$f":"VLOOKUP(A129,'Alimentaire vrac'!A:I,9)","v":0},{"$f":"VLOOKUP(A129,'Alimentaire vrac'!A:I,6)","v":0},"Alimentaire Vrac"]
["Céréales - Flocons Avoine Petit","2,90€ / kg",{"$f":"VLOOKUP(A130,'Alimentaire vrac'!A:I,9)","v":0},{"$f":"VLOOKUP(A130,'Alimentaire vrac'!A:I,6)","v":0},"Alimentaire Vrac"]
["Céréales - Krounchy 3 chocolats","10,00€ / kg",{"$f":"VLOOKUP(A131,'Alimentaire vrac'!A:I,9)","v":0},{"$f":"VLOOKUP(A131,'Alimentaire vrac'!A:I,6)","v":0},"Alimentaire Vrac"]
["Céréales - Krounchy aux fruits","11,50€ / kg",{"$f":"VLOOKUP(A132,'Alimentaire vrac'!A:I,9)","v":0},{"$f":"VLOOKUP(A132,'Alimentaire vrac'!A:I,6)","v":0},"Alimentaire Vrac"]
["Céréales - Krounchy Nature","7,50€",{"$f":"VLOOKUP(A133,'Alimentaire vrac'!A:I,9)","v":0},{"$f":"VLOOKUP(A133,'Alimentaire vrac'!A:I,6)","v":0},"Alimentaire Vrac"]
["Céréales - Mops Miel","9,80€ / kg",{"$f":"VLOOKUP(A134,'Alimentaire vrac'!A:I,9)","v":0},{"$f":"VLOOKUP(A134,'Alimentaire vrac'!A:I,6)","v":0},"Alimentaire Vrac"]
["Chicorée torréfiée soluble - 200g","7,20€ / pièce",{"$f":"VLOOKUP(A135,'Boissons en vrac'!A:I,9)","v":0},{"$f":"VLOOKUP(A135,'Boissons en vrac'!A:F,6)","v":0},"Boisson en vrac"]
["Chips de Banane au Miel ","15,00 € / kg",{"$f":"VLOOKUP(A136,'Alimentaire vrac'!A:I,9)","v":0},{"$f":"VLOOKUP(A136,'Alimentaire vrac'!A:I,6)","v":0},"Alimentaire Vrac"]
["Chocolat Lait - Palets","20€/ kg",{"$f":"VLOOKUP(A137,'Alimentaire vrac'!A:I,9)","v":0},{"$f":"VLOOKUP(A137,'Alimentaire vrac'!A:I,6)","v":0},"Alimentaire Vrac"]
["Chocolat Lait - Pépites ","20,00 € / kg",{"$f":"VLOOKUP(A138,'Alimentaire vrac'!A:I,9)","v":0},{"$f":"VLOOKUP(A138,'Alimentaire vrac'!A:I,6)","v":0},"Alimentaire Vrac"]
["Chocolat Noir - Palets","18,00 € / kg",{"$f":"VLOOKUP(A139,'Alimentaire vrac'!A:I,9)","v":0},{"$f":"VLOOKUP(A139,'Alimentaire vrac'!A:I,6)","v":0},"Alimentaire Vrac"]
["Chocolat Noir - Pépites ","20,00 € / kg",{"$f":"VLOOKUP(A140,'Alimentaire vrac'!A:I,9)","v":0},{"$f":"VLOOKUP(A140,'Alimentaire vrac'!A:I,6)","v":0},"Alimentaire Vrac"]
["Chocolat Noir Poudre Instantané - Cacao et Sucre","90,00 € / kg",{"$f":"VLOOKUP(A141,'Alimentaire vrac'!A:I,9)","v":0},{"$f":"VLOOKUP(A141,'Alimentaire vrac'!A:I,6)","v":0},"Alimentaire Vrac"]
["Chouchou","4,50 €",{"$f":"VLOOKUP(A142,'Zéro déchets'!A:I,8,FALSE)","v":0},{"$f":"VLOOKUP(A142,'Zéro déchets'!A:J,6)","v":0},"Zéros déchets et Bocaux"]
["Ciboulette Feuilles ","80,00 € / kg",{"$f":"VLOOKUP(A143,'Alimentaire vrac'!A:I,9)","v":0},{"$f":"VLOOKUP(A143,'Alimentaire vrac'!A:I,6)","v":0},"Alimentaire Vrac"]
["Cidre Brut 75cl","5,90 €",{"$f":"VLOOKUP(A144,'Boissons conditionnées'!A:I,9)","v":0},{"$f":"VLOOKUP(A144,'Boissons conditionnées'!A:I,6)","v":0},"Boissons conditionnées"]
["Cinq baies concassées","114,00 € / kg",{"$f":"VLOOKUP(A145,'Alimentaire vrac'!A:I,9)","v":0},{"$f":"VLOOKUP(A145,'Alimentaire vrac'!A:I,6)","v":0},"Alimentaire Vrac"]
["Citronnade pur jus de citron jaune - 75cl","3,50 €",{"$f":"VLOOKUP(A146,'Boissons conditionnées'!A:I,9)","v":0},{"$f":"VLOOKUP(A146,'Boissons conditionnées'!A:I,6)","v":0},"Boissons conditionnées"]
["Compote Allégée - Pomme Abricot - 660g","5 €",{"$f":"VLOOKUP(A147,'Alimentaire conditionné'!A:I,9)","v":0},{"$f":"VLOOKUP(A147,'Alimentaire conditionné'!A:F,6)","v":0},"Alimentaire Conditionné"]
["Compote Allégée - Pomme Chataigne - 660g","4,80 €",{"$f":"VLOOKUP(A148,'Alimentaire conditionné'!A:I,9)","v":0},{"$f":"VLOOKUP(A148,'Alimentaire conditionné'!A:F,6)","v":0},"Alimentaire Conditionné"]
["Compote Pomme - 480g - ","3,50 €",{"$f":"VLOOKUP(A149,'Alimentaire conditionné'!A:I,9)","v":0},{"$f":"VLOOKUP(A149,'Alimentaire conditionné'!A:F,6)","v":0},"Alimentaire Conditionné"]
["Compote Pomme Banane",5,{"$f":"VLOOKUP(A150,'Alimentaire conditionné'!A:I,9)","v":0},{"$f":"VLOOKUP(A150,'Alimentaire conditionné'!A:F,6)","v":0},"Alimentaire Conditionné"]
["Compote Pomme Framboise - 480g ","4,50 €",{"$f":"VLOOKUP(A151,'Alimentaire conditionné'!A:I,9)","v":0},{"$f":"VLOOKUP(A151,'Alimentaire conditionné'!A:F,6)","v":0},"Alimentaire Conditionné"]
["Concentré de Tomate - 200g","2,30 €",{"$f":"VLOOKUP(A152,'Alimentaire conditionné'!A:I,9)","v":0},{"$f":"VLOOKUP(A152,'Alimentaire conditionné'!A:F,6)","v":0},"Alimentaire Conditionné"]
["Confiture Abricot - 340g ","4,90 €",{"$f":"VLOOKUP(A153,'Alimentaire conditionné'!A:I,9)","v":0},{"$f":"VLOOKUP(A153,'Alimentaire conditionné'!A:F,6)","v":0},"Alimentaire Conditionné"]
["Confiture de Figue 340g","4,90 €",{"$f":"VLOOKUP(A154,'Alimentaire conditionné'!A:I,9)","v":0},{"$f":"VLOOKUP(A154,'Alimentaire conditionné'!A:F,6)","v":0},"Alimentaire Conditionné"]
["Confiture de Fraise - 370g ","4,90 €",{"$f":"VLOOKUP(A155,'Alimentaire conditionné'!A:I,9)","v":0},{"$f":"VLOOKUP(A155,'Alimentaire conditionné'!A:F,6)","v":0},"Alimentaire Conditionné"]
["Confiture de Fruits des Bois 370g ","5,50 €",{"$f":"VLOOKUP(A156,'Alimentaire conditionné'!A:I,9)","v":0},{"$f":"VLOOKUP(A156,'Alimentaire conditionné'!A:F,6)","v":0},"Alimentaire Conditionné"]
["Confiture de Myrtille - 370g ","4,90 €",{"$f":"VLOOKUP(A157,'Alimentaire conditionné'!A:I,9)","v":0},{"$f":"VLOOKUP(A157,'Alimentaire conditionné'!A:F,6)","v":0},"Alimentaire Conditionné"]
["Confitures d'à côté - Abricot","6€",{"$f":"VLOOKUP(A158,'Alimentaire conditionné'!A:I,9)","v":0},{"$f":"VLOOKUP(A158,'Alimentaire conditionné'!A:F,6)","v":0},"Alimentaire Conditionné"]
["Confitures d'à côté - Figue pointe de vanille","6€",{"$f":"VLOOKUP(A159,'Alimentaire conditionné'!A:I,9)","v":0},{"$f":"VLOOKUP(A159,'Alimentaire conditionné'!A:F,6)","v":0},"Alimentaire Conditionné"]
["Confitures d'à côté - Kiwi Ananas","6€",{"$f":"VLOOKUP(A160,'Alimentaire conditionné'!A:I,9)","v":0},{"$f":"VLOOKUP(A160,'Alimentaire conditionné'!A:F,6)","v":0},"Alimentaire Conditionné"]
["Confitures d'à côté - Nectarine Vanille","6€",{"$f":"VLOOKUP(A161,'Alimentaire conditionné'!A:I,9)","v":0},{"$f":"VLOOKUP(A161,'Alimentaire conditionné'!A:F,6)","v":0},"Alimentaire Conditionné"]
["Confitures d'à côté - Poire Tonka","6€",{"$f":"VLOOKUP(A162,'Alimentaire conditionné'!A:I,9)","v":0},{"$f":"VLOOKUP(A162,'Alimentaire conditionné'!A:F,6)","v":0},"Alimentaire Conditionné"]
["Confitures d'à côté - Pomme Cannelle","6€",{"$f":"VLOOKUP(A163,'Alimentaire conditionné'!A:I,9)","v":0},{"$f":"VLOOKUP(A163,'Alimentaire conditionné'!A:F,6)","v":0},"Alimentaire Conditionné"]
["Confitures d'à côté - Pomme Caramel ","6€",{"$f":"VLOOKUP(A164,'Alimentaire conditionné'!A:I,9)","v":0},{"$f":"VLOOKUP(A164,'Alimentaire conditionné'!A:F,6)","v":0},"Alimentaire Conditionné"]
["Confitures d'à côté - Fraise","5€",{"$f":"VLOOKUP(A165,'Alimentaire conditionné'!A:I,9)","v":0},{"$f":"VLOOKUP(A165,'Alimentaire conditionné'!A:F,6)","v":0},"Alimentaire Conditionné"]
["Confitures d'à côté- Mûre sauvage","6€",{"$f":"VLOOKUP(A166,'Alimentaire conditionné'!A:I,9)","v":0},{"$f":"VLOOKUP(A166,'Alimentaire conditionné'!A:F,6)","v":0},"Alimentaire Conditionné"]
["Cornichons au vinaigre 37cl - 185g","7,50 €",{"$f":"VLOOKUP(A167,'Alimentaire conditionné'!A:I,9)","v":0},{"$f":"VLOOKUP(A167,'Alimentaire conditionné'!A:F,6)","v":0},"Alimentaire Conditionné"]
["Cotons tiges x 100","1,95 €",{"$f":"VLOOKUP(A168,Hygiène!A:I,9,FALSE)","v":0},{"$f":"VLOOKUP(A168,Hygiène!A:I,6,FALSE)","v":0},"Produits d'hygiène coporelle"]
["Cotons tiges x 200","3,59 €",{"$f":"VLOOKUP(A169,Hygiène!A:I,9,FALSE)","v":0},{"$f":"VLOOKUP(A169,Hygiène!A:I,6,FALSE)","v":0},"Produits d'hygiène coporelle"]
["Coulis de Tomate  Nature - 680g","2,50 €",{"$f":"VLOOKUP(A170,'Alimentaire conditionné'!A:I,9)","v":0},{"$f":"VLOOKUP(A170,'Alimentaire conditionné'!A:F,6)","v":0},"Alimentaire Conditionné"]
["Coulis de Tomate Basilic - 680g","2,50 €",{"$f":"VLOOKUP(A171,'Alimentaire conditionné'!A:I,9)","v":0},{"$f":"VLOOKUP(A171,'Alimentaire conditionné'!A:F,6)","v":0},"Alimentaire Conditionné"]
["Couscous Complet ","3,50€",{"$f":"VLOOKUP(A172,'Alimentaire vrac'!A:I,9)","v":0},{"$f":"VLOOKUP(A172,'Alimentaire vrac'!A:I,6)","v":0},"Alimentaire Vrac"]
["Couteau Réutilisable en bambou","2€",{"$f":"VLOOKUP(A173,'Zéro déchets'!A:I,8,FALSE)","v":0},{"$f":"VLOOKUP(A173,'Zéro déchets'!A:J,6)","v":0},"Zéros déchets et Bocaux"]
["Cranberries Demi séchées au sucre de Canne","17,50€ / kg",{"$f":"VLOOKUP(A174,'Alimentaire vrac'!A:I,9)","v":0},{"$f":"VLOOKUP(A174,'Alimentaire vrac'!A:I,6)","v":0},"Alimentaire Vrac"]
["Crème corps hydratant - Fleur de coton - Endro","15,60 €",{"$f":"VLOOKUP(A175,Hygiène!A:I,9,FALSE)","v":0},{"$f":"VLOOKUP(A175,Hygiène!A:I,6,FALSE)","v":0},"Produits d'hygiène coporelle"]
["Crème corps nourrissante - douceur iodée - Endro","12,90 €",{"$f":"VLOOKUP(A176,Hygiène!A:I,9,FALSE)","v":0},{"$f":"VLOOKUP(A176,Hygiène!A:I,6,FALSE)","v":0},"Produits d'hygiène coporelle"]
["Crème de Marron - 320g ","5,90 €",{"$f":"VLOOKUP(A177,'Alimentaire conditionné'!A:I,9)","v":0},{"$f":"VLOOKUP(A177,'Alimentaire conditionné'!A:F,6)","v":0},"Alimentaire Conditionné"]
["Crème solaire SPF 30 - 50ml","18,90 €",{"$f":"VLOOKUP(A178,Hygiène!A:I,9,FALSE)","v":0},{"$f":"VLOOKUP(A178,Hygiène!A:I,6,FALSE)","v":0},"Produits d'hygiène coporelle"]
["Crème solaire SPF 50 - 100ml","24,90 €",{"$f":"VLOOKUP(A179,Hygiène!A:I,9,FALSE)","v":0},{"$f":"VLOOKUP(A179,Hygiène!A:I,6,FALSE)","v":0},"Produits d'hygiène coporelle"]
["Crème solaire SPF 50 - 50ml","19,90 €",{"$f":"VLOOKUP(A180,Hygiène!A:I,9,FALSE)","v":0},{"$f":"VLOOKUP(A180,Hygiène!A:I,6,FALSE)","v":0},"Produits d'hygiène coporelle"]
["Crème végétale - Soya cuisine briquette - 20cl","1,95€",{"$f":"VLOOKUP(A181,'Alimentaire conditionné'!A:I,9)","v":0},{"$f":"VLOOKUP(A181,'Alimentaire conditionné'!A:F,6)","v":0},"Alimentaire Conditionné"]
["Crème visage - bonne mine","13,60 €",{"$f":"VLOOKUP(A182,Hygiène!A:I,9,FALSE)","v":0},{"$f":"VLOOKUP(A182,Hygiène!A:I,6,FALSE)","v":0},"Produits d'hygiène coporelle"]
["Crozets Sarrasin","9€ / kg",{"$f":"VLOOKUP(A183,'Alimentaire vrac'!A:I,9)","v":0},{"$f":"VLOOKUP(A183,'Alimentaire vrac'!A:I,6)","v":0},"Alimentaire Vrac"]
["Cuillère réutilisable en bambou","1,50 €",{"$f":"VLOOKUP(A184,'Zéro déchets'!A:I,8,FALSE)","v":0},{"$f":"VLOOKUP(A184,'Zéro déchets'!A:J,6)","v":0},"Zéros déchets et Bocaux"]
["Cumin moulu poudre","55,00€ / kg",{"$f":"VLOOKUP(A185,'Alimentaire vrac'!A:I,9)","v":0},{"$f":"VLOOKUP(A185,'Alimentaire vrac'!A:I,6)","v":0},"Alimentaire Vrac"]
["Curcuma ","45,00€ / kg",{"$f":"VLOOKUP(A186,'Alimentaire vrac'!A:I,9)","v":0},{"$f":"VLOOKUP(A186,'Alimentaire vrac'!A:I,6)","v":0},"Alimentaire Vrac"]
["Cure Oreilles - Bamb’ori",2.99,{"$f":"VLOOKUP(A187,Hygiène!A:I,9,FALSE)","v":0},{"$f":"VLOOKUP(A187,Hygiène!A:I,6,FALSE)","v":0},"Produits d'hygiène coporelle"]
["Curry Poudre","42,00€ / kg",{"$f":"VLOOKUP(A188,'Alimentaire vrac'!A:I,9)","v":0},{"$f":"VLOOKUP(A188,'Alimentaire vrac'!A:I,6)","v":0},"Alimentaire Vrac"]
["Dattes Dénoyautées ","10,50€ / kg",{"$f":"VLOOKUP(A189,'Alimentaire vrac'!A:I,9)","v":0},{"$f":"VLOOKUP(A189,'Alimentaire vrac'!A:I,6)","v":0},"Alimentaire Vrac"]
["Dentifrice bio à croquer Menthe Fraîche","180,00€ / kg",{"$f":"VLOOKUP(A190,Hygiène!A:I,9,FALSE)","v":0},{"$f":"VLOOKUP(A190,Hygiène!A:I,6,FALSE)","v":0},"Produits d'hygiène coporelle"]
["Dentifrice Naturel - Fruits Rouges - Endro","10,60€",{"$f":"VLOOKUP(A191,Hygiène!A:I,9,FALSE)","v":0},{"$f":"VLOOKUP(A191,Hygiène!A:I,6,FALSE)","v":0},"Produits d'hygiène coporelle"]
["Dentifrice Naturel - Menthe Givrée - Endro","10,60€",{"$f":"VLOOKUP(A192,Hygiène!A:I,9,FALSE)","v":0},{"$f":"VLOOKUP(A192,Hygiène!A:I,6,FALSE)","v":0},"Produits d'hygiène coporelle"]
["Dentifrice Naturel - Zeste Citronné - Endro","10,60€",{"$f":"VLOOKUP(A193,Hygiène!A:I,9,FALSE)","v":0},{"$f":"VLOOKUP(A193,Hygiène!A:I,6,FALSE)","v":0},"Produits d'hygiène coporelle"]
["Dentifrice solide - Charbon - Recharge - Savon de Joya","8,90€",{"$f":"VLOOKUP(A194,Hygiène!A:I,9,FALSE)","v":0},{"$f":"VLOOKUP(A194,Hygiène!A:I,6,FALSE)","v":0},"Produits d'hygiène coporelle"]
["Dentifrice solide - Charbon - Savon de Joya","10,60€",{"$f":"VLOOKUP(A195,Hygiène!A:I,9,FALSE)","v":0},{"$f":"VLOOKUP(A195,Hygiène!A:I,6,FALSE)","v":0},"Produits d'hygiène coporelle"]
["Dentifrice solide - Citron & Romarin - Recharge - - Savon de Joya","8,90€",{"$f":"VLOOKUP(A196,Hygiène!A:I,9,FALSE)","v":0},{"$f":"VLOOKUP(A196,Hygiène!A:I,6,FALSE)","v":0},"Produits d'hygiène coporelle"]
["Dentifrice solide - Citron & Romarin Savon de Joya","10,60€",{"$f":"VLOOKUP(A197,Hygiène!A:I,9,FALSE)","v":0},{"$f":"VLOOKUP(A197,Hygiène!A:I,6,FALSE)","v":0},"Produits d'hygiène coporelle"]
["Dentifrice solide - Framboise - - Savon de Joya","10,60€",{"$f":"VLOOKUP(A198,Hygiène!A:I,9,FALSE)","v":0},{"$f":"VLOOKUP(A198,Hygiène!A:I,6,FALSE)","v":0},"Produits d'hygiène coporelle"]
["Dentifrice solide - Framboise - Recharge ","8,90€",{"$f":"VLOOKUP(A199,Hygiène!A:I,9,FALSE)","v":0},{"$f":"VLOOKUP(A199,Hygiène!A:I,6,FALSE)","v":0},"Produits d'hygiène coporelle"]
["Dentifrice solide - Menthe - - Savon de Joya","10,60€",{"$f":"VLOOKUP(A200,Hygiène!A:I,9,FALSE)","v":0},{"$f":"VLOOKUP(A200,Hygiène!A:I,6,FALSE)","v":0},"Produits d'hygiène coporelle"]
["Dentifrice solide - Menthe - Recharge - - Savon de Joya","8,90€",{"$f":"VLOOKUP(A201,Hygiène!A:I,9,FALSE)","v":0},{"$f":"VLOOKUP(A201,Hygiène!A:I,6,FALSE)","v":0},"Produits d'hygiène coporelle"]
["Déodorant - Clémence & Vivien - Le Fleuri",8.5,{"$f":"VLOOKUP(A202,Hygiène!A:I,9,FALSE)","v":0},{"$f":"VLOOKUP(A202,Hygiène!A:I,6,FALSE)","v":0},"Produits d'hygiène coporelle"]
["Déodorant - Clémence & Vivien - Le Poudré",8.5,{"$f":"VLOOKUP(A203,Hygiène!A:I,9,FALSE)","v":0},{"$f":"VLOOKUP(A203,Hygiène!A:I,6,FALSE)","v":0},"Produits d'hygiène coporelle"]
["Déodorant - Clémence & Vivien - Le Sucré",8.5,{"$f":"VLOOKUP(A204,Hygiène!A:I,9,FALSE)","v":0},{"$f":"VLOOKUP(A204,Hygiène!A:I,6,FALSE)","v":0},"Produits d'hygiène coporelle"]
["Déodorant - Clémence & Vivien - Sensible Mandarinne",8.5,{"$f":"VLOOKUP(A205,Hygiène!A:I,9,FALSE)","v":0},{"$f":"VLOOKUP(A205,Hygiène!A:I,6,FALSE)","v":0},"Produits d'hygiène coporelle"]
["Déodorant - Clémence & Vivien - Sensible Vanille",8.5,{"$f":"VLOOKUP(A206,Hygiène!A:I,9,FALSE)","v":0},{"$f":"VLOOKUP(A206,Hygiène!A:I,6,FALSE)","v":0},"Produits d'hygiène coporelle"]
["Déodorant - Clémence & Vivien- L’Herbacé",8.5,{"$f":"VLOOKUP(A207,Hygiène!A:I,9,FALSE)","v":0},{"$f":"VLOOKUP(A207,Hygiène!A:I,6,FALSE)","v":0},"Produits d'hygiène coporelle"]
["Déodorant - Endro - Bergamote / Arbre à thé","9,80€",{"$f":"VLOOKUP(A208,Hygiène!A:I,9,FALSE)","v":0},{"$f":"VLOOKUP(A208,Hygiène!A:I,6,FALSE)","v":0},"Produits d'hygiène coporelle"]
["Déodorant - Endro - Coco","9,80€",{"$f":"VLOOKUP(A209,Hygiène!A:I,9,FALSE)","v":0},{"$f":"VLOOKUP(A209,Hygiène!A:I,6,FALSE)","v":0},"Produits d'hygiène coporelle"]
["Déodorant - Endro - Menthe Poivrée / Cèdre","9,80€",{"$f":"VLOOKUP(A210,Hygiène!A:I,9,FALSE)","v":0},{"$f":"VLOOKUP(A210,Hygiène!A:I,6,FALSE)","v":0},"Produits d'hygiène coporelle"]
["Déodorant - Endro - Palmarosa / Géranium","9,80€",{"$f":"VLOOKUP(A211,Hygiène!A:I,9,FALSE)","v":0},{"$f":"VLOOKUP(A211,Hygiène!A:I,6,FALSE)","v":0},"Produits d'hygiène coporelle"]
["Déodorant - Endro - Peaux sensilbles","9,80€",{"$f":"VLOOKUP(A212,Hygiène!A:I,9,FALSE)","v":0},{"$f":"VLOOKUP(A212,Hygiène!A:I,6,FALSE)","v":0},"Produits d'hygiène coporelle"]
["Déodorant - Savon de Joya - Recharge Stick - Cèdre Vétiver - 75g","8,90 €",{"$f":"VLOOKUP(A213,Hygiène!A:I,9,FALSE)","v":0},{"$f":"VLOOKUP(A213,Hygiène!A:I,6,FALSE)","v":0},"Produits d'hygiène coporelle"]
["Déodorant - Savon de Joya - Recharge Stick - Citron & Mandarine - 75g","8,90 €",{"$f":"VLOOKUP(A214,Hygiène!A:I,9,FALSE)","v":0},{"$f":"VLOOKUP(A214,Hygiène!A:I,6,FALSE)","v":0},"Produits d'hygiène coporelle"]
["Déodorant - Savon de Joya - Recharge Stick - Rose, 0 bicarbonate - 75g","8,90 €",{"$f":"VLOOKUP(A215,Hygiène!A:I,9,FALSE)","v":0},{"$f":"VLOOKUP(A215,Hygiène!A:I,6,FALSE)","v":0},"Produits d'hygiène coporelle"]
["Déodorant - Savon de Joya - Recharge Stick Mini  - Cèdre Vétivier - 25g","7,90 €",{"$f":"VLOOKUP(A216,Hygiène!A:I,9,FALSE)","v":0},{"$f":"VLOOKUP(A216,Hygiène!A:I,6,FALSE)","v":0},"Produits d'hygiène coporelle"]
["Déodorant - Savon de Joya - Recharge Stick Mini  - Citron & Mandarine 25g","7,90 €",{"$f":"VLOOKUP(A217,Hygiène!A:I,9,FALSE)","v":0},{"$f":"VLOOKUP(A217,Hygiène!A:I,6,FALSE)","v":0},"Produits d'hygiène coporelle"]
["Déodorant Stick - Savon de Joya - Cèdre Vétiver - 75g","12,50 €",{"$f":"VLOOKUP(A218,Hygiène!A:I,9,FALSE)","v":0},{"$f":"VLOOKUP(A218,Hygiène!A:I,6,FALSE)","v":0},"Produits d'hygiène coporelle"]
["Déodorant Stick - Savon de Joya - Citron & Mandarine - 75g","12,50 €",{"$f":"VLOOKUP(A219,Hygiène!A:I,9,FALSE)","v":0},{"$f":"VLOOKUP(A219,Hygiène!A:I,6,FALSE)","v":0},"Produits d'hygiène coporelle"]
["Déodorant Stick - Savon de Joya - Rose, 0 bicarbonate - 75g","12,50 €",{"$f":"VLOOKUP(A220,Hygiène!A:I,9,FALSE)","v":0},{"$f":"VLOOKUP(A220,Hygiène!A:I,6,FALSE)","v":0},"Produits d'hygiène coporelle"]
["Déodorant Stick Mini  - Savon de Joya -  Rose, 0 bicarbonate - 25g","7,90 €",{"$f":"VLOOKUP(A221,Hygiène!A:I,9,FALSE)","v":0},{"$f":"VLOOKUP(A221,Hygiène!A:I,6,FALSE)","v":0},"Produits d'hygiène coporelle"]
["Déodorant Stick Mini - Savon de Joya - Cèdre Vétiver - 25g","7,90 €",{"$f":"VLOOKUP(A222,Hygiène!A:I,9,FALSE)","v":0},{"$f":"VLOOKUP(A222,Hygiène!A:I,6,FALSE)","v":0},"Produits d'hygiène coporelle"]
["Déodorant Stick Mini - Savon de Joya - Citron & Mandarine - 25g","5,20 €",{"$f":"VLOOKUP(A223,Hygiène!A:I,9,FALSE)","v":0},{"$f":"VLOOKUP(A223,Hygiène!A:I,6,FALSE)","v":0},"Produits d'hygiène coporelle"]
["Désinfectant sans rinçage - Vrac","12,50 €",{"$f":"VLOOKUP(A224,Entretien!A:I,9,FALSE)","v":0},{"$f":"VLOOKUP(A224,Entretien!A:F,6,FALSE)","v":0},"Produits d'entretiens"]
["Détachant - Vrac",9.9,{"$f":"VLOOKUP(A225,Entretien!A:I,9,FALSE)","v":0},{"$f":"VLOOKUP(A225,Entretien!A:F,6,FALSE)","v":0},"Produits d'entretiens"]
["Emballage 1L Plat + Bouchon ","2 €",{"$f":"VLOOKUP(A226,Entretien!A:I,9,FALSE)","v":0},{"$f":"VLOOKUP(A226,Entretien!A:F,6,FALSE)","v":0},"Produits d'entretiens"]
["Emballage 3L + Bouchon","4 €",{"$f":"VLOOKUP(A227,Entretien!A:I,9,FALSE)","v":0},{"$f":"VLOOKUP(A227,Entretien!A:F,6,FALSE)","v":0},"Produits d'entretiens"]
["Emballage WC 750ml + Bouchon","2,50 €",{"$f":"VLOOKUP(A228,Entretien!A:I,9,FALSE)","v":0},{"$f":"VLOOKUP(A228,Entretien!A:F,6,FALSE)","v":0},"Produits d'entretiens"]
["Essuie tout blanc, 100% recyclés, 200f x 12","2 €",{"$f":"VLOOKUP(A229,Entretien!A:I,9,FALSE)","v":0},{"$f":"VLOOKUP(A229,Entretien!A:F,6,FALSE)","v":0},"Produits d'entretiens"]
["Essuie-tout - Lot de 5 Multicolore","10,00 €",{"$f":"VLOOKUP(A230,'Zéro déchets'!A:I,8,FALSE)","v":0},{"$f":"VLOOKUP(A230,'Zéro déchets'!A:J,6)","v":0},"Zéros déchets et Bocaux"]
["Farine de blé - T110","2,10€ / kg",{"$f":"VLOOKUP(A231,'Alimentaire vrac'!A:I,9)","v":0},{"$f":"VLOOKUP(A231,'Alimentaire vrac'!A:I,6)","v":0},"Alimentaire Vrac"]
["Farine de blé - T55 ","2,10€ / kg",{"$f":"VLOOKUP(A232,'Alimentaire vrac'!A:I,9)","v":0},{"$f":"VLOOKUP(A232,'Alimentaire vrac'!A:I,6)","v":0},"Alimentaire Vrac"]
["Farine de blé - T65 ","2,10€ / kg",{"$f":"VLOOKUP(A233,'Alimentaire vrac'!A:I,9)","v":0},{"$f":"VLOOKUP(A233,'Alimentaire vrac'!A:I,6)","v":0},"Alimentaire Vrac"]
["Farine de Maïs ","2,95€ / kg",{"$f":"VLOOKUP(A234,'Alimentaire vrac'!A:I,9)","v":0},{"$f":"VLOOKUP(A234,'Alimentaire vrac'!A:I,6)","v":0},"Alimentaire Vrac"]
["Farine de Maïs - Paquet 500g",1.7,{"$f":"VLOOKUP(A235,'Alimentaire conditionné'!A:I,9)","v":0},{"$f":"VLOOKUP(A235,'Alimentaire conditionné'!A:F,6)","v":0},"Alimentaire Conditionné"]
["Farine de Petit épeautre ","6,00€ / kg",{"$f":"VLOOKUP(A236,'Alimentaire vrac'!A:I,9)","v":0},{"$f":"VLOOKUP(A236,'Alimentaire vrac'!A:I,6)","v":0},"Alimentaire Vrac"]
["Farine de Pois chiches ","5,40€ / kg",{"$f":"VLOOKUP(A237,'Alimentaire vrac'!A:I,9)","v":0},{"$f":"VLOOKUP(A237,'Alimentaire vrac'!A:I,6)","v":0},"Alimentaire Vrac"]
["Farine de Pos chiches - paquet 500g","2.70",{"$f":"VLOOKUP(A238,'Alimentaire conditionné'!A:I,9)","v":0},{"$f":"VLOOKUP(A238,'Alimentaire conditionné'!A:F,6)","v":0},"Alimentaire Conditionné"]
["Fécule de Pomme de Terre ","4,90€ / kg",{"$f":"VLOOKUP(A239,'Alimentaire vrac'!A:I,9)","v":0},{"$f":"VLOOKUP(A239,'Alimentaire vrac'!A:I,6)","v":0},"Alimentaire Vrac"]
["Figues Entières ","12,00€ / kg",{"$f":"VLOOKUP(A240,'Alimentaire vrac'!A:I,9)","v":0},{"$f":"VLOOKUP(A240,'Alimentaire vrac'!A:I,6)","v":0},"Alimentaire Vrac"]
["Filet à fruits et légumes - Taille L","8,50€",{"$f":"VLOOKUP(A241,'Zéro déchets'!A:I,8,FALSE)","v":0},{"$f":"VLOOKUP(A241,'Zéro déchets'!A:J,6)","v":0},"Zéros déchets et Bocaux"]
["Filet à fruits et légumes - Taille M","9,50€",{"$f":"VLOOKUP(A242,'Zéro déchets'!A:I,8,FALSE)","v":0},{"$f":"VLOOKUP(A242,'Zéro déchets'!A:J,6)","v":0},"Zéros déchets et Bocaux"]
["Filtre à café","4,50€",{"$f":"VLOOKUP(A243,'Zéro déchets'!A:I,8,FALSE)","v":0},{"$f":"VLOOKUP(A243,'Zéro déchets'!A:J,6)","v":0},"Zéros déchets et Bocaux"]
["Filtre à Infusion ","4,50€",{"$f":"VLOOKUP(A244,'Zéro déchets'!A:I,8,FALSE)","v":0},{"$f":"VLOOKUP(A244,'Zéro déchets'!A:J,6)","v":0},"Zéros déchets et Bocaux"]
["Filtre à thé ","4,00€",{"$f":"VLOOKUP(A245,'Zéro déchets'!A:I,8,FALSE)","v":0},{"$f":"VLOOKUP(A245,'Zéro déchets'!A:J,6)","v":0},"Zéros déchets et Bocaux"]
["Filtre à théière inox forme théière","5,50€",{"$f":"VLOOKUP(A246,'Zéro déchets'!A:I,8,FALSE)","v":0},{"$f":"VLOOKUP(A246,'Zéro déchets'!A:J,6)","v":0},"Zéros déchets et Bocaux"]
["Flageolets","6,50€ / kg",{"$f":"VLOOKUP(A247,'Alimentaire vrac'!A:I,9)","v":0},{"$f":"VLOOKUP(A247,'Alimentaire vrac'!A:I,6)","v":0},"Alimentaire Vrac"]
["Bougies de Léa - Fondants Parfumés","3,50€",{"$f":"VLOOKUP(A248,'Zéro déchets'!A:I,8,FALSE)","v":0},{"$f":"VLOOKUP(A248,'Zéro déchets'!A:J,6)","v":0},"Zéros déchets et Bocaux"]
["Fourchette réutilisable","2,00€",{"$f":"VLOOKUP(A249,'Zéro déchets'!A:I,8,FALSE)","v":0},{"$f":"VLOOKUP(A249,'Zéro déchets'!A:J,6)","v":0},"Zéros déchets et Bocaux"]
["Furoshikis - Taille M","6,50€",{"$f":"VLOOKUP(A250,'Zéro déchets'!A:I,8,FALSE)","v":0},{"$f":"VLOOKUP(A250,'Zéro déchets'!A:J,6)","v":0},"Zéros déchets et Bocaux"]
["Furoshikis - Taille S","5,00€",{"$f":"VLOOKUP(A251,'Zéro déchets'!A:I,8,FALSE)","v":0},{"$f":"VLOOKUP(A251,'Zéro déchets'!A:J,6)","v":0},"Zéros déchets et Bocaux"]
["Fusilli Riz Quinoa ","12,00€ / kg",{"$f":"VLOOKUP(A252,'Alimentaire vrac'!A:I,9)","v":0},{"$f":"VLOOKUP(A252,'Alimentaire vrac'!A:I,6)","v":0},"Alimentaire Vrac"]
["Gamme anti âge - Contour des yeux - Endro ",9.9,{"$f":"VLOOKUP(A253,Hygiène!A:I,9,FALSE)","v":0},{"$f":"VLOOKUP(A253,Hygiène!A:I,6,FALSE)","v":0},"Produits d'hygiène coporelle"]
["Gamme anti âge - Crème - Endro ",19.899999999999999,{"$f":"VLOOKUP(A254,Hygiène!A:I,9,FALSE)","v":0},{"$f":"VLOOKUP(A254,Hygiène!A:I,6,FALSE)","v":0},"Produits d'hygiène coporelle"]
["Gamme anti âge - Sérum- Endro ",24.9,{"$f":"VLOOKUP(A255,Hygiène!A:I,9,FALSE)","v":0},{"$f":"VLOOKUP(A255,Hygiène!A:I,6,FALSE)","v":0},"Produits d'hygiène coporelle"]
["Gant de toilette","5,50€",{"$f":"VLOOKUP(A256,'Zéro déchets'!A:I,8,FALSE)","v":0},{"$f":"VLOOKUP(A256,'Zéro déchets'!A:J,6)","v":0},"Zéros déchets et Bocaux"]
["Gel douche vrac - Karité verveine","8,30€ / kg",{"$f":"VLOOKUP(A257,Entretien!A:I,9,FALSE)","v":0},{"$f":"VLOOKUP(A257,Entretien!A:F,6,FALSE)","v":0},"Produits d'entretiens"]
["Gel WC - Vrac","5,90€ / kg",{"$f":"VLOOKUP(A258,Entretien!A:I,9,FALSE)","v":0},{"$f":"VLOOKUP(A258,Entretien!A:F,6,FALSE)","v":0},"Produits d'entretiens"]
["Gingembre Confit irréguliers ","14,50€ / kg",{"$f":"VLOOKUP(A259,'Alimentaire vrac'!A:I,9)","v":0},{"$f":"VLOOKUP(A259,'Alimentaire vrac'!A:I,6)","v":0},"Alimentaire Vrac"]
["Gingembre en Poudre ","50,00€ / kg",{"$f":"VLOOKUP(A260,'Alimentaire vrac'!A:I,9)","v":0},{"$f":"VLOOKUP(A260,'Alimentaire vrac'!A:I,6)","v":0},"Alimentaire Vrac"]
["Gommage visage Douce Aloe","14,90€",{"$f":"VLOOKUP(A261,Hygiène!A:I,9,FALSE)","v":0},{"$f":"VLOOKUP(A261,Hygiène!A:I,6,FALSE)","v":0},"Produits d'hygiène coporelle"]
["Goupillon pour laver les pailles","1,15€",{"$f":"VLOOKUP(A262,'Zéro déchets'!A:I,8,FALSE)","v":0},{"$f":"VLOOKUP(A262,'Zéro déchets'!A:J,6)","v":0},"Zéros déchets et Bocaux"]
["Graines de Chia ","50€ / kg",{"$f":"VLOOKUP(A263,'Alimentaire vrac'!A:I,9)","v":0},{"$f":"VLOOKUP(A263,'Alimentaire vrac'!A:I,6)","v":0},"Alimentaire Vrac"]
["Graines de Courges Foncées ","18,50€ / kg",{"$f":"VLOOKUP(A264,'Alimentaire vrac'!A:I,9)","v":0},{"$f":"VLOOKUP(A264,'Alimentaire vrac'!A:I,6)","v":0},"Alimentaire Vrac"]
["Graines de Lin Brun ","6,20€ / kg",{"$f":"VLOOKUP(A265,'Alimentaire vrac'!A:I,9)","v":0},{"$f":"VLOOKUP(A265,'Alimentaire vrac'!A:I,6)","v":0},"Alimentaire Vrac"]
["Graines de Pavot","135€ / kg",{"$f":"VLOOKUP(A266,'Alimentaire vrac'!A:I,9)","v":0},{"$f":"VLOOKUP(A266,'Alimentaire vrac'!A:I,6)","v":0},"Alimentaire Vrac"]
["Graines de Sésame ","30€ / kg",{"$f":"VLOOKUP(A267,'Alimentaire vrac'!A:I,9)","v":0},{"$f":"VLOOKUP(A267,'Alimentaire vrac'!A:I,6)","v":0},"Alimentaire Vrac"]
["Haricots Blancs ","6,00€ / kg",{"$f":"VLOOKUP(A268,'Alimentaire vrac'!A:I,9)","v":0},{"$f":"VLOOKUP(A268,'Alimentaire vrac'!A:I,6)","v":0},"Alimentaire Vrac"]
["Haricots Noirs","7,50€ / kg",{"$f":"VLOOKUP(A269,'Alimentaire vrac'!A:I,9)","v":0},{"$f":"VLOOKUP(A269,'Alimentaire vrac'!A:I,6)","v":0},"Alimentaire Vrac"]
["Haricots Rouges ","7,50€ /kg",{"$f":"VLOOKUP(A270,'Alimentaire vrac'!A:I,9)","v":0},{"$f":"VLOOKUP(A270,'Alimentaire vrac'!A:I,6)","v":0},"Alimentaire Vrac"]
["Herbes de provence ","54,00€ / kg",{"$f":"VLOOKUP(A271,'Alimentaire vrac'!A:I,9)","v":0},{"$f":"VLOOKUP(A271,'Alimentaire vrac'!A:I,6)","v":0},"Alimentaire Vrac"]
["Huile d’Olive extra vierge ","9€ / kg",{"$f":"VLOOKUP(A272,'Alimentaire vrac'!A:I,9)","v":0},{"$f":"VLOOKUP(A272,'Alimentaire vrac'!A:I,6)","v":0},"Alimentaire Vrac"]
["Huile d’olive Luce - 1L",10.9,{"$f":"VLOOKUP(A273,'Alimentaire conditionné'!A:I,9)","v":0},{"$f":"VLOOKUP(A273,'Alimentaire conditionné'!A:F,6)","v":0},"Alimentaire Conditionné"]
["Huile de Cameline - 25cl","10,50€",{"$f":"VLOOKUP(A274,'Alimentaire conditionné'!A:I,9)","v":0},{"$f":"VLOOKUP(A274,'Alimentaire conditionné'!A:F,6)","v":0},"Alimentaire Conditionné"]
["Huile de Chanvre - 25cl","11,50€",{"$f":"VLOOKUP(A275,'Alimentaire conditionné'!A:I,9)","v":0},{"$f":"VLOOKUP(A275,'Alimentaire conditionné'!A:F,6)","v":0},"Alimentaire Conditionné"]
["Huile de Coco vierge","12,00€ / kg",{"$f":"VLOOKUP(A276,'Alimentaire vrac'!A:I,9)","v":0},{"$f":"VLOOKUP(A276,'Alimentaire vrac'!A:I,6)","v":0},"Alimentaire Vrac"]
["Huile de Colza - 1L","14,00€",{"$f":"VLOOKUP(A277,'Alimentaire conditionné'!A:I,9)","v":0},{"$f":"VLOOKUP(A277,'Alimentaire conditionné'!A:F,6)","v":0},"Alimentaire Conditionné"]
["Huile de Colza - 50cl","7,00€",{"$f":"VLOOKUP(A278,'Alimentaire conditionné'!A:I,9)","v":0},{"$f":"VLOOKUP(A278,'Alimentaire conditionné'!A:F,6)","v":0},"Alimentaire Conditionné"]
["Huile de Colza - en vrac ","11,00€",{"$f":"VLOOKUP(A279,'Alimentaire vrac'!A:I,9)","v":0},{"$f":"VLOOKUP(A279,'Alimentaire vrac'!A:I,6)","v":0},"Alimentaire Vrac"]
["Huile de Lin - 25cl ","7,50€",{"$f":"VLOOKUP(A280,'Alimentaire conditionné'!A:I,9)","v":0},{"$f":"VLOOKUP(A280,'Alimentaire conditionné'!A:F,6)","v":0},"Alimentaire Conditionné"]
["Huile de soin Antixiodante - Clemence & Vivien ","11,90€",{"$f":"VLOOKUP(A281,Hygiène!A:I,9,FALSE)","v":0},{"$f":"VLOOKUP(A281,Hygiène!A:I,6,FALSE)","v":0},"Produits d'hygiène coporelle"]
["Huile de soin Peaux Mixtes - Clemence & Vivien ","11,90€",{"$f":"VLOOKUP(A282,Hygiène!A:I,9,FALSE)","v":0},{"$f":"VLOOKUP(A282,Hygiène!A:I,6,FALSE)","v":0},"Produits d'hygiène coporelle"]
["Huile de soin Peaux Sèches - Clemence & Vivien ","11,90€",{"$f":"VLOOKUP(A283,Hygiène!A:I,9,FALSE)","v":0},{"$f":"VLOOKUP(A283,Hygiène!A:I,6,FALSE)","v":0},"Produits d'hygiène coporelle"]
["Huile de Tournesol - 1L","12,00€",{"$f":"VLOOKUP(A284,'Alimentaire conditionné'!A:I,9)","v":0},{"$f":"VLOOKUP(A284,'Alimentaire conditionné'!A:F,6)","v":0},"Alimentaire Conditionné"]
["Huile de Tournesol - 50cl","6,00€",{"$f":"VLOOKUP(A285,'Alimentaire conditionné'!A:I,9)","v":0},{"$f":"VLOOKUP(A285,'Alimentaire conditionné'!A:F,6)","v":0},"Alimentaire Conditionné"]
["Huile de Tournesol - en vrac ","7,90€ / kg",{"$f":"VLOOKUP(A286,'Alimentaire vrac'!A:I,9)","v":0},{"$f":"VLOOKUP(A286,'Alimentaire vrac'!A:I,6)","v":0},"Alimentaire Vrac"]
["Huile démaquillante toute douce Amande - Clemence & Vivien ","11,90€",{"$f":"VLOOKUP(A287,Hygiène!A:I,9,FALSE)","v":0},{"$f":"VLOOKUP(A287,Hygiène!A:I,6,FALSE)","v":0},"Produits d'hygiène coporelle"]
["Huile démaquillante toute douce Rose-Muguet - Clemence & Vivien ","11,90€",{"$f":"VLOOKUP(A288,Hygiène!A:I,9,FALSE)","v":0},{"$f":"VLOOKUP(A288,Hygiène!A:I,6,FALSE)","v":0},"Produits d'hygiène coporelle"]
["Huile Sèche 3 en 1 - Endro","19,90€",{"$f":"VLOOKUP(A289,Hygiène!A:I,9,FALSE)","v":0},{"$f":"VLOOKUP(A289,Hygiène!A:I,6,FALSE)","v":0},"Produits d'hygiène coporelle"]
["Jus d’orange du Maroc - 75cl","4€",{"$f":"VLOOKUP(A290,'Boissons conditionnées'!A:I,9)","v":0},{"$f":"VLOOKUP(A290,'Boissons conditionnées'!A:I,6)","v":0},"Boissons conditionnées"]
["Jus de citron Sicile - 1L","5,90€",{"$f":"VLOOKUP(A291,'Boissons conditionnées'!A:I,9)","v":0},{"$f":"VLOOKUP(A291,'Boissons conditionnées'!A:I,6)","v":0},"Boissons conditionnées"]
["Jus de citron Sicile - 50cl","3,50€",{"$f":"VLOOKUP(A292,'Boissons conditionnées'!A:I,9)","v":0},{"$f":"VLOOKUP(A292,'Boissons conditionnées'!A:I,6)","v":0},"Boissons conditionnées"]
["Jus de Pamplemousse rose Demeter - 75cl","4,50€",{"$f":"VLOOKUP(A293,'Boissons conditionnées'!A:I,9)","v":0},{"$f":"VLOOKUP(A293,'Boissons conditionnées'!A:I,6)","v":0},"Boissons conditionnées"]
["Jus de Pomme 1L ","4,50€",{"$f":"VLOOKUP(A294,'Boissons conditionnées'!A:I,9)","v":0},{"$f":"VLOOKUP(A294,'Boissons conditionnées'!A:I,6)","v":0},"Boissons conditionnées"]
["Jus de Pomme Cassis - 75cl","4€",{"$f":"VLOOKUP(A295,'Boissons conditionnées'!A:I,9)","v":0},{"$f":"VLOOKUP(A295,'Boissons conditionnées'!A:I,6)","v":0},"Boissons conditionnées"]
["Jus de Raisin 1L","4,50€",{"$f":"VLOOKUP(A296,'Boissons conditionnées'!A:I,9)","v":0},{"$f":"VLOOKUP(A296,'Boissons conditionnées'!A:I,6)","v":0},"Boissons conditionnées"]
["Jus Pomme Cassis 1L ","4,50€",{"$f":"VLOOKUP(A297,'Boissons conditionnées'!A:I,9)","v":0},{"$f":"VLOOKUP(A297,'Boissons conditionnées'!A:I,6)","v":0},"Boissons conditionnées"]
["Jus Pomme Framboise - 1L","4,90€",{"$f":"VLOOKUP(A298,'Boissons conditionnées'!A:I,9)","v":0},{"$f":"VLOOKUP(A298,'Boissons conditionnées'!A:I,6)","v":0},"Boissons conditionnées"]
["Ketchup bouteille - 500g","3,50€",{"$f":"VLOOKUP(A299,'Alimentaire conditionné'!A:I,9)","v":0},{"$f":"VLOOKUP(A299,'Alimentaire conditionné'!A:F,6)","v":0},"Alimentaire Conditionné"]
["Kombucha - Citron Gingembre - 33cl","4,50€",{"$f":"VLOOKUP(A300,'Boissons conditionnées'!A:I,9)","v":0},{"$f":"VLOOKUP(A300,'Boissons conditionnées'!A:I,6)","v":0},"Boissons conditionnées"]
["Kombucha - Menthe - 33cl","4,50€",{"$f":"VLOOKUP(A301,'Boissons conditionnées'!A:I,9)","v":0},{"$f":"VLOOKUP(A301,'Boissons conditionnées'!A:I,6)","v":0},"Boissons conditionnées"]
["Kombucha - Nature - 33cl","4,50€",{"$f":"VLOOKUP(A302,'Boissons conditionnées'!A:I,9)","v":0},{"$f":"VLOOKUP(A302,'Boissons conditionnées'!A:I,6)","v":0},"Boissons conditionnées"]
["Lait après-soleil - 100ml","14,90€",{"$f":"VLOOKUP(A303,Hygiène!A:I,9,FALSE)","v":0},{"$f":"VLOOKUP(A303,Hygiène!A:I,6,FALSE)","v":0},"Produits d'hygiène coporelle"]
["Lait après-soleil - 50ml","9,90€",{"$f":"VLOOKUP(A304,Hygiène!A:I,9,FALSE)","v":0},{"$f":"VLOOKUP(A304,Hygiène!A:I,6,FALSE)","v":0},"Produits d'hygiène coporelle"]
["Lait corps au beurre de Karité Vrac","31,00€",{"$f":"VLOOKUP(A305,Hygiène!A:I,9,FALSE)","v":0},{"$f":"VLOOKUP(A305,Hygiène!A:I,6,FALSE)","v":0},"Produits d'hygiène coporelle"]
["Lait UHT 1/2 écrémé - 1L","1,50€",{"$f":"VLOOKUP(A306,'Boissons conditionnées'!A:I,9)","v":0},{"$f":"VLOOKUP(A306,'Boissons conditionnées'!A:I,6)","v":0},"Boissons conditionnées"]
["Lait UHT entier - 1L","1,95€",{"$f":"VLOOKUP(A307,'Boissons conditionnées'!A:I,9)","v":0},{"$f":"VLOOKUP(A307,'Boissons conditionnées'!A:I,6)","v":0},"Boissons conditionnées"]
["Lentilles Corail"," 8,50€ / kg",{"$f":"VLOOKUP(A308,'Alimentaire vrac'!A:I,9)","v":0},{"$f":"VLOOKUP(A308,'Alimentaire vrac'!A:I,6)","v":0},"Alimentaire Vrac"]
["Lessive Fleur à Savon ","4,35€ / kg",{"$f":"VLOOKUP(A309,Entretien!A:I,9,FALSE)","v":0},{"$f":"VLOOKUP(A309,Entretien!A:F,6,FALSE)","v":0},"Produits d'entretiens"]
["Lessive Hypoallergénique","5,90€ / kg",{"$f":"VLOOKUP(A310,Entretien!A:I,9,FALSE)","v":0},{"$f":"VLOOKUP(A310,Entretien!A:F,6,FALSE)","v":0},"Produits d'entretiens"]
["Levure Paillettes Maltées","9,50€ / kg",{"$f":"VLOOKUP(A311,'Alimentaire vrac'!A:I,9)","v":0},{"$f":"VLOOKUP(A311,'Alimentaire vrac'!A:I,6)","v":0},"Alimentaire Vrac"]
["Limonade Bulles d’orange - 25cl","3,00 €",{"$f":"VLOOKUP(A312,'Boissons conditionnées'!A:I,9)","v":0},{"$f":"VLOOKUP(A312,'Boissons conditionnées'!A:I,6)","v":0},"Boissons conditionnées"]
["Limonade Sucre de Canne 1L","4€",{"$f":"VLOOKUP(A313,'Boissons conditionnées'!A:I,9)","v":0},{"$f":"VLOOKUP(A313,'Boissons conditionnées'!A:I,6)","v":0},"Boissons conditionnées"]
["Liquide Vaisselle Main - Vrac ","3,80€ / kg",{"$f":"VLOOKUP(A314,Entretien!A:I,9,FALSE)","v":0},{"$f":"VLOOKUP(A314,Entretien!A:F,6,FALSE)","v":0},"Produits d'entretiens"]
["Maïs Popcorn ","4,50€ / kg",{"$f":"VLOOKUP(A315,'Alimentaire vrac'!A:I,9)","v":0},{"$f":"VLOOKUP(A315,'Alimentaire vrac'!A:I,6)","v":0},"Alimentaire Vrac"]
["Mangues séchées","27,50€ / kg",{"$f":"VLOOKUP(A316,'Alimentaire vrac'!A:I,9)","v":0},{"$f":"VLOOKUP(A316,'Alimentaire vrac'!A:I,6)","v":0},"Alimentaire Vrac"]
["Masque Visage Purifiant - Endro","24,90 €",{"$f":"VLOOKUP(A317,Hygiène!A:I,9,FALSE)","v":0},{"$f":"VLOOKUP(A317,Hygiène!A:I,6,FALSE)","v":0},"Produits d'hygiène coporelle"]
["Maté Nature - Vrac","45€ / kg",{"$f":"VLOOKUP(A318,'Boissons en vrac'!A:I,9)","v":0},{"$f":"VLOOKUP(A318,'Boissons en vrac'!A:F,6)","v":0},"Boisson en Vrac"]
["Mayonnaise dijonnaise - 185g","3,50 €",{"$f":"VLOOKUP(A319,'Alimentaire conditionné'!A:I,9)","v":0},{"$f":"VLOOKUP(A319,'Alimentaire conditionné'!A:F,6)","v":0},"Alimentaire Conditionné"]
["Mayonnaise nature - 325g","5€",{"$f":"VLOOKUP(A320,'Alimentaire conditionné'!A:I,9)","v":0},{"$f":"VLOOKUP(A320,'Alimentaire conditionné'!A:F,6)","v":0},"Alimentaire Conditionné"]
["Mélange Détox","20,50 € / kg",{"$f":"VLOOKUP(A321,'Alimentaire vrac'!A:I,9)","v":0},{"$f":"VLOOKUP(A321,'Alimentaire vrac'!A:I,6)","v":0},"Alimentaire Vrac"]
["Mélange Energie","18,50 € /kg",{"$f":"VLOOKUP(A322,'Alimentaire vrac'!A:I,9)","v":0},{"$f":"VLOOKUP(A322,'Alimentaire vrac'!A:I,6)","v":0},"Alimentaire Vrac"]
["Mélange Exotique","18,50 € / kg",{"$f":"VLOOKUP(A323,'Alimentaire vrac'!A:I,9)","v":0},{"$f":"VLOOKUP(A323,'Alimentaire vrac'!A:I,6)","v":0},"Alimentaire Vrac"]
["Mélange Rando ","18,50 € / kg",{"$f":"VLOOKUP(A324,'Alimentaire vrac'!A:I,9)","v":0},{"$f":"VLOOKUP(A324,'Alimentaire vrac'!A:I,6)","v":0},"Alimentaire Vrac"]
["Mélange Salade","15,50€/kg",{"$f":"VLOOKUP(A325,'Alimentaire vrac'!A:I,9)","v":0},{"$f":"VLOOKUP(A325,'Alimentaire vrac'!A:I,6)","v":0},"Alimentaire Vrac"]
["Miel d’Acacia - 250g","6,90 €",{"$f":"VLOOKUP(A326,'Alimentaire conditionné'!A:I,9)","v":0},{"$f":"VLOOKUP(A326,'Alimentaire conditionné'!A:F,6)","v":0},"Alimentaire Conditionné"]
["Miel d’Acacia - 500g","12,50 €",{"$f":"VLOOKUP(A327,'Alimentaire conditionné'!A:I,9)","v":0},{"$f":"VLOOKUP(A327,'Alimentaire conditionné'!A:F,6)","v":0},"Alimentaire Conditionné"]
["Miel de Lavande - 250g","8,50 €",{"$f":"VLOOKUP(A328,'Alimentaire conditionné'!A:I,9)","v":0},{"$f":"VLOOKUP(A328,'Alimentaire conditionné'!A:F,6)","v":0},"Alimentaire Conditionné"]
["Miel de Lavande - 500g","14,90 €",{"$f":"VLOOKUP(A329,'Alimentaire conditionné'!A:I,9)","v":0},{"$f":"VLOOKUP(A329,'Alimentaire conditionné'!A:F,6)","v":0},"Alimentaire Conditionné"]
["Miel de Printemps - 250g","6,90 €",{"$f":"VLOOKUP(A330,'Alimentaire conditionné'!A:I,9)","v":0},{"$f":"VLOOKUP(A330,'Alimentaire conditionné'!A:F,6)","v":0},"Alimentaire Conditionné"]
["Miel de Printemps - 500g","12€",{"$f":"VLOOKUP(A331,'Alimentaire conditionné'!A:I,9)","v":0},{"$f":"VLOOKUP(A331,'Alimentaire conditionné'!A:F,6)","v":0},"Alimentaire Conditionné"]
["Miel de Sapin - 250g","8,50 €",{"$f":"VLOOKUP(A332,'Alimentaire conditionné'!A:I,9)","v":0},{"$f":"VLOOKUP(A332,'Alimentaire conditionné'!A:F,6)","v":0},"Alimentaire Conditionné"]
["Miel de Sapin - 500g","15,00 €",{"$f":"VLOOKUP(A333,'Alimentaire conditionné'!A:I,9)","v":0},{"$f":"VLOOKUP(A333,'Alimentaire conditionné'!A:F,6)","v":0},"Alimentaire Conditionné"]
["Miel de Tilleul - 250g","7,50 €",{"$f":"VLOOKUP(A334,'Alimentaire conditionné'!A:I,9)","v":0},{"$f":"VLOOKUP(A334,'Alimentaire conditionné'!A:F,6)","v":0},"Alimentaire Conditionné"]
["Miel de Tilleul - 500g","12,50 €",{"$f":"VLOOKUP(A335,'Alimentaire conditionné'!A:I,9)","v":0},{"$f":"VLOOKUP(A335,'Alimentaire conditionné'!A:F,6)","v":0},"Alimentaire Conditionné"]
["Miel Polyfloral - 250g","6,50 €",{"$f":"VLOOKUP(A336,'Alimentaire conditionné'!A:I,9)","v":0},{"$f":"VLOOKUP(A336,'Alimentaire conditionné'!A:F,6)","v":0},"Alimentaire Conditionné"]
["Miel Polyfloral - 500g","11,50 €",{"$f":"VLOOKUP(A337,'Alimentaire conditionné'!A:I,9)","v":0},{"$f":"VLOOKUP(A337,'Alimentaire conditionné'!A:F,6)","v":0},"Alimentaire Conditionné"]
["Mini Filet à chute de savon","3,50 €",{"$f":"VLOOKUP(A338,'Zéro déchets'!A:I,8,FALSE)","v":0},{"$f":"VLOOKUP(A338,'Zéro déchets'!A:J,6)","v":0},"Zéros déchets et Bocaux"]
["Mouchoirs","9,50 €",{"$f":"VLOOKUP(A339,'Zéro déchets'!A:I,8,FALSE)","v":0},{"$f":"VLOOKUP(A339,'Zéro déchets'!A:J,6)","v":0},"Zéros déchets et Bocaux"]
["Moutarde à l’ancienne - 350g","4,20€",{"$f":"VLOOKUP(A340,'Alimentaire conditionné'!A:I,9)","v":0},{"$f":"VLOOKUP(A340,'Alimentaire conditionné'!A:F,6)","v":0},"Alimentaire Conditionné"]
["Moutarde de Dijon - 350g","4,20€",{"$f":"VLOOKUP(A341,'Alimentaire conditionné'!A:I,9)","v":0},{"$f":"VLOOKUP(A341,'Alimentaire conditionné'!A:F,6)","v":0},"Alimentaire Conditionné"]
["Muesli aux fruits","5,90 € / kg",{"$f":"VLOOKUP(A342,'Alimentaire vrac'!A:I,9)","v":0},{"$f":"VLOOKUP(A342,'Alimentaire vrac'!A:I,6)","v":0},"Alimentaire Vrac"]
["Muesli croustillant chocolat ","10,50 € / kg",{"$f":"VLOOKUP(A343,'Alimentaire vrac'!A:I,9)","v":0},{"$f":"VLOOKUP(A343,'Alimentaire vrac'!A:I,6)","v":0},"Alimentaire Vrac"]
["Multi Usage - Vrac ",5.9,{"$f":"VLOOKUP(A344,Entretien!A:I,9,FALSE)","v":0},{"$f":"VLOOKUP(A344,Entretien!A:F,6,FALSE)","v":0},"Produits d'entretiens"]
["Muscade Noix Poudre ","76€ / kg",{"$f":"VLOOKUP(A345,'Alimentaire vrac'!A:I,9)","v":0},{"$f":"VLOOKUP(A345,'Alimentaire vrac'!A:I,6)","v":0},"Alimentaire Vrac"]
["Nectar d’abricot 75cl ","4,50 €",{"$f":"VLOOKUP(A346,'Boissons conditionnées'!A:I,9)","v":0},{"$f":"VLOOKUP(A346,'Boissons conditionnées'!A:I,6)","v":0},"Boissons conditionnées"]
["Nectar de Pêche - 75cl ","4,50 €",{"$f":"VLOOKUP(A347,'Boissons conditionnées'!A:I,9)","v":0},{"$f":"VLOOKUP(A347,'Boissons conditionnées'!A:I,6)","v":0},"Boissons conditionnées"]
["Nectar de Poire - 75cl ","4,50 €",{"$f":"VLOOKUP(A348,'Boissons conditionnées'!A:I,9)","v":0},{"$f":"VLOOKUP(A348,'Boissons conditionnées'!A:I,6)","v":0},"Boissons conditionnées"]
["Nettoyant visage - Peau sèche Hibiscus ","8,90 €",{"$f":"VLOOKUP(A349,Hygiène!A:I,9,FALSE)","v":0},{"$f":"VLOOKUP(A349,Hygiène!A:I,6,FALSE)","v":0},"Produits d'hygiène coporelle"]
["Nids de Pâtes de Riz Thai Complet ","17,50 € / kg",{"$f":"VLOOKUP(A350,'Alimentaire vrac'!A:I,9)","v":0},{"$f":"VLOOKUP(A350,'Alimentaire vrac'!A:I,6)","v":0},"Alimentaire Vrac"]
["Noisettes décortiquées","18,90 € / kg",{"$f":"VLOOKUP(A351,'Alimentaire vrac'!A:I,9)","v":0},{"$f":"VLOOKUP(A351,'Alimentaire vrac'!A:I,6)","v":0},"Alimentaire Vrac"]
["Noix Cerneaux Brisures 3-12m","28,50 € / kg",{"$f":"VLOOKUP(A352,'Alimentaire vrac'!A:I,9)","v":0},{"$f":"VLOOKUP(A352,'Alimentaire vrac'!A:I,6)","v":0},"Alimentaire Vrac"]
["Noix de Cajou Nature","23,50 € / kg",{"$f":"VLOOKUP(A353,'Alimentaire vrac'!A:I,9)","v":0},{"$f":"VLOOKUP(A353,'Alimentaire vrac'!A:I,6)","v":0},"Alimentaire Vrac"]
["Noix de coco Chips ","12,00 € / kg",{"$f":"VLOOKUP(A354,'Alimentaire vrac'!A:I,9)","v":0},{"$f":"VLOOKUP(A354,'Alimentaire vrac'!A:I,6)","v":0},"Alimentaire Vrac"]
["Noix de Coco Râpée ","8€ / kg",{"$f":"VLOOKUP(A355,'Alimentaire vrac'!A:I,9)","v":0},{"$f":"VLOOKUP(A355,'Alimentaire vrac'!A:I,6)","v":0},"Alimentaire Vrac"]
["Noix de Pécan - Gros Morceaux ","29,00 € / kg",{"$f":"VLOOKUP(A356,'Alimentaire vrac'!A:I,9)","v":0},{"$f":"VLOOKUP(A356,'Alimentaire vrac'!A:I,6)","v":0},"Alimentaire Vrac"]
["Noix du brésil ","22,00 € / kg",{"$f":"VLOOKUP(A357,'Alimentaire vrac'!A:I,9)","v":0},{"$f":"VLOOKUP(A357,'Alimentaire vrac'!A:I,6)","v":0},"Alimentaire Vrac"]
["Oeufs frais bio (boîte de 6)",3,{"$f":"VLOOKUP(A358,'Produits frais '!A:I,9)","v":0},{"$f":"VLOOKUP(A358,'Produits frais '!A:I,6)","v":0},"Produits Frais"]
["Oriculi en bioplastique - Bleu","4,50 €",{"$f":"VLOOKUP(A359,Hygiène!A:I,9,FALSE)","v":0},{"$f":"VLOOKUP(A359,Hygiène!A:I,6,FALSE)","v":0},"Produits d'hygiène coporelle"]
["Oriculi en bioplastique - Jaune","4,50 €",{"$f":"VLOOKUP(A360,Hygiène!A:I,9,FALSE)","v":0},{"$f":"VLOOKUP(A360,Hygiène!A:I,6,FALSE)","v":0},"Produits d'hygiène coporelle"]
["Oriculi en bioplastique - Vert","4,50 €",{"$f":"VLOOKUP(A361,Hygiène!A:I,9,FALSE)","v":0},{"$f":"VLOOKUP(A361,Hygiène!A:I,6,FALSE)","v":0},"Produits d'hygiène coporelle"]
["Oriculi en bioplastique - Violet","4,50 €",{"$f":"VLOOKUP(A362,Hygiène!A:I,9,FALSE)","v":0},{"$f":"VLOOKUP(A362,Hygiène!A:I,6,FALSE)","v":0},"Produits d'hygiène coporelle"]
["Paille Courte - 13cm Gravée","1,49 €",{"$f":"VLOOKUP(A363,'Zéro déchets'!A:I,8,FALSE)","v":0},{"$f":"VLOOKUP(A363,'Zéro déchets'!A:J,6)","v":0},"Zéros déchets et Bocaux"]
["Paille Longue - 20cm Gravée","1,69 €",{"$f":"VLOOKUP(A364,'Zéro déchets'!A:I,8,FALSE)","v":0},{"$f":"VLOOKUP(A364,'Zéro déchets'!A:J,6)","v":0},"Zéros déchets et Bocaux"]
["Panier de rangement (Panier seul)","9,50 €",{"$f":"VLOOKUP(A365,'Zéro déchets'!A:I,8,FALSE)","v":0},{"$f":"VLOOKUP(A365,'Zéro déchets'!A:J,6)","v":0},"Zéros déchets et Bocaux"]
["Papier toilette 600 feuilles non blanchi","0,95 €",{"$f":"VLOOKUP(A366,Entretien!A:I,9,FALSE)","v":0},{"$f":"VLOOKUP(A366,Entretien!A:F,6,FALSE)","v":0},"Produits d'entretiens"]
["Paprika Doux Poudre ","67,00 € / kg",{"$f":"VLOOKUP(A367,'Alimentaire vrac'!A:I,9)","v":0},{"$f":"VLOOKUP(A367,'Alimentaire vrac'!A:I,6)","v":0},"Alimentaire Vrac"]
["Paprika Fort moulu","88,00 € / kg",{"$f":"VLOOKUP(A368,'Alimentaire vrac'!A:I,9)","v":0},{"$f":"VLOOKUP(A368,'Alimentaire vrac'!A:I,6)","v":0},"Alimentaire Vrac"]
["Pâte à tartiner - Amande sésame miel","7,50€",{"$f":"VLOOKUP(A369,'Alimentaire conditionné'!A:I,9)","v":0},{"$f":"VLOOKUP(A369,'Alimentaire conditionné'!A:F,6)","v":0},"Alimentaire Conditionné"]
["Pâte à tartiner - Cajou coco miel bio","7,50€",{"$f":"VLOOKUP(A370,'Alimentaire conditionné'!A:I,9)","v":0},{"$f":"VLOOKUP(A370,'Alimentaire conditionné'!A:F,6)","v":0},"Alimentaire Conditionné"]
["Pâte à tartiner Amande Miel - 280g ","10,50€",{"$f":"VLOOKUP(A371,'Alimentaire conditionné'!A:I,9)","v":0},{"$f":"VLOOKUP(A371,'Alimentaire conditionné'!A:F,6)","v":0},"Alimentaire Conditionné"]
["Pâte à tartiner Choc-Noisettes - 265g ","9,90€",{"$f":"VLOOKUP(A372,'Alimentaire conditionné'!A:I,9)","v":0},{"$f":"VLOOKUP(A372,'Alimentaire conditionné'!A:F,6)","v":0},"Alimentaire Conditionné"]
["Pâtes - Coquillettes blanches","3,50€ / kg",{"$f":"VLOOKUP(A373,'Alimentaire vrac'!A:I,9)","v":0},{"$f":"VLOOKUP(A373,'Alimentaire vrac'!A:I,6)","v":0},"Alimentaire Vrac"]
["Pâtes - Coquillettes Semi Complètes ","3,50€ / kg",{"$f":"VLOOKUP(A374,'Alimentaire vrac'!A:I,9)","v":0},{"$f":"VLOOKUP(A374,'Alimentaire vrac'!A:I,6)","v":0},"Alimentaire Vrac"]
["Pâtes - Farfalles Blanches ","3,30€ / kg",{"$f":"VLOOKUP(A375,'Alimentaire vrac'!A:I,9)","v":0},{"$f":"VLOOKUP(A375,'Alimentaire vrac'!A:I,6)","v":0},"Alimentaire Vrac"]
["Pâtes - Lasagnes Blanches ","6,00€ / kg",{"$f":"VLOOKUP(A376,'Alimentaire vrac'!A:I,9)","v":0},{"$f":"VLOOKUP(A376,'Alimentaire vrac'!A:I,6)","v":0},"Alimentaire Vrac"]
["Pâtes - Pennes Blancs ","3,50€ / kg",{"$f":"VLOOKUP(A377,'Alimentaire vrac'!A:I,9)","v":0},{"$f":"VLOOKUP(A377,'Alimentaire vrac'!A:I,6)","v":0},"Alimentaire Vrac"]
["Pâtes - Pennes Semi Complets","3,50€ / kg",{"$f":"VLOOKUP(A378,'Alimentaire vrac'!A:I,9)","v":0},{"$f":"VLOOKUP(A378,'Alimentaire vrac'!A:I,6)","v":0},"Alimentaire Vrac"]
["Pâtes - Spaghettis Blancs","3,30€/kg",{"$f":"VLOOKUP(A379,'Alimentaire vrac'!A:I,9)","v":0},{"$f":"VLOOKUP(A379,'Alimentaire vrac'!A:I,6)","v":0},"Alimentaire Vrac"]
["Pâtes - Spaghettis Complets","3,30€/kg",{"$f":"VLOOKUP(A380,'Alimentaire vrac'!A:I,9)","v":0},{"$f":"VLOOKUP(A380,'Alimentaire vrac'!A:I,6)","v":0},"Alimentaire Vrac"]
["Pâtes - Tagliatelles Nature sans oeufs","4,50€/kg",{"$f":"VLOOKUP(A381,'Alimentaire vrac'!A:I,9)","v":0},{"$f":"VLOOKUP(A381,'Alimentaire vrac'!A:I,6)","v":0},"Alimentaire Vrac"]
["Peigne Démeloir à manche","6,49 €",{"$f":"VLOOKUP(A382,Hygiène!A:I,9,FALSE)","v":0},{"$f":"VLOOKUP(A382,Hygiène!A:I,6,FALSE)","v":0},"Produits d'hygiène coporelle"]
["Peigne Démêloir sans manche","6,49 €",{"$f":"VLOOKUP(A383,Hygiène!A:I,9,FALSE)","v":0},{"$f":"VLOOKUP(A383,Hygiène!A:I,6,FALSE)","v":0},"Produits d'hygiène coporelle"]
["Percarbonate Blanchissant Linge Vrac ","4,90 € / kg",{"$f":"VLOOKUP(A384,Entretien!A:I,9,FALSE)","v":0},{"$f":"VLOOKUP(A384,Entretien!A:F,6,FALSE)","v":0},"Produits d'entretiens"]
["Pesto Ail des Ours","4,20 €",{"$f":"VLOOKUP(A385,'Alimentaire conditionné'!A:I,9)","v":0},{"$f":"VLOOKUP(A385,'Alimentaire conditionné'!A:F,6)","v":0},"Alimentaire Conditionné"]
["Pesto Basilic classique - ","4,20 €",{"$f":"VLOOKUP(A386,'Alimentaire conditionné'!A:I,9)","v":0},{"$f":"VLOOKUP(A386,'Alimentaire conditionné'!A:F,6)","v":0},"Alimentaire Conditionné"]
["Pesto Rosso - 90g","4,20 €",{"$f":"VLOOKUP(A387,'Alimentaire conditionné'!A:I,9)","v":0},{"$f":"VLOOKUP(A387,'Alimentaire conditionné'!A:F,6)","v":0},"Alimentaire Conditionné"]
["Pesto Verde - 90g","4,20 €",{"$f":"VLOOKUP(A388,'Alimentaire conditionné'!A:I,9)","v":0},{"$f":"VLOOKUP(A388,'Alimentaire conditionné'!A:F,6)","v":0},"Alimentaire Conditionné"]
["Petit Epeautre ","7,50 € / kg",{"$f":"VLOOKUP(A389,'Alimentaire vrac'!A:I,9)","v":0},{"$f":"VLOOKUP(A389,'Alimentaire vrac'!A:I,6)","v":0},"Alimentaire Vrac"]
["Petit Sac à thé de Noël","2,50 €",{"$f":"VLOOKUP(A390,'Zéro déchets'!A:I,8,FALSE)","v":0},{"$f":"VLOOKUP(A390,'Zéro déchets'!A:J,6)","v":0},"Zéros déchets et Bocaux"]
["Pignons de Pin","67,00 € / kg",{"$f":"VLOOKUP(A391,'Alimentaire vrac'!A:I,9)","v":0},{"$f":"VLOOKUP(A391,'Alimentaire vrac'!A:I,6)","v":0},"Alimentaire Vrac"]
["Pistaches Coques Grillées Salées","35,00 € / kg",{"$f":"VLOOKUP(A392,'Alimentaire vrac'!A:I,9)","v":0},{"$f":"VLOOKUP(A392,'Alimentaire vrac'!A:I,6)","v":0},"Alimentaire Vrac"]
["Pistaches vertes sans coque non salées ","46,00 € / kg",{"$f":"VLOOKUP(A393,'Alimentaire vrac'!A:I,9)","v":0},{"$f":"VLOOKUP(A393,'Alimentaire vrac'!A:I,6)","v":0},"Alimentaire Vrac"]
["Pochette à brosse à dent ou à paille","3,50 €",{"$f":"VLOOKUP(A394,'Zéro déchets'!A:I,8,FALSE)","v":0},{"$f":"VLOOKUP(A394,'Zéro déchets'!A:J,6)","v":0},"Zéros déchets et Bocaux"]
["Pochette à Goûter ","9,50 €",{"$f":"VLOOKUP(A395,'Zéro déchets'!A:I,8,FALSE)","v":0},{"$f":"VLOOKUP(A395,'Zéro déchets'!A:J,6)","v":0},"Zéros déchets et Bocaux"]
["Pochette à Savon","4,50 €",{"$f":"VLOOKUP(A396,'Zéro déchets'!A:I,8,FALSE)","v":0},{"$f":"VLOOKUP(A396,'Zéro déchets'!A:J,6)","v":0},"Zéros déchets et Bocaux"]
["Pois chiches","5€ / kg",{"$f":"VLOOKUP(A397,'Alimentaire vrac'!A:I,9)","v":0},{"$f":"VLOOKUP(A397,'Alimentaire vrac'!A:I,6)","v":0},"Alimentaire Vrac"]
["Poivre Blanc Grains ","115,00 € / kg",{"$f":"VLOOKUP(A398,'Alimentaire vrac'!A:I,9)","v":0},{"$f":"VLOOKUP(A398,'Alimentaire vrac'!A:I,6)","v":0},"Alimentaire Vrac"]
["Poivre Noir en poudre","50€/kg",{"$f":"VLOOKUP(A399,'Alimentaire vrac'!A:I,9)","v":0},{"$f":"VLOOKUP(A399,'Alimentaire vrac'!A:I,6)","v":0},"Alimentaire Vrac"]
["Poivre Noir Grains ","85,00 € / kg",{"$f":"VLOOKUP(A400,'Alimentaire vrac'!A:I,9)","v":0},{"$f":"VLOOKUP(A400,'Alimentaire vrac'!A:I,6)","v":0},"Alimentaire Vrac"]
["Polenta instantanée ","3,50 € / kg",{"$f":"VLOOKUP(A401,'Alimentaire vrac'!A:I,9)","v":0},{"$f":"VLOOKUP(A401,'Alimentaire vrac'!A:I,6)","v":0},"Alimentaire Vrac"]
["Porte savon classic vrac","8,00 €",{"$f":"VLOOKUP(A402,Hygiène!A:I,9,FALSE)","v":0},{"$f":"VLOOKUP(A402,Hygiène!A:I,6,FALSE)","v":0},"Produits d'hygiène coporelle"]
["Potion Detoxifiante -  33cl","3,50 €",{"$f":"VLOOKUP(A403,'Boissons conditionnées'!A:I,9)","v":0},{"$f":"VLOOKUP(A403,'Boissons conditionnées'!A:I,6)","v":0},"Boissons conditionnées"]
["Potion Detoxifiante - 75cl","5,50€",{"$f":"VLOOKUP(A404,'Boissons conditionnées'!A:I,9)","v":0},{"$f":"VLOOKUP(A404,'Boissons conditionnées'!A:I,6)","v":0},"Boissons conditionnées"]
["Potion Energisante - 33cl","3,50 €",{"$f":"VLOOKUP(A405,'Boissons conditionnées'!A:I,9)","v":0},{"$f":"VLOOKUP(A405,'Boissons conditionnées'!A:I,6)","v":0},"Boissons conditionnées"]
["Potion Energisante - 75cl","5,50€",{"$f":"VLOOKUP(A406,'Boissons conditionnées'!A:I,9)","v":0},{"$f":"VLOOKUP(A406,'Boissons conditionnées'!A:I,6)","v":0},"Boissons conditionnées"]
["Potion Relaxante -  33cl","3,50 €",{"$f":"VLOOKUP(A407,'Boissons conditionnées'!A:I,9)","v":0},{"$f":"VLOOKUP(A407,'Boissons conditionnées'!A:I,6)","v":0},"Boissons conditionnées"]
["Potion Relaxante - 75cl","5,50€",{"$f":"VLOOKUP(A408,'Boissons conditionnées'!A:I,9)","v":0},{"$f":"VLOOKUP(A408,'Boissons conditionnées'!A:I,6)","v":0},"Boissons conditionnées"]
["Poudre à Lever sans Gluten ","17,90 € / kg",{"$f":"VLOOKUP(A409,'Alimentaire vrac'!A:I,9)","v":0},{"$f":"VLOOKUP(A409,'Alimentaire vrac'!A:I,6)","v":0},"Alimentaire Vrac"]
["Poudre d’amande complète","25€ / kg",{"$f":"VLOOKUP(A410,'Alimentaire vrac'!A:I,9)","v":0},{"$f":"VLOOKUP(A410,'Alimentaire vrac'!A:I,6)","v":0},"Alimentaire Vrac"]
["Protection intime - Protège slip","6,00 €",{"$f":"VLOOKUP(A411,'Zéro déchets'!A:I,8,FALSE)","v":0},{"$f":"VLOOKUP(A411,'Zéro déchets'!A:J,6)","v":0},"Zéros déchets et Bocaux"]
["Pruneaux dénoyautés ","22€ / kg",{"$f":"VLOOKUP(A412,'Alimentaire vrac'!A:I,9)","v":0},{"$f":"VLOOKUP(A412,'Alimentaire vrac'!A:I,6)","v":0},"Alimentaire Vrac"]
["Purée Amande 270g - Go Nuts","8,90€",{"$f":"VLOOKUP(A413,'Alimentaire conditionné'!A:I,9)","v":0},{"$f":"VLOOKUP(A413,'Alimentaire conditionné'!A:F,6)","v":0},"Alimentaire Conditionné"]
["Purée de Sésame Blanc - France - 350g","6,50€",{"$f":"VLOOKUP(A414,'Alimentaire conditionné'!A:I,9)","v":0},{"$f":"VLOOKUP(A414,'Alimentaire conditionné'!A:F,6)","v":0},"Alimentaire Conditionné"]
["Purée Noisette - 270g","8,50€",{"$f":"VLOOKUP(A415,'Alimentaire conditionné'!A:I,9)","v":0},{"$f":"VLOOKUP(A415,'Alimentaire conditionné'!A:F,6)","v":0},"Alimentaire Conditionné"]
["Quinoa Complet ","9,50€/kg",{"$f":"VLOOKUP(A416,'Alimentaire vrac'!A:I,9)","v":0},{"$f":"VLOOKUP(A416,'Alimentaire vrac'!A:I,6)","v":0},"Alimentaire Vrac"]
["Raisins secs Sultanines","7,90€/kg",{"$f":"VLOOKUP(A417,'Alimentaire vrac'!A:I,9)","v":0},{"$f":"VLOOKUP(A417,'Alimentaire vrac'!A:I,6)","v":0},"Alimentaire Vrac"]
["Rasoir de sûreté à lame rechargeable","45€",{"$f":"VLOOKUP(A418,Hygiène!A:I,9,FALSE)","v":0},{"$f":"VLOOKUP(A418,Hygiène!A:I,6,FALSE)","v":0},"Produits d'hygiène coporelle"]
["Recharge de 10 lames pour rasoir de sûreté","7,50€",{"$f":"VLOOKUP(A419,Hygiène!A:I,9,FALSE)","v":0},{"$f":"VLOOKUP(A419,Hygiène!A:I,6,FALSE)","v":0},"Produits d'hygiène coporelle"]
["Recouvre bol en coton enduit - Taille à Cake","7€",{"$f":"VLOOKUP(A420,'Zéro déchets'!A:I,8,FALSE)","v":0},{"$f":"VLOOKUP(A420,'Zéro déchets'!A:J,6)","v":0},"Zéros déchets et Bocaux"]
["Recouvre bol en coton enduit - Taille à Gratin","9€",{"$f":"VLOOKUP(A421,'Zéro déchets'!A:I,8,FALSE)","v":0},{"$f":"VLOOKUP(A421,'Zéro déchets'!A:J,6)","v":0},"Zéros déchets et Bocaux"]
["Recouvre bol en coton enduit - Taille L","9€",{"$f":"VLOOKUP(A422,'Zéro déchets'!A:I,8,FALSE)","v":0},{"$f":"VLOOKUP(A422,'Zéro déchets'!A:J,6)","v":0},"Zéros déchets et Bocaux"]
["Recouvre bol en coton enduit - Taille M","7€",{"$f":"VLOOKUP(A423,'Zéro déchets'!A:I,8,FALSE)","v":0},{"$f":"VLOOKUP(A423,'Zéro déchets'!A:J,6)","v":0},"Zéros déchets et Bocaux"]
["Recouvre bol en coton enduit - Taille S","5€",{"$f":"VLOOKUP(A424,'Zéro déchets'!A:I,8,FALSE)","v":0},{"$f":"VLOOKUP(A424,'Zéro déchets'!A:J,6)","v":0},"Zéros déchets et Bocaux"]
["Recouvre bol en coton enduit - Taille XS","4€",{"$f":"VLOOKUP(A425,'Zéro déchets'!A:I,8,FALSE)","v":0},{"$f":"VLOOKUP(A425,'Zéro déchets'!A:J,6)","v":0},"Zéros déchets et Bocaux"]
["Riz - Trio de Camargue ","6€/kg",{"$f":"VLOOKUP(A426,'Alimentaire vrac'!A:I,9)","v":0},{"$f":"VLOOKUP(A426,'Alimentaire vrac'!A:I,6)","v":0},"Alimentaire Vrac"]
["Riz Arborio Blanc pour Risotto ","5,50€/kg",{"$f":"VLOOKUP(A427,'Alimentaire vrac'!A:I,9)","v":0},{"$f":"VLOOKUP(A427,'Alimentaire vrac'!A:I,6)","v":0},"Alimentaire Vrac"]
["Riz Blanc Basmati Blanc ","5,50€/kg",{"$f":"VLOOKUP(A428,'Alimentaire vrac'!A:I,9)","v":0},{"$f":"VLOOKUP(A428,'Alimentaire vrac'!A:I,6)","v":0},"Alimentaire Vrac"]
["Riz Blanc IGP Camargue","5,50€/kg",{"$f":"VLOOKUP(A429,'Alimentaire vrac'!A:I,9)","v":0},{"$f":"VLOOKUP(A429,'Alimentaire vrac'!A:I,6)","v":0},"Alimentaire Vrac"]
["Riz Long Complet ","4,25€/kg",{"$f":"VLOOKUP(A430,'Alimentaire vrac'!A:I,9)","v":0},{"$f":"VLOOKUP(A430,'Alimentaire vrac'!A:I,6)","v":0},"Alimentaire Vrac"]
["Riz Rond blanc IGP Camargue","5,50€",{"$f":"VLOOKUP(A431,'Alimentaire vrac'!A:I,9)","v":0},{"$f":"VLOOKUP(A431,'Alimentaire vrac'!A:I,6)","v":0},"Alimentaire Vrac"]
["Riz semi complet IGP Camargue","4,90€/kg",{"$f":"VLOOKUP(A432,'Alimentaire vrac'!A:I,9)","v":0},{"$f":"VLOOKUP(A432,'Alimentaire vrac'!A:I,6)","v":0},"Alimentaire Vrac"]
["Romarin feuille ","65€/kg",{"$f":"VLOOKUP(A433,'Alimentaire vrac'!A:I,9)","v":0},{"$f":"VLOOKUP(A433,'Alimentaire vrac'!A:I,6)","v":0},"Alimentaire Vrac"]
["Lingettes démaquillantes - Lot de 5 Ronds","7€",{"$f":"VLOOKUP(A434,'Zéro déchets'!A:I,8,FALSE)","v":0},{"$f":"VLOOKUP(A434,'Zéro déchets'!A:J,6)","v":0},"Zéros déchets et Bocaux"]
["Rooibos - Earl Grey ","60€/kg",{"$f":"VLOOKUP(A435,'Boissons en vrac'!A:I,9)","v":0},{"$f":"VLOOKUP(A435,'Boissons en vrac'!A:F,6)","v":0},"Boisson en vrac"]
["Rooibos Nature","50€/kg",{"$f":"VLOOKUP(A436,'Boissons en vrac'!A:I,9)","v":0},{"$f":"VLOOKUP(A436,'Boissons en vrac'!A:F,6)","v":0},"Boisson en vrac"]
["Sac à congélation - Taille L","8,50€",{"$f":"VLOOKUP(A437,'Zéro déchets'!A:I,8,FALSE)","v":0},{"$f":"VLOOKUP(A437,'Zéro déchets'!A:J,6)","v":0},"Zéros déchets et Bocaux"]
["Sac à congélation - Taille M","7,50€",{"$f":"VLOOKUP(A438,'Zéro déchets'!A:I,8,FALSE)","v":0},{"$f":"VLOOKUP(A438,'Zéro déchets'!A:J,6)","v":0},"Zéros déchets et Bocaux"]
["Sac à congélation - Taille S","6,50€",{"$f":"VLOOKUP(A439,'Zéro déchets'!A:I,8,FALSE)","v":0},{"$f":"VLOOKUP(A439,'Zéro déchets'!A:J,6)","v":0},"Zéros déchets et Bocaux"]
["Sac à vrac en Coton - Taille L","8,50€",{"$f":"VLOOKUP(A440,'Zéro déchets'!A:I,8,FALSE)","v":0},{"$f":"VLOOKUP(A440,'Zéro déchets'!A:J,6)","v":0},"Zéros déchets et Bocaux"]
["Sac à vrac en Coton - Taille M","7,50€",{"$f":"VLOOKUP(A441,'Zéro déchets'!A:I,8,FALSE)","v":0},{"$f":"VLOOKUP(A441,'Zéro déchets'!A:J,6)","v":0},"Zéros déchets et Bocaux"]
["Sac à vrac en Coton - Taille S","7€",{"$f":"VLOOKUP(A442,'Zéro déchets'!A:I,8,FALSE)","v":0},{"$f":"VLOOKUP(A442,'Zéro déchets'!A:J,6)","v":0},"Zéros déchets et Bocaux"]
["Sarrasin Décortiqué ","7€ / kg",{"$f":"VLOOKUP(A443,'Alimentaire vrac'!A:I,9)","v":0},{"$f":"VLOOKUP(A443,'Alimentaire vrac'!A:I,6)","v":0},"Alimentaire Vrac"]
["Savon à froid l’Emir - Clemence & Vivien ",4.5,{"$f":"VLOOKUP(A444,Hygiène!A:I,9,FALSE)","v":0},{"$f":"VLOOKUP(A444,Hygiène!A:I,6,FALSE)","v":0},"Produits d'hygiène coporelle"]
["Savon à froid le Chérubin - Clemence & Vivien ",4.2,{"$f":"VLOOKUP(A445,Hygiène!A:I,9,FALSE)","v":0},{"$f":"VLOOKUP(A445,Hygiène!A:I,6,FALSE)","v":0},"Produits d'hygiène coporelle"]
["Savon à froid le Gandhi - Clemence & Vivien ",4.5,{"$f":"VLOOKUP(A446,Hygiène!A:I,9,FALSE)","v":0},{"$f":"VLOOKUP(A446,Hygiène!A:I,6,FALSE)","v":0},"Produits d'hygiène coporelle"]
["Savon à froid le Gecko - Clemence & Vivien ",4.5,{"$f":"VLOOKUP(A447,Hygiène!A:I,9,FALSE)","v":0},{"$f":"VLOOKUP(A447,Hygiène!A:I,6,FALSE)","v":0},"Produits d'hygiène coporelle"]
["Savon à froid le Saint Bernard - Clemence & Vivien ",4.5,{"$f":"VLOOKUP(A448,Hygiène!A:I,9,FALSE)","v":0},{"$f":"VLOOKUP(A448,Hygiène!A:I,6,FALSE)","v":0},"Produits d'hygiène coporelle"]
["Savon à froid le Suisse - Clemence & Vivien ",4.2,{"$f":"VLOOKUP(A449,Hygiène!A:I,9,FALSE)","v":0},{"$f":"VLOOKUP(A449,Hygiène!A:I,6,FALSE)","v":0},"Produits d'hygiène coporelle"]
["Savon à froid le Vahiné - Clemence & Vivien ",4.5,{"$f":"VLOOKUP(A450,Hygiène!A:I,9,FALSE)","v":0},{"$f":"VLOOKUP(A450,Hygiène!A:I,6,FALSE)","v":0},"Produits d'hygiène coporelle"]
["Savon liquide de Marseille à l’huile d’olive & Lavande","6,90€ / kg",{"$f":"VLOOKUP(A451,Hygiène!A:I,9,FALSE)","v":0},{"$f":"VLOOKUP(A451,Hygiène!A:I,6,FALSE)","v":0},"Produits d'hygiène coporelle"]
["Savon Noir Tradition - Vrac ","5€ / kg",{"$f":"VLOOKUP(A452,Entretien!A:I,9,FALSE)","v":0},{"$f":"VLOOKUP(A452,Entretien!A:F,6,FALSE)","v":0},"Produits d'entretiens"]
["Savon Soin Lavant Purifiant - Endro","14,90€",{"$f":"VLOOKUP(A453,Hygiène!A:I,9,FALSE)","v":0},{"$f":"VLOOKUP(A453,Hygiène!A:I,6,FALSE)","v":0},"Produits d'hygiène coporelle"]
["Sel de Mer Gros - Guérande","3,90€ / kg",{"$f":"VLOOKUP(A454,'Alimentaire vrac'!A:I,9)","v":0},{"$f":"VLOOKUP(A454,'Alimentaire vrac'!A:I,6)","v":0},"Alimentaire Vrac"]
["Sel fin de méditerrannée","3€ / kg",{"$f":"VLOOKUP(A455,'Alimentaire vrac'!A:I,9)","v":0},{"$f":"VLOOKUP(A455,'Alimentaire vrac'!A:I,6)","v":0},"Alimentaire Vrac"]
["Sel régénérant vrac","2,10€ / kg",{"$f":"VLOOKUP(A456,Entretien!A:I,9,FALSE)","v":0},{"$f":"VLOOKUP(A456,Entretien!A:F,6,FALSE)","v":0},"Produits d'entretiens"]
["Sérum anti-imperfection - Endro","24,90€",{"$f":"VLOOKUP(A457,Hygiène!A:I,9,FALSE)","v":0},{"$f":"VLOOKUP(A457,Hygiène!A:I,6,FALSE)","v":0},"Produits d'hygiène coporelle"]
["Sérum désaltérant à l’acide hyaluronique - Clemence & Vivien ",9.1999999999999993,{"$f":"VLOOKUP(A458,Hygiène!A:I,9,FALSE)","v":0},{"$f":"VLOOKUP(A458,Hygiène!A:I,6,FALSE)","v":0},"Produits d'hygiène coporelle"]
["Sérum Longueurs et pointes - Clemence & Vivien ","8,90€",{"$f":"VLOOKUP(A459,Hygiène!A:I,9,FALSE)","v":0},{"$f":"VLOOKUP(A459,Hygiène!A:I,6,FALSE)","v":0},"Produits d'hygiène coporelle"]
["Serviette de table","8,50€",{"$f":"VLOOKUP(A460,'Zéro déchets'!A:I,8,FALSE)","v":0},{"$f":"VLOOKUP(A460,'Zéro déchets'!A:J,6)","v":0},"Zéros déchets et Bocaux"]
["Protection intime - Serviette hygiénique","9€",{"$f":"VLOOKUP(A461,'Zéro déchets'!A:I,9,FALSE)","v":0},{"$f":"VLOOKUP(A461,'Zéro déchets'!A:J,6)","v":0},"Zéros déchets et Bocaux"]
["Protection intime - Serviette hygiénique Nuit","11€",{"$f":"VLOOKUP(A462,'Zéro déchets'!A:I,8,FALSE)","v":0},{"$f":"VLOOKUP(A462,'Zéro déchets'!A:J,6)","v":0},"Zéros déchets et Bocaux"]
["Set Assiette et cuillère enfant - Bordeaux ","25€",{"$f":"VLOOKUP(A463,'Zéro déchets'!A:I,8,FALSE)","v":0},{"$f":"VLOOKUP(A463,'Zéro déchets'!A:J,6)","v":0},"Zéros déchets et Bocaux"]
["Set Assiette et cuillère enfant - Lilas ","25€",{"$f":"VLOOKUP(A464,'Zéro déchets'!A:I,8,FALSE)","v":0},{"$f":"VLOOKUP(A464,'Zéro déchets'!A:J,6)","v":0},"Zéros déchets et Bocaux"]
["Set de 3 couverts réutilisables","5,49€",{"$f":"VLOOKUP(A465,'Zéro déchets'!A:I,8,FALSE)","v":0},{"$f":"VLOOKUP(A465,'Zéro déchets'!A:J,6)","v":0},"Zéros déchets et Bocaux"]
["Set de Repas Bébé - Bleu","23,50€",{"$f":"VLOOKUP(A466,'Zéro déchets'!A:I,8,FALSE)","v":0},{"$f":"VLOOKUP(A466,'Zéro déchets'!A:J,6)","v":0},"Zéros déchets et Bocaux"]
["Set de Repas Bébé - Jaune","23,50€",{"$f":"VLOOKUP(A467,'Zéro déchets'!A:I,8,FALSE)","v":0},{"$f":"VLOOKUP(A467,'Zéro déchets'!A:J,6)","v":0},"Zéros déchets et Bocaux"]
["Set de Repas Bébé - Rose","23,50€",{"$f":"VLOOKUP(A468,'Zéro déchets'!A:I,8,FALSE)","v":0},{"$f":"VLOOKUP(A468,'Zéro déchets'!A:J,6)","v":0},"Zéros déchets et Bocaux"]
["Set de Repas Bébé - Vert","23,50€",{"$f":"VLOOKUP(A469,'Zéro déchets'!A:I,8,FALSE)","v":0},{"$f":"VLOOKUP(A469,'Zéro déchets'!A:J,6)","v":0},"Zéros déchets et Bocaux"]
["Set de repas enfants","25€",{"$f":"VLOOKUP(A470,'Zéro déchets'!A:I,8,FALSE)","v":0},{"$f":"VLOOKUP(A470,'Zéro déchets'!A:J,6)","v":0},"Zéros déchets et Bocaux"]
["Set de Table à colorier ","7,50€",{"$f":"VLOOKUP(A471,'Zéro déchets'!A:I,8,FALSE)","v":0},{"$f":"VLOOKUP(A471,'Zéro déchets'!A:J,6)","v":0},"Zéros déchets et Bocaux"]
["Shampoing Douche à l’huile d’argan - Vrac",14.5,{"$f":"VLOOKUP(A472,Hygiène!A:I,9,FALSE)","v":0},{"$f":"VLOOKUP(A472,Hygiène!A:I,6,FALSE)","v":0},"Produits d'hygiène coporelle"]
["Shampoing sec - sans HE - 35ml","8,50€",{"$f":"VLOOKUP(A473,Hygiène!A:I,9,FALSE)","v":0},{"$f":"VLOOKUP(A473,Hygiène!A:I,6,FALSE)","v":0},"Produits d'hygiène coporelle"]
["Shampoing sec - sans HE - Recharge ","6€",{"$f":"VLOOKUP(A474,Hygiène!A:I,9,FALSE)","v":0},{"$f":"VLOOKUP(A474,Hygiène!A:I,6,FALSE)","v":0},"Produits d'hygiène coporelle"]
["Shampoing solide - Antipelliculaire - 80g","10,60€",{"$f":"VLOOKUP(A475,Hygiène!A:I,9,FALSE)","v":0},{"$f":"VLOOKUP(A475,Hygiène!A:I,6,FALSE)","v":0},"Produits d'hygiène coporelle"]
["Shampoing solide - Bleu - 80g","10,60€",{"$f":"VLOOKUP(A476,Hygiène!A:I,9,FALSE)","v":0},{"$f":"VLOOKUP(A476,Hygiène!A:I,6,FALSE)","v":0},"Produits d'hygiène coporelle"]
["Shampoing solide - Cheveux abîmés & colorés - Sans HE - 80g","10,60€",{"$f":"VLOOKUP(A477,Hygiène!A:I,9,FALSE)","v":0},{"$f":"VLOOKUP(A477,Hygiène!A:I,6,FALSE)","v":0},"Produits d'hygiène coporelle"]
["Shampoing solide - Cheveux abîmés et colorés - 80g","10,60€",{"$f":"VLOOKUP(A478,Hygiène!A:I,9,FALSE)","v":0},{"$f":"VLOOKUP(A478,Hygiène!A:I,6,FALSE)","v":0},"Produits d'hygiène coporelle"]
["Shampoing solide - Cheveux frisés / crépus - 80g","10,60€",{"$f":"VLOOKUP(A479,Hygiène!A:I,9,FALSE)","v":0},{"$f":"VLOOKUP(A479,Hygiène!A:I,6,FALSE)","v":0},"Produits d'hygiène coporelle"]
["Shampoing solide - Cheveux gras - 80g","10,60€",{"$f":"VLOOKUP(A480,Hygiène!A:I,9,FALSE)","v":0},{"$f":"VLOOKUP(A480,Hygiène!A:I,6,FALSE)","v":0},"Produits d'hygiène coporelle"]
["Shampoing solide - Cheveux gras - Sans HE 80g","10,60€",{"$f":"VLOOKUP(A481,Hygiène!A:I,9,FALSE)","v":0},{"$f":"VLOOKUP(A481,Hygiène!A:I,6,FALSE)","v":0},"Produits d'hygiène coporelle"]
["Shampoing solide - Sensible - 80g","10,60€",{"$f":"VLOOKUP(A482,Hygiène!A:I,9,FALSE)","v":0},{"$f":"VLOOKUP(A482,Hygiène!A:I,6,FALSE)","v":0},"Produits d'hygiène coporelle"]
["Shampoing solide - Stimulant - 80g","10,60€",{"$f":"VLOOKUP(A483,Hygiène!A:I,9,FALSE)","v":0},{"$f":"VLOOKUP(A483,Hygiène!A:I,6,FALSE)","v":0},"Produits d'hygiène coporelle"]
["Shampoing solide - Tout type de cheveux - 80g","10,60€",{"$f":"VLOOKUP(A484,Hygiène!A:I,9,FALSE)","v":0},{"$f":"VLOOKUP(A484,Hygiène!A:I,6,FALSE)","v":0},"Produits d'hygiène coporelle"]
["Sirop d’Erable ","25€/kg",{"$f":"VLOOKUP(A485,'Alimentaire vrac'!A:I,9)","v":0},{"$f":"VLOOKUP(A485,'Alimentaire vrac'!A:I,6)","v":0},"Alimentaire Vrac"]
["Sirop de Cassis - 70cl","6,90€",{"$f":"VLOOKUP(A486,'Alimentaire conditionné'!A:I,9)","v":0},{"$f":"VLOOKUP(A486,'Alimentaire conditionné'!A:F,6)","v":0},"Alimentaire Conditionné"]
["Sirop de Citron ","9,50€/kg",{"$f":"VLOOKUP(A487,'Boissons en vrac'!A:I,9)","v":0},{"$f":"VLOOKUP(A487,'Boissons en vrac'!A:F,6)","v":0},"Boisson en vrac"]
["Sirop de Grenadine","9,50€/kg",{"$f":"VLOOKUP(A488,'Boissons en vrac'!A:I,9)","v":0},{"$f":"VLOOKUP(A488,'Boissons en vrac'!A:F,6)","v":0},"Boisson en vrac"]
["Sirop de Menthe","9,50€/kg",{"$f":"VLOOKUP(A489,'Boissons en vrac'!A:I,9)","v":0},{"$f":"VLOOKUP(A489,'Boissons en vrac'!A:F,6)","v":0},"Boisson en vrac"]
["Sirop de Pamplemousse - 70cl ","6,90€",{"$f":"VLOOKUP(A490,'Alimentaire conditionné'!A:I,9)","v":0},{"$f":"VLOOKUP(A490,'Alimentaire conditionné'!A:F,6)","v":0},"Alimentaire Conditionné"]
["Sirop de Pêche","9,50€/kg",{"$f":"VLOOKUP(A491,'Boissons en vrac'!A:I,9)","v":0},{"$f":"VLOOKUP(A491,'Boissons en vrac'!A:F,6)","v":0},"Boisson en vrac"]
["Solution hydroalcolique","7,50€/kg",{"$f":"VLOOKUP(A492,Entretien!A:I,9,FALSE)","v":0},{"$f":"VLOOKUP(A492,Entretien!A:F,6,FALSE)","v":0},"Produits d'entretiens"]
["Spirales Complètes ","3,30€/kg",{"$f":"VLOOKUP(A493,'Alimentaire vrac'!A:I,9)","v":0},{"$f":"VLOOKUP(A493,'Alimentaire vrac'!A:I,6)","v":0},"Alimentaire Vrac"]
["Sucre Blanc de Canne","2,95€/kg",{"$f":"VLOOKUP(A494,'Alimentaire vrac'!A:I,9)","v":0},{"$f":"VLOOKUP(A494,'Alimentaire vrac'!A:I,6)","v":0},"Alimentaire Vrac"]
["Sucre Blond - Paraguay","3,20€/kg",{"$f":"VLOOKUP(A495,'Alimentaire vrac'!A:I,9)","v":0},{"$f":"VLOOKUP(A495,'Alimentaire vrac'!A:I,6)","v":0},"Alimentaire Vrac"]
["Sucre Complet - Rapadura ","4,90€/kg",{"$f":"VLOOKUP(A496,'Alimentaire vrac'!A:I,9)","v":0},{"$f":"VLOOKUP(A496,'Alimentaire vrac'!A:I,6)","v":0},"Alimentaire Vrac"]
["Sucre de Canne Complet","4,90€/kg",{"$f":"VLOOKUP(A497,'Alimentaire vrac'!A:I,9)","v":0},{"$f":"VLOOKUP(A497,'Alimentaire vrac'!A:I,6)","v":0},"Alimentaire Vrac"]
["Sucre de Coco","5,50€/kg",{"$f":"VLOOKUP(A498,'Alimentaire vrac'!A:I,9)","v":0},{"$f":"VLOOKUP(A498,'Alimentaire vrac'!A:I,6)","v":0},"Alimentaire Vrac"]
["Sucre Glace sans séparateur ","5,50€/kg",{"$f":"VLOOKUP(A499,'Alimentaire vrac'!A:I,9)","v":0},{"$f":"VLOOKUP(A499,'Alimentaire vrac'!A:I,6)","v":0},"Alimentaire Vrac"]
["Sucre Roux Demérara (Cassonade) ","3,50€/kg",{"$f":"VLOOKUP(A500,'Alimentaire vrac'!A:I,9)","v":0},{"$f":"VLOOKUP(A500,'Alimentaire vrac'!A:I,6)","v":0},"Alimentaire Vrac"]
["Super bain d’huile avant-shampoing - - Clemence & Vivien ","9,90€",{"$f":"VLOOKUP(A501,Hygiène!A:I,9,FALSE)","v":0},{"$f":"VLOOKUP(A501,Hygiène!A:I,6,FALSE)","v":0},"Produits d'hygiène coporelle"]
["Tablettes Lave Vaisselle Vrac","13,60€/kg",{"$f":"VLOOKUP(A502,Entretien!A:I,9,FALSE)","v":0},{"$f":"VLOOKUP(A502,Entretien!A:F,6,FALSE)","v":0},"Produits d'entretiens"]
["Tamari - Vrac","10,80€/kg",{"$f":"VLOOKUP(A503,'Alimentaire vrac'!A:I,9)","v":0},{"$f":"VLOOKUP(A503,'Alimentaire vrac'!A:I,6)","v":0},"Alimentaire Vrac"]
["Tamari, less salt 25% - 250ml","6,50€",{"$f":"VLOOKUP(A504,'Alimentaire conditionné'!A:I,9)","v":0},{"$f":"VLOOKUP(A504,'Alimentaire conditionné'!A:F,6)","v":0},"Alimentaire Conditionné"]
["Tartinade Apéro - Aubergine Paprika fumé","5,50€",{"$f":"VLOOKUP(A505,'Alimentaire conditionné'!A:I,9)","v":0},{"$f":"VLOOKUP(A505,'Alimentaire conditionné'!A:F,6)","v":0},"Alimentaire Conditionné"]
["Tartinade Apéro - Betterave Grains moutarde","5,50€",{"$f":"VLOOKUP(A506,'Alimentaire conditionné'!A:I,9)","v":0},{"$f":"VLOOKUP(A506,'Alimentaire conditionné'!A:F,6)","v":0},"Alimentaire Conditionné"]
["Tartinade Apéro - Butternut verveine citron","5,50€",{"$f":"VLOOKUP(A507,'Alimentaire conditionné'!A:I,9)","v":0},{"$f":"VLOOKUP(A507,'Alimentaire conditionné'!A:F,6)","v":0},"Alimentaire Conditionné"]
["Tartinade Apéro - Carotte cumin","5,50€",{"$f":"VLOOKUP(A508,'Alimentaire conditionné'!A:I,9)","v":0},{"$f":"VLOOKUP(A508,'Alimentaire conditionné'!A:F,6)","v":0},"Alimentaire Conditionné"]
["Tartinade Apéro - Chou fleur Ail noir","5,50€",{"$f":"VLOOKUP(A509,'Alimentaire conditionné'!A:I,9)","v":0},{"$f":"VLOOKUP(A509,'Alimentaire conditionné'!A:F,6)","v":0},"Alimentaire Conditionné"]
["Tartinade Apéro - Courgette Thym","5,50€",{"$f":"VLOOKUP(A510,'Alimentaire conditionné'!A:I,9)","v":0},{"$f":"VLOOKUP(A510,'Alimentaire conditionné'!A:F,6)","v":0},"Alimentaire Conditionné"]
["Tartinade Apéro - Gwacamole 130g","4,50€",{"$f":"VLOOKUP(A511,'Alimentaire conditionné'!A:I,9)","v":0},{"$f":"VLOOKUP(A511,'Alimentaire conditionné'!A:F,6)","v":0},"Alimentaire Conditionné"]
["Tartinade Apéro - Poichichade au paprika - 100g","4,50 €",{"$f":"VLOOKUP(A512,'Alimentaire conditionné'!A:I,9)","v":0},{"$f":"VLOOKUP(A512,'Alimentaire conditionné'!A:F,6)","v":0},"Alimentaire Conditionné"]
["Tartinade Apéro - Poichichade traditionnelle - 100g","4,00 €",{"$f":"VLOOKUP(A513,'Alimentaire conditionné'!A:I,9)","v":0},{"$f":"VLOOKUP(A513,'Alimentaire conditionné'!A:F,6)","v":0},"Alimentaire Conditionné"]
["Tartinade Apéro - Pois chiches Graines de Nigelle","5,50€",{"$f":"VLOOKUP(A514,'Alimentaire conditionné'!A:I,9)","v":0},{"$f":"VLOOKUP(A514,'Alimentaire conditionné'!A:F,6)","v":0},"Alimentaire Conditionné"]
["Tartine Craquante Sarrasin - 300g","5,50€",{"$f":"VLOOKUP(A515,'Alimentaire conditionné'!A:I,9)","v":0},{"$f":"VLOOKUP(A515,'Alimentaire conditionné'!A:F,6)","v":0},"Alimentaire Conditionné"]
["Tête rechargeable pour Brosse vaisselle","2,70€",{"$f":"VLOOKUP(A516,Entretien!A:I,9,FALSE)","v":0},{"$f":"VLOOKUP(A516,Entretien!A:F,6,FALSE)","v":0},"Produits d'entretiens"]
["Thé Noir - Darjeling ","50€/kg",{"$f":"VLOOKUP(A517,'Boissons en vrac'!A:I,9)","v":0},{"$f":"VLOOKUP(A517,'Boissons en vrac'!A:F,6)","v":0},"Boisson en vrac"]
["Thé Noir - Earl Grey ","60€/kg",{"$f":"VLOOKUP(A518,'Boissons en vrac'!A:I,9)","v":0},{"$f":"VLOOKUP(A518,'Boissons en vrac'!A:F,6)","v":0},"Boisson en vrac"]
["Thé Noir - Noël","69€/kg",{"$f":"VLOOKUP(A519,'Boissons en vrac'!A:I,9)","v":0},{"$f":"VLOOKUP(A519,'Boissons en vrac'!A:F,6)","v":0},"Boisson en vrac"]
["Thé Vert - Au chant des cigales ","60€/kg",{"$f":"VLOOKUP(A520,'Boissons en vrac'!A:I,9)","v":0},{"$f":"VLOOKUP(A520,'Boissons en vrac'!A:F,6)","v":0},"Boisson en vrac"]
["Thé Vert - Earl Grey Azur ","60€/kg",{"$f":"VLOOKUP(A521,'Boissons en vrac'!A:I,9)","v":0},{"$f":"VLOOKUP(A521,'Boissons en vrac'!A:F,6)","v":0},"Boisson en vrac"]
["Thé Vert - Fruité Tropical","60€/kg",{"$f":"VLOOKUP(A522,'Boissons en vrac'!A:I,9)","v":0},{"$f":"VLOOKUP(A522,'Boissons en vrac'!A:F,6)","v":0},"Boisson en vrac"]
["Thé Vert - Gunpowder ","50€/kg",{"$f":"VLOOKUP(A523,'Boissons en vrac'!A:I,9)","v":0},{"$f":"VLOOKUP(A523,'Boissons en vrac'!A:F,6)","v":0},"Boisson en vrac"]
["Thé Vert - Jasmin","65€/kg",{"$f":"VLOOKUP(A524,'Boissons en vrac'!A:I,9)","v":0},{"$f":"VLOOKUP(A524,'Boissons en vrac'!A:F,6)","v":0},"Boisson en vrac"]
["Thé Vert - Mandarine Pamplemousse","60€/kg",{"$f":"VLOOKUP(A525,'Boissons en vrac'!A:I,9)","v":0},{"$f":"VLOOKUP(A525,'Boissons en vrac'!A:F,6)","v":0},"Boisson en vrac"]
["Thé Vert - Menthe Marrakech","60€/kg",{"$f":"VLOOKUP(A526,'Boissons en vrac'!A:I,9)","v":0},{"$f":"VLOOKUP(A526,'Boissons en vrac'!A:F,6)","v":0},"Boisson en vrac"]
["Thym Feuilles ","140€/kg",{"$f":"VLOOKUP(A527,'Alimentaire vrac'!A:I,9)","v":0},{"$f":"VLOOKUP(A527,'Alimentaire vrac'!A:I,6)","v":0},"Alimentaire Vrac"]
["Tisane - Après Repas","50€/kg",{"$f":"VLOOKUP(A528,'Boissons en vrac'!A:I,9)","v":0},{"$f":"VLOOKUP(A528,'Boissons en vrac'!A:F,6)","v":0},"Boisson en vrac"]
["Tisane - Camomille","60€/kg",{"$f":"VLOOKUP(A529,'Boissons en vrac'!A:I,9)","v":0},{"$f":"VLOOKUP(A529,'Boissons en vrac'!A:F,6)","v":0},"Boisson en vrac"]
["Tisane - Des elfes","60€/kg",{"$f":"VLOOKUP(A530,'Boissons en vrac'!A:I,9)","v":0},{"$f":"VLOOKUP(A530,'Boissons en vrac'!A:F,6)","v":0},"Boisson en vrac"]
["Tisane - Du soir ","50€/kg",{"$f":"VLOOKUP(A531,'Boissons en vrac'!A:I,9)","v":0},{"$f":"VLOOKUP(A531,'Boissons en vrac'!A:F,6)","v":0},"Boisson en vrac"]
["Tisane - Hibiscus","50€/kg",{"$f":"VLOOKUP(A532,'Boissons en vrac'!A:I,9)","v":0},{"$f":"VLOOKUP(A532,'Boissons en vrac'!A:F,6)","v":0},"Boisson en vrac"]
["Tisane - La mésange bleue ","50€/kg",{"$f":"VLOOKUP(A533,'Boissons en vrac'!A:I,9)","v":0},{"$f":"VLOOKUP(A533,'Boissons en vrac'!A:F,6)","v":0},"Boisson en vrac"]
["Tisane - Verveine citronnée ","50€/kg",{"$f":"VLOOKUP(A534,'Boissons en vrac'!A:I,9)","v":0},{"$f":"VLOOKUP(A534,'Boissons en vrac'!A:F,6)","v":0},"Boisson en vrac"]
["Vermicelles demi complets","2,95€/kg",{"$f":"VLOOKUP(A535,'Alimentaire vrac'!A:I,9)","v":0},{"$f":"VLOOKUP(A535,'Alimentaire vrac'!A:I,6)","v":0},"Alimentaire Vrac"]
["Vinaigre Balsamique","8,50€/kg",{"$f":"VLOOKUP(A536,'Alimentaire vrac'!A:I,9)","v":0},{"$f":"VLOOKUP(A536,'Alimentaire vrac'!A:I,6)","v":0},"Alimentaire Vrac"]
["Vinaigre balsamique de Modène - 50cl","5,50€/kg",{"$f":"VLOOKUP(A537,'Alimentaire conditionné'!A:I,9)","v":0},{"$f":"VLOOKUP(A537,'Alimentaire conditionné'!A:F,6)","v":0},"Alimentaire Conditionné"]
["Vinaigre Blanc Naturel 14° - Vrac","4,90€/kg",{"$f":"VLOOKUP(A538,Entretien!A:I,9,FALSE)","v":0},{"$f":"VLOOKUP(A538,Entretien!A:F,6,FALSE)","v":0},"Produits d'entretiens"]
["Vinaigre de Cidre ","4,50€/kg",{"$f":"VLOOKUP(A539,'Alimentaire vrac'!A:I,9)","v":0},{"$f":"VLOOKUP(A539,'Alimentaire vrac'!A:I,6)","v":0},"Alimentaire Vrac"]
["Vinaigre de Vin Rouge","3,75€/kg",{"$f":"VLOOKUP(A540,'Alimentaire vrac'!A:I,9)","v":0},{"$f":"VLOOKUP(A540,'Alimentaire vrac'!A:I,6)","v":0},"Alimentaire Vrac"]
["Paillettes de savon de Marseille - Fer à cheval ","17,50 € / kg",{"$f":"VLOOKUP(A541,Entretien!A:I,9,FALSE)","v":0},{"$f":"VLOOKUP(A541,Entretien!A:F,6,FALSE)","v":0},"Produits d'entretiens"]
["Cube de Savon de Marseille - Fer à cheval - 300g",4,{"$f":"VLOOKUP(A542,Entretien!A:I,9,FALSE)","v":0},{"$f":"VLOOKUP(A542,Entretien!A:F,6,FALSE)","v":0},"Produits d'entretiens"]

{"sheet":"Produits frais ","index":3,"n_rows":600,"n_cols":12,"rows_kept":600,"cut":false,"hidden":false,"merged":[]}
["🥚\nProduits frais ","💶\nPrix de vente","Prix au kilo","Grandes Catégories","😋 \n J'en veux!","⚖️ \nQuantité","Quantité format formule","Quantité en format nombre","💰 \nMontant","🇫🇷 \nProvenance","Description ","Marque"]
["Oeufs frais bio (boîte de 6)",3,3,{"$f":"VLOOKUP(A2,Import!A:D,4)","v":"Produits Frais"},false,0,{"$f":"IF(F2=\"100G\",0.1,IF(F2=\"250G\",0.25,IF(F2=\"500G\",0.5,IF(F2=\"1 Kilo\",1,F2))))","v":0},{"$f":"IFERROR(__xludf.DUMMYFUNCTION(\"TO_PURE_NUMBER(G2)\"),0)","v":0},{"$f":"G2*C2","v":0},{"$f":"VLOOKUP(A2,Import!A:N,13)","v":"Le Petit Paysan"}]
[null,null,null,null,null,0]
[null,null,null,null,null,0]
[null,null,null,null,null,0]
[null,null,null,null,null,0]
[null,null,null,null,null,0]
[null,null,null,null,null,0]
[null,null,null,null,null,0]
[null,null,null,null,null,0]
[null,null,null,null,null,0]
[null,null,null,null,null,0]
[null,null,null,null,null,0]
[null,null,null,null,null,0]
[null,null,null,null,null,0]
[null,null,null,null,null,0]
[null,null,null,null,null,0]
[null,null,null,null,null,0]
[null,null,null,null,null,0]
[null,null,null,null,null,0]
[null,null,null,null,null,0]
[null,null,null,null,null,0]
[null,null,null,null,null,0]
[null,null,null,null,null,0]
[null,null,null,null,null,0]
[null,null,null,null,null,0]
[null,null,null,null,null,0]
[null,null,null,null,null,0]
[null,null,null,null,null,0]
[null,null,null,null,null,0]
[null,null,null,null,null,0]
[null,null,null,null,null,0]
[null,null,null,null,null,0]
[null,null,null,null,null,0]
[null,null,null,null,null,0]
[null,null,null,null,null,0]
[null,null,null,null,null,0]
[null,null,null,null,null,0]
[null,null,null,null,null,0]
[null,null,null,null,null,0]
[null,null,null,null,null,0]
[null,null,null,null,null,0]
[null,null,null,null,null,0]
[null,null,null,null,null,0]
[null,null,null,null,null,0]
[null,null,null,null,null,0]
[null,null,null,null,null,0]
[null,null,null,null,null,0]
[null,null,null,null,null,0]
[null,null,null,null,null,0]
[null,null,null,null,null,0]
[null,null,null,null,null,0]
[null,null,null,null,null,0]
[null,null,null,null,null,0]
[null,null,null,null,null,0]
[null,null,null,null,null,0]
[null,null,null,null,null,0]
[null,null,null,null,null,0]
[null,null,null,null,null,0]
[null,null,null,null,null,0]
[null,null,null,null,null,0]
[null,null,null,null,null,0]
[null,null,null,null,null,0]
[null,null,null,null,null,0]
[null,null,null,null,null,0]
[null,null,null,null,null,0]
[null,null,null,null,null,0]
[null,null,null,null,null,0]
[null,null,null,null,null,0]
[null,null,null,null,null,0]
[null,null,null,null,null,0]
[null,null,null,null,null,0]
[null,null,null,null,null,0]
[null,null,null,null,null,0]
[null,null,null,null,null,0]
[null,null,null,null,null,0]
[null,null,null,null,null,0]
[null,null,null,null,null,0]
[null,null,null,null,null,0]
[null,null,null,null,null,0]
[null,null,null,null,null,0]
[null,null,null,null,null,0]
[null,null,null,null,null,0]
[null,null,null,null,null,0]
[null,null,null,null,null,0]
[null,null,null,null,null,0]
[null,null,null,null,null,0]
[null,null,null,null,null,0]
[null,null,null,null,null,0]
[null,null,null,null,null,0]
[null,null,null,null,null,0]
[null,null,null,null,null,0]
[null,null,null,null,null,0]
[null,null,null,null,null,0]
[null,null,null,null,null,0]
[null,null,null,null,null,0]
[null,null,null,null,null,0]
[null,null,null,null,null,0]
[null,null,null,null,null,0]
[null,null,null,null,null,0]
[null,null,null,null,null,0]
[null,null,null,null,null,0]
[null,null,null,null,null,0]
[null,null,null,null,null,0]
[null,null,null,null,null,0]
[null,null,null,null,null,0]
[null,null,null,null,null,0]
[null,null,null,null,null,0]
[null,null,null,null,null,0]
[null,null,null,null,null,0]
[null,null,null,null,null,0]
[null,null,null,null,null,0]
[null,null,null,null,null,0]
[null,null,null,null,null,0]
[null,null,null,null,null,0]
[null,null,null,null,null,0]
[null,null,null,null,null,0]
[null,null,null,null,null,0]
[null,null,null,null,null,0]
[null,null,null,null,null,0]
[null,null,null,null,null,0]
[null,null,null,null,null,0]
[null,null,null,null,null,0]
[null,null,null,null,null,0]
[null,null,null,null,null,0]
[null,null,null,null,null,0]
[null,null,null,null,null,0]
[null,null,null,null,null,0]
[null,null,null,null,null,0]
[null,null,null,null,null,0]
[null,null,null,null,null,0]
[null,null,null,null,null,0]
[null,null,null,null,null,0]
[null,null,null,null,null,0]
[null,null,null,null,null,0]
[null,null,null,null,null,0]
[null,null,null,null,null,0]
[null,null,null,null,null,0]
[null,null,null,null,null,0]
[null,null,null,null,null,0]
[null,null,null,null,null,0]
[null,null,null,null,null,0]
[null,null,null,null,null,0]
[null,null,null,null,null,0]
[null,null,null,null,null,0]
[null,null,null,null,null,0]
[null,null,null,null,null,0]
[null,null,null,null,null,0]
[null,null,null,null,null,0]
[null,null,null,null,null,0]
[null,null,null,null,null,0]
[null,null,null,null,null,0]
[null,null,null,null,null,0]
[null,null,null,null,null,0]
[null,null,null,null,null,0]
[null,null,null,null,null,0]
[null,null,null,null,null,0]
[null,null,null,null,null,0]
[null,null,null,null,null,0]
[null,null,null,null,null,0]
[null,null,null,null,null,0]
[null,null,null,null,null,0]
[null,null,null,null,null,0]
[null,null,null,null,null,0]
[null,null,null,null,null,0]
[null,null,null,null,null,0]
[null,null,null,null,null,0]
[null,null,null,null,null,0]
[null,null,null,null,null,0]
[null,null,null,null,null,0]
[null,null,null,null,null,0]
[null,null,null,null,null,0]
[null,null,null,null,null,0]
[null,null,null,null,null,0]
[null,null,null,null,null,0]
[null,null,null,null,null,0]
[null,null,null,null,null,0]
[null,null,null,null,null,0]
[null,null,null,null,null,0]
[null,null,null,null,null,0]
[null,null,null,null,null,0]
[null,null,null,null,null,0]
[null,null,null,null,null,0]
[null,null,null,null,null,0]
[null,null,null,null,null,0]
[null,null,null,null,null,0]
[null,null,null,null,null,0]
[null,null,null,null,null,0]
[null,null,null,null,null,0]
[null,null,null,null,null,0]
[null,null,null,null,null,0]
[null,null,null,null,null,0]
[null,null,null,null,null,0]
[null,null,null,null,null,0]
[null,null,null,null,null,0]
[null,null,null,null,null,0]
[null,null,null,null,null,0]
[null,null,null,null,null,0]
[null,null,null,null,null,0]
[null,null,null,null,null,0]
[null,null,null,null,null,0]
[null,null,null,null,null,0]
[null,null,null,null,null,0]
[null,null,null,null,null,0]
[null,null,null,null,null,0]
[null,null,null,null,null,0]
[null,null,null,null,null,0]
[null,null,null,null,null,0]
[null,null,null,null,null,0]
[null,null,null,null,null,0]
[null,null,null,null,null,0]
[null,null,null,null,null,0]
[null,null,null,null,null,0]
[null,null,null,null,null,0]
[null,null,null,null,null,0]
[null,null,null,null,null,0]
[null,null,null,null,null,0]
[null,null,null,null,null,0]
[null,null,null,null,null,0]
[null,null,null,null,null,0]
[null,null,null,null,null,0]
[null,null,null,null,null,0]
[null,null,null,null,null,0]
[null,null,null,null,null,0]
[null,null,null,null,null,0]
[null,null,null,null,null,0]
[null,null,null,null,null,0]
[null,null,null,null,null,0]
[null,null,null,null,null,0]
[null,null,null,null,null,0]
[null,null,null,null,null,0]
[null,null,null,null,null,0]
[null,null,null,null,null,0]
[null,null,null,null,null,0]
[null,null,null,null,null,0]
[null,null,null,null,null,0]
[null,null,null,null,null,0]
[null,null,null,null,null,0]
[null,null,null,null,null,0]
[null,null,null,null,null,0]
[null,null,null,null,null,0]
[null,null,null,null,null,0]
[null,null,null,null,null,0]
[null,null,null,null,null,0]
[null,null,null,null,null,0]
[null,null,null,null,null,0]
[null,null,null,null,null,0]
[null,null,null,null,null,0]
[null,null,null,null,null,0]
[null,null,null,null,null,0]
[null,null,null,null,null,0]
[null,null,null,null,null,0]
[null,null,null,null,null,0]
[null,null,null,null,null,0]
[null,null,null,null,null,0]
[null,null,null,null,null,0]
[null,null,null,null,null,0]
[null,null,null,null,null,0]
[null,null,null,null,null,0]
[null,null,null,null,null,0]
[null,null,null,null,null,0]
[null,null,null,null,null,0]
[null,null,null,null,null,0]
[null,null,null,null,null,0]
[null,null,null,null,null,0]
[null,null,null,null,null,0]
[null,null,null,null,null,0]
[null,null,null,null,null,0]
[null,null,null,null,null,0]
[null,null,null,null,null,0]
[null,null,null,null,null,0]
[null,null,null,null,null,0]
[null,null,null,null,null,0]
[null,null,null,null,null,0]
[null,null,null,null,null,0]
[null,null,null,null,null,0]
[null,null,null,null,null,0]
[null,null,null,null,null,0]
[null,null,null,null,null,0]
[null,null,null,null,null,0]
[null,null,null,null,null,0]
[null,null,null,null,null,0]
[null,null,null,null,null,0]
[null,null,null,null,null,0]
[null,null,null,null,null,0]
[null,null,null,null,null,0]
[null,null,null,null,null,0]
[null,null,null,null,null,0]
[null,null,null,null,null,0]
[null,null,null,null,null,0]
[null,null,null,null,null,0]
[null,null,null,null,null,0]
[null,null,null,null,null,0]
[null,null,null,null,null,0]
[null,null,null,null,null,0]
[null,null,null,null,null,0]
[null,null,null,null,null,0]
[null,null,null,null,null,0]
[null,null,null,null,null,0]
[null,null,null,null,null,0]
[null,null,null,null,null,0]
[null,null,null,null,null,0]
[null,null,null,null,null,0]
[null,null,null,null,null,0]
[null,null,null,null,null,0]
[null,null,null,null,null,0]
[null,null,null,null,null,0]
[null,null,null,null,null,0]
[null,null,null,null,null,0]
[null,null,null,null,null,0]
[null,null,null,null,null,0]
[null,null,null,null,null,0]
[null,null,null,null,null,0]
[null,null,null,null,null,0]
[null,null,null,null,null,0]
[null,null,null,null,null,0]
[null,null,null,null,null,0]
[null,null,null,null,null,0]
[null,null,null,null,null,0]
[null,null,null,null,null,0]
[null,null,null,null,null,0]
[null,null,null,null,null,0]
[null,null,null,null,null,0]
[null,null,null,null,null,0]
[null,null,null,null,null,0]
[null,null,null,null,null,0]
[null,null,null,null,null,0]
[null,null,null,null,null,0]
[null,null,null,null,null,0]
[null,null,null,null,null,0]
[null,null,null,null,null,0]
[null,null,null,null,null,0]
[null,null,null,null,null,0]
[null,null,null,null,null,0]
[null,null,null,null,null,0]
[null,null,null,null,null,0]
[null,null,null,null,null,0]
[null,null,null,null,null,0]
[null,null,null,null,null,0]
[null,null,null,null,null,0]
[null,null,null,null,null,0]
[null,null,null,null,null,0]
[null,null,null,null,null,0]
[null,null,null,null,null,0]
[null,null,null,null,null,0]
[null,null,null,null,null,0]
[null,null,null,null,null,0]
[null,null,null,null,null,0]
[null,null,null,null,null,0]
[null,null,null,null,null,0]
[null,null,null,null,null,0]
[null,null,null,null,null,0]
[null,null,null,null,null,0]
[null,null,null,null,null,0]
[null,null,null,null,null,0]
[null,null,null,null,null,0]
[null,null,null,null,null,0]
[null,null,null,null,null,0]
[null,null,null,null,null,0]
[null,null,null,null,null,0]
[null,null,null,null,null,0]
[null,null,null,null,null,0]
[null,null,null,null,null,0]
[null,null,null,null,null,0]
[null,null,null,null,null,0]
[null,null,null,null,null,0]
[null,null,null,null,null,0]
[null,null,null,null,null,0]
[null,null,null,null,null,0]
[null,null,null,null,null,0]
[null,null,null,null,null,0]
[null,null,null,null,null,0]
[null,null,null,null,null,0]
[null,null,null,null,null,0]
[null,null,null,null,null,0]
[null,null,null,null,null,0]
[null,null,null,null,null,0]
[null,null,null,null,null,0]
[null,null,null,null,null,0]
[null,null,null,null,null,0]
[null,null,null,null,null,0]
[null,null,null,null,null,0]
[null,null,null,null,null,0]
[null,null,null,null,null,0]
[null,null,null,null,null,0]
[null,null,null,null,null,0]
[null,null,null,null,null,0]
[null,null,null,null,null,0]
[null,null,null,null,null,0]
[null,null,null,null,null,0]
[null,null,null,null,null,0]
[null,null,null,null,null,0]
[null,null,null,null,null,0]
[null,null,null,null,null,0]
[null,null,null,null,null,0]
[null,null,null,null,null,0]
[null,null,null,null,null,0]
[null,null,null,null,null,0]
[null,null,null,null,null,0]
[null,null,null,null,null,0]
[null,null,null,null,null,0]
[null,null,null,null,null,0]
[null,null,null,null,null,0]
[null,null,null,null,null,0]
[null,null,null,null,null,0]
[null,null,null,null,null,0]
[null,null,null,null,null,0]
[null,null,null,null,null,0]
[null,null,null,null,null,0]
[null,null,null,null,null,0]
[null,null,null,null,null,0]
[null,null,null,null,null,0]
[null,null,null,null,null,0]
[null,null,null,null,null,0]
[null,null,null,null,null,0]
[null,null,null,null,null,0]
[null,null,null,null,null,0]
[null,null,null,null,null,0]
[null,null,null,null,null,0]
[null,null,null,null,null,0]
[null,null,null,null,null,0]
[null,null,null,null,null,0]
[null,null,null,null,null,0]
[null,null,null,null,null,0]
[null,null,null,null,null,0]
[null,null,null,null,null,0]
[null,null,null,null,null,0]
[null,null,null,null,null,0]
[null,null,null,null,null,0]
[null,null,null,null,null,0]
[null,null,null,null,null,0]
[null,null,null,null,null,0]
[null,null,null,null,null,0]
[null,null,null,null,null,0]
[null,null,null,null,null,0]
[null,null,null,null,null,0]
[null,null,null,null,null,0]
[null,null,null,null,null,0]
[null,null,null,null,null,0]
[null,null,null,null,null,0]
[null,null,null,null,null,0]
[null,null,null,null,null,0]
[null,null,null,null,null,0]
[null,null,null,null,null,0]
[null,null,null,null,null,0]
[null,null,null,null,null,0]
[null,null,null,null,null,0]
[null,null,null,null,null,0]
[null,null,null,null,null,0]
[null,null,null,null,null,0]
[null,null,null,null,null,0]
[null,null,null,null,null,0]
[null,null,null,null,null,0]
[null,null,null,null,null,0]
[null,null,null,null,null,0]
[null,null,null,null,null,0]
[null,null,null,null,null,0]
[null,null,null,null,null,0]
[null,null,null,null,null,0]
[null,null,null,null,null,0]
[null,null,null,null,null,0]
[null,null,null,null,null,0]
[null,null,null,null,null,0]
[null,null,null,null,null,0]
[null,null,null,null,null,0]
[null,null,null,null,null,0]
[null,null,null,null,null,0]
[null,null,null,null,null,0]
[null,null,null,null,null,0]
[null,null,null,null,null,0]
[null,null,null,null,null,0]
[null,null,null,null,null,0]
[null,null,null,null,null,0]
[null,null,null,null,null,0]
[null,null,null,null,null,0]
[null,null,null,null,null,0]
[null,null,null,null,null,0]
[null,null,null,null,null,0]
[null,null,null,null,null,0]
[null,null,null,null,null,0]
[null,null,null,null,null,0]
[null,null,null,null,null,0]
[null,null,null,null,null,0]
[null,null,null,null,null,0]
[null,null,null,null,null,0]
[null,null,null,null,null,0]
[null,null,null,null,null,0]
[null,null,null,null,null,0]
[null,null,null,null,null,0]
[null,null,null,null,null,0]
[null,null,null,null,null,0]
[null,null,null,null,null,0]
[null,null,null,null,null,0]
[null,null,null,null,null,0]
[null,null,null,null,null,0]
[null,null,null,null,null,0]
[null,null,null,null,null,0]
[null,null,null,null,null,0]
[null,null,null,null,null,0]
[null,null,null,null,null,0]
[null,null,null,null,null,0]
[null,null,null,null,null,0]
[null,null,null,null,null,0]
[null,null,null,null,null,0]
[null,null,null,null,null,0]
[null,null,null,null,null,0]
[null,null,null,null,null,0]
[null,null,null,null,null,0]
[null,null,null,null,null,0]
[null,null,null,null,null,0]
[null,null,null,null,null,0]
[null,null,null,null,null,0]
[null,null,null,null,null,0]
[null,null,null,null,null,0]
[null,null,null,null,null,0]
[null,null,null,null,null,0]
[null,null,null,null,null,0]
[null,null,null,null,null,0]
[null,null,null,null,null,0]
[null,null,null,null,null,0]
[null,null,null,null,null,0]
[null,null,null,null,null,0]
[null,null,null,null,null,0]
[null,null,null,null,null,0]
[null,null,null,null,null,0]
[null,null,null,null,null,0]
[null,null,null,null,null,0]
[null,null,null,null,null,0]
[null,null,null,null,null,0]
[null,null,null,null,null,0]
[null,null,null,null,null,0]
[null,null,null,null,null,0]
[null,null,null,null,null,0]
[null,null,null,null,null,0]
[null,null,null,null,null,0]
[null,null,null,null,null,0]
[null,null,null,null,null,0]
[null,null,null,null,null,0]
[null,null,null,null,null,0]
[null,null,null,null,null,0]
[null,null,null,null,null,0]
[null,null,null,null,null,0]
[null,null,null,null,null,0]
[null,null,null,null,null,0]
[null,null,null,null,null,0]
[null,null,null,null,null,0]
[null,null,null,null,null,0]
[null,null,null,null,null,0]
[null,null,null,null,null,0]
[null,null,null,null,null,0]
[null,null,null,null,null,0]
[null,null,null,null,null,0]
[null,null,null,null,null,0]
[null,null,null,null,null,0]
[null,null,null,null,null,0]
[null,null,null,null,null,0]
[null,null,null,null,null,0]
[null,null,null,null,null,0]
[null,null,null,null,null,0]
[null,null,null,null,null,0]
[null,null,null,null,null,0]
[null,null,null,null,null,0]
[null,null,null,null,null,0]
[null,null,null,null,null,0]
[null,null,null,null,null,0]
[null,null,null,null,null,0]
[null,null,null,null,null,0]
[null,null,null,null,null,0]
[null,null,null,null,null,0]
[null,null,null,null,null,0]
[null,null,null,null,null,0]
[null,null,null,null,null,0]
[null,null,null,null,null,0]
[null,null,null,null,null,0]
[null,null,null,null,null,0]
[null,null,null,null,null,0]
[null,null,null,null,null,0]
[null,null,null,null,null,0]
[null,null,null,null,null,0]
[null,null,null,null,null,0]
[null,null,null,null,null,0]
[null,null,null,null,null,0]
[null,null,null,null,null,0]
[null,null,null,null,null,0]
[null,null,null,null,null,0]
[null,null,null,null,null,0]
[null,null,null,null,null,0]
[null,null,null,null,null,0]
[null,null,null,null,null,0]
[null,null,null,null,null,0]
[null,null,null,null,null,0]
[null,null,null,null,null,0]
[null,null,null,null,null,0]
[null,null,null,null,null,0]
[null,null,null,null,null,0]
[null,null,null,null,null,0]
[null,null,null,null,null,0]
[null,null,null,null,null,0]
[null,null,null,null,null,0]
[null,null,null,null,null,0]

{"sheet":"Alimentaire conditionné","index":4,"n_rows":1000,"n_cols":11,"rows_kept":1000,"cut":false,"hidden":false,"merged":[]}
["        Produits\n         Alimentaire Conditionné","💶\nPrix de vente","Prix au kilo","Grandes Catégories","😋 \n J'en veux!","⚖️ \nQuantité","Quantité format formule","Quantité en format nombre","💰 \nMontant","🇫🇷 \nProvenance"]
["Abricots secs","13,90€ / kg","13.9",{"$f":"VLOOKUP(A2,Import!A:D,4,FALSE)","v":"Alimentaire Vrac"},false,0,{"$f":"IF(F2=\"100G\",0.1,IF(F2=\"250G\",0.25,IF(F2=\"500G\",0.5,IF(F2=\"1 Kilo\",1,F2))))","v":0},{"$f":"IFERROR(__xludf.DUMMYFUNCTION(\"TO_PURE_NUMBER(G2)\"),0)","v":0},{"$f":"H2*C2","v":{"$error":"#VALUE!"}}]
["Ail des Ours ","135€ / kg","120",{"$f":"VLOOKUP(A3,Import!A:D,4,FALSE)","v":"Alimentaire Vrac"},false,0,0,{"$f":"IFERROR(__xludf.DUMMYFUNCTION(\"TO_PURE_NUMBER(G3)\"),0)","v":0},0]
["Ail en Granulé ","50€ / kg","50",{"$f":"VLOOKUP(A4,Import!A:D,4,FALSE)","v":"Alimentaire Vrac"},false,0,0,{"$f":"IFERROR(__xludf.DUMMYFUNCTION(\"TO_PURE_NUMBER(G4)\"),0)","v":0},0]
["Ail en Poudre ","50€ / kg","50",{"$f":"VLOOKUP(A5,Import!A:D,4,FALSE)","v":"Alimentaire Vrac"},false,0,0,{"$f":"IFERROR(__xludf.DUMMYFUNCTION(\"TO_PURE_NUMBER(G5)\"),0)","v":0},0]
["Amandes Blanches entières ","19,9€ / kg","19.9",{"$f":"VLOOKUP(A6,Import!A:D,4,FALSE)","v":0},false,0,0,{"$f":"IFERROR(__xludf.DUMMYFUNCTION(\"TO_PURE_NUMBER(G6)\"),0)","v":0},{"$error":"#VALUE!"}]
["Amandes Caramel Chocolat","35€ / kg","35",{"$f":"VLOOKUP(A7,Import!A:D,4,FALSE)","v":"Alimentaire Vrac"},false,0,0,{"$f":"IFERROR(__xludf.DUMMYFUNCTION(\"TO_PURE_NUMBER(G7)\"),0)","v":0},0]
["Amandes Coco Miel ","35€ / kg","35",{"$f":"VLOOKUP(A8,Import!A:D,4,FALSE)","v":"Alimentaire Vrac"},false,0,0,{"$f":"IFERROR(__xludf.DUMMYFUNCTION(\"TO_PURE_NUMBER(G8)\"),0)","v":0},0]
["Amandes Décortiquées entières ","19,9€ / kg","19.9",{"$f":"VLOOKUP(A9,Import!A:D,4,FALSE)","v":"Alimentaire Vrac"},false,0,0,{"$f":"IFERROR(__xludf.DUMMYFUNCTION(\"TO_PURE_NUMBER(G9)\"),0)","v":0},{"$error":"#VALUE!"}]
["Amandes Sésame Miel","35€/kg",35,{"$f":"VLOOKUP(A10,Import!A:D,4,FALSE)","v":"Alimentaire Vrac"},false,0,0,{"$f":"IFERROR(__xludf.DUMMYFUNCTION(\"TO_PURE_NUMBER(G10)\"),0)","v":0},0]
["Amidon de maïs","5,50€ / kg","5.5",{"$f":"VLOOKUP(A11,Import!A:D,4,FALSE)","v":"Alimentaire Vrac"},false,0,0,{"$f":"IFERROR(__xludf.DUMMYFUNCTION(\"TO_PURE_NUMBER(G11)\"),0)","v":0},{"$error":"#VALUE!"}]
["Après shampoing Solide - Cheveux abimés & secs - 80g ",12.5,"12.5",{"$f":"VLOOKUP(A12,Import!A:D,4,FALSE)","v":"Produits d'hygiène coporelle"},false,0,0,{"$f":"IFERROR(__xludf.DUMMYFUNCTION(\"TO_PURE_NUMBER(G12)\"),0)","v":0},{"$error":"#VALUE!"}]
["Après shampoing Solide - Cheveux abîmés & secs - sans HE - 80g ",12.5,"12.5",{"$f":"VLOOKUP(A13,Import!A:D,4,FALSE)","v":"Produits d'hygiène coporelle"},false,0,0,{"$f":"IFERROR(__xludf.DUMMYFUNCTION(\"TO_PURE_NUMBER(G13)\"),0)","v":0},{"$error":"#VALUE!"}]
["Après shampoing Solide - démélant - Lamazuna",12.5,"12.5",{"$f":"VLOOKUP(A14,Import!A:D,4,FALSE)","v":0},false,0,0,{"$f":"IFERROR(__xludf.DUMMYFUNCTION(\"TO_PURE_NUMBER(G14)\"),0)","v":0},{"$error":"#VALUE!"},{"$f":"VLOOKUP(A14,Import!A:N,13)","v":0}]
["Après shampoing Solide - Nourrissant & démêlant - 80g ",12.5,"12.5",{"$f":"VLOOKUP(A15,Import!A:D,4,FALSE)","v":"Produits d'hygiène coporelle"},false,0,0,{"$f":"IFERROR(__xludf.DUMMYFUNCTION(\"TO_PURE_NUMBER(G15)\"),0)","v":0},{"$error":"#VALUE!"}]
["Après shampoing Vrac - Huile d’argan","29,00 € / kg","29",{"$f":"VLOOKUP(A16,Import!A:D,4,FALSE)","v":"Produits d'hygiène coporelle"},false,0,0,{"$f":"IFERROR(__xludf.DUMMYFUNCTION(\"TO_PURE_NUMBER(G16)\"),0)","v":0},0]
["Arachides décortiquées grillées nature","12€ / kg","12",{"$f":"VLOOKUP(A17,Import!A:D,4,FALSE)","v":"Alimentaire Vrac"},false,0,0,{"$f":"IFERROR(__xludf.DUMMYFUNCTION(\"TO_PURE_NUMBER(G17)\"),0)","v":0},0,{"$f":"VLOOKUP(A17,Import!A:N,14)","v":"🇪🇬 Egypte"}]
["Assouplissant - Vrac","5,00€","5",{"$f":"VLOOKUP(A18,Import!A:D,4,FALSE)","v":"Produits d'entretiens"},false,0,0,{"$f":"IFERROR(__xludf.DUMMYFUNCTION(\"TO_PURE_NUMBER(G18)\"),0)","v":0},0]
["Baies de Goji","29,90€","29.90",{"$f":"VLOOKUP(A19,Import!A:D,4,FALSE)","v":"Alimentaire Vrac"},false,0,0,{"$f":"IFERROR(__xludf.DUMMYFUNCTION(\"TO_PURE_NUMBER(G19)\"),0)","v":0},{"$error":"#VALUE!"}]
["Basilic Feuilles","27,00€ / kg","27",{"$f":"VLOOKUP(A20,Import!A:D,4,FALSE)","v":"Alimentaire Vrac"},false,0,0,{"$f":"IFERROR(__xludf.DUMMYFUNCTION(\"TO_PURE_NUMBER(G20)\"),0)","v":0},0]
["Baume à Barbe",13.9,"13.9",{"$f":"VLOOKUP(A21,Import!A:D,4,FALSE)","v":"Produits d'hygiène coporelle"},false,0,0,{"$f":"IFERROR(__xludf.DUMMYFUNCTION(\"TO_PURE_NUMBER(G21)\"),0)","v":0},{"$error":"#VALUE!"}]
["Baume à lèvre Agrumes - Endro","7,50€","7.5",{"$f":"VLOOKUP(A22,Import!A:D,4,FALSE)","v":"Produits d'hygiène coporelle"},false,0,0,{"$f":"IFERROR(__xludf.DUMMYFUNCTION(\"TO_PURE_NUMBER(G22)\"),0)","v":0},{"$error":"#VALUE!"}]
["Baume à lèvre Fruits Rouges - Endro","7,50€","7.5",{"$f":"VLOOKUP(A23,Import!A:D,4,FALSE)","v":"Produits d'hygiène coporelle"},false,0,0,{"$f":"IFERROR(__xludf.DUMMYFUNCTION(\"TO_PURE_NUMBER(G23)\"),0)","v":0},{"$error":"#VALUE!"}]
["Baume Mini  Multi-usages Fleurs d’été - Clemence & Vivien ","5,90€","5.9",{"$f":"VLOOKUP(A24,Import!A:D,4,FALSE)","v":"Produits d'hygiène coporelle"},false,0,0,{"$f":"IFERROR(__xludf.DUMMYFUNCTION(\"TO_PURE_NUMBER(G24)\"),0)","v":0},{"$error":"#VALUE!"}]
["Baume Mini Multi-usages Lait d’amande - Clemence & Vivien ","5,90€","5.9",{"$f":"VLOOKUP(A25,Import!A:D,4,FALSE)","v":"Produits d'hygiène coporelle"},false,0,0,{"$f":"IFERROR(__xludf.DUMMYFUNCTION(\"TO_PURE_NUMBER(G25)\"),0)","v":0},{"$error":"#VALUE!"},{"$f":"VLOOKUP(A25,Import!A:N,13)","v":"Clémence & Vivien"},{"$f":"VLOOKUP(B25,Import!B:N,13)","v":"🇫🇷 France - Marseille (13)"}]
["Baume Multi-usages Fleurs d’été - Clemence & Vivien ",12.5,"12.5",{"$f":"VLOOKUP(A26,Import!A:D,4,FALSE)","v":"Produits d'hygiène coporelle"},false,0,0,{"$f":"IFERROR(__xludf.DUMMYFUNCTION(\"TO_PURE_NUMBER(G26)\"),0)","v":0},{"$error":"#VALUE!"},{"$f":"VLOOKUP(A26,Import!A:N,13)","v":"Clémence & Vivien"}]
["Baume Multi-usages Lait d’amande - Clemence & Vivien ",12.5,"11.9",{"$f":"VLOOKUP(A27,Import!A:D,4,FALSE)","v":"Produits d'hygiène coporelle"},false,0,0,{"$f":"IFERROR(__xludf.DUMMYFUNCTION(\"TO_PURE_NUMBER(G27)\"),0)","v":0},{"$error":"#VALUE!"},{"$f":"VLOOKUP(A27,Import!A:N,13)","v":"Clémence & Vivien"}]
["Bavoir - Petit","9,50€","9.5",{"$f":"VLOOKUP(A28,Import!A:D,4,FALSE)","v":"Zéros déchets et Bocaux"},false,0,0,{"$f":"IFERROR(__xludf.DUMMYFUNCTION(\"TO_PURE_NUMBER(G28)\"),0)","v":0},{"$error":"#VALUE!"}]
["Beurre de cacahuètes - Chocolat Lait - Go Nuts - 270g","6,50€","6,50",{"$f":"VLOOKUP(A29,Import!A:D,4,FALSE)","v":"Alimentaire Conditionné"},false,0,{"$f":"IF(F29=\"100G\",0.1,IF(F29=\"250G\",0.25,IF(F29=\"500G\",0.5,IF(F29=\"1 Kilo\",1,F29))))","v":0},{"$f":"G29","v":0},{"$f":"C29*H29","v":0},{"$f":"VLOOKUP(A29,Import!A:N,14)","v":"🇫🇷 France - Saint Priest (69)"}]
["Beurre de cacahuètes - Chocolat Noir - Go Nuts - 500g",8.9,8.9,{"$f":"VLOOKUP(A30,Import!A:D,4,FALSE)","v":"Alimentaire Conditionné"},false,0,0,{"$f":"G30","v":0},0,{"$f":"VLOOKUP(A30,Import!A:N,14)","v":"🇫🇷 France - Saint Priest (69)"}]
["Beurre de cacahuètes - Go Nuts - 270g","4,95 €",4.95,{"$f":"VLOOKUP(A31,Import!A:D,4,FALSE)","v":"Alimentaire Conditionné"},false,0,0,0,0,{"$f":"VLOOKUP(A31,Import!A:N,14)","v":"🇫🇷 France"}]
["Beurre de cacahuètes - Go Nuts - 500g","8,90 €","8,9",{"$f":"VLOOKUP(A32,Import!A:D,4,FALSE)","v":"Alimentaire Conditionné"},false,0,0,0,0,{"$f":"VLOOKUP(A32,Import!A:N,14)","v":"🇫🇷 France - Saint Priest (69)"}]
["Beurre de cacahuètes Extra Crunchy - Go Nuts - 270g","4,90 €","4,9",{"$f":"VLOOKUP(A33,Import!A:D,4,FALSE)","v":"Alimentaire Conditionné"},false,0,0,0,0,{"$f":"VLOOKUP(A33,Import!A:N,14)","v":"🇫🇷 France - Saint Priest (69)"}]
["Beurre de cacao Iris - pour le corps - Lamazuna","8,50 €","8.5",{"$f":"VLOOKUP(A34,Import!A:D,4,FALSE)","v":"Produits d'hygiène coporelle"},false,0,0,{"$f":"IFERROR(__xludf.DUMMYFUNCTION(\"TO_PURE_NUMBER(G34)\"),0)","v":0},{"$error":"#VALUE!"}]
["Bicarbonate de soude - Vrac","4,90 € / kg","4.9",{"$f":"VLOOKUP(A35,Import!A:D,4,FALSE)","v":"Produits d'entretiens"},false,0,0,{"$f":"IFERROR(__xludf.DUMMYFUNCTION(\"TO_PURE_NUMBER(G35)\"),0)","v":0},{"$error":"#VALUE!"}]
["Biere Blanche - La St Bonn’Beer - 33cl","3,00 €","3",{"$f":"VLOOKUP(A36,Import!A:D,4,FALSE)","v":"Boissons conditionnées"},false,0,0,{"$f":"IFERROR(__xludf.DUMMYFUNCTION(\"TO_PURE_NUMBER(G36)\"),0)","v":0},0]
["Biere Blanche - La St Bonn’Beer - 75cl","6,50 €","6.5",{"$f":"VLOOKUP(A37,Import!A:D,4,FALSE)","v":"Boissons conditionnées"},false,0,0,{"$f":"IFERROR(__xludf.DUMMYFUNCTION(\"TO_PURE_NUMBER(G37)\"),0)","v":0},{"$error":"#VALUE!"}]
["Biere Blonde - La Promesse - 33cl","3,00 €","3",{"$f":"VLOOKUP(A38,Import!A:D,4,FALSE)","v":"Boissons conditionnées"},false,0,0,{"$f":"IFERROR(__xludf.DUMMYFUNCTION(\"TO_PURE_NUMBER(G38)\"),0)","v":0},0]
["Biere Blonde - La Promesse - 75cl","6,50 €","6.5",{"$f":"VLOOKUP(A39,Import!A:D,4,FALSE)","v":"Boissons conditionnées"},false,0,0,{"$f":"IFERROR(__xludf.DUMMYFUNCTION(\"TO_PURE_NUMBER(G39)\"),0)","v":0},{"$error":"#VALUE!"}]
["Biere IPA - La Collector - 33cl","3,00 €","3",{"$f":"VLOOKUP(A40,Import!A:D,4,FALSE)","v":"Boissons conditionnées"},false,0,0,{"$f":"IFERROR(__xludf.DUMMYFUNCTION(\"TO_PURE_NUMBER(G40)\"),0)","v":0},0]
["Biere IPA - La Collector- 75cl","6,50 €","6.5",{"$f":"VLOOKUP(A41,Import!A:D,4,FALSE)","v":"Boissons conditionnées"},false,0,0,{"$f":"IFERROR(__xludf.DUMMYFUNCTION(\"TO_PURE_NUMBER(G41)\"),0)","v":0},{"$error":"#VALUE!"}]
["Biere IPA - La Gonette - 33cl","3,00 €","3",{"$f":"VLOOKUP(A42,Import!A:D,4,FALSE)","v":"Boissons conditionnées"},false,0,0,{"$f":"IFERROR(__xludf.DUMMYFUNCTION(\"TO_PURE_NUMBER(G42)\"),0)","v":0},0]
["Biere IPA - La Gonette - 75cl","6,50 €","6.5",{"$f":"VLOOKUP(A43,Import!A:D,4,FALSE)","v":"Boissons conditionnées"},false,0,0,{"$f":"IFERROR(__xludf.DUMMYFUNCTION(\"TO_PURE_NUMBER(G43)\"),0)","v":0},{"$error":"#VALUE!"}]
["Biscuits 1péro -Tortillas ","29€/kg","29",{"$f":"VLOOKUP(A44,Import!A:D,4,FALSE)","v":"Alimentaire Vrac"},false,0,0,{"$f":"IFERROR(__xludf.DUMMYFUNCTION(\"TO_PURE_NUMBER(G44)\"),0)","v":0},0]
["Biscuits Apéro - Cumin & pois chiches","30,00€ / kg","30",{"$f":"VLOOKUP(A45,Import!A:D,4,FALSE)","v":"Alimentaire Vrac"},false,0,0,{"$f":"IFERROR(__xludf.DUMMYFUNCTION(\"TO_PURE_NUMBER(G45)\"),0)","v":0},0]
["Biscuits Apéro - Gruyère","30,50€ / kg","30.5",{"$f":"VLOOKUP(A46,Import!A:D,4,FALSE)","v":"Alimentaire Vrac"},false,0,0,{"$f":"IFERROR(__xludf.DUMMYFUNCTION(\"TO_PURE_NUMBER(G46)\"),0)","v":0},{"$error":"#VALUE!"}]
["Biscuits Apéro - Noix de Cajou - Curry","34,50€ / kg","34.5",{"$f":"VLOOKUP(A47,Import!A:D,4,FALSE)","v":"Alimentaire Vrac"},false,0,0,{"$f":"IFERROR(__xludf.DUMMYFUNCTION(\"TO_PURE_NUMBER(G47)\"),0)","v":0},{"$error":"#VALUE!"}]
["Biscuits Apéro - Noix de Cajou - Herbes de Provence","34,50€ / kg","34.5",{"$f":"VLOOKUP(A48,Import!A:D,4,FALSE)","v":"Alimentaire Vrac"},false,0,0,{"$f":"IFERROR(__xludf.DUMMYFUNCTION(\"TO_PURE_NUMBER(G48)\"),0)","v":0},{"$error":"#VALUE!"}]
["Biscuits Apéro - Noix de Cajou - Parmesan","34,50€ / kg","34.5",{"$f":"VLOOKUP(A49,Import!A:D,4,FALSE)","v":"Alimentaire Vrac"},false,0,0,{"$f":"IFERROR(__xludf.DUMMYFUNCTION(\"TO_PURE_NUMBER(G49)\"),0)","v":0},{"$error":"#VALUE!"}]
["Biscuits Apéro - Noix de Cajou - Poivre de Kampot","34,50€ / kg","34.5",{"$f":"VLOOKUP(A50,Import!A:D,4,FALSE)","v":"Alimentaire Vrac"},false,0,0,{"$f":"IFERROR(__xludf.DUMMYFUNCTION(\"TO_PURE_NUMBER(G50)\"),0)","v":0},{"$error":"#VALUE!"}]
["Biscuits Apéro - Noix de Cajou - Sweet chili","34,50€ / kg","34.5",{"$f":"VLOOKUP(A51,Import!A:D,4,FALSE)","v":"Alimentaire Vrac"},false,0,0,{"$f":"IFERROR(__xludf.DUMMYFUNCTION(\"TO_PURE_NUMBER(G51)\"),0)","v":0},{"$error":"#VALUE!"}]
["Biscuits Apéro - Noix de Cajou - Tandoori","34,50€ / kg","34.5",{"$f":"VLOOKUP(A52,Import!A:D,4,FALSE)","v":"Alimentaire Vrac"},false,0,0,{"$f":"IFERROR(__xludf.DUMMYFUNCTION(\"TO_PURE_NUMBER(G52)\"),0)","v":0},{"$error":"#VALUE!"},{"$f":"VLOOKUP(A52,Import!A:N,13)","v":"Croc"}]
["Biscuits Apéro - Oignon & Paprika","30,00€ / kg","30",{"$f":"VLOOKUP(A53,Import!A:D,4,FALSE)","v":"Alimentaire Vrac"},false,0,0,{"$f":"IFERROR(__xludf.DUMMYFUNCTION(\"TO_PURE_NUMBER(G53)\"),0)","v":0},0,{"$f":"VLOOKUP(A53,Import!A:N,13)","v":"Croquelicot"}]
["Biscuits Apéro - Tomate & Oignons","30,00€ / kg","30",{"$f":"VLOOKUP(A54,Import!A:D,4,FALSE)","v":"Alimentaire Vrac"},false,0,0,{"$f":"IFERROR(__xludf.DUMMYFUNCTION(\"TO_PURE_NUMBER(G54)\"),0)","v":0},0,{"$f":"VLOOKUP(A54,Import!A:N,13)","v":"Croquelicot"}]
["Biscuits P’tit Dej - Avoine Miel","18,00€ / kg","18",{"$f":"VLOOKUP(A55,Import!A:D,4,FALSE)","v":"Alimentaire Vrac"},false,0,0,{"$f":"IFERROR(__xludf.DUMMYFUNCTION(\"TO_PURE_NUMBER(G55)\"),0)","v":0},0,{"$f":"VLOOKUP(A55,Import!A:N,13)","v":"Scop Epice"}]
["Biscuits P’tit Dej - Cacao & Pépites de Chocolat","18,00€ / kg","18",{"$f":"VLOOKUP(A56,Import!A:D,4,FALSE)","v":"Alimentaire Vrac"},false,0,0,{"$f":"IFERROR(__xludf.DUMMYFUNCTION(\"TO_PURE_NUMBER(G56)\"),0)","v":0},0,{"$f":"VLOOKUP(A56,Import!A:N,13)","v":"Scop Epice"}]
["Biscuits salés - Moutarde à l’ancienne","30,50€ / kg","30.5",{"$f":"VLOOKUP(A57,Import!A:D,4,FALSE)","v":0},false,0,0,{"$f":"IFERROR(__xludf.DUMMYFUNCTION(\"TO_PURE_NUMBER(G57)\"),0)","v":0},{"$error":"#VALUE!"},{"$f":"VLOOKUP(A57,Import!A:N,13)","v":"Croquelicot"}]
["Biscuits Sucrés - Chocolat","25,00€ / kg","25",{"$f":"VLOOKUP(A58,Import!A:D,4,FALSE)","v":"Alimentaire Vrac"},false,0,0,{"$f":"IFERROR(__xludf.DUMMYFUNCTION(\"TO_PURE_NUMBER(G58)\"),0)","v":0},0,{"$f":"VLOOKUP(A58,Import!A:N,13)","v":"Croquelicot"}]
["Biscuits sucrés - Cookies Vegan bio","23,00€ / kg","23",{"$f":"VLOOKUP(A59,Import!A:D,4,FALSE)","v":"Alimentaire Vrac"},false,0,0,{"$f":"IFERROR(__xludf.DUMMYFUNCTION(\"TO_PURE_NUMBER(G59)\"),0)","v":0},0,"France 🇫🇷 - Fareins - 01"]
["Biscuits Sucrés - Nature au Beurre","30,00€ / kg","30",{"$f":"VLOOKUP(A60,Import!A:D,4,FALSE)","v":"Alimentaire Vrac"},false,0,0,{"$f":"IFERROR(__xludf.DUMMYFUNCTION(\"TO_PURE_NUMBER(G60)\"),0)","v":0},0]
["Biscuits Sucrés - Pomme au beurre ","25,00€ / kg","25",{"$f":"VLOOKUP(A61,Import!A:D,4,FALSE)","v":"Alimentaire Vrac"},false,0,0,{"$f":"IFERROR(__xludf.DUMMYFUNCTION(\"TO_PURE_NUMBER(G61)\"),0)","v":0},0]
["Biscuits Sucrés - Sans Gluten - Choco Noisette","30,00€ / kg",30,{"$f":"VLOOKUP(A62,Import!A:D,4,FALSE)","v":"Alimentaire Vrac"},false,0,0,{"$f":"IFERROR(__xludf.DUMMYFUNCTION(\"TO_PURE_NUMBER(G62)\"),0)","v":0},0]
["Biscuits Sucrés - Sans Gluten - Figue","30,00€ / kg",30,{"$f":"VLOOKUP(A63,Import!A:D,4,FALSE)","v":"Alimentaire Vrac"},false,0,0,{"$f":"IFERROR(__xludf.DUMMYFUNCTION(\"TO_PURE_NUMBER(G63)\"),0)","v":0},0]
["Blanc de Blanc du Jura - Jacquier",9.5,"9.50",{"$f":"VLOOKUP(A64,Import!A:D,4,FALSE)","v":"Boissons conditionnées"},false,0,0,{"$f":"IFERROR(__xludf.DUMMYFUNCTION(\"TO_PURE_NUMBER(G64)\"),0)","v":0},{"$error":"#VALUE!"}]
["Blé Pré cuit mondé","4,00€ / kg","4",{"$f":"VLOOKUP(A65,Import!A:D,4,FALSE)","v":"Alimentaire Vrac"},false,0,0,{"$f":"IFERROR(__xludf.DUMMYFUNCTION(\"TO_PURE_NUMBER(G65)\"),0)","v":0},0]
["Bocal - Asperges vertes - 185g","4,90€","4,9",{"$f":"VLOOKUP(A66,Import!A:D,4,FALSE)","v":"Alimentaire Conditionné"},false,0,0,{"$f":"G66","v":0},0]
["Bocal - Chili végétarien - 355g","4,50 €","4,5",{"$f":"VLOOKUP(A67,Import!A:D,4,FALSE)","v":"Alimentaire Conditionné"},false,0,0,0,0]
["Bocal - Chili végétarien - 670g","5,95 €",5.95,{"$f":"VLOOKUP(A68,Import!A:D,4,FALSE)","v":"Alimentaire Conditionné"},false,0,0,0,0]
["Bocal - Cocotte Indienne haricots blancs, riz complet, tofu - 360g","4,50 €","4,5",{"$f":"VLOOKUP(A69,Import!A:D,4,FALSE)","v":"Alimentaire Conditionné"},false,0,0,0,0]
["Bocal - Couscous aux 7 légumes - 1kg","6,95 €",6.95,{"$f":"VLOOKUP(A70,Import!A:D,4,FALSE)","v":"Alimentaire Conditionné"},false,0,0,0,0]
["Bocal - Curry d’aubergines - 345g",4.5,4.5,{"$f":"VLOOKUP(A71,Import!A:D,4,FALSE)","v":"Alimentaire Conditionné"},false,0,0,0,0]
["Bocal - Curry d’aubergines - 650g",6.5,6.5,{"$f":"VLOOKUP(A72,Import!A:D,4,FALSE)","v":"Alimentaire Conditionné"},false,0,0,0,0]
["Bocal - Curry de lentilles coco - 345g","4,50 €","4,5",{"$f":"VLOOKUP(A73,Import!A:D,4,FALSE)","v":"Alimentaire Conditionné"},false,0,0,0,0]
["Bocal - Epinards en branches - 445g","6,20 €","6,2",{"$f":"VLOOKUP(A74,Import!A:D,4,FALSE)","v":"Alimentaire Conditionné"},false,0,0,0,0]
["Bocal - Flageolets Demeter - 215g","3,30€","3,3",{"$f":"VLOOKUP(A75,Import!A:D,4,FALSE)","v":"Alimentaire Conditionné"},false,0,0,0,0]
["Bocal - Haricots Coco - 690g","4,50€","45",{"$f":"VLOOKUP(A76,Import!A:D,4,FALSE)","v":"Alimentaire Conditionné"},false,0,0,0,{"$f":"H76*C76","v":0}]
["Bocal - Haricots Rouges - 255g","3,20€","3,2",{"$f":"VLOOKUP(A77,Import!A:D,4,FALSE)","v":"Alimentaire Conditionné"},false,0,0,0,0,"France 🇫🇷 - Fareins - 01"]
["Bocal - Haricots verts extra fins - 345g","4,20€","4,2",{"$f":"VLOOKUP(A78,Import!A:D,4,FALSE)","v":"Alimentaire Conditionné"},false,0,0,0,0]
["Bocal - Korma de légumes 680g","6,50€","6,5",{"$f":"VLOOKUP(A79,Import!A:D,4,FALSE)","v":"Alimentaire Conditionné"},false,0,0,0,0]
["Bocal - Lentilles vertes aux petits légumes - 420g","4,50€","4,5",{"$f":"VLOOKUP(A80,Import!A:D,4,FALSE)","v":"Alimentaire Conditionné"},false,0,0,0,0,{"$f":"VLOOKUP(A80,Import!A:N,14)","v":"🇫🇷 France "}]
["Bocal - Macédoine de légumes - 230g","2,90 €","2,9",{"$f":"VLOOKUP(A81,Import!A:D,4,FALSE)","v":"Alimentaire Conditionné"},false,0,0,0,0,{"$f":"VLOOKUP(A81,Import!A:N,14)","v":"🇫🇷 France "}]
["Bocal - Mais doux - 240g","2,90€","2,9",{"$f":"VLOOKUP(A82,Import!A:D,4,FALSE)","v":"Alimentaire Conditionné"},false,0,0,0,0]
["Bocal - Moussaka vegan, Aubergines, soja, légumes - 345g","4,50 €","4,5",{"$f":"VLOOKUP(A83,Import!A:D,4,FALSE)","v":"Alimentaire Conditionné"},false,0,0,0,0,{"$f":"VLOOKUP(A83,Import!A:N,13)","v":"Biodis"}]
["Bocal - Petits pois extra fins - 240g","3,50 €","3,5",{"$f":"VLOOKUP(A84,Import!A:D,4,FALSE)","v":"Alimentaire Conditionné"},false,0,0,0,0,{"$f":"VLOOKUP(A84,Import!A:N,13)","v":"Biodis"}]
["Bocal - Petits pois extra fins - 445g","5,10 €","5,1",{"$f":"VLOOKUP(A85,Import!A:D,4,FALSE)","v":"Alimentaire Conditionné"},false,0,0,0,0]
["Bocal - Petits Pois très fins et carottes - 425g","5,50 €","5,5",{"$f":"VLOOKUP(A86,Import!A:D,4,FALSE)","v":"Alimentaire Conditionné"},false,0,0,0,0]
["Bocal - Pois Chiche - 230g","3,50 €","3,5",{"$f":"VLOOKUP(A87,Import!A:D,4,FALSE)","v":"Alimentaire Conditionné"},false,0,0,0,0]
["Bocal - Pois Chiches - 420g","5,00 €","5",{"$f":"VLOOKUP(A88,Import!A:D,4,FALSE)","v":"Alimentaire Conditionné"},false,0,0,0,0]
["Bocal - Préparation  tarte aux oignons 345g","4,50€","4,5",{"$f":"VLOOKUP(A89,Import!A:D,4,FALSE)","v":"Alimentaire Conditionné"},false,0,0,0,0]
["Bocal - Préparation tarte aux poireaux 345g","4,50€","4,5",{"$f":"VLOOKUP(A90,Import!A:D,4,FALSE)","v":"Alimentaire Conditionné"},false,0,0,0,0]
["Bocal - Ratatouille à la provençale - 650g","5,10€","5,1",{"$f":"VLOOKUP(A91,Import!A:D,4,FALSE)","v":"Alimentaire Conditionné"},false,0,0,0,0]
["Bocal - Risotto d’automne -350g","4,90€","4,9",{"$f":"VLOOKUP(A92,Import!A:D,4,FALSE)","v":"Alimentaire Conditionné"},false,0,0,0,0,"France 🇫🇷 - Fareins - 01"]
["Bocal - Sauce bolognaise végétale au soja - 340g","3,30€","3,3",{"$f":"VLOOKUP(A93,Import!A:D,4,FALSE)","v":"Alimentaire Conditionné"},false,0,0,0,0]
["Bocal - Sauce Vegan - 185g","3,50€","3,5",{"$f":"VLOOKUP(A94,Import!A:D,4,FALSE)","v":"Alimentaire Conditionné"},false,0,0,0,0,{"$f":"VLOOKUP(A94,Import!A:N,14)","v":"🇫🇷 France "}]
["Bocal - Tikka Masala aux légumes et pois chiches - 360g","4,50€","4,5",{"$f":"VLOOKUP(A95,Import!A:D,4,FALSE)","v":"Alimentaire Conditionné"},false,0,0,0,0,{"$f":"VLOOKUP(A95,Import!A:N,14)","v":"🇫🇷 France "}]
["Bocal Haricots beurre extra fins - 180g","2,90 €","2,9",{"$f":"VLOOKUP(A96,Import!A:D,4,FALSE)","v":"Alimentaire Conditionné"},false,0,0,0,0,{"$f":"VLOOKUP(A96,Import!A:N,14)","v":"🇫🇷 France "}]
["Boisson végétale - Avoine","2,10 €","2.1",{"$f":"VLOOKUP(A97,Import!A:D,4,FALSE)","v":"Boissons conditionnées"},false,0,0,{"$f":"IFERROR(__xludf.DUMMYFUNCTION(\"TO_PURE_NUMBER(G97)\"),0)","v":0},{"$error":"#VALUE!"},{"$f":"VLOOKUP(A97,Import!A:N,14)","v":"🇫🇷 France"}]
["Boisson végétale - So amande Nature UHT - 1L","2,60 €","2.6",{"$f":"VLOOKUP(A98,Import!A:D,4,FALSE)","v":"Boissons conditionnées"},false,0,0,{"$f":"IFERROR(__xludf.DUMMYFUNCTION(\"TO_PURE_NUMBER(G98)\"),0)","v":0},{"$error":"#VALUE!"},{"$f":"VLOOKUP(A98,Import!A:N,14)","v":"🇫🇷 France "}]
["Boisson végétale - Soja Nature - 1L","2,10 €","2.1",{"$f":"VLOOKUP(A99,Import!A:D,4,FALSE)","v":"Boissons conditionnées"},false,0,0,{"$f":"IFERROR(__xludf.DUMMYFUNCTION(\"TO_PURE_NUMBER(G99)\"),0)","v":0},{"$error":"#VALUE!"},{"$f":"VLOOKUP(A99,Import!A:N,14)","v":"🇫🇷 France"}]
["Boisson végétale - Sojade UHT Calcium - 1L","2,60€","2.6",{"$f":"VLOOKUP(A100,Import!A:D,4,FALSE)","v":"Boissons conditionnées"},false,0,0,{"$f":"IFERROR(__xludf.DUMMYFUNCTION(\"TO_PURE_NUMBER(G100)\"),0)","v":0},{"$error":"#VALUE!"},{"$f":"VLOOKUP(A100,Import!A:N,14)","v":"🇫🇷 France "}]
["Bol 15x7 Gravé Cap Bambou","14,90 €","14.9",{"$f":"VLOOKUP(A101,Import!A:D,4,FALSE)","v":"Zéros déchets et Bocaux"},false,0,0,{"$f":"IFERROR(__xludf.DUMMYFUNCTION(\"TO_PURE_NUMBER(G101)\"),0)","v":0},{"$error":"#VALUE!"},{"$f":"VLOOKUP(A101,Import!A:N,14)","v":"🇫🇷 France - Attignat (01)"}]
["Bougies de Léa - Brûle Parfum","15,50 €","15.5",{"$f":"VLOOKUP(A102,Import!A:D,4,FALSE)","v":"Zéros déchets et Bocaux"},false,0,0,{"$f":"IFERROR(__xludf.DUMMYFUNCTION(\"TO_PURE_NUMBER(G102)\"),0)","v":0},{"$error":"#VALUE!"},{"$f":"VLOOKUP(A102,Import!A:N,14)","v":"🇫🇷 France - L'Abergement Clémenciat (01)"}]
["Bougies de Léa - Grandes bougies Parfumées ","18,00 €","18",{"$f":"VLOOKUP(A103,Import!A:D,4,FALSE)","v":"Zéros déchets et Bocaux"},false,0,0,{"$f":"IFERROR(__xludf.DUMMYFUNCTION(\"TO_PURE_NUMBER(G103)\"),0)","v":0},0,{"$f":"VLOOKUP(A103,Import!A:N,14)","v":"🇫🇷 France - L'Abergement Clémenciat (01)"}]
["Bougies de Léa - Petites bougies Parfumées ","11,00 €","11",{"$f":"VLOOKUP(A104,Import!A:D,4,FALSE)","v":"Zéros déchets et Bocaux"},false,0,0,{"$f":"IFERROR(__xludf.DUMMYFUNCTION(\"TO_PURE_NUMBER(G104)\"),0)","v":0},0,{"$f":"VLOOKUP(A104,Import!A:N,14)","v":"🇫🇷 France - L'Abergement Clémenciat (01)"}]
["Bougies de Léa - Suspensions parfumées","6€","6",{"$f":"VLOOKUP(A105,Import!A:D,4,FALSE)","v":"Zéros déchets et Bocaux"},false,0,0,{"$f":"IFERROR(__xludf.DUMMYFUNCTION(\"TO_PURE_NUMBER(G105)\"),0)","v":0},0,{"$f":"VLOOKUP(A105,Import!A:N,14)","v":"🇫🇷 France - L'Abergement Clémenciat (01)"}]
["Bouillon de légumes - Sans levure & huile de palme","24,00€ / kg","24",{"$f":"VLOOKUP(A106,Import!A:D,4,FALSE)","v":"Alimentaire Vrac"},false,0,0,{"$f":"IFERROR(__xludf.DUMMYFUNCTION(\"TO_PURE_NUMBER(G106)\"),0)","v":0},0]
["Boule à Thé diamètre 50mm",3.5,"3.5",{"$f":"VLOOKUP(A107,Import!A:D,4,FALSE)","v":"Zéros déchets et Bocaux"},false,0,0,{"$f":"IFERROR(__xludf.DUMMYFUNCTION(\"TO_PURE_NUMBER(G107)\"),0)","v":0},{"$error":"#VALUE!"}]
["Boulgour","3,10€ / kg","3.1",{"$f":"VLOOKUP(A108,Import!A:D,4,FALSE)","v":"Alimentaire Vrac"},false,0,0,{"$f":"IFERROR(__xludf.DUMMYFUNCTION(\"TO_PURE_NUMBER(G108)\"),0)","v":0},{"$error":"#VALUE!"}]
["Brosse à cheveux Bébé","9,50 €","9.5",{"$f":"VLOOKUP(A109,Import!A:D,4,FALSE)","v":"Produits d'hygiène coporelle"},false,0,0,{"$f":"IFERROR(__xludf.DUMMYFUNCTION(\"TO_PURE_NUMBER(G109)\"),0)","v":0},{"$error":"#VALUE!"},{"$f":"VLOOKUP(A109,Import!A:N,13)","v":"Cap Bambou"}]
["Brosse à cheveux Démélante","14,90 €","14.9",{"$f":"VLOOKUP(A110,Import!A:D,4,FALSE)","v":"Produits d'hygiène coporelle"},false,0,0,{"$f":"IFERROR(__xludf.DUMMYFUNCTION(\"TO_PURE_NUMBER(G110)\"),0)","v":0},{"$error":"#VALUE!"},{"$f":"VLOOKUP(A110,Import!A:N,14)","v":"🇫🇷 France - Attignat (01)"}]
["Brosse à cheveux Démélante Enfants",9.5,"9.50",{"$f":"VLOOKUP(A111,Import!A:D,4,FALSE)","v":"Produits d'hygiène coporelle"},false,0,0,{"$f":"IFERROR(__xludf.DUMMYFUNCTION(\"TO_PURE_NUMBER(G111)\"),0)","v":0},{"$error":"#VALUE!"}]
["Brosse à dent - Lot de 3 têtes extra souples",7.9,"7.90",{"$f":"VLOOKUP(A112,Import!A:D,4,FALSE)","v":"Produits d'hygiène coporelle"},false,0,0,{"$f":"IFERROR(__xludf.DUMMYFUNCTION(\"TO_PURE_NUMBER(G112)\"),0)","v":0},{"$error":"#VALUE!"},{"$f":"VLOOKUP(A112,Import!A:N,13)","v":0}]
["Brosse à dent - Lot de 3 têtes medium",7.9,"7.90",{"$f":"VLOOKUP(A113,Import!A:D,4,FALSE)","v":"Produits d'hygiène coporelle"},false,0,0,{"$f":"IFERROR(__xludf.DUMMYFUNCTION(\"TO_PURE_NUMBER(G113)\"),0)","v":0},{"$error":"#VALUE!"},{"$f":"VLOOKUP(A113,Import!A:N,14)","v":0}]
["Brosse à dent - Lot de 3 têtes souples",7.9,"7.90",{"$f":"VLOOKUP(A114,Import!A:D,4,FALSE)","v":"Produits d'hygiène coporelle"},false,0,0,{"$f":"IFERROR(__xludf.DUMMYFUNCTION(\"TO_PURE_NUMBER(G114)\"),0)","v":0},{"$error":"#VALUE!"},{"$f":"VLOOKUP(A114,Import!A:N,14)","v":0}]
["Brosse à dent à tête rechargeable - manche bioplastic",3.5,"3.50",{"$f":"VLOOKUP(A115,Import!A:D,4,FALSE)","v":"Produits d'hygiène coporelle"},false,0,0,{"$f":"IFERROR(__xludf.DUMMYFUNCTION(\"TO_PURE_NUMBER(G115)\"),0)","v":0},{"$error":"#VALUE!"},{"$f":"VLOOKUP(A115,Import!A:N,14)","v":0}]
["Brosse à dent à tête rechargeable - manche hêtre","8,50 €","8.5",{"$f":"VLOOKUP(A116,Import!A:D,4,FALSE)","v":0},false,0,0,{"$f":"IFERROR(__xludf.DUMMYFUNCTION(\"TO_PURE_NUMBER(G116)\"),0)","v":0},{"$error":"#VALUE!"}]
["Brosse à dents adultes","3,99 €","3.99",{"$f":"VLOOKUP(A117,Import!A:D,4,FALSE)","v":0},false,0,0,{"$f":"IFERROR(__xludf.DUMMYFUNCTION(\"TO_PURE_NUMBER(G117)\"),0)","v":0},{"$error":"#VALUE!"}]
["Brosse à vaisselle - Recharges","5,50 €","5.5",{"$f":"VLOOKUP(A118,Import!A:D,4,FALSE)","v":{"$error":"#N/A"}},false,0,0,{"$f":"IFERROR(__xludf.DUMMYFUNCTION(\"TO_PURE_NUMBER(G118)\"),0)","v":0},{"$error":"#VALUE!"},{"$f":"VLOOKUP(A118,Import!A:N,13)","v":"Cap Bambou"}]
["Brosse à vaisselle à tête rechargeable ","24,90 €","24.9",{"$f":"VLOOKUP(A119,Import!A:D,4,FALSE)","v":{"$error":"#N/A"}},false,0,0,{"$f":"IFERROR(__xludf.DUMMYFUNCTION(\"TO_PURE_NUMBER(G119)\"),0)","v":0},{"$error":"#VALUE!"}]
["Brosse à vaisselle en bois avec manche","6,50 €","6.5",{"$f":"VLOOKUP(A120,Import!A:D,4,FALSE)","v":{"$error":"#N/A"}},false,0,0,{"$f":"IFERROR(__xludf.DUMMYFUNCTION(\"TO_PURE_NUMBER(G120)\"),0)","v":0},{"$error":"#VALUE!"}]
["Brosses à dents enfants - Jaune","3,50 €","3.5",{"$f":"VLOOKUP(A121,Import!A:D,4,FALSE)","v":"Produits d'hygiène coporelle"},false,0,0,{"$f":"IFERROR(__xludf.DUMMYFUNCTION(\"TO_PURE_NUMBER(G121)\"),0)","v":0},{"$error":"#VALUE!"},{"$f":"VLOOKUP(A121,Import!A:N,14)","v":"🇫🇷 France - Attignat (01)"}]
["Brosses à dents enfants - Violet","3,50 €","3.5",{"$f":"VLOOKUP(A122,Import!A:D,4,FALSE)","v":"Produits d'hygiène coporelle"},false,0,0,{"$f":"IFERROR(__xludf.DUMMYFUNCTION(\"TO_PURE_NUMBER(G122)\"),0)","v":0},{"$error":"#VALUE!"}]
["Café - Dagosette colombie (capsule)","0,40€","0.4",{"$f":"VLOOKUP(A123,Import!A:D,4,FALSE)","v":"Boisson en vrac"},false,0,0,{"$f":"IFERROR(__xludf.DUMMYFUNCTION(\"TO_PURE_NUMBER(G123)\"),0)","v":0},{"$error":"#VALUE!"}]
["Café - Dosette Americ’ain (senseo)","0,20€ / pièce","0.2",{"$f":"VLOOKUP(A124,Import!A:D,4,FALSE)","v":"Boisson en vrac"},false,0,0,{"$f":"IFERROR(__xludf.DUMMYFUNCTION(\"TO_PURE_NUMBER(G124)\"),0)","v":0},{"$error":"#VALUE!"}]
["Café - Grains - Colombie","19,90€ / kg","19.5",{"$f":"VLOOKUP(A125,Import!A:D,4,FALSE)","v":"Boisson en vrac"},false,0,0,{"$f":"IFERROR(__xludf.DUMMYFUNCTION(\"TO_PURE_NUMBER(G125)\"),0)","v":0},{"$error":"#VALUE!"}]
["Café - Grains - Moka Djimmah ","19,90€ / kg","19.5",{"$f":"VLOOKUP(A126,Import!A:D,4,FALSE)","v":"Boisson en vrac"},false,0,0,{"$f":"IFERROR(__xludf.DUMMYFUNCTION(\"TO_PURE_NUMBER(G126)\"),0)","v":0},{"$error":"#VALUE!"}]
["Cannelle en Poudre","56,00€ / kg","56",{"$f":"VLOOKUP(A127,Import!A:D,4,FALSE)","v":"Alimentaire Vrac"},false,0,0,{"$f":"IFERROR(__xludf.DUMMYFUNCTION(\"TO_PURE_NUMBER(G127)\"),0)","v":0},0,{"$f":"VLOOKUP(A127,Import!A:N,13)","v":"Actibio"}]
["Cannelle en Tuyau","62,00€ / kg","62",{"$f":"VLOOKUP(A128,Import!A:D,4,FALSE)","v":"Alimentaire Vrac"},false,0,0,{"$f":"IFERROR(__xludf.DUMMYFUNCTION(\"TO_PURE_NUMBER(G128)\"),0)","v":0},0]
["Carrés démaquillants - Lot de 5","7,50 €","7.5",{"$f":"VLOOKUP(A129,Import!A:D,4,FALSE)","v":{"$error":"#N/A"}},false,0,0,{"$f":"IFERROR(__xludf.DUMMYFUNCTION(\"TO_PURE_NUMBER(G129)\"),0)","v":0},{"$error":"#VALUE!"}]
["Céréales - Choco crisp ","9,50 € / kg","9.5",{"$f":"VLOOKUP(A130,Import!A:D,4,FALSE)","v":"Alimentaire Vrac"},false,0,0,{"$f":"IFERROR(__xludf.DUMMYFUNCTION(\"TO_PURE_NUMBER(G130)\"),0)","v":0},{"$error":"#VALUE!"}]
["Céréales - Corn Flakes ","8,50€ / kg","8.5",{"$f":"VLOOKUP(A131,Import!A:D,4,FALSE)","v":"Alimentaire Vrac"},false,0,0,{"$f":"IFERROR(__xludf.DUMMYFUNCTION(\"TO_PURE_NUMBER(G131)\"),0)","v":0},{"$error":"#VALUE!"}]
["Céréales - Crosti Choco Noisettes ",11,"11",{"$f":"VLOOKUP(A132,Import!A:D,4,FALSE)","v":"Alimentaire Vrac"},false,0,0,{"$f":"IFERROR(__xludf.DUMMYFUNCTION(\"TO_PURE_NUMBER(G132)\"),0)","v":0},0,{"$f":"VLOOKUP(A132,Import!A:N,14)","v":"🇫🇷 France "}]
["Céréales - Flocons Avoine Gros ","3,50€ / kg","3.5",{"$f":"VLOOKUP(A133,Import!A:D,4,FALSE)","v":"Alimentaire Vrac"},false,0,0,{"$f":"IFERROR(__xludf.DUMMYFUNCTION(\"TO_PURE_NUMBER(G133)\"),0)","v":0},{"$error":"#VALUE!"},{"$f":"VLOOKUP(A133,Import!A:N,14)","v":"🇫🇷 France"}]
["Céréales - Flocons Avoine Petit","2,90€ / kg","2.9",{"$f":"VLOOKUP(A134,Import!A:D,4,FALSE)","v":"Alimentaire Vrac"},false,0,0,{"$f":"IFERROR(__xludf.DUMMYFUNCTION(\"TO_PURE_NUMBER(G134)\"),0)","v":0},{"$error":"#VALUE!"},{"$f":"VLOOKUP(A134,Import!A:N,14)","v":"🇫🇷 France"}]
["Céréales - Krounchy 3 chocolats","10,00€ / kg","10",{"$f":"VLOOKUP(A135,Import!A:D,4,FALSE)","v":"Alimentaire Vrac"},false,0,0,{"$f":"IFERROR(__xludf.DUMMYFUNCTION(\"TO_PURE_NUMBER(G135)\"),0)","v":0},0]
["Céréales - Krounchy aux fruits","11,50€ / kg","11.50",{"$f":"VLOOKUP(A136,Import!A:D,4,FALSE)","v":"Alimentaire Vrac"},false,0,0,{"$f":"IFERROR(__xludf.DUMMYFUNCTION(\"TO_PURE_NUMBER(G136)\"),0)","v":0},{"$error":"#VALUE!"}]
["Céréales - Krounchy Nature","7,50€","7.50",{"$f":"VLOOKUP(A137,Import!A:D,4,FALSE)","v":"Alimentaire Vrac"},false,0,0,{"$f":"IFERROR(__xludf.DUMMYFUNCTION(\"TO_PURE_NUMBER(G137)\"),0)","v":0},{"$error":"#VALUE!"}]
["Céréales - Mops Miel","9,80€ / kg","9.8",{"$f":"VLOOKUP(A138,Import!A:D,4,FALSE)","v":"Alimentaire Vrac"},false,0,0,{"$f":"IFERROR(__xludf.DUMMYFUNCTION(\"TO_PURE_NUMBER(G138)\"),0)","v":0},{"$error":"#VALUE!"}]
["Chicorée torréfiée soluble - 200g","7,20€ / pièce","6.5",{"$f":"VLOOKUP(A139,Import!A:D,4,FALSE)","v":"Boisson en vrac"},false,0,0,{"$f":"IFERROR(__xludf.DUMMYFUNCTION(\"TO_PURE_NUMBER(G139)\"),0)","v":0},{"$error":"#VALUE!"}]
["Chips de Banane au Miel ","15,00 € / kg","15",{"$f":"VLOOKUP(A140,Import!A:D,4,FALSE)","v":"Alimentaire Vrac"},false,0,0,{"$f":"IFERROR(__xludf.DUMMYFUNCTION(\"TO_PURE_NUMBER(G140)\"),0)","v":0},0]
["Chocolat Lait - Palets","20€/ kg","16",{"$f":"VLOOKUP(A141,Import!A:D,4,FALSE)","v":"Alimentaire Vrac"},false,0,0,{"$f":"IFERROR(__xludf.DUMMYFUNCTION(\"TO_PURE_NUMBER(G141)\"),0)","v":0},0]
["Chocolat Lait - Pépites ","20,00 € / kg","20",{"$f":"VLOOKUP(A142,Import!A:D,4,FALSE)","v":"Alimentaire Vrac"},false,0,0,{"$f":"IFERROR(__xludf.DUMMYFUNCTION(\"TO_PURE_NUMBER(G142)\"),0)","v":0},0]
["Chocolat Noir - Palets","18,00 € / kg","18",{"$f":"VLOOKUP(A143,Import!A:D,4,FALSE)","v":"Alimentaire Vrac"},false,0,0,{"$f":"IFERROR(__xludf.DUMMYFUNCTION(\"TO_PURE_NUMBER(G143)\"),0)","v":0},0]
["Chocolat Noir - Pépites ","20,00 € / kg","20",{"$f":"VLOOKUP(A144,Import!A:D,4,FALSE)","v":"Alimentaire Vrac"},false,0,0,{"$f":"IFERROR(__xludf.DUMMYFUNCTION(\"TO_PURE_NUMBER(G144)\"),0)","v":0},0]
["Chocolat Noir Poudre Instantané - Cacao et Sucre","90,00 € / kg","90",{"$f":"VLOOKUP(A145,Import!A:D,4,FALSE)","v":"Alimentaire Vrac"},false,0,0,{"$f":"IFERROR(__xludf.DUMMYFUNCTION(\"TO_PURE_NUMBER(G145)\"),0)","v":0},0]
["Chouchou","4,50 €","4.5",{"$f":"VLOOKUP(A146,Import!A:D,4,FALSE)","v":"Zéros déchets et Bocaux"},false,0,0,{"$f":"IFERROR(__xludf.DUMMYFUNCTION(\"TO_PURE_NUMBER(G146)\"),0)","v":0},{"$error":"#VALUE!"}]
["Ciboulette Feuilles ","80,00 € / kg","80",{"$f":"VLOOKUP(A147,Import!A:D,4,FALSE)","v":"Alimentaire Vrac"},false,0,0,{"$f":"IFERROR(__xludf.DUMMYFUNCTION(\"TO_PURE_NUMBER(G147)\"),0)","v":0},0]
["Cidre Brut 75cl","5,90 €","5.9",{"$f":"VLOOKUP(A148,Import!A:D,4,FALSE)","v":"Boissons conditionnées"},false,0,0,{"$f":"IFERROR(__xludf.DUMMYFUNCTION(\"TO_PURE_NUMBER(G148)\"),0)","v":0},{"$error":"#VALUE!"}]
["Cinq baies concassées","114,00 € / kg","114",{"$f":"VLOOKUP(A149,Import!A:D,4,FALSE)","v":"Alimentaire Vrac"},false,0,0,{"$f":"IFERROR(__xludf.DUMMYFUNCTION(\"TO_PURE_NUMBER(G149)\"),0)","v":0},0]
["Citronnade pur jus de citron jaune - 75cl","3,50 €","3.5",{"$f":"VLOOKUP(A150,Import!A:D,4,FALSE)","v":"Boissons conditionnées"},false,0,0,{"$f":"IFERROR(__xludf.DUMMYFUNCTION(\"TO_PURE_NUMBER(G150)\"),0)","v":0},{"$error":"#VALUE!"}]
["Compote Allégée - Pomme Abricot - 660g","5 €","5,00",{"$f":"VLOOKUP(A151,Import!A:D,4,FALSE)","v":"Alimentaire Conditionné"},false,0,0,{"$f":"G151","v":0},0]
["Compote Allégée - Pomme Chataigne - 660g","4,80 €","4,80 ",{"$f":"VLOOKUP(A152,Import!A:D,4,FALSE)","v":"Alimentaire Conditionné"},false,0,0,0,0]
["Compote Pomme - 480g - ","3,50 €","3,50",{"$f":"VLOOKUP(A153,Import!A:D,4,FALSE)","v":"Alimentaire Conditionné"},false,0,0,0,0]
["Compote Pomme Banane",5,"5,00",{"$f":"VLOOKUP(A154,Import!A:D,4,FALSE)","v":"Alimentaire Conditionné"},false,0,0,0,0]
["Compote Pomme Framboise - 480g ","4,50 €","4,5",{"$f":"VLOOKUP(A155,Import!A:D,4,FALSE)","v":"Alimentaire Conditionné"},false,0,0,0,0]
["Concentré de Tomate - 200g","2,30 €","2,3",{"$f":"VLOOKUP(A156,Import!A:D,4,FALSE)","v":"Alimentaire Conditionné"},false,0,0,0,0]
["Confiture Abricot - 340g ","4,90 €","4,9",{"$f":"VLOOKUP(A157,Import!A:D,4,FALSE)","v":"Alimentaire Conditionné"},false,0,0,0,0]
["Confiture de Figue 340g","4,90 €","4,9",{"$f":"VLOOKUP(A158,Import!A:D,4,FALSE)","v":"Alimentaire Conditionné"},false,0,0,0,0]
["Confiture de Fraise - 370g ","4,90 €","4,9",{"$f":"VLOOKUP(A159,Import!A:D,4,FALSE)","v":"Alimentaire Conditionné"},false,0,0,0,0]
["Confiture de Fruits des Bois 370g ","5,50 €","5,5",{"$f":"VLOOKUP(A160,Import!A:D,4,FALSE)","v":"Alimentaire Conditionné"},false,0,0,0,0,{"$f":"VLOOKUP(A160,Import!A:N,13)","v":"Relais local"}]
["Confiture de Myrtille - 370g ","4,90 €","4,9",{"$f":"VLOOKUP(A161,Import!A:D,4,FALSE)","v":"Alimentaire Conditionné"},false,0,0,0,0]
["Confitures d'à côté - Abricot","6€","6",{"$f":"VLOOKUP(A162,Import!A:D,4,FALSE)","v":"Alimentaire Conditionné"},false,0,0,0,0]
["Confitures d'à côté - Ananas Vanille","6€","6",{"$f":"VLOOKUP(A163,Import!A:D,4,FALSE)","v":0},false,0,0,{"$f":"IFERROR(__xludf.DUMMYFUNCTION(\"TO_PURE_NUMBER(G163)\"),0)","v":0},0]
["Confitures d'à côté - Cerise","6€","6",{"$f":"VLOOKUP(A164,Import!A:D,4,FALSE)","v":0},false,0,0,{"$f":"IFERROR(__xludf.DUMMYFUNCTION(\"TO_PURE_NUMBER(G164)\"),0)","v":0},0]
["Confitures d'à côté - Clémentine","6€","6",{"$f":"VLOOKUP(A165,Import!A:D,4,FALSE)","v":0},false,0,0,{"$f":"IFERROR(__xludf.DUMMYFUNCTION(\"TO_PURE_NUMBER(G165)\"),0)","v":0},0]
["Confitures d'à côté - Figue pointe de vanille","6€","6",{"$f":"VLOOKUP(A166,Import!A:D,4,FALSE)","v":"Alimentaire Conditionné"},false,0,0,{"$f":"G166","v":0},0]
["Confitures d'à côté - Kiwi Ananas","6€","6",{"$f":"VLOOKUP(A167,Import!A:D,4,FALSE)","v":"Alimentaire Conditionné"},false,0,0,0,0]
["Confitures d'à côté - Mirabelle ","6€","6",{"$f":"VLOOKUP(A168,Import!A:D,4,FALSE)","v":0},false,0,0,{"$f":"IFERROR(__xludf.DUMMYFUNCTION(\"TO_PURE_NUMBER(G168)\"),0)","v":0},0]
["Confitures d'à côté - Nectarine Pêche","6€","6",{"$f":"VLOOKUP(A169,Import!A:D,4,FALSE)","v":0},false,0,0,{"$f":"IFERROR(__xludf.DUMMYFUNCTION(\"TO_PURE_NUMBER(G169)\"),0)","v":0},0]
["Confitures d'à côté - Nectarine Vanille","6€","6",{"$f":"VLOOKUP(A170,Import!A:D,4,FALSE)","v":"Alimentaire Conditionné"},false,0,0,{"$f":"G170","v":0},0]
["Confitures d'à côté - Pêche ","6€","6",{"$f":"VLOOKUP(A171,Import!A:D,4,FALSE)","v":0},false,0,0,{"$f":"IFERROR(__xludf.DUMMYFUNCTION(\"TO_PURE_NUMBER(G171)\"),0)","v":0},0]
["Confitures d'à côté - Poire Tonka","6€","6",{"$f":"VLOOKUP(A172,Import!A:D,4,FALSE)","v":"Alimentaire Conditionné"},false,0,0,{"$f":"G172","v":0},0]
["Confitures d'à côté - Pomme Cannelle","6€","6",{"$f":"VLOOKUP(A173,Import!A:D,4,FALSE)","v":"Alimentaire Conditionné"},false,0,0,0,0]
["Confitures d'à côté - Pomme Caramel ","6€","6",{"$f":"VLOOKUP(A174,Import!A:D,4,FALSE)","v":"Alimentaire Conditionné"},false,0,0,0,0]
["Confitures d'à côté - Questche","6€","6",{"$f":"VLOOKUP(A175,Import!A:D,4,FALSE)","v":0},false,0,0,{"$f":"IFERROR(__xludf.DUMMYFUNCTION(\"TO_PURE_NUMBER(G175)\"),0)","v":0},0]
["Confitures d'à côté - Fraise","5€","5",{"$f":"VLOOKUP(A176,Import!A:D,4,FALSE)","v":"Alimentaire Conditionné"},false,0,0,{"$f":"G176","v":0},0]
["Confitures d'à côté- Mûre sauvage","6€","6",{"$f":"VLOOKUP(A177,Import!A:D,4,FALSE)","v":"Alimentaire Conditionné"},false,0,0,0,0]
["Cornichons au vinaigre 37cl - 185g","7,50 €","7,5",{"$f":"VLOOKUP(A178,Import!A:D,4,FALSE)","v":"Alimentaire Conditionné"},false,0,0,0,0,{"$f":"VLOOKUP(A178,Import!A:N,14)","v":"🇫🇷 France"}]
["Cotons tiges x 100","1,95 €","1.95",{"$f":"VLOOKUP(A179,Import!A:D,4,FALSE)","v":"Produits d'hygiène coporelle"},false,0,0,{"$f":"IFERROR(__xludf.DUMMYFUNCTION(\"TO_PURE_NUMBER(G179)\"),0)","v":0},{"$error":"#VALUE!"}]
["Cotons tiges x 200","3,59 €","3.59",{"$f":"VLOOKUP(A180,Import!A:D,4,FALSE)","v":"Produits d'hygiène coporelle"},false,0,0,{"$f":"IFERROR(__xludf.DUMMYFUNCTION(\"TO_PURE_NUMBER(G180)\"),0)","v":0},{"$error":"#VALUE!"},{"$f":"VLOOKUP(A180,Import!A:N,13)","v":"Cap Bambou"}]
["Coulis de Tomate  Nature - 680g","2,50 €","2,5",{"$f":"VLOOKUP(A181,Import!A:D,4,FALSE)","v":"Alimentaire Conditionné"},false,0,0,{"$f":"G181","v":0},0]
["Coulis de Tomate Basilic - 680g","2,50 €","2,5",{"$f":"VLOOKUP(A182,Import!A:D,4,FALSE)","v":"Alimentaire Conditionné"},false,0,0,0,0]
["Couscous Complet ","3,50€","3.5",{"$f":"VLOOKUP(A183,Import!A:D,4,FALSE)","v":"Alimentaire Vrac"},false,0,0,{"$f":"IFERROR(__xludf.DUMMYFUNCTION(\"TO_PURE_NUMBER(G183)\"),0)","v":0},{"$error":"#VALUE!"}]
["Couteau Réutilisable en bambou","2€","2",{"$f":"VLOOKUP(A184,Import!A:D,4,FALSE)","v":"Zéros déchets et Bocaux"},false,0,0,{"$f":"IFERROR(__xludf.DUMMYFUNCTION(\"TO_PURE_NUMBER(G184)\"),0)","v":0},0]
["Cranberries Demi séchées au sucre de Canne","17,50€ / kg","17.5",{"$f":"VLOOKUP(A185,Import!A:D,4,FALSE)","v":"Alimentaire Vrac"},false,0,0,{"$f":"IFERROR(__xludf.DUMMYFUNCTION(\"TO_PURE_NUMBER(G185)\"),0)","v":0},{"$error":"#VALUE!"}]
["Crème corps hydratant - Fleur de coton - Endro","15,60 €","15.6",{"$f":"VLOOKUP(A186,Import!A:D,4,FALSE)","v":"Produits d'hygiène coporelle"},false,0,0,{"$f":"IFERROR(__xludf.DUMMYFUNCTION(\"TO_PURE_NUMBER(G186)\"),0)","v":0},{"$error":"#VALUE!"}]
["Crème corps nourrissante - douceur iodée - Endro","12,90 €","12.9",{"$f":"VLOOKUP(A187,Import!A:D,4,FALSE)","v":"Produits d'hygiène coporelle"},false,0,0,{"$f":"IFERROR(__xludf.DUMMYFUNCTION(\"TO_PURE_NUMBER(G187)\"),0)","v":0},{"$error":"#VALUE!"}]
["Crème de Marron - 320g ","5,90 €","5,9",{"$f":"VLOOKUP(A188,Import!A:D,4,FALSE)","v":"Alimentaire Conditionné"},false,0,0,{"$f":"G188","v":0},0]
["Crème solaire SPF 30 - 50ml","18,90 €","18.9",{"$f":"VLOOKUP(A189,Import!A:D,4,FALSE)","v":"Produits d'hygiène coporelle"},false,0,0,{"$f":"IFERROR(__xludf.DUMMYFUNCTION(\"TO_PURE_NUMBER(G189)\"),0)","v":0},{"$error":"#VALUE!"}]
["Crème solaire SPF 50 - 100ml","24,90 €","24.9",{"$f":"VLOOKUP(A190,Import!A:D,4,FALSE)","v":"Produits d'hygiène coporelle"},false,0,0,{"$f":"IFERROR(__xludf.DUMMYFUNCTION(\"TO_PURE_NUMBER(G190)\"),0)","v":0},{"$error":"#VALUE!"}]
["Crème solaire SPF 50 - 50ml","19,90 €","19.9",{"$f":"VLOOKUP(A191,Import!A:D,4,FALSE)","v":"Produits d'hygiène coporelle"},false,0,0,{"$f":"IFERROR(__xludf.DUMMYFUNCTION(\"TO_PURE_NUMBER(G191)\"),0)","v":0},{"$error":"#VALUE!"}]
["Crème végétale - Soya cuisine briquette - 20cl","1,95€",1.95,{"$f":"VLOOKUP(A192,Import!A:D,4,FALSE)","v":"Alimentaire Conditionné"},false,0,0,{"$f":"G192","v":0},0]
["Crème visage - bonne mine","13,60 €","13.6",{"$f":"VLOOKUP(A193,Import!A:D,4,FALSE)","v":"Produits d'hygiène coporelle"},false,0,0,{"$f":"IFERROR(__xludf.DUMMYFUNCTION(\"TO_PURE_NUMBER(G193)\"),0)","v":0},{"$error":"#VALUE!"}]
["Crozets Sarrasin","9€ / kg","9",{"$f":"VLOOKUP(A194,Import!A:D,4,FALSE)","v":"Alimentaire Vrac"},false,0,0,{"$f":"IFERROR(__xludf.DUMMYFUNCTION(\"TO_PURE_NUMBER(G194)\"),0)","v":0},0]
["Cuillère réutilisable en bambou","1,50 €","1.5",{"$f":"VLOOKUP(A195,Import!A:D,4,FALSE)","v":"Zéros déchets et Bocaux"},false,0,0,{"$f":"IFERROR(__xludf.DUMMYFUNCTION(\"TO_PURE_NUMBER(G195)\"),0)","v":0},{"$error":"#VALUE!"}]
["Cumin moulu poudre","55,00€ / kg","55",{"$f":"VLOOKUP(A196,Import!A:D,4,FALSE)","v":"Alimentaire Vrac"},false,0,0,{"$f":"IFERROR(__xludf.DUMMYFUNCTION(\"TO_PURE_NUMBER(G196)\"),0)","v":0},0]
["Curcuma ","45,00€ / kg",45,{"$f":"VLOOKUP(A197,Import!A:D,4,FALSE)","v":"Alimentaire Vrac"},false,0,0,{"$f":"IFERROR(__xludf.DUMMYFUNCTION(\"TO_PURE_NUMBER(G197)\"),0)","v":0},0,{"$f":"VLOOKUP(A197,Import!A:N,14)","v":"🇲🇬 Madagascar"}]
["Cure Oreilles - Bamb’ori",2.99,2.99,{"$f":"VLOOKUP(A198,Import!A:D,4,FALSE)","v":"Produits d'hygiène coporelle"},false,0,0,{"$f":"IFERROR(__xludf.DUMMYFUNCTION(\"TO_PURE_NUMBER(G198)\"),0)","v":0},0]
["Curry Poudre","42,00€ / kg","42",{"$f":"VLOOKUP(A199,Import!A:D,4,FALSE)","v":"Alimentaire Vrac"},false,0,0,{"$f":"IFERROR(__xludf.DUMMYFUNCTION(\"TO_PURE_NUMBER(G199)\"),0)","v":0},0]
["Dattes Dénoyautées ","10,50€ / kg","10.5",{"$f":"VLOOKUP(A200,Import!A:D,4,FALSE)","v":"Alimentaire Vrac"},false,0,0,{"$f":"IFERROR(__xludf.DUMMYFUNCTION(\"TO_PURE_NUMBER(G200)\"),0)","v":0},{"$error":"#VALUE!"},{"$f":"VLOOKUP(A200,Import!A:N,13)","v":"Actibio"}]
["Dentifrice bio à croquer Menthe Fraîche","180,00€ / kg","180",{"$f":"VLOOKUP(A201,Import!A:D,4,FALSE)","v":"Produits d'hygiène coporelle"},false,0,0,{"$f":"IFERROR(__xludf.DUMMYFUNCTION(\"TO_PURE_NUMBER(G201)\"),0)","v":0},0,{"$f":"VLOOKUP(A201,Import!A:N,13)","v":"Aventure Bio"}]
["Dentifrice Naturel - Fruits Rouges - Endro","10,60€","10.6",{"$f":"VLOOKUP(A202,Import!A:D,4,FALSE)","v":"Produits d'hygiène coporelle"},false,0,0,{"$f":"IFERROR(__xludf.DUMMYFUNCTION(\"TO_PURE_NUMBER(G202)\"),0)","v":0},{"$error":"#VALUE!"}]
["Dentifrice Naturel - Menthe Givrée - Endro","10,60€","10.6",{"$f":"VLOOKUP(A203,Import!A:D,4,FALSE)","v":"Produits d'hygiène coporelle"},false,0,0,{"$f":"IFERROR(__xludf.DUMMYFUNCTION(\"TO_PURE_NUMBER(G203)\"),0)","v":0},{"$error":"#VALUE!"},{"$f":"VLOOKUP(A203,Import!A:N,13)","v":"Endro"}]
["Dentifrice Naturel - Zeste Citronné - Endro","10,60€","10.6",{"$f":"VLOOKUP(A204,Import!A:D,4,FALSE)","v":"Produits d'hygiène coporelle"},false,0,0,{"$f":"IFERROR(__xludf.DUMMYFUNCTION(\"TO_PURE_NUMBER(G204)\"),0)","v":0},{"$error":"#VALUE!"}]
["Dentifrice solide - Charbon - Recharge - Savon de Joya","8,90€","8.9",{"$f":"VLOOKUP(A205,Import!A:D,4,FALSE)","v":"Produits d'hygiène coporelle"},false,0,0,{"$f":"IFERROR(__xludf.DUMMYFUNCTION(\"TO_PURE_NUMBER(G205)\"),0)","v":0},{"$error":"#VALUE!"}]
["Dentifrice solide - Charbon - Savon de Joya","10,60€","10.6",{"$f":"VLOOKUP(A206,Import!A:D,4,FALSE)","v":"Produits d'hygiène coporelle"},false,0,0,{"$f":"IFERROR(__xludf.DUMMYFUNCTION(\"TO_PURE_NUMBER(G206)\"),0)","v":0},{"$error":"#VALUE!"},{"$f":"VLOOKUP(A206,Import!A:N,13)","v":"Les Savons de Joya"}]
["Dentifrice solide - Citron & Romarin - Recharge - - Savon de Joya","8,90€","8.9",{"$f":"VLOOKUP(A207,Import!A:D,4,FALSE)","v":"Produits d'hygiène coporelle"},false,0,0,{"$f":"IFERROR(__xludf.DUMMYFUNCTION(\"TO_PURE_NUMBER(G207)\"),0)","v":0},{"$error":"#VALUE!"},{"$f":"VLOOKUP(A207,Import!A:N,13)","v":"Les Savons de Joya"}]
["Dentifrice solide - Citron & Romarin Savon de Joya","10,60€","10.6",{"$f":"VLOOKUP(A208,Import!A:D,4,FALSE)","v":"Produits d'hygiène coporelle"},false,0,0,{"$f":"IFERROR(__xludf.DUMMYFUNCTION(\"TO_PURE_NUMBER(G208)\"),0)","v":0},{"$error":"#VALUE!"}]
["Dentifrice solide - Framboise - - Savon de Joya","10,60€","10.6",{"$f":"VLOOKUP(A209,Import!A:D,4,FALSE)","v":"Produits d'hygiène coporelle"},false,0,0,{"$f":"IFERROR(__xludf.DUMMYFUNCTION(\"TO_PURE_NUMBER(G209)\"),0)","v":0},{"$error":"#VALUE!"}]
["Dentifrice solide - Framboise - Recharge ","8,90€","8.9",{"$f":"VLOOKUP(A210,Import!A:D,4,FALSE)","v":"Produits d'hygiène coporelle"},false,0,0,{"$f":"IFERROR(__xludf.DUMMYFUNCTION(\"TO_PURE_NUMBER(G210)\"),0)","v":0},{"$error":"#VALUE!"},{"$f":"VLOOKUP(A210,Import!A:N,13)","v":"Les Savons de Joya"}]
["Dentifrice solide - Menthe - - Savon de Joya","10,60€","10.6",{"$f":"VLOOKUP(A211,Import!A:D,4,FALSE)","v":"Produits d'hygiène coporelle"},false,0,0,{"$f":"IFERROR(__xludf.DUMMYFUNCTION(\"TO_PURE_NUMBER(G211)\"),0)","v":0},{"$error":"#VALUE!"},{"$f":"VLOOKUP(A211,Import!A:N,13)","v":"Les Savons de Joya"}]
["Dentifrice solide - Menthe - Recharge - - Savon de Joya","8,90€","8.9",{"$f":"VLOOKUP(A212,Import!A:D,4,FALSE)","v":"Produits d'hygiène coporelle"},false,0,0,{"$f":"IFERROR(__xludf.DUMMYFUNCTION(\"TO_PURE_NUMBER(G212)\"),0)","v":0},{"$error":"#VALUE!"},{"$f":"VLOOKUP(A212,Import!A:N,13)","v":"Les Savons de Joya"}]
["Déodorant - Clémence & Vivien - Le Fleuri",8.5,"7.9",{"$f":"VLOOKUP(A213,Import!A:D,4,FALSE)","v":"Produits d'hygiène coporelle"},false,0,0,{"$f":"IFERROR(__xludf.DUMMYFUNCTION(\"TO_PURE_NUMBER(G213)\"),0)","v":0},{"$error":"#VALUE!"}]
["Déodorant - Clémence & Vivien - Le Poudré",8.5,"7.9",{"$f":"VLOOKUP(A214,Import!A:D,4,FALSE)","v":"Produits d'hygiène coporelle"},false,0,0,{"$f":"IFERROR(__xludf.DUMMYFUNCTION(\"TO_PURE_NUMBER(G214)\"),0)","v":0},{"$error":"#VALUE!"},{"$f":"VLOOKUP(A214,Import!A:N,13)","v":"Clémence & Vivien"}]
["Déodorant - Clémence & Vivien - Le Sucré",8.5,"7.9",{"$f":"VLOOKUP(A215,Import!A:D,4,FALSE)","v":"Produits d'hygiène coporelle"},false,0,0,{"$f":"IFERROR(__xludf.DUMMYFUNCTION(\"TO_PURE_NUMBER(G215)\"),0)","v":0},{"$error":"#VALUE!"},{"$f":"VLOOKUP(A215,Import!A:N,13)","v":"Clémence & Vivien"}]
["Déodorant - Clémence & Vivien - Sensible Mandarinne",8.5,"7.9",{"$f":"VLOOKUP(A216,Import!A:D,4,FALSE)","v":"Produits d'hygiène coporelle"},false,0,0,{"$f":"IFERROR(__xludf.DUMMYFUNCTION(\"TO_PURE_NUMBER(G216)\"),0)","v":0},{"$error":"#VALUE!"},{"$f":"VLOOKUP(A216,Import!A:N,14)","v":"🇫🇷 France - Chauray (79)"}]
["Déodorant - Clémence & Vivien - Sensible Vanille",8.5,"7.9",{"$f":"VLOOKUP(A217,Import!A:D,4,FALSE)","v":"Produits d'hygiène coporelle"},false,0,0,{"$f":"IFERROR(__xludf.DUMMYFUNCTION(\"TO_PURE_NUMBER(G217)\"),0)","v":0},{"$error":"#VALUE!"},{"$f":"VLOOKUP(A217,Import!A:N,14)","v":"🇫🇷 France - Chauray (79)"}]
["Déodorant - Clémence & Vivien- L’Herbacé",8.5,"7.9",{"$f":"VLOOKUP(A218,Import!A:D,4,FALSE)","v":"Produits d'hygiène coporelle"},false,0,0,{"$f":"IFERROR(__xludf.DUMMYFUNCTION(\"TO_PURE_NUMBER(G218)\"),0)","v":0},{"$error":"#VALUE!"}]
["Déodorant - Endro - Bergamote / Arbre à thé","9,80€","9.8",{"$f":"VLOOKUP(A219,Import!A:D,4,FALSE)","v":"Produits d'hygiène coporelle"},false,0,0,{"$f":"IFERROR(__xludf.DUMMYFUNCTION(\"TO_PURE_NUMBER(G219)\"),0)","v":0},{"$error":"#VALUE!"},{"$f":"VLOOKUP(A219,Import!A:N,14)","v":"🇫🇷 France - Lannion (22)"}]
["Déodorant - Endro - Coco","9,80€","9.8",{"$f":"VLOOKUP(A220,Import!A:D,4,FALSE)","v":"Produits d'hygiène coporelle"},false,0,0,{"$f":"IFERROR(__xludf.DUMMYFUNCTION(\"TO_PURE_NUMBER(G220)\"),0)","v":0},{"$error":"#VALUE!"}]
["Déodorant - Endro - Menthe Poivrée / Cèdre","9,80€","9.8",{"$f":"VLOOKUP(A221,Import!A:D,4,FALSE)","v":"Produits d'hygiène coporelle"},false,0,0,{"$f":"IFERROR(__xludf.DUMMYFUNCTION(\"TO_PURE_NUMBER(G221)\"),0)","v":0},{"$error":"#VALUE!"},{"$f":"VLOOKUP(A221,Import!A:N,13)","v":"Endro"}]
["Déodorant - Endro - Palmarosa / Géranium","9,80€","9.8",{"$f":"VLOOKUP(A222,Import!A:D,4,FALSE)","v":"Produits d'hygiène coporelle"},false,0,0,{"$f":"IFERROR(__xludf.DUMMYFUNCTION(\"TO_PURE_NUMBER(G222)\"),0)","v":0},{"$error":"#VALUE!"},{"$f":"VLOOKUP(A222,Import!A:N,14)","v":"🇫🇷 France - Lannion (22)"}]
["Déodorant - Endro - Peaux sensilbles","9,80€","9.8",{"$f":"VLOOKUP(A223,Import!A:D,4,FALSE)","v":"Produits d'hygiène coporelle"},false,0,0,{"$f":"IFERROR(__xludf.DUMMYFUNCTION(\"TO_PURE_NUMBER(G223)\"),0)","v":0},{"$error":"#VALUE!"},{"$f":"VLOOKUP(A223,Import!A:N,14)","v":"🇫🇷 France - Lannion (22)"}]
["Déodorant - Savon de Joya - Recharge Stick - Cèdre Vétiver - 75g","8,90 €","8.9",{"$f":"VLOOKUP(A224,Import!A:D,4,FALSE)","v":"Produits d'hygiène coporelle"},false,0,0,{"$f":"IFERROR(__xludf.DUMMYFUNCTION(\"TO_PURE_NUMBER(G224)\"),0)","v":0},{"$error":"#VALUE!"}]
["Déodorant - Savon de Joya - Recharge Stick - Citron & Mandarine - 75g","8,90 €","8.9",{"$f":"VLOOKUP(A225,Import!A:D,4,FALSE)","v":"Produits d'hygiène coporelle"},false,0,0,{"$f":"IFERROR(__xludf.DUMMYFUNCTION(\"TO_PURE_NUMBER(G225)\"),0)","v":0},{"$error":"#VALUE!"}]
["Déodorant - Savon de Joya - Recharge Stick - Rose, 0 bicarbonate - 75g","8,90 €","8.9",{"$f":"VLOOKUP(A226,Import!A:D,4,FALSE)","v":"Produits d'hygiène coporelle"},false,0,0,{"$f":"IFERROR(__xludf.DUMMYFUNCTION(\"TO_PURE_NUMBER(G226)\"),0)","v":0},{"$error":"#VALUE!"},{"$f":"VLOOKUP(A226,Import!A:N,14)","v":"🇫🇷 France - Douvres-la-Délivrande (14)"}]
["Déodorant - Savon de Joya - Recharge Stick Mini  - Cèdre Vétivier - 25g","7,90 €","7.9",{"$f":"VLOOKUP(A227,Import!A:D,4,FALSE)","v":"Produits d'hygiène coporelle"},false,0,0,{"$f":"IFERROR(__xludf.DUMMYFUNCTION(\"TO_PURE_NUMBER(G227)\"),0)","v":0},{"$error":"#VALUE!"},{"$f":"VLOOKUP(A227,Import!A:N,14)","v":"🇫🇷 France - Douvres-la-Délivrande (14)"}]
["Déodorant - Savon de Joya - Recharge Stick Mini  - Citron & Mandarine 25g","7,90 €","7.9",{"$f":"VLOOKUP(A228,Import!A:D,4,FALSE)","v":"Produits d'hygiène coporelle"},false,0,0,{"$f":"IFERROR(__xludf.DUMMYFUNCTION(\"TO_PURE_NUMBER(G228)\"),0)","v":0},{"$error":"#VALUE!"},{"$f":"VLOOKUP(A228,Import!A:N,14)","v":"🇫🇷 France - Douvres-la-Délivrande (14)"}]
["Déodorant Stick - Savon de Joya - Cèdre Vétiver - 75g","12,50 €","12.5",{"$f":"VLOOKUP(A229,Import!A:D,4,FALSE)","v":"Produits d'hygiène coporelle"},false,0,0,{"$f":"IFERROR(__xludf.DUMMYFUNCTION(\"TO_PURE_NUMBER(G229)\"),0)","v":0},{"$error":"#VALUE!"},"Italie 🇮🇹"]
["Déodorant Stick - Savon de Joya - Citron & Mandarine - 75g","12,50 €","12.5",{"$f":"VLOOKUP(A230,Import!A:D,4,FALSE)","v":"Produits d'hygiène coporelle"},false,0,0,{"$f":"IFERROR(__xludf.DUMMYFUNCTION(\"TO_PURE_NUMBER(G230)\"),0)","v":0},{"$error":"#VALUE!"},{"$f":"VLOOKUP(A230,Import!A:N,14)","v":"🇫🇷 France - Douvres-la-Délivrande (14)"}]
["Déodorant Stick - Savon de Joya - Rose, 0 bicarbonate - 75g","12,50 €","12.5",{"$f":"VLOOKUP(A231,Import!A:D,4,FALSE)","v":"Produits d'hygiène coporelle"},false,0,0,{"$f":"IFERROR(__xludf.DUMMYFUNCTION(\"TO_PURE_NUMBER(G231)\"),0)","v":0},{"$error":"#VALUE!"},{"$f":"VLOOKUP(A231,Import!A:N,14)","v":"🇫🇷 France - Douvres-la-Délivrande (14)"}]
["Déodorant Stick Mini  - Savon de Joya -  Rose, 0 bicarbonate - 25g","7,90 €","7.9",{"$f":"VLOOKUP(A232,Import!A:D,4,FALSE)","v":"Produits d'hygiène coporelle"},false,0,0,{"$f":"IFERROR(__xludf.DUMMYFUNCTION(\"TO_PURE_NUMBER(G232)\"),0)","v":0},{"$error":"#VALUE!"}]
["Déodorant Stick Mini - Savon de Joya - Cèdre Vétiver - 25g","7,90 €","7.9",{"$f":"VLOOKUP(A233,Import!A:D,4,FALSE)","v":"Produits d'hygiène coporelle"},false,0,0,{"$f":"IFERROR(__xludf.DUMMYFUNCTION(\"TO_PURE_NUMBER(G233)\"),0)","v":0},{"$error":"#VALUE!"},{"$f":"VLOOKUP(A233,Import!A:N,14)","v":"🇫🇷 France - Douvres-la-Délivrande (14)"}]
["Déodorant Stick Mini - Savon de Joya - Citron & Mandarine - 25g","5,20 €","5.2",{"$f":"VLOOKUP(A234,Import!A:D,4,FALSE)","v":"Produits d'hygiène coporelle"},false,0,0,{"$f":"IFERROR(__xludf.DUMMYFUNCTION(\"TO_PURE_NUMBER(G234)\"),0)","v":0},{"$error":"#VALUE!"},"France 🇫🇷 "]
["Désinfectant sans rinçage - Vrac","12,50 €","12.50",{"$f":"VLOOKUP(A235,Import!A:D,4,FALSE)","v":"Produits d'entretiens"},false,0,0,{"$f":"IFERROR(__xludf.DUMMYFUNCTION(\"TO_PURE_NUMBER(G235)\"),0)","v":0},{"$error":"#VALUE!"},"France 🇫🇷 "]
["Détachant - Vrac",9.9,"9;90",{"$f":"VLOOKUP(A236,Import!A:D,4,FALSE)","v":"Produits d'entretiens"},false,0,0,{"$f":"IFERROR(__xludf.DUMMYFUNCTION(\"TO_PURE_NUMBER(G236)\"),0)","v":0},{"$error":"#VALUE!"},"France 🇫🇷 "]
["Emballage 1L Plat + Bouchon ","2 €","2",{"$f":"VLOOKUP(A237,Import!A:D,4,FALSE)","v":"Produits d'entretiens"},false,0,0,{"$f":"IFERROR(__xludf.DUMMYFUNCTION(\"TO_PURE_NUMBER(G237)\"),0)","v":0},0,{"$f":"VLOOKUP(A237,Import!A:N,14)","v":"🇫🇷 France - Malataverne (26)"}]
["Emballage 3L + Bouchon","4 €","4",{"$f":"VLOOKUP(A238,Import!A:D,4,FALSE)","v":"Produits d'entretiens"},false,0,0,{"$f":"IFERROR(__xludf.DUMMYFUNCTION(\"TO_PURE_NUMBER(G238)\"),0)","v":0},0,{"$f":"VLOOKUP(A238,Import!A:N,14)","v":"🇫🇷 France - Malataverne (26)"}]
["Emballage WC 750ml + Bouchon","2,50 €","2.5",{"$f":"VLOOKUP(A239,Import!A:D,4,FALSE)","v":"Produits d'entretiens"},false,0,0,{"$f":"IFERROR(__xludf.DUMMYFUNCTION(\"TO_PURE_NUMBER(G239)\"),0)","v":0},{"$error":"#VALUE!"}]
["Essuie tout blanc, 100% recyclés, 200f x 12","2 €","2",{"$f":"VLOOKUP(A240,Import!A:D,4,FALSE)","v":"Produits d'entretiens"},false,0,0,{"$f":"IFERROR(__xludf.DUMMYFUNCTION(\"TO_PURE_NUMBER(G240)\"),0)","v":0},0]
["Essuie-tout - Lot de 5 Multicolore","10,00 €","10",{"$f":"VLOOKUP(A241,Import!A:D,4,FALSE)","v":"Zéros déchets et Bocaux"},false,0,0,{"$f":"IFERROR(__xludf.DUMMYFUNCTION(\"TO_PURE_NUMBER(G241)\"),0)","v":0},0]
["Farine de blé - T110","2,10€ / kg","2",{"$f":"VLOOKUP(A242,Import!A:D,4,FALSE)","v":"Alimentaire Vrac"},false,0,0,{"$f":"IFERROR(__xludf.DUMMYFUNCTION(\"TO_PURE_NUMBER(G242)\"),0)","v":0},0]
["Farine de blé - T55 ","2,10€ / kg","2.1",{"$f":"VLOOKUP(A243,Import!A:D,4,FALSE)","v":"Alimentaire Vrac"},false,0,0,{"$f":"IFERROR(__xludf.DUMMYFUNCTION(\"TO_PURE_NUMBER(G243)\"),0)","v":0},{"$error":"#VALUE!"},"France 🇫🇷 "]
["Farine de blé - T65 ","2,10€ / kg","2",{"$f":"VLOOKUP(A244,Import!A:D,4,FALSE)","v":"Alimentaire Vrac"},false,0,0,{"$f":"IFERROR(__xludf.DUMMYFUNCTION(\"TO_PURE_NUMBER(G244)\"),0)","v":0},0,"France 🇫🇷 "]
["Farine de Maïs ","2,95€ / kg","2.95",{"$f":"VLOOKUP(A245,Import!A:D,4,FALSE)","v":"Alimentaire Vrac"},false,0,0,{"$f":"IFERROR(__xludf.DUMMYFUNCTION(\"TO_PURE_NUMBER(G245)\"),0)","v":0},{"$error":"#VALUE!"}]
["Farine de Maïs - Paquet 500g",1.7,1.7,{"$f":"VLOOKUP(A246,Import!A:D,4,FALSE)","v":"Alimentaire Conditionné"},false,0,0,{"$f":"G246","v":0},0]
["Farine de Petit épeautre ","6,00€ / kg","6",{"$f":"VLOOKUP(A247,Import!A:D,4,FALSE)","v":"Alimentaire Vrac"},false,0,0,{"$f":"IFERROR(__xludf.DUMMYFUNCTION(\"TO_PURE_NUMBER(G247)\"),0)","v":0},0,{"$f":"VLOOKUP(A247,Import!A:N,13)","v":"Scop Epice"}]
["Farine de Pois chiches ","5,40€ / kg","5.4",{"$f":"VLOOKUP(A248,Import!A:D,4,FALSE)","v":"Alimentaire Vrac"},false,0,0,{"$f":"IFERROR(__xludf.DUMMYFUNCTION(\"TO_PURE_NUMBER(G248)\"),0)","v":0},{"$error":"#VALUE!"}]
["Farine de Pos chiches - paquet 500g",2.7,2.7,{"$f":"VLOOKUP(A249,Import!A:D,4,FALSE)","v":"Alimentaire Conditionné"},false,0,0,{"$f":"G249","v":0},0]
["Fécule de Pomme de Terre ","4,90€ / kg","4.9",{"$f":"VLOOKUP(A250,Import!A:D,4,FALSE)","v":"Alimentaire Vrac"},false,0,0,{"$f":"IFERROR(__xludf.DUMMYFUNCTION(\"TO_PURE_NUMBER(G250)\"),0)","v":0},{"$error":"#VALUE!"}]
["Figues Entières ","12,00€ / kg","12",{"$f":"VLOOKUP(A251,Import!A:D,4,FALSE)","v":"Alimentaire Vrac"},false,0,0,{"$f":"IFERROR(__xludf.DUMMYFUNCTION(\"TO_PURE_NUMBER(G251)\"),0)","v":0},0,"France 🇫🇷 - Belley -01"]
["Filet à fruits et légumes - Taille L","8,50€","8.5",{"$f":"VLOOKUP(A252,Import!A:D,4,FALSE)","v":"Zéros déchets et Bocaux"},false,0,0,{"$f":"IFERROR(__xludf.DUMMYFUNCTION(\"TO_PURE_NUMBER(G252)\"),0)","v":0},{"$error":"#VALUE!"},{"$f":"VLOOKUP(A252,Import!A:N,14)","v":"🇫🇷 France - Annemasse (74)"}]
["Filet à fruits et légumes - Taille M","9,50€","9.5",{"$f":"VLOOKUP(A253,Import!A:D,4,FALSE)","v":"Zéros déchets et Bocaux"},false,0,0,{"$f":"IFERROR(__xludf.DUMMYFUNCTION(\"TO_PURE_NUMBER(G253)\"),0)","v":0},{"$error":"#VALUE!"},{"$f":"VLOOKUP(A253,Import!A:N,14)","v":"🇫🇷 France - Annemasse (74)"}]
["Filtre à café","4,50€","4.5",{"$f":"VLOOKUP(A254,Import!A:D,4,FALSE)","v":"Zéros déchets et Bocaux"},false,0,0,{"$f":"IFERROR(__xludf.DUMMYFUNCTION(\"TO_PURE_NUMBER(G254)\"),0)","v":0},{"$error":"#VALUE!"},{"$f":"VLOOKUP(A254,Import!A:N,13)","v":"Alterosac"}]
["Filtre à Infusion ","4,50€","4.5",{"$f":"VLOOKUP(A255,Import!A:D,4,FALSE)","v":"Zéros déchets et Bocaux"},false,0,0,{"$f":"IFERROR(__xludf.DUMMYFUNCTION(\"TO_PURE_NUMBER(G255)\"),0)","v":0},{"$error":"#VALUE!"},{"$f":"VLOOKUP(A255,Import!A:N,13)","v":"Alterosac"}]
["Filtre à thé ","4,00€","4",{"$f":"VLOOKUP(A256,Import!A:D,4,FALSE)","v":"Zéros déchets et Bocaux"},false,0,0,{"$f":"IFERROR(__xludf.DUMMYFUNCTION(\"TO_PURE_NUMBER(G256)\"),0)","v":0},0]
["Filtre à théière inox forme théière","5,50€","5.5",{"$f":"VLOOKUP(A257,Import!A:D,4,FALSE)","v":"Zéros déchets et Bocaux"},false,0,{"$f":"IF(F257=\"100G\",0.1,IF(F257=\"250G\",0.25,IF(F257=\"500G\",0.5,IF(F257=\"1 Kilo\",1,F257))))","v":0},{"$f":"IFERROR(__xludf.DUMMYFUNCTION(\"TO_PURE_NUMBER(G257)\"),0)","v":0},{"$f":"H257*C257","v":{"$error":"#VALUE!"}}]
["Flageolets","6,50€ / kg","6.5",{"$f":"VLOOKUP(A258,Import!A:D,4,FALSE)","v":"Alimentaire Vrac"},false,0,0,{"$f":"IFERROR(__xludf.DUMMYFUNCTION(\"TO_PURE_NUMBER(G258)\"),0)","v":0},{"$error":"#VALUE!"}]
["Fondants Parfumés","3,50€","3.5",{"$f":"VLOOKUP(A259,Import!A:D,4,FALSE)","v":{"$error":"#N/A"}},false,0,0,{"$f":"IFERROR(__xludf.DUMMYFUNCTION(\"TO_PURE_NUMBER(G259)\"),0)","v":0},{"$error":"#VALUE!"},{"$f":"VLOOKUP(A259,Import!A:N,13)","v":"Actibio"}]
["Fourchette réutilisable","2,00€","2",{"$f":"VLOOKUP(A260,Import!A:D,4,FALSE)","v":"Zéros déchets et Bocaux"},false,0,0,{"$f":"IFERROR(__xludf.DUMMYFUNCTION(\"TO_PURE_NUMBER(G260)\"),0)","v":0},0,{"$f":"VLOOKUP(A260,Import!A:N,13)","v":"Cap Bambou"}]
["Furoshikis - Taille M","6,50€","6.5",{"$f":"VLOOKUP(A261,Import!A:D,4,FALSE)","v":"Zéros déchets et Bocaux"},false,0,0,{"$f":"IFERROR(__xludf.DUMMYFUNCTION(\"TO_PURE_NUMBER(G261)\"),0)","v":0},{"$error":"#VALUE!"},{"$f":"VLOOKUP(A261,Import!A:N,13)","v":"Alterosac"}]
["Furoshikis - Taille S","5,00€","5",{"$f":"VLOOKUP(A262,Import!A:D,4,FALSE)","v":"Zéros déchets et Bocaux"},false,0,0,{"$f":"IFERROR(__xludf.DUMMYFUNCTION(\"TO_PURE_NUMBER(G262)\"),0)","v":0},0,{"$f":"VLOOKUP(A262,Import!A:N,14)","v":"🇫🇷 France - Annemasse (74)"}]
["Fusilli Riz Quinoa ","12,00€ / kg","12",{"$f":"VLOOKUP(A263,Import!A:D,4,FALSE)","v":"Alimentaire Vrac"},false,0,0,{"$f":"IFERROR(__xludf.DUMMYFUNCTION(\"TO_PURE_NUMBER(G263)\"),0)","v":0},0]
["Gamme anti âge - Contour des yeux - Endro ",9.9,"9.90",{"$f":"VLOOKUP(A264,Import!A:D,4,FALSE)","v":"Produits d'hygiène coporelle"},false,0,0,{"$f":"IFERROR(__xludf.DUMMYFUNCTION(\"TO_PURE_NUMBER(G264)\"),0)","v":0},{"$error":"#VALUE!"}]
["Gamme anti âge - Crème - Endro ",19.899999999999999,"19.90",{"$f":"VLOOKUP(A265,Import!A:D,4,FALSE)","v":"Produits d'hygiène coporelle"},false,0,0,{"$f":"IFERROR(__xludf.DUMMYFUNCTION(\"TO_PURE_NUMBER(G265)\"),0)","v":0},{"$error":"#VALUE!"}]
["Gamme anti âge - Sérum- Endro ",24.9,"24.90",{"$f":"VLOOKUP(A266,Import!A:D,4,FALSE)","v":"Produits d'hygiène coporelle"},false,0,0,{"$f":"IFERROR(__xludf.DUMMYFUNCTION(\"TO_PURE_NUMBER(G266)\"),0)","v":0},{"$error":"#VALUE!"}]
["Gant de toilette","5,50€","5.5",{"$f":"VLOOKUP(A267,Import!A:D,4,FALSE)","v":"Zéros déchets et Bocaux"},false,0,0,{"$f":"IFERROR(__xludf.DUMMYFUNCTION(\"TO_PURE_NUMBER(G267)\"),0)","v":0},{"$error":"#VALUE!"},{"$f":"VLOOKUP(A267,Import!A:N,13)","v":"Alterosac"}]
["Gel douche vrac - Karité verveine","8,30€ / kg","8.3",{"$f":"VLOOKUP(A268,Import!A:D,4,FALSE)","v":"Produits d'entretiens"},false,0,0,{"$f":"IFERROR(__xludf.DUMMYFUNCTION(\"TO_PURE_NUMBER(G268)\"),0)","v":0},{"$error":"#VALUE!"},{"$f":"VLOOKUP(A268,Import!A:N,13)","v":"Aventure Bio"}]
["Gel WC - Vrac","5,90€ / kg","5.9",{"$f":"VLOOKUP(A269,Import!A:D,4,FALSE)","v":"Produits d'entretiens"},false,0,0,{"$f":"IFERROR(__xludf.DUMMYFUNCTION(\"TO_PURE_NUMBER(G269)\"),0)","v":0},{"$error":"#VALUE!"},{"$f":"VLOOKUP(A269,Import!A:N,14)","v":"🇫🇷 France - Malataverne (26)"}]
["Gingembre Confit irréguliers ","14,50€ / kg","14.5",{"$f":"VLOOKUP(A270,Import!A:D,4,FALSE)","v":"Alimentaire Vrac"},false,0,0,{"$f":"IFERROR(__xludf.DUMMYFUNCTION(\"TO_PURE_NUMBER(G270)\"),0)","v":0},{"$error":"#VALUE!"},{"$f":"VLOOKUP(A270,Import!A:N,14)","v":"🇨🇳 Chine"}]
["Gingembre en Poudre ","50,00€ / kg","50",{"$f":"VLOOKUP(A271,Import!A:D,4,FALSE)","v":"Alimentaire Vrac"},false,0,0,{"$f":"IFERROR(__xludf.DUMMYFUNCTION(\"TO_PURE_NUMBER(G271)\"),0)","v":0},0,{"$f":"VLOOKUP(A271,Import!A:N,13)","v":"Actibio"}]
["Gommage visage Douce Aloe","14,90€","14.9",{"$f":"VLOOKUP(A272,Import!A:D,4,FALSE)","v":"Produits d'hygiène coporelle"},false,0,0,{"$f":"IFERROR(__xludf.DUMMYFUNCTION(\"TO_PURE_NUMBER(G272)\"),0)","v":0},{"$error":"#VALUE!"},{"$f":"VLOOKUP(A272,Import!A:N,13)","v":"Endro"}]
["Goupillon","1,15€","1.15",{"$f":"VLOOKUP(A273,Import!A:D,4,FALSE)","v":{"$error":"#N/A"}},false,0,0,{"$f":"IFERROR(__xludf.DUMMYFUNCTION(\"TO_PURE_NUMBER(G273)\"),0)","v":0},{"$error":"#VALUE!"},{"$f":"VLOOKUP(A273,Import!A:N,13)","v":"Endro"}]
["Graines de Chia ","50€ / kg","5",{"$f":"VLOOKUP(A274,Import!A:D,4,FALSE)","v":"Alimentaire Vrac"},false,0,0,{"$f":"IFERROR(__xludf.DUMMYFUNCTION(\"TO_PURE_NUMBER(G274)\"),0)","v":0},0,{"$f":"VLOOKUP(A274,Import!A:N,14)","v":"🇵🇪 Pérou"}]
["Graines de Courges Foncées ","18,50€ / kg","18.5",{"$f":"VLOOKUP(A275,Import!A:D,4,FALSE)","v":"Alimentaire Vrac"},false,0,0,{"$f":"IFERROR(__xludf.DUMMYFUNCTION(\"TO_PURE_NUMBER(G275)\"),0)","v":0},{"$error":"#VALUE!"},{"$f":"VLOOKUP(A275,Import!A:N,14)","v":"🇫🇷 France"}]
["Graines de Lin Brun ","6,20€ / kg","6.2",{"$f":"VLOOKUP(A276,Import!A:D,4,FALSE)","v":"Alimentaire Vrac"},false,0,0,{"$f":"IFERROR(__xludf.DUMMYFUNCTION(\"TO_PURE_NUMBER(G276)\"),0)","v":0},{"$error":"#VALUE!"},{"$f":"VLOOKUP(A276,Import!A:N,14)","v":"🇫🇷 France "}]
["Graines de Pavot","135€ / kg","135",{"$f":"VLOOKUP(A277,Import!A:D,4,FALSE)","v":"Alimentaire Vrac"},false,0,0,{"$f":"IFERROR(__xludf.DUMMYFUNCTION(\"TO_PURE_NUMBER(G277)\"),0)","v":0},0,{"$f":"VLOOKUP(A277,Import!A:N,13)","v":0}]
["Graines de Sésame ","30€ / kg","30",{"$f":"VLOOKUP(A278,Import!A:D,4,FALSE)","v":"Alimentaire Vrac"},false,0,0,{"$f":"IFERROR(__xludf.DUMMYFUNCTION(\"TO_PURE_NUMBER(G278)\"),0)","v":0},0,{"$f":"VLOOKUP(A278,Import!A:N,13)","v":"Scop Epice"}]
["Haricots Blancs ","6,00€ / kg","6",{"$f":"VLOOKUP(A279,Import!A:D,4,FALSE)","v":"Alimentaire Vrac"},false,0,0,{"$f":"IFERROR(__xludf.DUMMYFUNCTION(\"TO_PURE_NUMBER(G279)\"),0)","v":0},0,{"$f":"VLOOKUP(A279,Import!A:N,13)","v":"Actibio"}]
["Haricots Noirs","7,50€ / kg","7.5",{"$f":"VLOOKUP(A280,Import!A:D,4,FALSE)","v":"Alimentaire Vrac"},false,0,0,{"$f":"IFERROR(__xludf.DUMMYFUNCTION(\"TO_PURE_NUMBER(G280)\"),0)","v":0},{"$error":"#VALUE!"}]
["Haricots Rouges ","7,50€ /kg","7.5",{"$f":"VLOOKUP(A281,Import!A:D,4,FALSE)","v":"Alimentaire Vrac"},false,0,0,{"$f":"IFERROR(__xludf.DUMMYFUNCTION(\"TO_PURE_NUMBER(G281)\"),0)","v":0},{"$error":"#VALUE!"}]
["Herbes de provence ","54,00€ / kg","54",{"$f":"VLOOKUP(A282,Import!A:D,4,FALSE)","v":"Alimentaire Vrac"},false,0,0,{"$f":"IFERROR(__xludf.DUMMYFUNCTION(\"TO_PURE_NUMBER(G282)\"),0)","v":0},0,{"$f":"VLOOKUP(A282,Import!A:N,14)","v":"🇫🇷 France "}]
["Huile d’Olive extra vierge ","9€ / kg",9,{"$f":"VLOOKUP(A283,Import!A:D,4,FALSE)","v":"Alimentaire Vrac"},false,0,0,{"$f":"IFERROR(__xludf.DUMMYFUNCTION(\"TO_PURE_NUMBER(G283)\"),0)","v":0},0,{"$f":"VLOOKUP(A283,Import!A:N,14)","v":"🇪🇸 Espagne"}]
["Huile d’olive Luce - 1L",10.9,"9,5",{"$f":"VLOOKUP(A284,Import!A:D,4,FALSE)","v":"Alimentaire Conditionné"},false,0,0,{"$f":"G284","v":0},0,{"$f":"VLOOKUP(A284,Import!A:N,14)","v":"🇮🇹 Italie"}]
["Huile de Cameline - 25cl","10,50€","10,5",{"$f":"VLOOKUP(A285,Import!A:D,4,FALSE)","v":"Alimentaire Conditionné"},false,0,0,0,0,{"$f":"VLOOKUP(A285,Import!A:N,14)","v":"🇫🇷 France - Sandrans (01)"}]
["Huile de Chanvre - 25cl","11,50€","11,5",{"$f":"VLOOKUP(A286,Import!A:D,4,FALSE)","v":"Alimentaire Conditionné"},false,0,0,0,0,{"$f":"VLOOKUP(A286,Import!A:N,14)","v":"🇫🇷 France - Sandrans (01)"}]
["Huile de Coco vierge","12,00€ / kg","12",{"$f":"VLOOKUP(A287,Import!A:D,4,FALSE)","v":"Alimentaire Vrac"},false,0,0,{"$f":"IFERROR(__xludf.DUMMYFUNCTION(\"TO_PURE_NUMBER(G287)\"),0)","v":0},0,{"$f":"VLOOKUP(A287,Import!A:N,14)","v":"🇵🇭 Philippines"}]
["Huile de Colza - 1L","14,00€","14",{"$f":"VLOOKUP(A288,Import!A:D,4,FALSE)","v":"Alimentaire Conditionné"},false,0,0,{"$f":"G288","v":0},0,{"$f":"VLOOKUP(A288,Import!A:N,14)","v":"🇫🇷 France - Sandrans (01)"}]
["Huile de Colza - 50cl","7,00€","7",{"$f":"VLOOKUP(A289,Import!A:D,4,FALSE)","v":"Alimentaire Conditionné"},false,0,0,0,0,{"$f":"VLOOKUP(A289,Import!A:N,14)","v":"🇫🇷 France - Sandrans (01)"}]
["Huile de Colza - en vrac ","11,00€","11",{"$f":"VLOOKUP(A290,Import!A:D,4,FALSE)","v":"Alimentaire Vrac"},false,0,0,{"$f":"IFERROR(__xludf.DUMMYFUNCTION(\"TO_PURE_NUMBER(G290)\"),0)","v":0},0,{"$f":"VLOOKUP(A290,Import!A:N,14)","v":"🇫🇷 France - Sandrans (01)"}]
["Huile de Lin - 25cl ","7,50€","7,5",{"$f":"VLOOKUP(A291,Import!A:D,4,FALSE)","v":"Alimentaire Conditionné"},false,0,0,{"$f":"G291","v":0},0,{"$f":"VLOOKUP(A291,Import!A:N,14)","v":"🇫🇷 France - Sandrans (01)"}]
["Huile de soin Antixiodante - Clemence & Vivien ","11,90€","11.9",{"$f":"VLOOKUP(A292,Import!A:D,4,FALSE)","v":"Produits d'hygiène coporelle"},false,0,0,{"$f":"IFERROR(__xludf.DUMMYFUNCTION(\"TO_PURE_NUMBER(G292)\"),0)","v":0},{"$error":"#VALUE!"},{"$f":"VLOOKUP(A292,Import!A:N,14)","v":"🇫🇷 France - Chauray (79)"}]
["Huile de soin Peaux Mixtes - Clemence & Vivien ","11,90€","11.9",{"$f":"VLOOKUP(A293,Import!A:D,4,FALSE)","v":"Produits d'hygiène coporelle"},false,0,0,{"$f":"IFERROR(__xludf.DUMMYFUNCTION(\"TO_PURE_NUMBER(G293)\"),0)","v":0},{"$error":"#VALUE!"},{"$f":"VLOOKUP(A293,Import!A:N,14)","v":"🇫🇷 France - Chauray (79)"}]
["Huile de soin Peaux Sèches - Clemence & Vivien ","11,90€","11.9",{"$f":"VLOOKUP(A294,Import!A:D,4,FALSE)","v":"Produits d'hygiène coporelle"},false,0,0,{"$f":"IFERROR(__xludf.DUMMYFUNCTION(\"TO_PURE_NUMBER(G294)\"),0)","v":0},{"$error":"#VALUE!"},{"$f":"VLOOKUP(A294,Import!A:N,14)","v":"🇫🇷 France - Chauray (79)"}]
["Huile de Tournesol - 1L","12,00€","12",{"$f":"VLOOKUP(A295,Import!A:D,4,FALSE)","v":"Alimentaire Conditionné"},false,0,0,{"$f":"G295","v":0},0]
["Huile de Tournesol - 50cl","6,00€","6",{"$f":"VLOOKUP(A296,Import!A:D,4,FALSE)","v":"Alimentaire Conditionné"},false,0,0,0,0]
["Huile de Tournesol - en vrac ","7,90€ / kg","7.9",{"$f":"VLOOKUP(A297,Import!A:D,4,FALSE)","v":"Alimentaire Vrac"},false,0,0,{"$f":"IFERROR(__xludf.DUMMYFUNCTION(\"TO_PURE_NUMBER(G297)\"),0)","v":0},{"$error":"#VALUE!"}]
["Huile démaquillante toute douce Amande - Clemence & Vivien ","11,90€","11.9",{"$f":"VLOOKUP(A298,Import!A:D,4,FALSE)","v":"Produits d'hygiène coporelle"},false,0,0,{"$f":"IFERROR(__xludf.DUMMYFUNCTION(\"TO_PURE_NUMBER(G298)\"),0)","v":0},{"$error":"#VALUE!"},{"$f":"VLOOKUP(A298,Import!A:N,14)","v":"🇫🇷 France - Chauray (79)"}]
["Huile démaquillante toute douce Rose-Muguet - Clemence & Vivien ","11,90€","11.9",{"$f":"VLOOKUP(A299,Import!A:D,4,FALSE)","v":"Produits d'hygiène coporelle"},false,0,0,{"$f":"IFERROR(__xludf.DUMMYFUNCTION(\"TO_PURE_NUMBER(G299)\"),0)","v":0},{"$error":"#VALUE!"},{"$f":"VLOOKUP(A299,Import!A:N,14)","v":"🇫🇷 France - Chauray (79)"}]
["Huile Sèche 3 en 1 - Endro","19,90€","19.9",{"$f":"VLOOKUP(A300,Import!A:D,4,FALSE)","v":"Produits d'hygiène coporelle"},false,0,0,{"$f":"IFERROR(__xludf.DUMMYFUNCTION(\"TO_PURE_NUMBER(G300)\"),0)","v":0},{"$error":"#VALUE!"},{"$f":"VLOOKUP(A300,Import!A:N,14)","v":"🇫🇷 France - Lannion (22)"}]
["Jus d’orange du Maroc - 75cl","4€","4",{"$f":"VLOOKUP(A301,Import!A:D,4,FALSE)","v":"Boissons conditionnées"},false,0,0,{"$f":"IFERROR(__xludf.DUMMYFUNCTION(\"TO_PURE_NUMBER(G301)\"),0)","v":0},0]
["Jus de citron Sicile - 1L","5,90€","5.9",{"$f":"VLOOKUP(A302,Import!A:D,4,FALSE)","v":"Boissons conditionnées"},false,0,0,{"$f":"IFERROR(__xludf.DUMMYFUNCTION(\"TO_PURE_NUMBER(G302)\"),0)","v":0},{"$error":"#VALUE!"}]
["Jus de citron Sicile - 50cl","3,50€","3.5",{"$f":"VLOOKUP(A303,Import!A:D,4,FALSE)","v":"Boissons conditionnées"},false,0,0,{"$f":"IFERROR(__xludf.DUMMYFUNCTION(\"TO_PURE_NUMBER(G303)\"),0)","v":0},{"$error":"#VALUE!"}]
["Jus de Pamplemousse rose Demeter - 75cl","4,50€","4.5",{"$f":"VLOOKUP(A304,Import!A:D,4,FALSE)","v":"Boissons conditionnées"},false,0,0,{"$f":"IFERROR(__xludf.DUMMYFUNCTION(\"TO_PURE_NUMBER(G304)\"),0)","v":0},{"$error":"#VALUE!"}]
["Jus de Pomme 1L ","4,50€","4.5",{"$f":"VLOOKUP(A305,Import!A:D,4,FALSE)","v":"Boissons conditionnées"},false,0,0,{"$f":"IFERROR(__xludf.DUMMYFUNCTION(\"TO_PURE_NUMBER(G305)\"),0)","v":0},{"$error":"#VALUE!"}]
["Jus de Pomme Cassis - 75cl","4€","4",{"$f":"VLOOKUP(A306,Import!A:D,4,FALSE)","v":"Boissons conditionnées"},false,0,0,{"$f":"IFERROR(__xludf.DUMMYFUNCTION(\"TO_PURE_NUMBER(G306)\"),0)","v":0},0]
["Jus de Raisin 1L","4,50€","4.5",{"$f":"VLOOKUP(A307,Import!A:D,4,FALSE)","v":"Boissons conditionnées"},false,0,0,{"$f":"IFERROR(__xludf.DUMMYFUNCTION(\"TO_PURE_NUMBER(G307)\"),0)","v":0},{"$error":"#VALUE!"}]
["Jus Pomme Cassis 1L ","4,50€","4.5",{"$f":"VLOOKUP(A308,Import!A:D,4,FALSE)","v":"Boissons conditionnées"},false,0,0,{"$f":"IFERROR(__xludf.DUMMYFUNCTION(\"TO_PURE_NUMBER(G308)\"),0)","v":0},{"$error":"#VALUE!"}]
["Jus Pomme Framboise - 1L","4,90€","4.9",{"$f":"VLOOKUP(A309,Import!A:D,4,FALSE)","v":"Boissons conditionnées"},false,0,0,{"$f":"IFERROR(__xludf.DUMMYFUNCTION(\"TO_PURE_NUMBER(G309)\"),0)","v":0},{"$error":"#VALUE!"}]
["Ketchup bouteille - 500g","3,50€","3,5",{"$f":"VLOOKUP(A310,Import!A:D,4,FALSE)","v":"Alimentaire Conditionné"},false,0,0,{"$f":"G310","v":0},0]
["Kombucha - Citron Gingembre - 33cl","4,50€","4.5",{"$f":"VLOOKUP(A311,Import!A:D,4,FALSE)","v":"Boissons conditionnées"},false,0,0,{"$f":"IFERROR(__xludf.DUMMYFUNCTION(\"TO_PURE_NUMBER(G311)\"),0)","v":0},{"$error":"#VALUE!"}]
["Kombucha - Menthe - 33cl","4,50€","4.5",{"$f":"VLOOKUP(A312,Import!A:D,4,FALSE)","v":"Boissons conditionnées"},false,0,0,{"$f":"IFERROR(__xludf.DUMMYFUNCTION(\"TO_PURE_NUMBER(G312)\"),0)","v":0},{"$error":"#VALUE!"}]
["Kombucha - Nature - 33cl","4,50€","4.5",{"$f":"VLOOKUP(A313,Import!A:D,4,FALSE)","v":"Boissons conditionnées"},false,0,0,{"$f":"IFERROR(__xludf.DUMMYFUNCTION(\"TO_PURE_NUMBER(G313)\"),0)","v":0},{"$error":"#VALUE!"}]
["Lait après-soleil - 100ml","14,90€","14.9",{"$f":"VLOOKUP(A314,Import!A:D,4,FALSE)","v":"Produits d'hygiène coporelle"},false,0,0,{"$f":"IFERROR(__xludf.DUMMYFUNCTION(\"TO_PURE_NUMBER(G314)\"),0)","v":0},{"$error":"#VALUE!"}]
["Lait après-soleil - 50ml","9,90€","9.9",{"$f":"VLOOKUP(A315,Import!A:D,4,FALSE)","v":"Produits d'hygiène coporelle"},false,0,0,{"$f":"IFERROR(__xludf.DUMMYFUNCTION(\"TO_PURE_NUMBER(G315)\"),0)","v":0},{"$error":"#VALUE!"}]
["Lait corps au beurre de Karité Vrac","31,00€","31",{"$f":"VLOOKUP(A316,Import!A:D,4,FALSE)","v":"Produits d'hygiène coporelle"},false,0,0,{"$f":"IFERROR(__xludf.DUMMYFUNCTION(\"TO_PURE_NUMBER(G316)\"),0)","v":0},0,{"$f":"VLOOKUP(A316,Import!A:N,13)","v":"Aventure Bio"}]
["Lait UHT 1/2 écrémé - 1L","1,50€","1.5",{"$f":"VLOOKUP(A317,Import!A:D,4,FALSE)","v":"Boissons conditionnées"},false,0,0,{"$f":"IFERROR(__xludf.DUMMYFUNCTION(\"TO_PURE_NUMBER(G317)\"),0)","v":0},{"$error":"#VALUE!"},{"$f":"VLOOKUP(A317,Import!A:N,13)","v":"Biodis"}]
["Lait UHT entier - 1L","1,95€","1.95",{"$f":"VLOOKUP(A318,Import!A:D,4,FALSE)","v":"Boissons conditionnées"},false,0,0,{"$f":"IFERROR(__xludf.DUMMYFUNCTION(\"TO_PURE_NUMBER(G318)\"),0)","v":0},{"$error":"#VALUE!"},{"$f":"VLOOKUP(A318,Import!A:N,13)","v":"Biodis"}]
["Lentilles Corail"," 8,50€ / kg","8.5",{"$f":"VLOOKUP(A319,Import!A:D,4,FALSE)","v":"Alimentaire Vrac"},false,0,0,{"$f":"IFERROR(__xludf.DUMMYFUNCTION(\"TO_PURE_NUMBER(G319)\"),0)","v":0},{"$error":"#VALUE!"},{"$f":"VLOOKUP(A319,Import!A:N,13)","v":0}]
["Lessive Fleur à Savon ","4,35€ / kg","4.35",{"$f":"VLOOKUP(A320,Import!A:D,4,FALSE)","v":"Produits d'entretiens"},false,0,0,{"$f":"IFERROR(__xludf.DUMMYFUNCTION(\"TO_PURE_NUMBER(G320)\"),0)","v":0},{"$error":"#VALUE!"},{"$f":"VLOOKUP(A320,Import!A:N,13)","v":"Relais local"}]
["Lessive Hypoallergénique","5,90€ / kg","5.9",{"$f":"VLOOKUP(A321,Import!A:D,4,FALSE)","v":"Produits d'entretiens"},false,0,0,{"$f":"IFERROR(__xludf.DUMMYFUNCTION(\"TO_PURE_NUMBER(G321)\"),0)","v":0},{"$error":"#VALUE!"},{"$f":"VLOOKUP(A321,Import!A:N,13)","v":"Relais local"}]
["Levure Paillettes Maltées","9,50€ / kg","9.5",{"$f":"VLOOKUP(A322,Import!A:D,4,FALSE)","v":"Alimentaire Vrac"},false,0,0,{"$f":"IFERROR(__xludf.DUMMYFUNCTION(\"TO_PURE_NUMBER(G322)\"),0)","v":0},{"$error":"#VALUE!"}]
["Limonade Bulles d’orange - 25cl","3,00 €","3",{"$f":"VLOOKUP(A323,Import!A:D,4,FALSE)","v":"Boissons conditionnées"},false,0,0,{"$f":"IFERROR(__xludf.DUMMYFUNCTION(\"TO_PURE_NUMBER(G323)\"),0)","v":0},0]
["Limonade Sucre de Canne 1L","4€","4",{"$f":"VLOOKUP(A324,Import!A:D,4,FALSE)","v":"Boissons conditionnées"},false,0,0,{"$f":"IFERROR(__xludf.DUMMYFUNCTION(\"TO_PURE_NUMBER(G324)\"),0)","v":0},0]
["Liquide Vaisselle Main - Vrac ","3,80€ / kg","3.8",{"$f":"VLOOKUP(A325,Import!A:D,4,FALSE)","v":"Produits d'entretiens"},false,0,0,{"$f":"IFERROR(__xludf.DUMMYFUNCTION(\"TO_PURE_NUMBER(G325)\"),0)","v":0},{"$error":"#VALUE!"}]
["Maïs Popcorn ","4,50€ / kg","4.5",{"$f":"VLOOKUP(A326,Import!A:D,4,FALSE)","v":"Alimentaire Vrac"},false,0,0,{"$f":"IFERROR(__xludf.DUMMYFUNCTION(\"TO_PURE_NUMBER(G326)\"),0)","v":0},{"$error":"#VALUE!"}]
["Mangues séchées","27,50€ / kg","27.5",{"$f":"VLOOKUP(A327,Import!A:D,4,FALSE)","v":"Alimentaire Vrac"},false,0,0,{"$f":"IFERROR(__xludf.DUMMYFUNCTION(\"TO_PURE_NUMBER(G327)\"),0)","v":0},{"$error":"#VALUE!"},{"$f":"VLOOKUP(A327,Import!A:N,13)","v":0}]
["Masque Visage Purifiant - Endro","24,90 €","24.9",{"$f":"VLOOKUP(A328,Import!A:D,4,FALSE)","v":"Produits d'hygiène coporelle"},false,0,0,{"$f":"IFERROR(__xludf.DUMMYFUNCTION(\"TO_PURE_NUMBER(G328)\"),0)","v":0},{"$error":"#VALUE!"},{"$f":"VLOOKUP(A328,Import!A:N,13)","v":"Endro"}]
["Maté Nature - Vrac","45€ / kg","45",{"$f":"VLOOKUP(A329,Import!A:D,4,FALSE)","v":"Boisson en Vrac"},false,0,0,{"$f":"IFERROR(__xludf.DUMMYFUNCTION(\"TO_PURE_NUMBER(G329)\"),0)","v":0},0,{"$f":"VLOOKUP(A329,Import!A:N,13)","v":"Scop Epice"}]
["Mayonnaise dijonnaise - 185g","3,50 €","3,5",{"$f":"VLOOKUP(A330,Import!A:D,4,FALSE)","v":"Alimentaire Conditionné"},false,0,0,{"$f":"G330","v":0},0]
["Mayonnaise nature - 325g","5€","5",{"$f":"VLOOKUP(A331,Import!A:D,4,FALSE)","v":"Alimentaire Conditionné"},false,0,0,0,0]
["Mélange Détox","20,50 € / kg","20.5",{"$f":"VLOOKUP(A332,Import!A:D,4,FALSE)","v":"Alimentaire Vrac"},false,0,0,{"$f":"IFERROR(__xludf.DUMMYFUNCTION(\"TO_PURE_NUMBER(G332)\"),0)","v":0},{"$error":"#VALUE!"},{"$f":"VLOOKUP(A332,Import!A:N,13)","v":"Actibio"}]
["Mélange Energie","18,50 € /kg","18.5",{"$f":"VLOOKUP(A333,Import!A:D,4,FALSE)","v":"Alimentaire Vrac"},false,0,0,{"$f":"IFERROR(__xludf.DUMMYFUNCTION(\"TO_PURE_NUMBER(G333)\"),0)","v":0},{"$error":"#VALUE!"},{"$f":"VLOOKUP(A333,Import!A:N,14)","v":"NON 🇪🇺 UE"}]
["Mélange Exotique","18,50 € / kg","18.5",{"$f":"VLOOKUP(A334,Import!A:D,4,FALSE)","v":"Alimentaire Vrac"},false,0,0,{"$f":"IFERROR(__xludf.DUMMYFUNCTION(\"TO_PURE_NUMBER(G334)\"),0)","v":0},{"$error":"#VALUE!"},{"$f":"VLOOKUP(A334,Import!A:N,14)","v":"NON 🇪🇺 UE / 🇫🇷 France"}]
["Mélange Rando ","18,50 € / kg","18.5",{"$f":"VLOOKUP(A335,Import!A:D,4,FALSE)","v":"Alimentaire Vrac"},false,0,0,{"$f":"IFERROR(__xludf.DUMMYFUNCTION(\"TO_PURE_NUMBER(G335)\"),0)","v":0},{"$error":"#VALUE!"},{"$f":"VLOOKUP(A335,Import!A:N,14)","v":"NON 🇪🇺 UE"}]
["Mélange Salade","15,50€/kg","15.5",{"$f":"VLOOKUP(A336,Import!A:D,4,FALSE)","v":"Alimentaire Vrac"},false,0,0,{"$f":"IFERROR(__xludf.DUMMYFUNCTION(\"TO_PURE_NUMBER(G336)\"),0)","v":0},{"$error":"#VALUE!"},{"$f":"VLOOKUP(A336,Import!A:N,14)","v":"NON 🇪🇺 UE / 🇫🇷 France"}]
["Miel d’Acacia - 250g","6,90 €","6,9",{"$f":"VLOOKUP(A337,Import!A:D,4,FALSE)","v":"Alimentaire Conditionné"},false,0,0,{"$f":"G337","v":0},0]
["Miel d’Acacia - 500g","12,50 €","12,5",{"$f":"VLOOKUP(A338,Import!A:D,4,FALSE)","v":"Alimentaire Conditionné"},false,0,0,0,0]
["Miel de Lavande - 250g","8,50 €","8,5",{"$f":"VLOOKUP(A339,Import!A:D,4,FALSE)","v":"Alimentaire Conditionné"},false,0,0,0,0]
["Miel de Lavande - 500g","14,90 €","14,9",{"$f":"VLOOKUP(A340,Import!A:D,4,FALSE)","v":"Alimentaire Conditionné"},false,0,0,0,0]
["Miel de Printemps - 250g","6,90 €","6,9",{"$f":"VLOOKUP(A341,Import!A:D,4,FALSE)","v":"Alimentaire Conditionné"},false,0,0,0,0,{"$f":"VLOOKUP(A341,Import!A:N,13)","v":"Olivier Dutang"}]
["Miel de Printemps - 500g","12€","12",{"$f":"VLOOKUP(A342,Import!A:D,4,FALSE)","v":"Alimentaire Conditionné"},false,0,0,0,0,{"$f":"VLOOKUP(A342,Import!A:N,13)","v":"Olivier Dutang"}]
["Miel de Sapin - 250g","8,50 €","8,5",{"$f":"VLOOKUP(A343,Import!A:D,4,FALSE)","v":"Alimentaire Conditionné"},false,0,0,0,0,{"$f":"VLOOKUP(A343,Import!A:N,13)","v":"Olivier Dutang"}]
["Miel de Sapin - 500g","15,00 €","15",{"$f":"VLOOKUP(A344,Import!A:D,4,FALSE)","v":"Alimentaire Conditionné"},false,0,0,0,0,{"$f":"VLOOKUP(A344,Import!A:N,14)","v":"🇫🇷 France - Neuville les Dames (01)"}]
["Miel de Tilleul - 250g","7,50 €","7,5",{"$f":"VLOOKUP(A345,Import!A:D,4,FALSE)","v":"Alimentaire Conditionné"},false,0,0,0,0,{"$f":"VLOOKUP(A345,Import!A:N,14)","v":"🇫🇷 France - Neuville les Dames (01)"}]
["Miel de Tilleul - 500g","12,50 €","12,5",{"$f":"VLOOKUP(A346,Import!A:D,4,FALSE)","v":"Alimentaire Conditionné"},false,0,0,0,0,{"$f":"VLOOKUP(A346,Import!A:N,14)","v":"🇫🇷 France - Neuville les Dames (01)"}]
["Miel Polyfloral - 250g","6,50 €","6,5",{"$f":"VLOOKUP(A347,Import!A:D,4,FALSE)","v":"Alimentaire Conditionné"},false,0,0,0,0,{"$f":"VLOOKUP(A347,Import!A:N,14)","v":"🇫🇷 France - Neuville les Dames (01)"}]
["Miel Polyfloral - 500g","11,50 €","11,5",{"$f":"VLOOKUP(A348,Import!A:D,4,FALSE)","v":"Alimentaire Conditionné"},false,0,0,0,0]
["Mini Filet à chute de savon","3,50 €","3.5",{"$f":"VLOOKUP(A349,Import!A:D,4,FALSE)","v":"Zéros déchets et Bocaux"},false,0,0,{"$f":"IFERROR(__xludf.DUMMYFUNCTION(\"TO_PURE_NUMBER(G349)\"),0)","v":0},{"$error":"#VALUE!"}]
["Mouchoirs","9,50 €","9.5",{"$f":"VLOOKUP(A350,Import!A:D,4,FALSE)","v":"Zéros déchets et Bocaux"},false,0,0,{"$f":"IFERROR(__xludf.DUMMYFUNCTION(\"TO_PURE_NUMBER(G350)\"),0)","v":0},{"$error":"#VALUE!"},{"$f":"VLOOKUP(A350,Import!A:N,14)","v":"🇫🇷 France - Annemasse (74)"}]
["Moutarde à l’ancienne - 350g","4,20€","4,20",{"$f":"VLOOKUP(A351,Import!A:D,4,FALSE)","v":"Alimentaire Conditionné"},false,0,0,{"$f":"G351","v":0},0,{"$f":"VLOOKUP(A351,Import!A:N,14)","v":"🇫🇷 France - Isère (38)"}]
["Moutarde de Dijon - 350g","4,20€","4,2",{"$f":"VLOOKUP(A352,Import!A:D,4,FALSE)","v":"Alimentaire Conditionné"},false,0,0,0,0,{"$f":"VLOOKUP(A352,Import!A:N,14)","v":"🇫🇷 France - Isère (38)"}]
["Muesli aux fruits","5,90 € / kg","5.9",{"$f":"VLOOKUP(A353,Import!A:D,4,FALSE)","v":"Alimentaire Vrac"},false,0,0,{"$f":"IFERROR(__xludf.DUMMYFUNCTION(\"TO_PURE_NUMBER(G353)\"),0)","v":0},{"$error":"#VALUE!"},{"$f":"VLOOKUP(A353,Import!A:N,13)","v":"Scop Epice"}]
["Muesli croustillant chocolat ","10,50 € / kg","10.5",{"$f":"VLOOKUP(A354,Import!A:D,4,FALSE)","v":"Alimentaire Vrac"},false,0,0,{"$f":"IFERROR(__xludf.DUMMYFUNCTION(\"TO_PURE_NUMBER(G354)\"),0)","v":0},{"$error":"#VALUE!"},{"$f":"VLOOKUP(A354,Import!A:N,13)","v":"Biodis"}]
["Multi Usage - Vrac ",5.9,5.9,{"$f":"VLOOKUP(A355,Import!A:D,4,FALSE)","v":"Produits d'entretiens"},false,0,0,{"$f":"IFERROR(__xludf.DUMMYFUNCTION(\"TO_PURE_NUMBER(G355)\"),0)","v":0},0,{"$f":"VLOOKUP(A355,Import!A:N,13)","v":"Relais local"}]
["Muscade Noix Poudre ","76€ / kg","76",{"$f":"VLOOKUP(A356,Import!A:D,4,FALSE)","v":"Alimentaire Vrac"},false,0,0,{"$f":"IFERROR(__xludf.DUMMYFUNCTION(\"TO_PURE_NUMBER(G356)\"),0)","v":0},0,{"$f":"VLOOKUP(A356,Import!A:N,13)","v":"Actibio"}]
["Nectar d’abricot 75cl ","4,50 €","4.5",{"$f":"VLOOKUP(A357,Import!A:D,4,FALSE)","v":"Boissons conditionnées"},false,0,0,{"$f":"IFERROR(__xludf.DUMMYFUNCTION(\"TO_PURE_NUMBER(G357)\"),0)","v":0},{"$error":"#VALUE!"},{"$f":"VLOOKUP(A357,Import!A:N,13)","v":"Relais local"}]
["Nectar de Pêche - 75cl ","4,50 €","4.5",{"$f":"VLOOKUP(A358,Import!A:D,4,FALSE)","v":"Boissons conditionnées"},false,0,0,{"$f":"IFERROR(__xludf.DUMMYFUNCTION(\"TO_PURE_NUMBER(G358)\"),0)","v":0},{"$error":"#VALUE!"}]
["Nectar de Poire - 75cl ","4,50 €","4.5",{"$f":"VLOOKUP(A359,Import!A:D,4,FALSE)","v":"Boissons conditionnées"},false,0,0,{"$f":"IFERROR(__xludf.DUMMYFUNCTION(\"TO_PURE_NUMBER(G359)\"),0)","v":0},{"$error":"#VALUE!"},{"$f":"VLOOKUP(A359,Import!A:N,14)","v":"🇫🇷 France - Tournon (73)"}]
["Nettoyant visage - Peau sèche Hibiscus ","8,90 €","8.9",{"$f":"VLOOKUP(A360,Import!A:D,4,FALSE)","v":"Produits d'hygiène coporelle"},false,0,0,{"$f":"IFERROR(__xludf.DUMMYFUNCTION(\"TO_PURE_NUMBER(G360)\"),0)","v":0},{"$error":"#VALUE!"},{"$f":"VLOOKUP(A360,Import!A:N,14)","v":"🇫🇷 France - Marche (26)"}]
["Nids de Pâtes de Riz Thai Complet ","17,50 € / kg","17.5",{"$f":"VLOOKUP(A361,Import!A:D,4,FALSE)","v":"Alimentaire Vrac"},false,0,0,{"$f":"IFERROR(__xludf.DUMMYFUNCTION(\"TO_PURE_NUMBER(G361)\"),0)","v":0},{"$error":"#VALUE!"},{"$f":"VLOOKUP(A361,Import!A:N,14)","v":"🇹🇭 Thailande"}]
["Noisettes décortiquées","18,90 € / kg","18.9",{"$f":"VLOOKUP(A362,Import!A:D,4,FALSE)","v":"Alimentaire Vrac"},false,0,0,{"$f":"IFERROR(__xludf.DUMMYFUNCTION(\"TO_PURE_NUMBER(G362)\"),0)","v":0},{"$error":"#VALUE!"},{"$f":"VLOOKUP(A362,Import!A:N,14)","v":"🇹🇷 Turquie"}]
["Noix Cerneaux Brisures 3-12m","28,50 € / kg","28.5",{"$f":"VLOOKUP(A363,Import!A:D,4,FALSE)","v":"Alimentaire Vrac"},false,0,0,{"$f":"IFERROR(__xludf.DUMMYFUNCTION(\"TO_PURE_NUMBER(G363)\"),0)","v":0},{"$error":"#VALUE!"}]
["Noix de Cajou Nature","23,50 € / kg","2.5",{"$f":"VLOOKUP(A364,Import!A:D,4,FALSE)","v":"Alimentaire Vrac"},false,0,0,{"$f":"IFERROR(__xludf.DUMMYFUNCTION(\"TO_PURE_NUMBER(G364)\"),0)","v":0},{"$error":"#VALUE!"},{"$f":"VLOOKUP(A364,Import!A:N,14)","v":"🇻🇳 Vietnam"}]
["Noix de coco Chips ","12,00 € / kg","12",{"$f":"VLOOKUP(A365,Import!A:D,4,FALSE)","v":"Alimentaire Vrac"},false,0,0,{"$f":"IFERROR(__xludf.DUMMYFUNCTION(\"TO_PURE_NUMBER(G365)\"),0)","v":0},0,{"$f":"VLOOKUP(A365,Import!A:N,13)","v":"Actibio"}]
["Noix de Coco Râpée ","8€ / kg","8",{"$f":"VLOOKUP(A366,Import!A:D,4,FALSE)","v":"Alimentaire Vrac"},false,0,0,{"$f":"IFERROR(__xludf.DUMMYFUNCTION(\"TO_PURE_NUMBER(G366)\"),0)","v":0},0,{"$f":"VLOOKUP(A366,Import!A:N,13)","v":"Actibio"}]
["Noix de Pécan - Gros Morceaux ","29,00 € / kg","29",{"$f":"VLOOKUP(A367,Import!A:D,4,FALSE)","v":"Alimentaire Vrac"},false,0,0,{"$f":"IFERROR(__xludf.DUMMYFUNCTION(\"TO_PURE_NUMBER(G367)\"),0)","v":0},0]
["Noix du brésil ","22,00 € / kg","22",{"$f":"VLOOKUP(A368,Import!A:D,4,FALSE)","v":"Alimentaire Vrac"},false,0,0,{"$f":"IFERROR(__xludf.DUMMYFUNCTION(\"TO_PURE_NUMBER(G368)\"),0)","v":0},0]
["Oeufs frais bio (boîte de 6)",3,3,{"$f":"VLOOKUP(A369,Import!A:D,4,FALSE)","v":"Produits Frais"},false,0,0,{"$f":"IFERROR(__xludf.DUMMYFUNCTION(\"TO_PURE_NUMBER(G369)\"),0)","v":0},0]
["Oriculi en bioplastique - Bleu","4,50 €","4.5",{"$f":"VLOOKUP(A370,Import!A:D,4,FALSE)","v":"Produits d'hygiène coporelle"},false,0,0,{"$f":"IFERROR(__xludf.DUMMYFUNCTION(\"TO_PURE_NUMBER(G370)\"),0)","v":0},{"$error":"#VALUE!"},{"$f":"VLOOKUP(A370,Import!A:N,13)","v":0}]
["Oriculi en bioplastique - Jaune","4,50 €","4.5",{"$f":"VLOOKUP(A371,Import!A:D,4,FALSE)","v":"Produits d'hygiène coporelle"},false,0,0,{"$f":"IFERROR(__xludf.DUMMYFUNCTION(\"TO_PURE_NUMBER(G371)\"),0)","v":0},{"$error":"#VALUE!"}]
["Oriculi en bioplastique - Vert","4,50 €","4.5",{"$f":"VLOOKUP(A372,Import!A:D,4,FALSE)","v":"Produits d'hygiène coporelle"},false,0,0,{"$f":"IFERROR(__xludf.DUMMYFUNCTION(\"TO_PURE_NUMBER(G372)\"),0)","v":0},{"$error":"#VALUE!"}]
["Oriculi en bioplastique - Violet","4,50 €","4.5",{"$f":"VLOOKUP(A373,Import!A:D,4,FALSE)","v":"Produits d'hygiène coporelle"},false,0,0,{"$f":"IFERROR(__xludf.DUMMYFUNCTION(\"TO_PURE_NUMBER(G373)\"),0)","v":0},{"$error":"#VALUE!"}]
["Paille Courte - 13cm Gravée","1,49 €","1.49",{"$f":"VLOOKUP(A374,Import!A:D,4,FALSE)","v":"Zéros déchets et Bocaux"},false,0,0,{"$f":"IFERROR(__xludf.DUMMYFUNCTION(\"TO_PURE_NUMBER(G374)\"),0)","v":0},{"$error":"#VALUE!"}]
["Paille Longue - 20cm Gravée","1,69 €","1.69",{"$f":"VLOOKUP(A375,Import!A:D,4,FALSE)","v":"Zéros déchets et Bocaux"},false,0,0,{"$f":"IFERROR(__xludf.DUMMYFUNCTION(\"TO_PURE_NUMBER(G375)\"),0)","v":0},{"$error":"#VALUE!"}]
["Panier de rangement (Panier seul)","9,50 €","9.5",{"$f":"VLOOKUP(A376,Import!A:D,4,FALSE)","v":"Zéros déchets et Bocaux"},false,0,0,{"$f":"IFERROR(__xludf.DUMMYFUNCTION(\"TO_PURE_NUMBER(G376)\"),0)","v":0},{"$error":"#VALUE!"}]
["Papier toilette 600 feuilles non blanchi","0,95 €","0.95",{"$f":"VLOOKUP(A377,Import!A:D,4,FALSE)","v":"Produits d'entretiens"},false,0,0,{"$f":"IFERROR(__xludf.DUMMYFUNCTION(\"TO_PURE_NUMBER(G377)\"),0)","v":0},{"$error":"#VALUE!"}]
["Paprika Doux Poudre ","67,00 € / kg","67",{"$f":"VLOOKUP(A378,Import!A:D,4,FALSE)","v":"Alimentaire Vrac"},false,0,0,{"$f":"IFERROR(__xludf.DUMMYFUNCTION(\"TO_PURE_NUMBER(G378)\"),0)","v":0},0,{"$f":"VLOOKUP(A378,Import!A:N,13)","v":"Actibio"}]
["Paprika Fort moulu","88,00 € / kg","88",{"$f":"VLOOKUP(A379,Import!A:D,4,FALSE)","v":"Alimentaire Vrac"},false,0,0,{"$f":"IFERROR(__xludf.DUMMYFUNCTION(\"TO_PURE_NUMBER(G379)\"),0)","v":0},0,{"$f":"VLOOKUP(A379,Import!A:N,14)","v":"🇪🇸 Espagne"}]
["Pâte à tartiner - Amande sésame miel","7,50€","7,5",{"$f":"VLOOKUP(A380,Import!A:D,4,FALSE)","v":"Alimentaire Conditionné"},false,0,0,{"$f":"G380","v":0},0,{"$f":"VLOOKUP(A380,Import!A:N,14)","v":"🇫🇷 France - Eurre (27)"}]
["Pâte à tartiner - Cajou coco miel bio","7,50€","7,5",{"$f":"VLOOKUP(A381,Import!A:D,4,FALSE)","v":"Alimentaire Conditionné"},false,0,0,0,0]
["Pâte à tartiner Amande Miel - 280g ","10,50€","10,50",{"$f":"VLOOKUP(A382,Import!A:D,4,FALSE)","v":"Alimentaire Conditionné"},false,0,0,0,0]
["Pâte à tartiner Choc-Noisettes - 265g ","9,90€","9,9",{"$f":"VLOOKUP(A383,Import!A:D,4,FALSE)","v":"Alimentaire Conditionné"},false,0,0,0,0,{"$f":"VLOOKUP(A383,Import!A:N,14)","v":"🇫🇷 France - Saint Priest (69)"}]
["Pâtes - Coquillettes blanches","3,50€ / kg","3.5",{"$f":"VLOOKUP(A384,Import!A:D,4,FALSE)","v":"Alimentaire Vrac"},false,0,0,{"$f":"IFERROR(__xludf.DUMMYFUNCTION(\"TO_PURE_NUMBER(G384)\"),0)","v":0},{"$error":"#VALUE!"},{"$f":"VLOOKUP(A384,Import!A:N,14)","v":"🇮🇹 Italie"}]
["Pâtes - Coquillettes Semi Complètes ","3,50€ / kg","3.5",{"$f":"VLOOKUP(A385,Import!A:D,4,FALSE)","v":"Alimentaire Vrac"},false,0,0,{"$f":"IFERROR(__xludf.DUMMYFUNCTION(\"TO_PURE_NUMBER(G385)\"),0)","v":0},{"$error":"#VALUE!"},{"$f":"VLOOKUP(A385,Import!A:N,14)","v":"🇫🇷 France"}]
["Pâtes - Farfalles Blanches ","3,30€ / kg","3.3",{"$f":"VLOOKUP(A386,Import!A:D,4,FALSE)","v":"Alimentaire Vrac"},false,0,0,{"$f":"IFERROR(__xludf.DUMMYFUNCTION(\"TO_PURE_NUMBER(G386)\"),0)","v":0},{"$error":"#VALUE!"}]
["Pâtes - Lasagnes Blanches ","6,00€ / kg","6",{"$f":"VLOOKUP(A387,Import!A:D,4,FALSE)","v":"Alimentaire Vrac"},false,0,0,{"$f":"IFERROR(__xludf.DUMMYFUNCTION(\"TO_PURE_NUMBER(G387)\"),0)","v":0},0]
["Pâtes - Pennes Blancs ","3,50€ / kg","4.5",{"$f":"VLOOKUP(A388,Import!A:D,4,FALSE)","v":"Alimentaire Vrac"},false,0,0,{"$f":"IFERROR(__xludf.DUMMYFUNCTION(\"TO_PURE_NUMBER(G388)\"),0)","v":0},{"$error":"#VALUE!"}]
["Pâtes - Pennes Semi Complets","3,50€ / kg","4.5",{"$f":"VLOOKUP(A389,Import!A:D,4,FALSE)","v":"Alimentaire Vrac"},false,0,0,{"$f":"IFERROR(__xludf.DUMMYFUNCTION(\"TO_PURE_NUMBER(G389)\"),0)","v":0},{"$error":"#VALUE!"},{"$f":"VLOOKUP(A389,Import!A:N,14)","v":"🇫🇷 France - Provence "}]
["Pâtes - Spaghettis Blancs","3,30€/kg","3.3",{"$f":"VLOOKUP(A390,Import!A:D,4,FALSE)","v":"Alimentaire Vrac"},false,0,0,{"$f":"IFERROR(__xludf.DUMMYFUNCTION(\"TO_PURE_NUMBER(G390)\"),0)","v":0},{"$error":"#VALUE!"}]
["Pâtes - Spaghettis Complets","3,30€/kg","3.3",{"$f":"VLOOKUP(A391,Import!A:D,4,FALSE)","v":"Alimentaire Vrac"},false,0,0,{"$f":"IFERROR(__xludf.DUMMYFUNCTION(\"TO_PURE_NUMBER(G391)\"),0)","v":0},{"$error":"#VALUE!"}]
["Pâtes - Tagliatelles Nature sans oeufs","4,50€/kg","4.5",{"$f":"VLOOKUP(A392,Import!A:D,4,FALSE)","v":"Alimentaire Vrac"},false,0,0,{"$f":"IFERROR(__xludf.DUMMYFUNCTION(\"TO_PURE_NUMBER(G392)\"),0)","v":0},{"$error":"#VALUE!"}]
["Peigne Démeloir à manche","6,49 €","6.49",{"$f":"VLOOKUP(A393,Import!A:D,4,FALSE)","v":"Produits d'hygiène coporelle"},false,0,0,{"$f":"IFERROR(__xludf.DUMMYFUNCTION(\"TO_PURE_NUMBER(G393)\"),0)","v":0},{"$error":"#VALUE!"}]
["Peigne Démêloir sans manche","6,49 €","6.49",{"$f":"VLOOKUP(A394,Import!A:D,4,FALSE)","v":"Produits d'hygiène coporelle"},false,0,0,{"$f":"IFERROR(__xludf.DUMMYFUNCTION(\"TO_PURE_NUMBER(G394)\"),0)","v":0},{"$error":"#VALUE!"}]
["Pelle à thé Inox",10.9,10.9,{"$f":"VLOOKUP(A395,Import!A:D,4,FALSE)","v":0},false,0,0,{"$f":"IFERROR(__xludf.DUMMYFUNCTION(\"TO_PURE_NUMBER(G395)\"),0)","v":0},0]
["Percarbonate Blanchissant Linge Vrac ","4,90 € / kg","4.9",{"$f":"VLOOKUP(A396,Import!A:D,4,FALSE)","v":"Produits d'entretiens"},false,0,0,{"$f":"IFERROR(__xludf.DUMMYFUNCTION(\"TO_PURE_NUMBER(G396)\"),0)","v":0},{"$error":"#VALUE!"},{"$f":"VLOOKUP(A396,Import!A:N,13)","v":"Relais local"}]
["Pesto Ail des Ours","4,20 €","4,20",{"$f":"VLOOKUP(A397,Import!A:D,4,FALSE)","v":"Alimentaire Conditionné"},false,0,0,{"$f":"G397","v":0},0,{"$f":"VLOOKUP(A397,Import!A:N,14)","v":"🇫🇷 France - Vercoiran (26)"}]
["Pesto Basilic classique - ","4,20 €","4,2",{"$f":"VLOOKUP(A398,Import!A:D,4,FALSE)","v":"Alimentaire Conditionné"},false,0,0,0,0]
["Pesto Rosso - 90g","4,20 €","4,2",{"$f":"VLOOKUP(A399,Import!A:D,4,FALSE)","v":"Alimentaire Conditionné"},false,0,0,0,0]
["Pesto Verde - 90g","4,20 €","4,2",{"$f":"VLOOKUP(A400,Import!A:D,4,FALSE)","v":"Alimentaire Conditionné"},false,0,0,0,0]
["Petit Epeautre ","7,50 € / kg","7.5",{"$f":"VLOOKUP(A401,Import!A:D,4,FALSE)","v":"Alimentaire Vrac"},false,0,0,{"$f":"IFERROR(__xludf.DUMMYFUNCTION(\"TO_PURE_NUMBER(G401)\"),0)","v":0},{"$error":"#VALUE!"}]
["Petit Sac à thé de Noël","2,50 €","2.5",{"$f":"VLOOKUP(A402,Import!A:D,4,FALSE)","v":"Zéros déchets et Bocaux"},false,0,0,{"$f":"IFERROR(__xludf.DUMMYFUNCTION(\"TO_PURE_NUMBER(G402)\"),0)","v":0},{"$error":"#VALUE!"}]
["Pignons de Pin","67,00 € / kg","67",{"$f":"VLOOKUP(A403,Import!A:D,4,FALSE)","v":"Alimentaire Vrac"},false,0,0,{"$f":"IFERROR(__xludf.DUMMYFUNCTION(\"TO_PURE_NUMBER(G403)\"),0)","v":0},0]
["Pistaches Coques Grillées Salées","35,00 € / kg","35",{"$f":"VLOOKUP(A404,Import!A:D,4,FALSE)","v":"Alimentaire Vrac"},false,0,0,{"$f":"IFERROR(__xludf.DUMMYFUNCTION(\"TO_PURE_NUMBER(G404)\"),0)","v":0},0]
["Pistaches vertes sans coque non salées ","46,00 € / kg","46",{"$f":"VLOOKUP(A405,Import!A:D,4,FALSE)","v":"Alimentaire Vrac"},false,0,0,{"$f":"IFERROR(__xludf.DUMMYFUNCTION(\"TO_PURE_NUMBER(G405)\"),0)","v":0},0]
["Pochette à brosse à dent ou à paille","3,50 €","3.5",{"$f":"VLOOKUP(A406,Import!A:D,4,FALSE)","v":"Zéros déchets et Bocaux"},false,0,0,{"$f":"IFERROR(__xludf.DUMMYFUNCTION(\"TO_PURE_NUMBER(G406)\"),0)","v":0},{"$error":"#VALUE!"}]
["Pochette à Goûter ","9,50 €","9.5",{"$f":"VLOOKUP(A407,Import!A:D,4,FALSE)","v":"Zéros déchets et Bocaux"},false,0,0,{"$f":"IFERROR(__xludf.DUMMYFUNCTION(\"TO_PURE_NUMBER(G407)\"),0)","v":0},{"$error":"#VALUE!"}]
["Pochette à Savon","4,50 €","4.5",{"$f":"VLOOKUP(A408,Import!A:D,4,FALSE)","v":"Zéros déchets et Bocaux"},false,0,0,{"$f":"IFERROR(__xludf.DUMMYFUNCTION(\"TO_PURE_NUMBER(G408)\"),0)","v":0},{"$error":"#VALUE!"}]
["Pois chiches","5€ / kg","5",{"$f":"VLOOKUP(A409,Import!A:D,4,FALSE)","v":"Alimentaire Vrac"},false,0,0,{"$f":"IFERROR(__xludf.DUMMYFUNCTION(\"TO_PURE_NUMBER(G409)\"),0)","v":0},0]
["Poivre Blanc Grains ","115,00 € / kg","115",{"$f":"VLOOKUP(A410,Import!A:D,4,FALSE)","v":"Alimentaire Vrac"},false,0,0,{"$f":"IFERROR(__xludf.DUMMYFUNCTION(\"TO_PURE_NUMBER(G410)\"),0)","v":0},0]
["Poivre Noir en poudre","50€/kg",50,{"$f":"VLOOKUP(A411,Import!A:D,4,FALSE)","v":"Alimentaire Vrac"},false,0,0,{"$f":"IFERROR(__xludf.DUMMYFUNCTION(\"TO_PURE_NUMBER(G411)\"),0)","v":0},0]
["Poivre Noir Grains ","85,00 € / kg","85",{"$f":"VLOOKUP(A412,Import!A:D,4,FALSE)","v":"Alimentaire Vrac"},false,0,0,{"$f":"IFERROR(__xludf.DUMMYFUNCTION(\"TO_PURE_NUMBER(G412)\"),0)","v":0},0]
["Polenta instantanée ","3,50 € / kg","3.5",{"$f":"VLOOKUP(A413,Import!A:D,4,FALSE)","v":"Alimentaire Vrac"},false,0,0,{"$f":"IFERROR(__xludf.DUMMYFUNCTION(\"TO_PURE_NUMBER(G413)\"),0)","v":0},{"$error":"#VALUE!"}]
["Pommes séchées rondelles ","25,00 € / kg","25",{"$f":"VLOOKUP(A414,Import!A:D,4,FALSE)","v":0},false,0,0,{"$f":"IFERROR(__xludf.DUMMYFUNCTION(\"TO_PURE_NUMBER(G414)\"),0)","v":0},0]
["Porte savon classic vrac","8,00 €","8",{"$f":"VLOOKUP(A415,Import!A:D,4,FALSE)","v":"Produits d'hygiène coporelle"},false,0,0,{"$f":"IFERROR(__xludf.DUMMYFUNCTION(\"TO_PURE_NUMBER(G415)\"),0)","v":0},0]
["Potion Detoxifiante -  33cl","3,50 €","3.5",{"$f":"VLOOKUP(A416,Import!A:D,4,FALSE)","v":"Boissons conditionnées"},false,0,0,{"$f":"IFERROR(__xludf.DUMMYFUNCTION(\"TO_PURE_NUMBER(G416)\"),0)","v":0},{"$error":"#VALUE!"}]
["Potion Detoxifiante - 75cl","5,50€","5.50",{"$f":"VLOOKUP(A417,Import!A:D,4,FALSE)","v":"Boissons conditionnées"},false,0,0,{"$f":"IFERROR(__xludf.DUMMYFUNCTION(\"TO_PURE_NUMBER(G417)\"),0)","v":0},{"$error":"#VALUE!"},{"$f":"VLOOKUP(A417,Import!A:N,14)","v":"🇫🇷 France - (54)"}]
["Potion Energisante - 33cl","3,50 €","3.5",{"$f":"VLOOKUP(A418,Import!A:D,4,FALSE)","v":"Boissons conditionnées"},false,0,0,{"$f":"IFERROR(__xludf.DUMMYFUNCTION(\"TO_PURE_NUMBER(G418)\"),0)","v":0},{"$error":"#VALUE!"},{"$f":"VLOOKUP(A418,Import!A:N,14)","v":"🇫🇷 France - (54)"}]
["Potion Energisante - 75cl","5,50€","5.50",{"$f":"VLOOKUP(A419,Import!A:D,4,FALSE)","v":"Boissons conditionnées"},false,0,0,{"$f":"IFERROR(__xludf.DUMMYFUNCTION(\"TO_PURE_NUMBER(G419)\"),0)","v":0},{"$error":"#VALUE!"}]
["Potion Relaxante -  33cl","3,50 €","3.50",{"$f":"VLOOKUP(A420,Import!A:D,4,FALSE)","v":"Boissons conditionnées"},false,0,0,{"$f":"IFERROR(__xludf.DUMMYFUNCTION(\"TO_PURE_NUMBER(G420)\"),0)","v":0},{"$error":"#VALUE!"}]
["Potion Relaxante - 75cl","5,50€","5.50",{"$f":"VLOOKUP(A421,Import!A:D,4,FALSE)","v":"Boissons conditionnées"},false,0,0,{"$f":"IFERROR(__xludf.DUMMYFUNCTION(\"TO_PURE_NUMBER(G421)\"),0)","v":0},{"$error":"#VALUE!"}]
["Poudre à Lever sans Gluten ","17,90 € / kg","7.9",{"$f":"VLOOKUP(A422,Import!A:D,4,FALSE)","v":"Alimentaire Vrac"},false,0,0,{"$f":"IFERROR(__xludf.DUMMYFUNCTION(\"TO_PURE_NUMBER(G422)\"),0)","v":0},{"$error":"#VALUE!"}]
["Poudre d’Amande Blanche ","25€ / kg",25,{"$f":"VLOOKUP(A423,Import!A:D,4,FALSE)","v":0},false,0,0,{"$f":"IFERROR(__xludf.DUMMYFUNCTION(\"TO_PURE_NUMBER(G423)\"),0)","v":0},0]
["Poudre d’amande complète","25€ / kg","25",{"$f":"VLOOKUP(A424,Import!A:D,4,FALSE)","v":"Alimentaire Vrac"},false,0,0,{"$f":"IFERROR(__xludf.DUMMYFUNCTION(\"TO_PURE_NUMBER(G424)\"),0)","v":0},0]
["Protège slip","6,00 €","6",{"$f":"VLOOKUP(A425,Import!A:D,4,FALSE)","v":{"$error":"#N/A"}},false,0,0,{"$f":"IFERROR(__xludf.DUMMYFUNCTION(\"TO_PURE_NUMBER(G425)\"),0)","v":0},0]
["Pruneaux dénoyautés ","22€ / kg","22",{"$f":"VLOOKUP(A426,Import!A:D,4,FALSE)","v":"Alimentaire Vrac"},false,0,0,{"$f":"IFERROR(__xludf.DUMMYFUNCTION(\"TO_PURE_NUMBER(G426)\"),0)","v":0},0]
["Purée Amande 270g - Go Nuts","8,90€","8,9",{"$f":"VLOOKUP(A427,Import!A:D,4,FALSE)","v":"Alimentaire Conditionné"},false,0,0,{"$f":"G427","v":0},0]
["Purée de Sésame Blanc - France - 350g","6,50€","6,5",{"$f":"VLOOKUP(A428,Import!A:D,4,FALSE)","v":"Alimentaire Conditionné"},false,0,0,0,0]
["Purée Noisette - 270g","8,50€","8,50",{"$f":"VLOOKUP(A429,Import!A:D,4,FALSE)","v":"Alimentaire Conditionné"},false,0,0,0,0]
["Quinoa Complet ","9,50€/kg","9.5",{"$f":"VLOOKUP(A430,Import!A:D,4,FALSE)","v":"Alimentaire Vrac"},false,0,0,{"$f":"IFERROR(__xludf.DUMMYFUNCTION(\"TO_PURE_NUMBER(G430)\"),0)","v":0},{"$error":"#VALUE!"}]
["Raisins secs Sultanines","7,90€/kg","7.9",{"$f":"VLOOKUP(A431,Import!A:D,4,FALSE)","v":"Alimentaire Vrac"},false,0,0,{"$f":"IFERROR(__xludf.DUMMYFUNCTION(\"TO_PURE_NUMBER(G431)\"),0)","v":0},{"$error":"#VALUE!"}]
["Rasoir de sûreté à lame rechargeable","45€","45",{"$f":"VLOOKUP(A432,Import!A:D,4,FALSE)","v":"Produits d'hygiène coporelle"},false,0,0,{"$f":"IFERROR(__xludf.DUMMYFUNCTION(\"TO_PURE_NUMBER(G432)\"),0)","v":0},0]
["Recharge de 10 lames pour rasoir de sûreté","7,50€","7.5",{"$f":"VLOOKUP(A433,Import!A:D,4,FALSE)","v":"Produits d'hygiène coporelle"},false,0,0,{"$f":"IFERROR(__xludf.DUMMYFUNCTION(\"TO_PURE_NUMBER(G433)\"),0)","v":0},{"$error":"#VALUE!"}]
["Recouvre bol en coton enduit - Taille à Cake","7€","7",{"$f":"VLOOKUP(A434,Import!A:D,4,FALSE)","v":"Zéros déchets et Bocaux"},false,0,0,{"$f":"IFERROR(__xludf.DUMMYFUNCTION(\"TO_PURE_NUMBER(G434)\"),0)","v":0},0]
["Recouvre bol en coton enduit - Taille à Gratin","9€","9",{"$f":"VLOOKUP(A435,Import!A:D,4,FALSE)","v":"Zéros déchets et Bocaux"},false,0,0,{"$f":"IFERROR(__xludf.DUMMYFUNCTION(\"TO_PURE_NUMBER(G435)\"),0)","v":0},0]
["Recouvre bol en coton enduit - Taille L","9€","9",{"$f":"VLOOKUP(A436,Import!A:D,4,FALSE)","v":"Zéros déchets et Bocaux"},false,0,0,{"$f":"IFERROR(__xludf.DUMMYFUNCTION(\"TO_PURE_NUMBER(G436)\"),0)","v":0},0]
["Recouvre bol en coton enduit - Taille M","7€","7",{"$f":"VLOOKUP(A437,Import!A:D,4,FALSE)","v":"Zéros déchets et Bocaux"},false,0,0,{"$f":"IFERROR(__xludf.DUMMYFUNCTION(\"TO_PURE_NUMBER(G437)\"),0)","v":0},0]
["Recouvre bol en coton enduit - Taille S","5€","5",{"$f":"VLOOKUP(A438,Import!A:D,4,FALSE)","v":"Zéros déchets et Bocaux"},false,0,0,{"$f":"IFERROR(__xludf.DUMMYFUNCTION(\"TO_PURE_NUMBER(G438)\"),0)","v":0},0,{"$f":"VLOOKUP(A438,Import!A:N,13)","v":"Alterosac"}]
["Recouvre bol en coton enduit - Taille XS","4€","4",{"$f":"VLOOKUP(A439,Import!A:D,4,FALSE)","v":"Zéros déchets et Bocaux"},false,0,0,{"$f":"IFERROR(__xludf.DUMMYFUNCTION(\"TO_PURE_NUMBER(G439)\"),0)","v":0},0]
["Riz - Trio de Camargue ","6€/kg","6",{"$f":"VLOOKUP(A440,Import!A:D,4,FALSE)","v":"Alimentaire Vrac"},false,0,0,{"$f":"IFERROR(__xludf.DUMMYFUNCTION(\"TO_PURE_NUMBER(G440)\"),0)","v":0},0]
["Riz Arborio Blanc pour Risotto ","5,50€/kg","5.5",{"$f":"VLOOKUP(A441,Import!A:D,4,FALSE)","v":"Alimentaire Vrac"},false,0,0,{"$f":"IFERROR(__xludf.DUMMYFUNCTION(\"TO_PURE_NUMBER(G441)\"),0)","v":0},{"$error":"#VALUE!"}]
["Riz Blanc Basmati Blanc ","5,50€/kg","5.50",{"$f":"VLOOKUP(A442,Import!A:D,4,FALSE)","v":"Alimentaire Vrac"},false,0,0,{"$f":"IFERROR(__xludf.DUMMYFUNCTION(\"TO_PURE_NUMBER(G442)\"),0)","v":0},{"$error":"#VALUE!"},{"$f":"VLOOKUP(A442,Import!A:N,13)","v":0}]
["Riz Blanc IGP Camargue","5,50€/kg","5.50",{"$f":"VLOOKUP(A443,Import!A:D,4,FALSE)","v":"Alimentaire Vrac"},false,0,0,{"$f":"IFERROR(__xludf.DUMMYFUNCTION(\"TO_PURE_NUMBER(G443)\"),0)","v":0},{"$error":"#VALUE!"}]
["Riz Long blanc étuvé de Camargue ","4,90€/kg","4.90",{"$f":"VLOOKUP(A444,Import!A:D,4,FALSE)","v":0},false,0,0,{"$f":"IFERROR(__xludf.DUMMYFUNCTION(\"TO_PURE_NUMBER(G444)\"),0)","v":0},{"$error":"#VALUE!"}]
["Riz Long Complet ","4,25€/kg","4.25",{"$f":"VLOOKUP(A445,Import!A:D,4,FALSE)","v":"Alimentaire Vrac"},false,0,0,{"$f":"IFERROR(__xludf.DUMMYFUNCTION(\"TO_PURE_NUMBER(G445)\"),0)","v":0},{"$error":"#VALUE!"},{"$f":"VLOOKUP(A445,Import!A:N,13)","v":"Actibio"}]
["Riz Rond Blanc ",null,null,{"$f":"VLOOKUP(A446,Import!A:D,4,FALSE)","v":"/"},false,0,0,{"$f":"IFERROR(__xludf.DUMMYFUNCTION(\"TO_PURE_NUMBER(G446)\"),0)","v":0},0]
["Riz Rond blanc IGP Camargue","5,50€","5.50",{"$f":"VLOOKUP(A447,Import!A:D,4,FALSE)","v":"Alimentaire Vrac"},false,0,0,{"$f":"IFERROR(__xludf.DUMMYFUNCTION(\"TO_PURE_NUMBER(G447)\"),0)","v":0},{"$error":"#VALUE!"},{"$f":"VLOOKUP(A447,Import!A:N,13)","v":0}]
["Riz semi complet IGP Camargue","4,90€/kg","4.9",{"$f":"VLOOKUP(A448,Import!A:D,4,FALSE)","v":"Alimentaire Vrac"},false,0,0,{"$f":"IFERROR(__xludf.DUMMYFUNCTION(\"TO_PURE_NUMBER(G448)\"),0)","v":0},{"$error":"#VALUE!"}]
["Romarin feuille ","65€/kg","65",{"$f":"VLOOKUP(A449,Import!A:D,4,FALSE)","v":"Alimentaire Vrac"},false,0,0,{"$f":"IFERROR(__xludf.DUMMYFUNCTION(\"TO_PURE_NUMBER(G449)\"),0)","v":0},0]
["Ronds démaquillants - Lot de 5","7€","7",{"$f":"VLOOKUP(A450,Import!A:D,4,FALSE)","v":{"$error":"#N/A"}},false,0,0,{"$f":"IFERROR(__xludf.DUMMYFUNCTION(\"TO_PURE_NUMBER(G450)\"),0)","v":0},0]
["Rooibos - Earl Grey ","60€/kg","60",{"$f":"VLOOKUP(A451,Import!A:D,4,FALSE)","v":"Boisson en vrac"},false,0,0,{"$f":"IFERROR(__xludf.DUMMYFUNCTION(\"TO_PURE_NUMBER(G451)\"),0)","v":0},0]
["Rooibos Nature","50€/kg","50",{"$f":"VLOOKUP(A452,Import!A:D,4,FALSE)","v":"Boisson en vrac"},false,0,0,{"$f":"IFERROR(__xludf.DUMMYFUNCTION(\"TO_PURE_NUMBER(G452)\"),0)","v":0},0]
["Sac à congélation - Taille L","8,50€","8.5",{"$f":"VLOOKUP(A453,Import!A:D,4,FALSE)","v":"Zéros déchets et Bocaux"},false,0,0,{"$f":"IFERROR(__xludf.DUMMYFUNCTION(\"TO_PURE_NUMBER(G453)\"),0)","v":0},{"$error":"#VALUE!"}]
["Sac à congélation - Taille M","7,50€","7.5",{"$f":"VLOOKUP(A454,Import!A:D,4,FALSE)","v":"Zéros déchets et Bocaux"},false,0,0,{"$f":"IFERROR(__xludf.DUMMYFUNCTION(\"TO_PURE_NUMBER(G454)\"),0)","v":0},{"$error":"#VALUE!"}]
["Sac à congélation - Taille S","6,50€","6.5",{"$f":"VLOOKUP(A455,Import!A:D,4,FALSE)","v":"Zéros déchets et Bocaux"},false,0,0,{"$f":"IFERROR(__xludf.DUMMYFUNCTION(\"TO_PURE_NUMBER(G455)\"),0)","v":0},{"$error":"#VALUE!"}]
["Sac à vrac en Coton - Taille L","8,50€","8.5",{"$f":"VLOOKUP(A456,Import!A:D,4,FALSE)","v":"Zéros déchets et Bocaux"},false,0,0,{"$f":"IFERROR(__xludf.DUMMYFUNCTION(\"TO_PURE_NUMBER(G456)\"),0)","v":0},{"$error":"#VALUE!"}]
["Sac à vrac en Coton - Taille M","7,50€","7.5",{"$f":"VLOOKUP(A457,Import!A:D,4,FALSE)","v":"Zéros déchets et Bocaux"},false,0,0,{"$f":"IFERROR(__xludf.DUMMYFUNCTION(\"TO_PURE_NUMBER(G457)\"),0)","v":0},{"$error":"#VALUE!"}]
["Sac à vrac en Coton - Taille S","7€","7",{"$f":"VLOOKUP(A458,Import!A:D,4,FALSE)","v":"Zéros déchets et Bocaux"},false,0,0,{"$f":"IFERROR(__xludf.DUMMYFUNCTION(\"TO_PURE_NUMBER(G458)\"),0)","v":0},0]
["Sarrasin Décortiqué ","7€ / kg",7,{"$f":"VLOOKUP(A459,Import!A:D,4,FALSE)","v":"Alimentaire Vrac"},false,0,0,{"$f":"IFERROR(__xludf.DUMMYFUNCTION(\"TO_PURE_NUMBER(G459)\"),0)","v":0},0]
["Savon à froid l’Emir - Clemence & Vivien ",4.5,4.5,{"$f":"VLOOKUP(A460,Import!A:D,4,FALSE)","v":"Produits d'hygiène coporelle"},false,0,0,{"$f":"IFERROR(__xludf.DUMMYFUNCTION(\"TO_PURE_NUMBER(G460)\"),0)","v":0},0,{"$f":"VLOOKUP(A460,Import!A:N,14)","v":"🇫🇷 France - Chauray (79)"}]
["Savon à froid le Chérubin - Clemence & Vivien ",4.2,4.2,{"$f":"VLOOKUP(A461,Import!A:D,4,FALSE)","v":"Produits d'hygiène coporelle"},false,0,0,{"$f":"IFERROR(__xludf.DUMMYFUNCTION(\"TO_PURE_NUMBER(G461)\"),0)","v":0},0,{"$f":"VLOOKUP(A461,Import!A:N,13)","v":"Clémence & Vivien"}]
["Savon à froid le Gandhi - Clemence & Vivien ",4.5,4.5,{"$f":"VLOOKUP(A462,Import!A:D,4,FALSE)","v":"Produits d'hygiène coporelle"},false,0,0,{"$f":"IFERROR(__xludf.DUMMYFUNCTION(\"TO_PURE_NUMBER(G462)\"),0)","v":0},0,{"$f":"VLOOKUP(A462,Import!A:N,13)","v":"Clémence & Vivien"}]
["Savon à froid le Gecko - Clemence & Vivien ",4.5,4.5,{"$f":"VLOOKUP(A463,Import!A:D,4,FALSE)","v":"Produits d'hygiène coporelle"},false,0,0,{"$f":"IFERROR(__xludf.DUMMYFUNCTION(\"TO_PURE_NUMBER(G463)\"),0)","v":0},0,{"$f":"VLOOKUP(A463,Import!A:N,13)","v":"Clémence & Vivien"}]
["Savon à froid le Saint Bernard - Clemence & Vivien ",4.5,4.5,{"$f":"VLOOKUP(A464,Import!A:D,4,FALSE)","v":"Produits d'hygiène coporelle"},false,0,0,{"$f":"IFERROR(__xludf.DUMMYFUNCTION(\"TO_PURE_NUMBER(G464)\"),0)","v":0},0,{"$f":"VLOOKUP(A464,Import!A:N,14)","v":"🇫🇷 France - Chauray (79)"}]
["Savon à froid le Suisse - Clemence & Vivien ",4.2,4.2,{"$f":"VLOOKUP(A465,Import!A:D,4,FALSE)","v":"Produits d'hygiène coporelle"},false,0,0,{"$f":"IFERROR(__xludf.DUMMYFUNCTION(\"TO_PURE_NUMBER(G465)\"),0)","v":0},0,{"$f":"VLOOKUP(A465,Import!A:N,13)","v":"Clémence & Vivien"}]
["Savon à froid le Vahiné - Clemence & Vivien ",4.5,4.5,{"$f":"VLOOKUP(A466,Import!A:D,4,FALSE)","v":"Produits d'hygiène coporelle"},false,0,0,{"$f":"IFERROR(__xludf.DUMMYFUNCTION(\"TO_PURE_NUMBER(G466)\"),0)","v":0},0,{"$f":"VLOOKUP(A466,Import!A:N,13)","v":"Clémence & Vivien"}]
["Savon liquide de Marseille à l’huile d’olive & Lavande","6,90€ / kg","6.9",{"$f":"VLOOKUP(A467,Import!A:D,4,FALSE)","v":"Produits d'hygiène coporelle"},false,0,0,{"$f":"IFERROR(__xludf.DUMMYFUNCTION(\"TO_PURE_NUMBER(G467)\"),0)","v":0},{"$error":"#VALUE!"},{"$f":"VLOOKUP(A467,Import!A:N,14)","v":"🇫🇷 France - La Ciotat (13)"}]
["Savon Noir Tradition - Vrac ","5€ / kg","5",{"$f":"VLOOKUP(A468,Import!A:D,4,FALSE)","v":"Produits d'entretiens"},false,0,0,{"$f":"IFERROR(__xludf.DUMMYFUNCTION(\"TO_PURE_NUMBER(G468)\"),0)","v":0},0,{"$f":"VLOOKUP(A468,Import!A:N,13)","v":"Relais local"}]
["Savon Soin Lavant Purifiant - Endro","14,90€","14.9",{"$f":"VLOOKUP(A469,Import!A:D,4,FALSE)","v":"Produits d'hygiène coporelle"},false,0,0,{"$f":"IFERROR(__xludf.DUMMYFUNCTION(\"TO_PURE_NUMBER(G469)\"),0)","v":0},{"$error":"#VALUE!"},{"$f":"VLOOKUP(A469,Import!A:N,14)","v":"🇫🇷 France - Lannion (22)"}]
["Sel de Mer Gros - Guérande","3,90€ / kg","3.9",{"$f":"VLOOKUP(A470,Import!A:D,4,FALSE)","v":"Alimentaire Vrac"},false,0,0,{"$f":"IFERROR(__xludf.DUMMYFUNCTION(\"TO_PURE_NUMBER(G470)\"),0)","v":0},{"$error":"#VALUE!"},{"$f":"VLOOKUP(A470,Import!A:N,13)","v":"Actibio"}]
["Sel fin de méditerrannée","3€ / kg","3",{"$f":"VLOOKUP(A471,Import!A:D,4,FALSE)","v":"Alimentaire Vrac"},false,0,0,{"$f":"IFERROR(__xludf.DUMMYFUNCTION(\"TO_PURE_NUMBER(G471)\"),0)","v":0},0,{"$f":"VLOOKUP(A471,Import!A:N,13)","v":"Biolonistes"}]
["Sel régénérant vrac","2,10€ / kg","2.1",{"$f":"VLOOKUP(A472,Import!A:D,4,FALSE)","v":"Produits d'entretiens"},false,0,0,{"$f":"IFERROR(__xludf.DUMMYFUNCTION(\"TO_PURE_NUMBER(G472)\"),0)","v":0},{"$error":"#VALUE!"},{"$f":"VLOOKUP(A472,Import!A:N,13)","v":"Relais local"}]
["Sérum anti-imperfection - Endro","24,90€","24.9",{"$f":"VLOOKUP(A473,Import!A:D,4,FALSE)","v":"Produits d'hygiène coporelle"},false,0,0,{"$f":"IFERROR(__xludf.DUMMYFUNCTION(\"TO_PURE_NUMBER(G473)\"),0)","v":0},{"$error":"#VALUE!"},{"$f":"VLOOKUP(A473,Import!A:N,13)","v":"Endro"}]
["Sérum désaltérant à l’acide hyaluronique - Clemence & Vivien ",9.1999999999999993,9.1999999999999993,{"$f":"VLOOKUP(A474,Import!A:D,4,FALSE)","v":"Produits d'hygiène coporelle"},false,0,0,{"$f":"IFERROR(__xludf.DUMMYFUNCTION(\"TO_PURE_NUMBER(G474)\"),0)","v":0},0,{"$f":"VLOOKUP(A474,Import!A:N,13)","v":"Clémence & Vivien"}]
["Sérum Longueurs et pointes - Clemence & Vivien ","8,90€","8.9",{"$f":"VLOOKUP(A475,Import!A:D,4,FALSE)","v":"Produits d'hygiène coporelle"},false,0,0,{"$f":"IFERROR(__xludf.DUMMYFUNCTION(\"TO_PURE_NUMBER(G475)\"),0)","v":0},{"$error":"#VALUE!"},{"$f":"VLOOKUP(A475,Import!A:N,13)","v":"Clémence & Vivien"}]
["Serviette de table","8,50€","8.5",{"$f":"VLOOKUP(A476,Import!A:D,4,FALSE)","v":"Zéros déchets et Bocaux"},false,0,0,{"$f":"IFERROR(__xludf.DUMMYFUNCTION(\"TO_PURE_NUMBER(G476)\"),0)","v":0},{"$error":"#VALUE!"},{"$f":"VLOOKUP(A476,Import!A:N,13)","v":"Alterosac"}]
["Serviette hygiénique ","9€","9",{"$f":"VLOOKUP(A477,Import!A:D,4,FALSE)","v":{"$error":"#N/A"}},false,0,0,{"$f":"IFERROR(__xludf.DUMMYFUNCTION(\"TO_PURE_NUMBER(G477)\"),0)","v":0},0,{"$f":"VLOOKUP(A477,Import!A:N,13)","v":"Alterosac"}]
["Serviette hygiénique Nuit","11€","11",{"$f":"VLOOKUP(A478,Import!A:D,4,FALSE)","v":{"$error":"#N/A"}},false,0,0,{"$f":"IFERROR(__xludf.DUMMYFUNCTION(\"TO_PURE_NUMBER(G478)\"),0)","v":0},0]
["Set Assiette et cuillère enfant - Bordeaux ","25€","25",{"$f":"VLOOKUP(A479,Import!A:D,4,FALSE)","v":"Zéros déchets et Bocaux"},false,0,0,{"$f":"IFERROR(__xludf.DUMMYFUNCTION(\"TO_PURE_NUMBER(G479)\"),0)","v":0},0]
["Set Assiette et cuillère enfant - Lilas ","25€","25",{"$f":"VLOOKUP(A480,Import!A:D,4,FALSE)","v":"Zéros déchets et Bocaux"},false,0,0,{"$f":"IFERROR(__xludf.DUMMYFUNCTION(\"TO_PURE_NUMBER(G480)\"),0)","v":0},0]
["Set de 3 couverts réutilisables","5,49€","5.49",{"$f":"VLOOKUP(A481,Import!A:D,4,FALSE)","v":"Zéros déchets et Bocaux"},false,0,0,{"$f":"IFERROR(__xludf.DUMMYFUNCTION(\"TO_PURE_NUMBER(G481)\"),0)","v":0},{"$error":"#VALUE!"}]
["Set de Repas Bébé - Bleu","23,50€","23.5",{"$f":"VLOOKUP(A482,Import!A:D,4,FALSE)","v":"Zéros déchets et Bocaux"},false,0,0,{"$f":"IFERROR(__xludf.DUMMYFUNCTION(\"TO_PURE_NUMBER(G482)\"),0)","v":0},{"$error":"#VALUE!"}]
["Set de Repas Bébé - Jaune","23,50€","23.5",{"$f":"VLOOKUP(A483,Import!A:D,4,FALSE)","v":"Zéros déchets et Bocaux"},false,0,0,{"$f":"IFERROR(__xludf.DUMMYFUNCTION(\"TO_PURE_NUMBER(G483)\"),0)","v":0},{"$error":"#VALUE!"}]
["Set de Repas Bébé - Rose","23,50€","23.5",{"$f":"VLOOKUP(A484,Import!A:D,4,FALSE)","v":"Zéros déchets et Bocaux"},false,0,0,{"$f":"IFERROR(__xludf.DUMMYFUNCTION(\"TO_PURE_NUMBER(G484)\"),0)","v":0},{"$error":"#VALUE!"}]
["Set de Repas Bébé - Vert","23,50€","23.5",{"$f":"VLOOKUP(A485,Import!A:D,4,FALSE)","v":"Zéros déchets et Bocaux"},false,0,0,{"$f":"IFERROR(__xludf.DUMMYFUNCTION(\"TO_PURE_NUMBER(G485)\"),0)","v":0},{"$error":"#VALUE!"},{"$f":"VLOOKUP(A485,Import!A:N,14)","v":"🇫🇷 France - Attignat (01)"}]
["Set de repas enfants","25€","25",{"$f":"VLOOKUP(A486,Import!A:D,4,FALSE)","v":"Zéros déchets et Bocaux"},false,0,0,{"$f":"IFERROR(__xludf.DUMMYFUNCTION(\"TO_PURE_NUMBER(G486)\"),0)","v":0},0,{"$f":"VLOOKUP(A486,Import!A:N,14)","v":"🇫🇷 France - Attignat (01)"}]
["Set de Table à colorier ","7,50€","7.5",{"$f":"VLOOKUP(A487,Import!A:D,4,FALSE)","v":"Zéros déchets et Bocaux"},false,0,0,{"$f":"IFERROR(__xludf.DUMMYFUNCTION(\"TO_PURE_NUMBER(G487)\"),0)","v":0},{"$error":"#VALUE!"},{"$f":"VLOOKUP(A487,Import!A:N,14)","v":"🇫🇷 France - Annemasse (74)"}]
["Shampoing Douche à l’huile d’argan - Vrac",14.5,14.5,{"$f":"VLOOKUP(A488,Import!A:D,4,FALSE)","v":"Produits d'hygiène coporelle"},false,0,0,{"$f":"IFERROR(__xludf.DUMMYFUNCTION(\"TO_PURE_NUMBER(G488)\"),0)","v":0},0,{"$f":"VLOOKUP(A488,Import!A:N,14)","v":"🇫🇷 France - La Ciotat (13)"}]
["Shampoing sec - sans HE - 35ml","8,50€","8.5",{"$f":"VLOOKUP(A489,Import!A:D,4,FALSE)","v":"Produits d'hygiène coporelle"},false,0,0,{"$f":"IFERROR(__xludf.DUMMYFUNCTION(\"TO_PURE_NUMBER(G489)\"),0)","v":0},{"$error":"#VALUE!"},{"$f":"VLOOKUP(A489,Import!A:N,14)","v":"🇫🇷 France - Douvres-la-Délivrande (14)"}]
["Shampoing sec - sans HE - Recharge ","6€","6",{"$f":"VLOOKUP(A490,Import!A:D,4,FALSE)","v":"Produits d'hygiène coporelle"},false,0,0,{"$f":"IFERROR(__xludf.DUMMYFUNCTION(\"TO_PURE_NUMBER(G490)\"),0)","v":0},0,{"$f":"VLOOKUP(A490,Import!A:N,14)","v":"🇫🇷 France - Douvres-la-Délivrande (14)"}]
["Shampoing solide - Antipelliculaire - 80g","10,60€","10.6",{"$f":"VLOOKUP(A491,Import!A:D,4,FALSE)","v":"Produits d'hygiène coporelle"},false,0,0,{"$f":"IFERROR(__xludf.DUMMYFUNCTION(\"TO_PURE_NUMBER(G491)\"),0)","v":0},{"$error":"#VALUE!"},{"$f":"VLOOKUP(A491,Import!A:N,14)","v":"🇫🇷 France - Douvres-la-Délivrande (14)"}]
["Shampoing solide - Bleu - 80g","10,60€","10.6",{"$f":"VLOOKUP(A492,Import!A:D,4,FALSE)","v":"Produits d'hygiène coporelle"},false,0,0,{"$f":"IFERROR(__xludf.DUMMYFUNCTION(\"TO_PURE_NUMBER(G492)\"),0)","v":0},{"$error":"#VALUE!"},{"$f":"VLOOKUP(A492,Import!A:N,14)","v":"🇫🇷 France - Douvres-la-Délivrande (14)"}]
["Shampoing solide - Cheveux abîmés & colorés - Sans HE - 80g","10,60€","10.6",{"$f":"VLOOKUP(A493,Import!A:D,4,FALSE)","v":"Produits d'hygiène coporelle"},false,0,0,{"$f":"IFERROR(__xludf.DUMMYFUNCTION(\"TO_PURE_NUMBER(G493)\"),0)","v":0},{"$error":"#VALUE!"},{"$f":"VLOOKUP(A493,Import!A:N,14)","v":"🇫🇷 France - Douvres-la-Délivrande (14)"}]
["Shampoing solide - Cheveux abîmés et colorés - 80g","10,60€","10.6",{"$f":"VLOOKUP(A494,Import!A:D,4,FALSE)","v":"Produits d'hygiène coporelle"},false,0,0,{"$f":"IFERROR(__xludf.DUMMYFUNCTION(\"TO_PURE_NUMBER(G494)\"),0)","v":0},{"$error":"#VALUE!"},{"$f":"VLOOKUP(A494,Import!A:N,14)","v":"🇫🇷 France - Douvres-la-Délivrande (14)"}]
["Shampoing solide - Cheveux frisés / crépus - 80g","10,60€","10.6",{"$f":"VLOOKUP(A495,Import!A:D,4,FALSE)","v":"Produits d'hygiène coporelle"},false,0,0,{"$f":"IFERROR(__xludf.DUMMYFUNCTION(\"TO_PURE_NUMBER(G495)\"),0)","v":0},{"$error":"#VALUE!"},{"$f":"VLOOKUP(A495,Import!A:N,14)","v":"🇫🇷 France - Douvres-la-Délivrande (14)"}]
["Shampoing solide - Cheveux gras - 80g","10,60€","10.6",{"$f":"VLOOKUP(A496,Import!A:D,4,FALSE)","v":"Produits d'hygiène coporelle"},false,0,0,{"$f":"IFERROR(__xludf.DUMMYFUNCTION(\"TO_PURE_NUMBER(G496)\"),0)","v":0},{"$error":"#VALUE!"},{"$f":"VLOOKUP(A496,Import!A:N,14)","v":"🇫🇷 France - Douvres-la-Délivrande (14)"}]
["Shampoing solide - Cheveux gras - Sans HE 80g","10,60€","10.6",{"$f":"VLOOKUP(A497,Import!A:D,4,FALSE)","v":"Produits d'hygiène coporelle"},false,0,0,{"$f":"IFERROR(__xludf.DUMMYFUNCTION(\"TO_PURE_NUMBER(G497)\"),0)","v":0},{"$error":"#VALUE!"},{"$f":"VLOOKUP(A497,Import!A:N,14)","v":"🇫🇷 France - Douvres-la-Délivrande (14)"}]
["Shampoing solide - Sensible - 80g","10,60€","10.6",{"$f":"VLOOKUP(A498,Import!A:D,4,FALSE)","v":"Produits d'hygiène coporelle"},false,0,0,{"$f":"IFERROR(__xludf.DUMMYFUNCTION(\"TO_PURE_NUMBER(G498)\"),0)","v":0},{"$error":"#VALUE!"},{"$f":"VLOOKUP(A498,Import!A:N,14)","v":"🇫🇷 France - Douvres-la-Délivrande (14)"}]
["Shampoing solide - Stimulant - 80g","10,60€","10.6",{"$f":"VLOOKUP(A499,Import!A:D,4,FALSE)","v":"Produits d'hygiène coporelle"},false,0,0,{"$f":"IFERROR(__xludf.DUMMYFUNCTION(\"TO_PURE_NUMBER(G499)\"),0)","v":0},{"$error":"#VALUE!"},{"$f":"VLOOKUP(A499,Import!A:N,14)","v":"🇫🇷 France - Douvres-la-Délivrande (14)"}]
["Shampoing solide - Tout type de cheveux - 80g","10,60€","10.6",{"$f":"VLOOKUP(A500,Import!A:D,4,FALSE)","v":"Produits d'hygiène coporelle"},false,0,0,{"$f":"IFERROR(__xludf.DUMMYFUNCTION(\"TO_PURE_NUMBER(G500)\"),0)","v":0},{"$error":"#VALUE!"},{"$f":"VLOOKUP(A500,Import!A:N,14)","v":"🇫🇷 France - Douvres-la-Délivrande (14)"}]
["Sirop d’Erable ","25€/kg","25",{"$f":"VLOOKUP(A501,Import!A:D,4,FALSE)","v":"Alimentaire Vrac"},false,0,0,{"$f":"IFERROR(__xludf.DUMMYFUNCTION(\"TO_PURE_NUMBER(G501)\"),0)","v":0},0,{"$f":"VLOOKUP(A501,Import!A:N,14)","v":"🇨🇦 Canada"}]
["Sirop de Cassis - 70cl","6,90€","6,9",{"$f":"VLOOKUP(A502,Import!A:D,4,FALSE)","v":"Alimentaire Conditionné"},false,0,0,{"$f":"G502","v":0},0,{"$f":"VLOOKUP(A502,Import!A:N,14)","v":"🇫🇷 France"}]
["Sirop de Citron ","9,50€/kg","9.5",{"$f":"VLOOKUP(A503,Import!A:D,4,FALSE)","v":"Boisson en vrac"},false,0,0,{"$f":"IFERROR(__xludf.DUMMYFUNCTION(\"TO_PURE_NUMBER(G503)\"),0)","v":0},{"$error":"#VALUE!"},{"$f":"VLOOKUP(A503,Import!A:N,14)","v":"🇫🇷 France"}]
["Sirop de Grenadine","9,50€/kg","9.5",{"$f":"VLOOKUP(A504,Import!A:D,4,FALSE)","v":"Boisson en vrac"},false,0,0,{"$f":"IFERROR(__xludf.DUMMYFUNCTION(\"TO_PURE_NUMBER(G504)\"),0)","v":0},{"$error":"#VALUE!"},{"$f":"VLOOKUP(A504,Import!A:N,14)","v":"🇫🇷 France"}]
["Sirop de Menthe","9,50€/kg","9.5",{"$f":"VLOOKUP(A505,Import!A:D,4,FALSE)","v":"Boisson en vrac"},false,0,null,null,{"$error":"#VALUE!"},{"$f":"VLOOKUP(A505,Import!A:N,14)","v":"🇫🇷 France"}]
["Sirop de Pamplemousse - 70cl ","6,90€","6,9",{"$f":"VLOOKUP(A506,Import!A:D,4,FALSE)","v":"Alimentaire Conditionné"},false,0,0,{"$f":"G506","v":0},0,{"$f":"VLOOKUP(A506,Import!A:N,14)","v":"🇫🇷 France"}]
["Sirop de Pêche","9,50€/kg","9.5",{"$f":"VLOOKUP(A507,Import!A:D,4,FALSE)","v":"Boisson en vrac"},false,0,null,null,{"$error":"#VALUE!"},{"$f":"VLOOKUP(A507,Import!A:N,14)","v":"🇫🇷 France"}]
["Solution hydroalcolique","7,50€/kg","7.5",{"$f":"VLOOKUP(A508,Import!A:D,4,FALSE)","v":"Produits d'entretiens"},false,0,null,null,{"$error":"#VALUE!"},{"$f":"VLOOKUP(A508,Import!A:N,14)","v":"🇫🇷 France - Malataverne (26)"}]
["Spirales Complètes ","3,30€/kg","3.3",{"$f":"VLOOKUP(A509,Import!A:D,4,FALSE)","v":"Alimentaire Vrac"},false,0,null,null,{"$error":"#VALUE!"},{"$f":"VLOOKUP(A509,Import!A:N,14)","v":"🇮🇹 Italie"}]
["Sucre Blanc de Canne","2,95€/kg","2.95",{"$f":"VLOOKUP(A510,Import!A:D,4,FALSE)","v":"Alimentaire Vrac"},false,0,null,null,{"$error":"#VALUE!"},{"$f":"VLOOKUP(A510,Import!A:N,14)","v":"🇨🇴 Colombie"}]
["Sucre Blond - Paraguay","3,20€/kg","3.2",{"$f":"VLOOKUP(A511,Import!A:D,4,FALSE)","v":"Alimentaire Vrac"},false,0,null,null,{"$error":"#VALUE!"},{"$f":"VLOOKUP(A511,Import!A:N,14)","v":"🇵🇾 Paraguay"}]
["Sucre Complet - Rapadura ","4,90€/kg","4.9",{"$f":"VLOOKUP(A512,Import!A:D,4,FALSE)","v":"Alimentaire Vrac"},false]
["Sucre de Canne Complet","4,90€/kg","4.90",{"$f":"VLOOKUP(A513,Import!A:D,4,FALSE)","v":"Alimentaire Vrac"},false]
["Sucre de Coco","5,50€/kg","5.50",{"$f":"VLOOKUP(A514,Import!A:D,4,FALSE)","v":"Alimentaire Vrac"},false]
["Sucre Glace sans séparateur ","5,50€/kg","5.5",{"$f":"VLOOKUP(A515,Import!A:D,4,FALSE)","v":"Alimentaire Vrac"},false]
["Sucre Roux Demérara (Cassonade) ","3,50€/kg","3.5",{"$f":"VLOOKUP(A516,Import!A:D,4,FALSE)","v":"Alimentaire Vrac"},false]
["Super bain d’huile avant-shampoing - - Clemence & Vivien ","9,90€","9.9",{"$f":"VLOOKUP(A517,Import!A:D,4,FALSE)","v":"Produits d'hygiène coporelle"},false]
["Tablettes Lave Vaisselle Vrac","13,60€/kg","13.6",{"$f":"VLOOKUP(A518,Import!A:D,4,FALSE)","v":"Produits d'entretiens"},false]
["Tamari - Vrac","10,80€/kg","10.8",{"$f":"VLOOKUP(A519,Import!A:D,4,FALSE)","v":"Alimentaire Vrac"},false]
["Tamari, less salt 25% - 250ml","6,50€","6,5",{"$f":"VLOOKUP(A520,Import!A:D,4,FALSE)","v":"Alimentaire Conditionné"},false,0,{"$f":"IF(F520=\"100G\",0.1,IF(F520=\"250G\",0.25,IF(F520=\"500G\",0.5,IF(F520=\"1 Kilo\",1,F520))))","v":0},{"$f":"G520","v":0},{"$f":"H520*C520","v":0}]
["Tartinade - de Noël","6€","6",{"$f":"VLOOKUP(A521,Import!A:D,4,FALSE)","v":"/"},false]
["Tartinade Apéro - Aubergine Paprika fumé","5,50€","5,5",{"$f":"VLOOKUP(A522,Import!A:D,4,FALSE)","v":"Alimentaire Conditionné"},false,0,{"$f":"IF(F522=\"100G\",0.1,IF(F522=\"250G\",0.25,IF(F522=\"500G\",0.5,IF(F522=\"1 Kilo\",1,F522))))","v":0},{"$f":"G522","v":0},{"$f":"H522*C522","v":0}]
["Tartinade Apéro - Betterave Grains moutarde","5,50€","5,5",{"$f":"VLOOKUP(A523,Import!A:D,4,FALSE)","v":"Alimentaire Conditionné"},false,0,0,0,0,{"$f":"VLOOKUP(A523,Import!A:N,14)","v":"🇫🇷 France - Fareins (01)"}]
["Tartinade Apéro - Butternut verveine citron","5,50€","5,5",{"$f":"VLOOKUP(A524,Import!A:D,4,FALSE)","v":"Alimentaire Conditionné"},false,0,0,0,0]
["Tartinade Apéro - Carotte cumin","5,50€","5,5",{"$f":"VLOOKUP(A525,Import!A:D,4,FALSE)","v":"Alimentaire Conditionné"},false,0,0,0,0]
["Tartinade Apéro - Chou fleur Ail noir","5,50€","5,5",{"$f":"VLOOKUP(A526,Import!A:D,4,FALSE)","v":"Alimentaire Conditionné"},false,0,0,0,0]
["Tartinade Apéro - Courgette Thym","5,50€","5,5",{"$f":"VLOOKUP(A527,Import!A:D,4,FALSE)","v":"Alimentaire Conditionné"},false,0,0,0,0]
["Tartinade Apéro - Gwacamole 130g","4,50€","4,5",{"$f":"VLOOKUP(A528,Import!A:D,4,FALSE)","v":"Alimentaire Conditionné"},false,0,0,0,0]
["Tartinade Apéro - Poichichade au paprika - 100g","4,50 €","4,5",{"$f":"VLOOKUP(A529,Import!A:D,4,FALSE)","v":"Alimentaire Conditionné"},false,0,0,0,0]
["Tartinade Apéro - Poichichade traditionnelle - 100g","4,00 €","4",{"$f":"VLOOKUP(A530,Import!A:D,4,FALSE)","v":"Alimentaire Conditionné"},false,0,0,0,0]
["Tartinade Apéro - Pois chiches Graines de Nigelle","5,50€","5,5",{"$f":"VLOOKUP(A531,Import!A:D,4,FALSE)","v":"Alimentaire Conditionné"},false,0,0,0,0]
["Tartinade Apéro - Tomates Sarriette","5,50€","5.50",{"$f":"VLOOKUP(A532,Import!A:D,4,FALSE)","v":"/"},false]
["Tartine Craquante Sarrasin - 300g","5,50€",5.5,{"$f":"VLOOKUP(A533,Import!A:D,4,FALSE)","v":"Alimentaire Conditionné"},false,0,{"$f":"IF(F533=\"100G\",0.1,IF(F533=\"250G\",0.25,IF(F533=\"500G\",0.5,IF(F533=\"1 Kilo\",1,F533))))","v":0},{"$f":"G533","v":0},{"$f":"H533*C533","v":0}]
["Tête rechargeable pour Brosse vaisselle","2,70€","2.7",{"$f":"VLOOKUP(A534,Import!A:D,4,FALSE)","v":"Produits d'entretiens"},false]
["Thé Noir - Darjeling ","50€/kg","50",{"$f":"VLOOKUP(A535,Import!A:D,4,FALSE)","v":"Boisson en vrac"},false,0,null,null,{"$f":"H535*C535","v":0},{"$f":"VLOOKUP(A535,Import!A:N,14)","v":"🇮🇳 Inde"}]
["Thé Noir - Earl Grey ","60€/kg","60",{"$f":"VLOOKUP(A536,Import!A:D,4,FALSE)","v":"Boisson en vrac"},false]
["Thé Noir - Noël","69€/kg","60",{"$f":"VLOOKUP(A537,Import!A:D,4,FALSE)","v":"Boisson en vrac"},false]
["Thé Vert - Au chant des cigales ","60€/kg","60",{"$f":"VLOOKUP(A538,Import!A:D,4,FALSE)","v":"Boisson en vrac"},false]
["Thé Vert - Earl Grey Azur ","60€/kg","60",{"$f":"VLOOKUP(A539,Import!A:D,4,FALSE)","v":"Boisson en vrac"},false]
["Thé Vert - Fruité Tropical","60€/kg","60",{"$f":"VLOOKUP(A540,Import!A:D,4,FALSE)","v":"Boisson en vrac"},false]
["Thé Vert - Gunpowder ","50€/kg","50",{"$f":"VLOOKUP(A541,Import!A:D,4,FALSE)","v":"Boisson en vrac"},false]
["Thé Vert - Jasmin","65€/kg","65",{"$f":"VLOOKUP(A542,Import!A:D,4,FALSE)","v":"Boisson en vrac"},false]
["Thé Vert - Mandarine Pamplemousse","60€/kg","60",{"$f":"VLOOKUP(A543,Import!A:D,4,FALSE)","v":"Boisson en vrac"},false]
["Thé Vert - Menthe Marrakech","60€/kg","60",{"$f":"VLOOKUP(A544,Import!A:D,4,FALSE)","v":"Boisson en vrac"},false]
["Thym Feuilles ","140€/kg","140",{"$f":"VLOOKUP(A545,Import!A:D,4,FALSE)","v":"Alimentaire Vrac"},false]
["Tisane - Après Repas","50€/kg","50",{"$f":"VLOOKUP(A546,Import!A:D,4,FALSE)","v":"Boisson en vrac"},false]
["Tisane - Camomille","60€/kg","60",{"$f":"VLOOKUP(A547,Import!A:D,4,FALSE)","v":"Boisson en vrac"},false]
["Tisane - Des elfes","60€/kg","60",{"$f":"VLOOKUP(A548,Import!A:D,4,FALSE)","v":"Boisson en vrac"},false]
["Tisane - Du soir ","50€/kg","50",{"$f":"VLOOKUP(A549,Import!A:D,4,FALSE)","v":"Boisson en vrac"},false]
["Tisane - Hibiscus","50€/kg","50",{"$f":"VLOOKUP(A550,Import!A:D,4,FALSE)","v":"Boisson en vrac"},false]
["Tisane - La mésange bleue ","50€/kg","50",{"$f":"VLOOKUP(A551,Import!A:D,4,FALSE)","v":"Boisson en vrac"},false]
["Tisane - Verveine citronnée ","50€/kg","50",{"$f":"VLOOKUP(A552,Import!A:D,4,FALSE)","v":"Boisson en vrac"},false]
["Vermicelles demi complets","2,95€/kg","2.95",{"$f":"VLOOKUP(A553,Import!A:D,4,FALSE)","v":"Alimentaire Vrac"},false]
["Vinaigre Balsamique","8,50€/kg","8.5",{"$f":"VLOOKUP(A554,Import!A:D,4,FALSE)","v":"Alimentaire Vrac"},false]
["Vinaigre balsamique de Modène - 50cl","5,50€/kg","5,5",{"$f":"VLOOKUP(A555,Import!A:D,4,FALSE)","v":"Alimentaire Conditionné"},false,0,{"$f":"IF(F555=\"100G\",0.1,IF(F555=\"250G\",0.25,IF(F555=\"500G\",0.5,IF(F555=\"1 Kilo\",1,F555))))","v":0},{"$f":"G555","v":0},{"$f":"H555*C555","v":0}]
["Vinaigre Blanc Naturel 14° - Vrac","4,90€/kg","4.9",{"$f":"VLOOKUP(A556,Import!A:D,4,FALSE)","v":"Produits d'entretiens"},false]
["Vinaigre de Cidre ","4,50€/kg","4.5",{"$f":"VLOOKUP(A557,Import!A:D,4,FALSE)","v":"Alimentaire Vrac"},false]
["Vinaigre de Vin Rouge","3,75€/kg","3.75",{"$f":"VLOOKUP(A558,Import!A:D,4,FALSE)","v":"Alimentaire Vrac"},false]
[null,null,null,{"$f":"VLOOKUP(A559,Import!A:D,4,FALSE)","v":{"$error":"#N/A"}},false]
[null,null,null,{"$f":"VLOOKUP(A560,Import!A:D,4,FALSE)","v":{"$error":"#N/A"}},false]
[null,null,null,{"$f":"VLOOKUP(A561,Import!A:D,4,FALSE)","v":{"$error":"#N/A"}},false]
[null,null,null,{"$f":"VLOOKUP(A562,Import!A:D,4,FALSE)","v":{"$error":"#N/A"}},false]
[null,null,null,{"$f":"VLOOKUP(A563,Import!A:D,4,FALSE)","v":{"$error":"#N/A"}},false]
[null,null,null,{"$f":"VLOOKUP(A564,Import!A:D,4,FALSE)","v":{"$error":"#N/A"}},false]
[null,null,null,{"$f":"VLOOKUP(A565,Import!A:D,4,FALSE)","v":{"$error":"#N/A"}},false]
[null,null,null,{"$f":"VLOOKUP(A566,Import!A:D,4,FALSE)","v":{"$error":"#N/A"}},false]
[null,null,null,{"$f":"VLOOKUP(A567,Import!A:D,4,FALSE)","v":{"$error":"#N/A"}},false]
[null,null,null,{"$f":"VLOOKUP(A568,Import!A:D,4,FALSE)","v":{"$error":"#N/A"}},false]
[null,null,null,{"$f":"VLOOKUP(A569,Import!A:D,4,FALSE)","v":{"$error":"#N/A"}},false]
[null,null,null,{"$f":"VLOOKUP(A570,Import!A:D,4,FALSE)","v":{"$error":"#N/A"}},false]
[null,null,null,{"$f":"VLOOKUP(A571,Import!A:D,4,FALSE)","v":{"$error":"#N/A"}},false]
[null,null,null,{"$f":"VLOOKUP(A572,Import!A:D,4,FALSE)","v":{"$error":"#N/A"}},false]
[null,null,null,{"$f":"VLOOKUP(A573,Import!A:D,4,FALSE)","v":{"$error":"#N/A"}},false]
[null,null,null,{"$f":"VLOOKUP(A574,Import!A:D,4,FALSE)","v":{"$error":"#N/A"}},false]
[null,null,null,{"$f":"VLOOKUP(A575,Import!A:D,4,FALSE)","v":{"$error":"#N/A"}},false]
[null,null,null,{"$f":"VLOOKUP(A576,Import!A:D,4,FALSE)","v":{"$error":"#N/A"}},false]
[null,null,null,{"$f":"VLOOKUP(A577,Import!A:D,4,FALSE)","v":{"$error":"#N/A"}},false]
[null,null,null,{"$f":"VLOOKUP(A578,Import!A:D,4,FALSE)","v":{"$error":"#N/A"}},false]
[null,null,null,{"$f":"VLOOKUP(A579,Import!A:D,4,FALSE)","v":{"$error":"#N/A"}},false]
[null,null,null,{"$f":"VLOOKUP(A580,Import!A:D,4,FALSE)","v":{"$error":"#N/A"}},false]
[null,null,null,{"$f":"VLOOKUP(A581,Import!A:D,4,FALSE)","v":{"$error":"#N/A"}},false]
[null,null,null,{"$f":"VLOOKUP(A582,Import!A:D,4,FALSE)","v":{"$error":"#N/A"}},false]
[null,null,null,{"$f":"VLOOKUP(A583,Import!A:D,4,FALSE)","v":{"$error":"#N/A"}},false]
[null,null,null,{"$f":"VLOOKUP(A584,Import!A:D,4,FALSE)","v":{"$error":"#N/A"}},false]
[null,null,null,{"$f":"VLOOKUP(A585,Import!A:D,4,FALSE)","v":{"$error":"#N/A"}},false]
[null,null,null,{"$f":"VLOOKUP(A586,Import!A:D,4,FALSE)","v":{"$error":"#N/A"}},false]
[null,null,null,{"$f":"VLOOKUP(A587,Import!A:D,4,FALSE)","v":{"$error":"#N/A"}},false]
[null,null,null,{"$f":"VLOOKUP(A588,Import!A:D,4,FALSE)","v":{"$error":"#N/A"}},false]
[null,null,null,{"$f":"VLOOKUP(A589,Import!A:D,4,FALSE)","v":{"$error":"#N/A"}},false]
[null,null,null,{"$f":"VLOOKUP(A590,Import!A:D,4,FALSE)","v":{"$error":"#N/A"}},false]
[null,null,null,{"$f":"VLOOKUP(A591,Import!A:D,4,FALSE)","v":{"$error":"#N/A"}},false]
[null,null,null,{"$f":"VLOOKUP(A592,Import!A:D,4,FALSE)","v":{"$error":"#N/A"}},false]
[null,null,null,{"$f":"VLOOKUP(A593,Import!A:D,4,FALSE)","v":{"$error":"#N/A"}},false]
[null,null,null,{"$f":"VLOOKUP(A594,Import!A:D,4,FALSE)","v":{"$error":"#N/A"}},false]
[null,null,null,{"$f":"VLOOKUP(A595,Import!A:D,4,FALSE)","v":{"$error":"#N/A"}},false]
[null,null,null,{"$f":"VLOOKUP(A596,Import!A:D,4,FALSE)","v":{"$error":"#N/A"}},false]
[null,null,null,{"$f":"VLOOKUP(A597,Import!A:D,4,FALSE)","v":{"$error":"#N/A"}},false]
[null,null,null,{"$f":"VLOOKUP(A598,Import!A:D,4,FALSE)","v":{"$error":"#N/A"}},false]
[null,null,null,{"$f":"VLOOKUP(A599,Import!A:D,4,FALSE)","v":{"$error":"#N/A"}},false]
[null,null,null,{"$f":"VLOOKUP(A600,Import!A:D,4,FALSE)","v":{"$error":"#N/A"}},false]
[null,null,null,{"$f":"VLOOKUP(A601,Import!A:D,4,FALSE)","v":{"$error":"#N/A"}},false]
[null,null,null,{"$f":"VLOOKUP(A602,Import!A:D,4,FALSE)","v":{"$error":"#N/A"}},false]
[null,null,null,{"$f":"VLOOKUP(A603,Import!A:D,4,FALSE)","v":{"$error":"#N/A"}},false]
[null,null,null,{"$f":"VLOOKUP(A604,Import!A:D,4,FALSE)","v":{"$error":"#N/A"}},false]
[null,null,null,{"$f":"VLOOKUP(A605,Import!A:D,4,FALSE)","v":{"$error":"#N/A"}},false]
[null,null,null,{"$f":"VLOOKUP(A606,Import!A:D,4,FALSE)","v":{"$error":"#N/A"}},false]
[null,null,null,{"$f":"VLOOKUP(A607,Import!A:D,4,FALSE)","v":{"$error":"#N/A"}},false]
[null,null,null,{"$f":"VLOOKUP(A608,Import!A:D,4,FALSE)","v":{"$error":"#N/A"}},false]
[null,null,null,{"$f":"VLOOKUP(A609,Import!A:D,4,FALSE)","v":{"$error":"#N/A"}},false]
[null,null,null,{"$f":"VLOOKUP(A610,Import!A:D,4,FALSE)","v":{"$error":"#N/A"}},false]
[null,null,null,{"$f":"VLOOKUP(A611,Import!A:D,4,FALSE)","v":{"$error":"#N/A"}},false]
[null,null,null,{"$f":"VLOOKUP(A612,Import!A:D,4,FALSE)","v":{"$error":"#N/A"}},false]
[null,null,null,{"$f":"VLOOKUP(A613,Import!A:D,4,FALSE)","v":{"$error":"#N/A"}},false]
[null,null,null,{"$f":"VLOOKUP(A614,Import!A:D,4,FALSE)","v":{"$error":"#N/A"}},false]
[null,null,null,{"$f":"VLOOKUP(A615,Import!A:D,4,FALSE)","v":{"$error":"#N/A"}},false]
[null,null,null,{"$f":"VLOOKUP(A616,Import!A:D,4,FALSE)","v":{"$error":"#N/A"}},false]
[null,null,null,{"$f":"VLOOKUP(A617,Import!A:D,4,FALSE)","v":{"$error":"#N/A"}},false]
[null,null,null,{"$f":"VLOOKUP(A618,Import!A:D,4,FALSE)","v":{"$error":"#N/A"}},false]
[null,null,null,{"$f":"VLOOKUP(A619,Import!A:D,4,FALSE)","v":{"$error":"#N/A"}},false]
[null,null,null,{"$f":"VLOOKUP(A620,Import!A:D,4,FALSE)","v":{"$error":"#N/A"}},false]
[null,null,null,{"$f":"VLOOKUP(A621,Import!A:D,4,FALSE)","v":{"$error":"#N/A"}},false]
[null,null,null,{"$f":"VLOOKUP(A622,Import!A:D,4,FALSE)","v":{"$error":"#N/A"}},false]
[null,null,null,{"$f":"VLOOKUP(A623,Import!A:D,4,FALSE)","v":{"$error":"#N/A"}},false]
[null,null,null,{"$f":"VLOOKUP(A624,Import!A:D,4,FALSE)","v":{"$error":"#N/A"}},false]
[null,null,null,{"$f":"VLOOKUP(A625,Import!A:D,4,FALSE)","v":{"$error":"#N/A"}},false]
[null,null,null,{"$f":"VLOOKUP(A626,Import!A:D,4,FALSE)","v":{"$error":"#N/A"}},false]
[null,null,null,{"$f":"VLOOKUP(A627,Import!A:D,4,FALSE)","v":{"$error":"#N/A"}},false]
[null,null,null,{"$f":"VLOOKUP(A628,Import!A:D,4,FALSE)","v":{"$error":"#N/A"}},false]
[null,null,null,{"$f":"VLOOKUP(A629,Import!A:D,4,FALSE)","v":{"$error":"#N/A"}},false]
[null,null,null,{"$f":"VLOOKUP(A630,Import!A:D,4,FALSE)","v":{"$error":"#N/A"}},false]
[null,null,null,{"$f":"VLOOKUP(A631,Import!A:D,4,FALSE)","v":{"$error":"#N/A"}},false]
[null,null,null,{"$f":"VLOOKUP(A632,Import!A:D,4,FALSE)","v":{"$error":"#N/A"}},false]
[null,null,null,{"$f":"VLOOKUP(A633,Import!A:D,4,FALSE)","v":{"$error":"#N/A"}},false]
[null,null,null,{"$f":"VLOOKUP(A634,Import!A:D,4,FALSE)","v":{"$error":"#N/A"}},false]
[null,null,null,{"$f":"VLOOKUP(A635,Import!A:D,4,FALSE)","v":{"$error":"#N/A"}},false]
[null,null,null,{"$f":"VLOOKUP(A636,Import!A:D,4,FALSE)","v":{"$error":"#N/A"}},false]
[null,null,null,{"$f":"VLOOKUP(A637,Import!A:D,4,FALSE)","v":{"$error":"#N/A"}},false]
[null,null,null,{"$f":"VLOOKUP(A638,Import!A:D,4,FALSE)","v":{"$error":"#N/A"}},false]
[null,null,null,{"$f":"VLOOKUP(A639,Import!A:D,4,FALSE)","v":{"$error":"#N/A"}},false]
[null,null,null,{"$f":"VLOOKUP(A640,Import!A:D,4,FALSE)","v":{"$error":"#N/A"}},false]
[null,null,null,{"$f":"VLOOKUP(A641,Import!A:D,4,FALSE)","v":{"$error":"#N/A"}},false]
[null,null,null,{"$f":"VLOOKUP(A642,Import!A:D,4,FALSE)","v":{"$error":"#N/A"}},false]
[null,null,null,{"$f":"VLOOKUP(A643,Import!A:D,4,FALSE)","v":{"$error":"#N/A"}},false]
[null,null,null,{"$f":"VLOOKUP(A644,Import!A:D,4,FALSE)","v":{"$error":"#N/A"}},false]
[null,null,null,{"$f":"VLOOKUP(A645,Import!A:D,4,FALSE)","v":{"$error":"#N/A"}},false]
[null,null,null,{"$f":"VLOOKUP(A646,Import!A:D,4,FALSE)","v":{"$error":"#N/A"}},false]
[null,null,null,{"$f":"VLOOKUP(A647,Import!A:D,4,FALSE)","v":{"$error":"#N/A"}},false]
[null,null,null,{"$f":"VLOOKUP(A648,Import!A:D,4,FALSE)","v":{"$error":"#N/A"}},false]
[null,null,null,{"$f":"VLOOKUP(A649,Import!A:D,4,FALSE)","v":{"$error":"#N/A"}},false]
[null,null,null,{"$f":"VLOOKUP(A650,Import!A:D,4,FALSE)","v":{"$error":"#N/A"}},false]
[null,null,null,{"$f":"VLOOKUP(A651,Import!A:D,4,FALSE)","v":{"$error":"#N/A"}},false]
[null,null,null,{"$f":"VLOOKUP(A652,Import!A:D,4,FALSE)","v":{"$error":"#N/A"}},false]
[null,null,null,{"$f":"VLOOKUP(A653,Import!A:D,4,FALSE)","v":{"$error":"#N/A"}},false]
[null,null,null,{"$f":"VLOOKUP(A654,Import!A:D,4,FALSE)","v":{"$error":"#N/A"}},false]
[null,null,null,{"$f":"VLOOKUP(A655,Import!A:D,4,FALSE)","v":{"$error":"#N/A"}},false]
[null,null,null,{"$f":"VLOOKUP(A656,Import!A:D,4,FALSE)","v":{"$error":"#N/A"}},false]
[null,null,null,{"$f":"VLOOKUP(A657,Import!A:D,4,FALSE)","v":{"$error":"#N/A"}},false]
[null,null,null,{"$f":"VLOOKUP(A658,Import!A:D,4,FALSE)","v":{"$error":"#N/A"}},false]
[null,null,null,{"$f":"VLOOKUP(A659,Import!A:D,4,FALSE)","v":{"$error":"#N/A"}},false]
[null,null,null,{"$f":"VLOOKUP(A660,Import!A:D,4,FALSE)","v":{"$error":"#N/A"}},false]
[null,null,null,{"$f":"VLOOKUP(A661,Import!A:D,4,FALSE)","v":{"$error":"#N/A"}},false]
[null,null,null,{"$f":"VLOOKUP(A662,Import!A:D,4,FALSE)","v":{"$error":"#N/A"}},false]
[null,null,null,{"$f":"VLOOKUP(A663,Import!A:D,4,FALSE)","v":{"$error":"#N/A"}},false]
[null,null,null,{"$f":"VLOOKUP(A664,Import!A:D,4,FALSE)","v":{"$error":"#N/A"}},false]
[null,null,null,{"$f":"VLOOKUP(A665,Import!A:D,4,FALSE)","v":{"$error":"#N/A"}},false]
[null,null,null,{"$f":"VLOOKUP(A666,Import!A:D,4,FALSE)","v":{"$error":"#N/A"}},false]
[null,null,null,{"$f":"VLOOKUP(A667,Import!A:D,4,FALSE)","v":{"$error":"#N/A"}},false]
[null,null,null,{"$f":"VLOOKUP(A668,Import!A:D,4,FALSE)","v":{"$error":"#N/A"}},false]
[null,null,null,{"$f":"VLOOKUP(A669,Import!A:D,4,FALSE)","v":{"$error":"#N/A"}},false]
[null,null,null,{"$f":"VLOOKUP(A670,Import!A:D,4,FALSE)","v":{"$error":"#N/A"}},false]
[null,null,null,{"$f":"VLOOKUP(A671,Import!A:D,4,FALSE)","v":{"$error":"#N/A"}},false]
[null,null,null,{"$f":"VLOOKUP(A672,Import!A:D,4,FALSE)","v":{"$error":"#N/A"}},false]
[null,null,null,{"$f":"VLOOKUP(A673,Import!A:D,4,FALSE)","v":{"$error":"#N/A"}},false]
[null,null,null,{"$f":"VLOOKUP(A674,Import!A:D,4,FALSE)","v":{"$error":"#N/A"}},false]
[null,null,null,{"$f":"VLOOKUP(A675,Import!A:D,4,FALSE)","v":{"$error":"#N/A"}},false]
[null,null,null,{"$f":"VLOOKUP(A676,Import!A:D,4,FALSE)","v":{"$error":"#N/A"}},false]
[null,null,null,{"$f":"VLOOKUP(A677,Import!A:D,4,FALSE)","v":{"$error":"#N/A"}},false]
[null,null,null,{"$f":"VLOOKUP(A678,Import!A:D,4,FALSE)","v":{"$error":"#N/A"}},false]
[null,null,null,{"$f":"VLOOKUP(A679,Import!A:D,4,FALSE)","v":{"$error":"#N/A"}},false]
[null,null,null,{"$f":"VLOOKUP(A680,Import!A:D,4,FALSE)","v":{"$error":"#N/A"}},false]
[null,null,null,{"$f":"VLOOKUP(A681,Import!A:D,4,FALSE)","v":{"$error":"#N/A"}},false]
[null,null,null,{"$f":"VLOOKUP(A682,Import!A:D,4,FALSE)","v":{"$error":"#N/A"}},false]
[null,null,null,{"$f":"VLOOKUP(A683,Import!A:D,4,FALSE)","v":{"$error":"#N/A"}},false]
[null,null,null,{"$f":"VLOOKUP(A684,Import!A:D,4,FALSE)","v":{"$error":"#N/A"}},false]
[null,null,null,{"$f":"VLOOKUP(A685,Import!A:D,4,FALSE)","v":{"$error":"#N/A"}},false]
[null,null,null,{"$f":"VLOOKUP(A686,Import!A:D,4,FALSE)","v":{"$error":"#N/A"}},false]
[null,null,null,{"$f":"VLOOKUP(A687,Import!A:D,4,FALSE)","v":{"$error":"#N/A"}},false]
[null,null,null,{"$f":"VLOOKUP(A688,Import!A:D,4,FALSE)","v":{"$error":"#N/A"}},false]
[null,null,null,{"$f":"VLOOKUP(A689,Import!A:D,4,FALSE)","v":{"$error":"#N/A"}},false]
[null,null,null,{"$f":"VLOOKUP(A690,Import!A:D,4,FALSE)","v":{"$error":"#N/A"}},false]
[null,null,null,{"$f":"VLOOKUP(A691,Import!A:D,4,FALSE)","v":{"$error":"#N/A"}},false]
[null,null,null,{"$f":"VLOOKUP(A692,Import!A:D,4,FALSE)","v":{"$error":"#N/A"}},false]
[null,null,null,{"$f":"VLOOKUP(A693,Import!A:D,4,FALSE)","v":{"$error":"#N/A"}},false]
[null,null,null,{"$f":"VLOOKUP(A694,Import!A:D,4,FALSE)","v":{"$error":"#N/A"}},false]
[null,null,null,{"$f":"VLOOKUP(A695,Import!A:D,4,FALSE)","v":{"$error":"#N/A"}},false]
[null,null,null,{"$f":"VLOOKUP(A696,Import!A:D,4,FALSE)","v":{"$error":"#N/A"}},false]
[null,null,null,{"$f":"VLOOKUP(A697,Import!A:D,4,FALSE)","v":{"$error":"#N/A"}},false]
[null,null,null,{"$f":"VLOOKUP(A698,Import!A:D,4,FALSE)","v":{"$error":"#N/A"}},false]
[null,null,null,{"$f":"VLOOKUP(A699,Import!A:D,4,FALSE)","v":{"$error":"#N/A"}},false]
[null,null,null,{"$f":"VLOOKUP(A700,Import!A:D,4,FALSE)","v":{"$error":"#N/A"}},false]
[null,null,null,{"$f":"VLOOKUP(A701,Import!A:D,4,FALSE)","v":{"$error":"#N/A"}},false]
[null,null,null,{"$f":"VLOOKUP(A702,Import!A:D,4,FALSE)","v":{"$error":"#N/A"}},false]
[null,null,null,{"$f":"VLOOKUP(A703,Import!A:D,4,FALSE)","v":{"$error":"#N/A"}},false]
[null,null,null,{"$f":"VLOOKUP(A704,Import!A:D,4,FALSE)","v":{"$error":"#N/A"}},false]
[null,null,null,{"$f":"VLOOKUP(A705,Import!A:D,4,FALSE)","v":{"$error":"#N/A"}},false]
[null,null,null,{"$f":"VLOOKUP(A706,Import!A:D,4,FALSE)","v":{"$error":"#N/A"}},false]
[null,null,null,{"$f":"VLOOKUP(A707,Import!A:D,4,FALSE)","v":{"$error":"#N/A"}},false]
[null,null,null,{"$f":"VLOOKUP(A708,Import!A:D,4,FALSE)","v":{"$error":"#N/A"}},false]
[null,null,null,{"$f":"VLOOKUP(A709,Import!A:D,4,FALSE)","v":{"$error":"#N/A"}},false]
[null,null,null,{"$f":"VLOOKUP(A710,Import!A:D,4,FALSE)","v":{"$error":"#N/A"}},false]
[null,null,null,{"$f":"VLOOKUP(A711,Import!A:D,4,FALSE)","v":{"$error":"#N/A"}},false]
[null,null,null,{"$f":"VLOOKUP(A712,Import!A:D,4,FALSE)","v":{"$error":"#N/A"}},false]
[null,null,null,{"$f":"VLOOKUP(A713,Import!A:D,4,FALSE)","v":{"$error":"#N/A"}},false]
[null,null,null,{"$f":"VLOOKUP(A714,Import!A:D,4,FALSE)","v":{"$error":"#N/A"}},false]
[null,null,null,{"$f":"VLOOKUP(A715,Import!A:D,4,FALSE)","v":{"$error":"#N/A"}},false]
[null,null,null,{"$f":"VLOOKUP(A716,Import!A:D,4,FALSE)","v":{"$error":"#N/A"}},false]
[null,null,null,{"$f":"VLOOKUP(A717,Import!A:D,4,FALSE)","v":{"$error":"#N/A"}},false]
[null,null,null,{"$f":"VLOOKUP(A718,Import!A:D,4,FALSE)","v":{"$error":"#N/A"}},false]
[null,null,null,{"$f":"VLOOKUP(A719,Import!A:D,4,FALSE)","v":{"$error":"#N/A"}},false]
[null,null,null,{"$f":"VLOOKUP(A720,Import!A:D,4,FALSE)","v":{"$error":"#N/A"}},false]
[null,null,null,{"$f":"VLOOKUP(A721,Import!A:D,4,FALSE)","v":{"$error":"#N/A"}},false]
[null,null,null,{"$f":"VLOOKUP(A722,Import!A:D,4,FALSE)","v":{"$error":"#N/A"}},false]
[null,null,null,{"$f":"VLOOKUP(A723,Import!A:D,4,FALSE)","v":{"$error":"#N/A"}},false]
[null,null,null,{"$f":"VLOOKUP(A724,Import!A:D,4,FALSE)","v":{"$error":"#N/A"}},false]
[null,null,null,{"$f":"VLOOKUP(A725,Import!A:D,4,FALSE)","v":{"$error":"#N/A"}},false]
[null,null,null,{"$f":"VLOOKUP(A726,Import!A:D,4,FALSE)","v":{"$error":"#N/A"}},false]
[null,null,null,{"$f":"VLOOKUP(A727,Import!A:D,4,FALSE)","v":{"$error":"#N/A"}},false]
[null,null,null,{"$f":"VLOOKUP(A728,Import!A:D,4,FALSE)","v":{"$error":"#N/A"}},false]
[null,null,null,{"$f":"VLOOKUP(A729,Import!A:D,4,FALSE)","v":{"$error":"#N/A"}},false]
[null,null,null,{"$f":"VLOOKUP(A730,Import!A:D,4,FALSE)","v":{"$error":"#N/A"}},false]
[null,null,null,{"$f":"VLOOKUP(A731,Import!A:D,4,FALSE)","v":{"$error":"#N/A"}},false]
[null,null,null,{"$f":"VLOOKUP(A732,Import!A:D,4,FALSE)","v":{"$error":"#N/A"}},false]
[null,null,null,{"$f":"VLOOKUP(A733,Import!A:D,4,FALSE)","v":{"$error":"#N/A"}},false]
[null,null,null,{"$f":"VLOOKUP(A734,Import!A:D,4,FALSE)","v":{"$error":"#N/A"}},false]
[null,null,null,{"$f":"VLOOKUP(A735,Import!A:D,4,FALSE)","v":{"$error":"#N/A"}},false]
[null,null,null,{"$f":"VLOOKUP(A736,Import!A:D,4,FALSE)","v":{"$error":"#N/A"}},false]
[null,null,null,{"$f":"VLOOKUP(A737,Import!A:D,4,FALSE)","v":{"$error":"#N/A"}},false]
[null,null,null,{"$f":"VLOOKUP(A738,Import!A:D,4,FALSE)","v":{"$error":"#N/A"}},false]
[null,null,null,{"$f":"VLOOKUP(A739,Import!A:D,4,FALSE)","v":{"$error":"#N/A"}},false]
[null,null,null,{"$f":"VLOOKUP(A740,Import!A:D,4,FALSE)","v":{"$error":"#N/A"}},false]
[null,null,null,{"$f":"VLOOKUP(A741,Import!A:D,4,FALSE)","v":{"$error":"#N/A"}},false]
[null,null,null,{"$f":"VLOOKUP(A742,Import!A:D,4,FALSE)","v":{"$error":"#N/A"}},false]
[null,null,null,{"$f":"VLOOKUP(A743,Import!A:D,4,FALSE)","v":{"$error":"#N/A"}},false]
[null,null,null,{"$f":"VLOOKUP(A744,Import!A:D,4,FALSE)","v":{"$error":"#N/A"}},false]
[null,null,null,{"$f":"VLOOKUP(A745,Import!A:D,4,FALSE)","v":{"$error":"#N/A"}},false]
[null,null,null,{"$f":"VLOOKUP(A746,Import!A:D,4,FALSE)","v":{"$error":"#N/A"}},false]
[null,null,null,{"$f":"VLOOKUP(A747,Import!A:D,4,FALSE)","v":{"$error":"#N/A"}},false]
[null,null,null,{"$f":"VLOOKUP(A748,Import!A:D,4,FALSE)","v":{"$error":"#N/A"}},false]
[null,null,null,{"$f":"VLOOKUP(A749,Import!A:D,4,FALSE)","v":{"$error":"#N/A"}},false]
[null,null,null,{"$f":"VLOOKUP(A750,Import!A:D,4,FALSE)","v":{"$error":"#N/A"}},false]
[null,null,null,{"$f":"VLOOKUP(A751,Import!A:D,4,FALSE)","v":{"$error":"#N/A"}},false]
[null,null,null,{"$f":"VLOOKUP(A752,Import!A:D,4,FALSE)","v":{"$error":"#N/A"}},false]
[null,null,null,{"$f":"VLOOKUP(A753,Import!A:D,4,FALSE)","v":{"$error":"#N/A"}},false]
[null,null,null,{"$f":"VLOOKUP(A754,Import!A:D,4,FALSE)","v":{"$error":"#N/A"}},false]
[null,null,null,{"$f":"VLOOKUP(A755,Import!A:D,4,FALSE)","v":{"$error":"#N/A"}},false]
[null,null,null,null,false]
[null,null,null,null,false]
[null,null,null,null,false]
[null,null,null,null,false]
[null,null,null,null,false]
[null,null,null,null,false]
[null,null,null,null,false]
[null,null,null,null,false]
[null,null,null,null,false]
[null,null,null,null,false]
[null,null,null,null,false]
[null,null,null,null,false]
[null,null,null,null,false]
[null,null,null,null,false]
[null,null,null,null,false]
[null,null,null,null,false]
[null,null,null,null,false]
[null,null,null,null,false]
[null,null,null,null,false]
[null,null,null,null,false]
[null,null,null,null,false]
[null,null,null,null,false]
[null,null,null,null,false]
[null,null,null,null,false]
[null,null,null,null,false]
[null,null,null,null,false]
[null,null,null,null,false]
[null,null,null,null,false]
[null,null,null,null,false]
[null,null,null,null,false]
[null,null,null,null,false]
[null,null,null,null,false]
[null,null,null,null,false]
[null,null,null,null,false]
[null,null,null,null,false]
[null,null,null,null,false]
[null,null,null,null,false]
[null,null,null,null,false]
[null,null,null,null,false]
[null,null,null,null,false]
[null,null,null,null,false]
[null,null,null,null,false]
[null,null,null,null,false]
[null,null,null,null,false]
[null,null,null,null,false]
[null,null,null,null,false]
[null,null,null,null,false]
[null,null,null,null,false]
[null,null,null,null,false]
[null,null,null,null,false]
[null,null,null,null,false]
[null,null,null,null,false]
[null,null,null,null,false]
[null,null,null,null,false]
[null,null,null,null,false]
[null,null,null,null,false]
[null,null,null,null,false]
[null,null,null,null,false]
[null,null,null,null,false]
[null,null,null,null,false]
[null,null,null,null,false]
[null,null,null,null,false]
[null,null,null,null,false]
[null,null,null,null,false]
[null,null,null,null,false]
[null,null,null,null,false]
[null,null,null,null,false]
[null,null,null,null,false]
[null,null,null,null,false]
[null,null,null,null,false]
[null,null,null,null,false]
[null,null,null,null,false]
[null,null,null,null,false]
[null,null,null,null,false]
[null,null,null,null,false]
[null,null,null,null,false]
[null,null,null,null,false]
[null,null,null,null,false]
[null,null,null,null,false]
[null,null,null,null,false]
[null,null,null,null,false]
[null,null,null,null,false]
[null,null,null,null,false]
[null,null,null,null,false]
[null,null,null,null,false]
[null,null,null,null,false]
[null,null,null,null,false]
[null,null,null,null,false]
[null,null,null,null,false]
[null,null,null,null,false]
[null,null,null,null,false]
[null,null,null,null,false]
[null,null,null,null,false]
[null,null,null,null,false]
[null,null,null,null,false]
[null,null,null,null,false]
[null,null,null,null,false]
[null,null,null,null,false]
[null,null,null,null,false]
[null,null,null,null,false]
[null,null,null,null,false]
[null,null,null,null,false]
[null,null,null,null,false]
[null,null,null,null,false]
[null,null,null,null,false]
[null,null,null,null,false]
[null,null,null,null,false]
[null,null,null,null,false]
[null,null,null,null,false]
[null,null,null,null,false]
[null,null,null,null,false]
[null,null,null,null,false]
[null,null,null,null,false]
[null,null,null,null,false]
[null,null,null,null,false]
[null,null,null,null,false]
[null,null,null,null,false]
[null,null,null,null,false]
[null,null,null,null,false]
[null,null,null,null,false]
[null,null,null,null,false]
[null,null,null,null,false]
[null,null,null,null,false]
[null,null,null,null,false]
[null,null,null,null,false]
[null,null,null,null,false]
[null,null,null,null,false]
[null,null,null,null,false]
[null,null,null,null,false]
[null,null,null,null,false]
[null,null,null,null,false]
[null,null,null,null,false]
[null,null,null,null,false]
[null,null,null,null,false]
[null,null,null,null,false]
[null,null,null,null,false]
[null,null,null,null,false]
[null,null,null,null,false]
[null,null,null,null,false]
[null,null,null,null,false]
[null,null,null,null,false]
[null,null,null,null,false]
[null,null,null,null,false]
[null,null,null,null,false]
[null,null,null,null,false]
[null,null,null,null,false]
[null,null,null,null,false]
[null,null,null,null,false]
[null,null,null,null,false]
[null,null,null,null,false]
[null,null,null,null,false]
[null,null,null,null,false]
[null,null,null,null,false]
[null,null,null,null,false]
[null,null,null,null,false]
[null,null,null,null,false]
[null,null,null,null,false]
[null,null,null,null,false]
[null,null,null,null,false]
[null,null,null,null,false]
[null,null,null,null,false]
[null,null,null,null,false]
[null,null,null,null,false]
[null,null,null,null,false]
[null,null,null,null,false]
[null,null,null,null,false]
[null,null,null,null,false]
[null,null,null,null,false]
[null,null,null,null,false]
[null,null,null,null,false]
[null,null,null,null,false]
[null,null,null,null,false]
[null,null,null,null,false]
[null,null,null,null,false]
[null,null,null,null,false]
[null,null,null,null,false]
[null,null,null,null,false]
[null,null,null,null,false]
[null,null,null,null,false]
[null,null,null,null,false]
[null,null,null,null,false]
[null,null,null,null,false]
[null,null,null,null,false]
[null,null,null,null,false]
[null,null,null,null,false]
[null,null,null,null,false]
[null,null,null,null,false]
[null,null,null,null,false]
[null,null,null,null,false]
[null,null,null,null,false]
[null,null,null,null,false]
[null,null,null,null,false]
[null,null,null,null,false]
[null,null,null,null,false]
[null,null,null,null,false]
[null,null,null,null,false]
[null,null,null,null,false]
[null,null,null,null,false]
[null,null,null,null,false]
[null,null,null,null,false]
[null,null,null,null,false]
[null,null,null,null,false]
[null,null,null,null,false]
[null,null,null,null,false]
[null,null,null,null,false]
[null,null,null,null,false]
[null,null,null,null,false]
[null,null,null,null,false]
[null,null,null,null,false]
[null,null,null,null,false]
[null,null,null,null,false]
[null,null,null,null,false]
[null,null,null,null,false]
[null,null,null,null,false]
[null,null,null,null,false]
[null,null,null,null,false]
[null,null,null,null,false]
[null,null,null,null,false]
[null,null,null,null,false]
[null,null,null,null,false]
[null,null,null,null,false]
[null,null,null,null,false]
[null,null,null,null,false]
[null,null,null,null,false]
[null,null,null,null,false]
[null,null,null,null,false]
[null,null,null,null,false]
[null,null,null,null,false]
[null,null,null,null,false]
[null,null,null,null,false]
[null,null,null,null,false]
[null,null,null,null,false]
[null,null,null,null,false]
[null,null,null,null,false]
[null,null,null,null,false]
[null,null,null,null,false]
[null,null,null,null,false]
[null,null,null,null,false]
[null,null,null,null,false]
[null,null,null,null,false]
[null,null,null,null,false]
[null,null,null,null,false]
[null,null,null,null,false]
[null,null,null,null,false]
[null,null,null,null,false]

{"sheet":"Alimentaire vrac","index":5,"n_rows":1002,"n_cols":12,"rows_kept":1002,"cut":false,"hidden":false,"merged":[]}
["   Produits\n    Alimentaire Vrac","💶\nPrix de vente","Prix au kilo","Grandes Catégories","😋 \n J'en veux!","⚖️ \nQuantité","Quantité format formule","Quantité en format nombre","💰 \nMontant","🇫🇷 \nProvenance"]
["Abricots secs","13,90€ / kg","13,9",{"$f":"VLOOKUP(A2,Import!A:D,4,FALSE)","v":"Alimentaire Vrac"},false,0,{"$f":"IF(F2=\"100G\",0.1,IF(F2=\"250G\",0.25,IF(F2=\"500G\",0.5,IF(F2=\"1 Kilo\",1,IF(F2=\"10G\",0.01,IF(F2=\"50G\",0.05,F2))))))","v":0},{"$f":"G2","v":0},{"$f":"G2*C2","v":0},{"$f":"VLOOKUP(A2,Import!A:N,14)","v":"🇹🇷 Turquie"}]
["Ail des Ours ","135€ / kg","120",{"$f":"VLOOKUP(A3,Import!A:D,4,FALSE)","v":"Alimentaire Vrac"},false,0,0,{"$f":"G3","v":0},{"$f":"G3*C3","v":0},{"$f":"VLOOKUP(A3,Import!A:N,14)","v":"🇫🇷 France"}]
["Ail en Granulé ","50€ / kg","50",{"$f":"VLOOKUP(A4,Import!A:D,4,FALSE)","v":"Alimentaire Vrac"},false,0,0,0,0,{"$f":"VLOOKUP(A4,Import!A:N,14)","v":"🇪🇬 Egypte"}]
["Ail en Poudre ","50€ / kg","50",{"$f":"VLOOKUP(A5,Import!A:D,4,FALSE)","v":"Alimentaire Vrac"},false,0,0,0,0,{"$f":"VLOOKUP(A5,Import!A:N,14)","v":"🇨🇳 Chine"}]
["Amandes Blanches entières ","19,9€ / kg","19.9",{"$f":"VLOOKUP(A6,Import!A:D,4)","v":0},false,0,{"$f":"IF(F6=\"100G\",0.1,IF(F6=\"250G\",0.25,IF(F6=\"500G\",0.5,IF(F6=\"1 Kilo\",1,IF(F6=\"10G\",0.01,IF(F6=\"50G\",0.05,F6))))))","v":0},{"$f":"IFERROR(__xludf.DUMMYFUNCTION(\"TO_PURE_NUMBER(G6)\"),0)","v":0},{"$f":"G6*C6","v":{"$error":"#VALUE!"}},{"$f":"VLOOKUP(A6,Import!A:N,14)","v":"🇮🇹 Italie"},null,"Happy Hours"]
["Amandes Caramel Chocolat","35€ / kg","35",{"$f":"VLOOKUP(A7,Import!A:D,4,FALSE)","v":"Alimentaire Vrac"},false,0,0,{"$f":"G7","v":0},0,{"$f":"VLOOKUP(A7,Import!A:N,14)","v":"🇫🇷 France - Eurre (27)"}]
["Amandes Coco Miel ","35€ / kg","35",{"$f":"VLOOKUP(A8,Import!A:D,4,FALSE)","v":"Alimentaire Vrac"},false,0,0,0,0,{"$f":"VLOOKUP(A8,Import!A:N,14)","v":"🇫🇷 France - Eurre (27)"}]
["Amandes Décortiquées entières ","19,9€ / kg","19,9",{"$f":"VLOOKUP(A9,Import!A:D,4,FALSE)","v":"Alimentaire Vrac"},false,0,0,0,0,{"$f":"VLOOKUP(A9,Import!A:N,14)","v":"🇮🇹 Italie"}]
["Amandes Sésame Miel","35€/kg",35,{"$f":"VLOOKUP(A10,Import!A:D,4,FALSE)","v":"Alimentaire Vrac"},false,0,0,0,0,{"$f":"VLOOKUP(A10,Import!A:N,14)","v":0}]
["Amidon de maïs","5,50€ / kg","5,5",{"$f":"VLOOKUP(A11,Import!A:D,4,FALSE)","v":"Alimentaire Vrac"},false,0,0,0,0,{"$f":"VLOOKUP(A11,Import!A:N,14)","v":"🇦🇹 Autriche"}]
["Après shampoing Solide - Cheveux abimés & secs - 80g ",12.5,"12.5",{"$f":"VLOOKUP(A12,Import!A:D,4)","v":"Produits d'hygiène coporelle"},false,0,{"$f":"IF(F12=\"100G\",0.1,IF(F12=\"250G\",0.25,IF(F12=\"500G\",0.5,IF(F12=\"1 Kilo\",1,F12))))","v":0},{"$f":"IFERROR(__xludf.DUMMYFUNCTION(\"TO_PURE_NUMBER(G12)\"),0)","v":0},{"$f":"H12*C12","v":{"$error":"#VALUE!"}}]
["Après shampoing Solide - Cheveux abîmés & secs - sans HE - 80g ",12.5,"12.5",{"$f":"VLOOKUP(A13,Import!A:D,4)","v":"Produits d'hygiène coporelle"},false,0,0,{"$f":"IFERROR(__xludf.DUMMYFUNCTION(\"TO_PURE_NUMBER(G13)\"),0)","v":0},{"$error":"#VALUE!"},{"$f":"VLOOKUP(A13,Import!A:N,13)","v":"Les Savons de Joya"}]
["Après shampoing Solide - démélant - Lamazuna",12.5,"12.5",{"$f":"VLOOKUP(A14,Import!A:D,4)","v":0},false,0,0,{"$f":"IFERROR(__xludf.DUMMYFUNCTION(\"TO_PURE_NUMBER(G14)\"),0)","v":0},{"$error":"#VALUE!"}]
["Après shampoing Solide - Nourrissant & démêlant - 80g ",12.5,"12.5",{"$f":"VLOOKUP(A15,Import!A:D,4)","v":"Produits d'hygiène coporelle"},false,0,0,{"$f":"IFERROR(__xludf.DUMMYFUNCTION(\"TO_PURE_NUMBER(G15)\"),0)","v":0},{"$error":"#VALUE!"}]
["Après shampoing Vrac - Huile d’argan","29,00 € / kg","29",{"$f":"VLOOKUP(A16,Import!A:D,4)","v":"Produits d'hygiène coporelle"},false,0,{"$f":"IF(F16=\"100G\",0.1,IF(F16=\"250G\",0.25,IF(F16=\"500G\",0.5,IF(F16=\"1 Kilo\",1,IF(F16=\"10G\",0.01,IF(F16=\"50G\",0.05,F16))))))","v":0},{"$f":"IFERROR(__xludf.DUMMYFUNCTION(\"TO_PURE_NUMBER(G16)\"),0)","v":0},{"$f":"G16*C16","v":0},{"$f":"VLOOKUP(A16,Import!A:N,14)","v":"🇫🇷 France"}]
["Arachides décortiquées grillées nature","12€ / kg","12",{"$f":"VLOOKUP(A17,Import!A:D,4,FALSE)","v":"Alimentaire Vrac"},false,0,{"$f":"IF(F17=\"100G\",0.1,IF(F17=\"250G\",0.25,IF(F17=\"500G\",0.5,IF(F17=\"1 Kilo\",1,IF(F17=\"10G\",0.01,IF(F17=\"50G\",0.05,F17))))))","v":0},{"$f":"G17","v":0},{"$f":"G17*C17","v":0},{"$f":"VLOOKUP(A17,Import!A:N,13)","v":0}]
["Assouplissant - Vrac","5,00€","5",{"$f":"VLOOKUP(A18,Import!A:D,4)","v":"Produits d'entretiens"},false,0,{"$f":"IF(F18=\"100G\",0.1,IF(F18=\"250G\",0.25,IF(F18=\"500G\",0.5,IF(F18=\"1 Kilo\",1,F18))))","v":0},{"$f":"IFERROR(__xludf.DUMMYFUNCTION(\"TO_PURE_NUMBER(G18)\"),0)","v":0},0]
["Baies de Goji","29,90€","29,90",{"$f":"VLOOKUP(A19,Import!A:D,4,FALSE)","v":"Alimentaire Vrac"},false,0,{"$f":"IF(F19=\"100G\",0.1,IF(F19=\"250G\",0.25,IF(F19=\"500G\",0.5,IF(F19=\"1 Kilo\",1,IF(F19=\"10G\",0.01,IF(F19=\"50G\",0.05,F19))))))","v":0},{"$f":"G19","v":0},{"$f":"G19*C19","v":0},{"$f":"VLOOKUP(A19,Import!A:N,14)","v":"🇨🇳 Chine"}]
["Basilic Feuilles","27,00€ / kg","27",{"$f":"VLOOKUP(A20,Import!A:D,4,FALSE)","v":"Alimentaire Vrac"},false,0,0,0,0,{"$f":"VLOOKUP(A20,Import!A:N,14)","v":"🇪🇬 Egypte"}]
["Baume à Barbe",13.9,"13.9",{"$f":"VLOOKUP(A21,Import!A:D,4)","v":"Produits d'hygiène coporelle"},false,0,{"$f":"IF(F21=\"100G\",0.1,IF(F21=\"250G\",0.25,IF(F21=\"500G\",0.5,IF(F21=\"1 Kilo\",1,F21))))","v":0},{"$f":"IFERROR(__xludf.DUMMYFUNCTION(\"TO_PURE_NUMBER(G21)\"),0)","v":0},{"$error":"#VALUE!"}]
["Baume à lèvre Agrumes - Endro","7,50€","7.5",{"$f":"VLOOKUP(A22,Import!A:D,4)","v":"Produits d'hygiène coporelle"},false,0,0,{"$f":"IFERROR(__xludf.DUMMYFUNCTION(\"TO_PURE_NUMBER(G22)\"),0)","v":0},{"$error":"#VALUE!"}]
["Baume à lèvre Fruits Rouges - Endro","7,50€","7.5",{"$f":"VLOOKUP(A23,Import!A:D,4)","v":"Produits d'hygiène coporelle"},false,0,0,{"$f":"IFERROR(__xludf.DUMMYFUNCTION(\"TO_PURE_NUMBER(G23)\"),0)","v":0},{"$error":"#VALUE!"}]
["Baume Mini  Multi-usages Fleurs d’été - Clemence & Vivien ","5,90€","5.9",{"$f":"VLOOKUP(A24,Import!A:D,4)","v":"Produits d'hygiène coporelle"},false,0,0,{"$f":"IFERROR(__xludf.DUMMYFUNCTION(\"TO_PURE_NUMBER(G24)\"),0)","v":0},{"$error":"#VALUE!"}]
["Baume Mini Multi-usages Lait d’amande - Clemence & Vivien ","5,90€","5.9",{"$f":"VLOOKUP(A25,Import!A:D,4)","v":"Produits d'hygiène coporelle"},false,0,0,{"$f":"IFERROR(__xludf.DUMMYFUNCTION(\"TO_PURE_NUMBER(G25)\"),0)","v":0},{"$error":"#VALUE!"}]
["Baume Multi-usages Fleurs d’été - Clemence & Vivien ",12.5,"12.5",{"$f":"VLOOKUP(A26,Import!A:D,4)","v":"Produits d'hygiène coporelle"},false,0,0,{"$f":"IFERROR(__xludf.DUMMYFUNCTION(\"TO_PURE_NUMBER(G26)\"),0)","v":0},{"$error":"#VALUE!"}]
["Baume Multi-usages Lait d’amande - Clemence & Vivien ",12.5,"11.9",{"$f":"VLOOKUP(A27,Import!A:D,4)","v":"Produits d'hygiène coporelle"},false,0,0,{"$f":"IFERROR(__xludf.DUMMYFUNCTION(\"TO_PURE_NUMBER(G27)\"),0)","v":0},{"$error":"#VALUE!"}]
["Bavoir - Petit","9,50€","9.5",{"$f":"VLOOKUP(A28,Import!A:D,4)","v":"Zéros déchets et Bocaux"},false,0,0,{"$f":"IFERROR(__xludf.DUMMYFUNCTION(\"TO_PURE_NUMBER(G28)\"),0)","v":0},{"$error":"#VALUE!"}]
["Beurre de cacahuètes - Chocolat Lait - Go Nuts - 270g","6,50€","6.50",{"$f":"VLOOKUP(A29,Import!A:D,4)","v":"Alimentaire Conditionné"},false,0,0,{"$f":"IFERROR(__xludf.DUMMYFUNCTION(\"TO_PURE_NUMBER(G29)\"),0)","v":0},{"$error":"#VALUE!"}]
["Beurre de cacahuètes - Chocolat Noir - Go Nuts - 500g",8.9,"8.90",{"$f":"VLOOKUP(A30,Import!A:D,4)","v":"Alimentaire Conditionné"},false,0,0,{"$f":"IFERROR(__xludf.DUMMYFUNCTION(\"TO_PURE_NUMBER(G30)\"),0)","v":0},{"$error":"#VALUE!"}]
["Beurre de cacahuètes - Go Nuts - 270g","4,95 €","4.95",{"$f":"VLOOKUP(A31,Import!A:D,4)","v":"Alimentaire Conditionné"},false,0,0,{"$f":"IFERROR(__xludf.DUMMYFUNCTION(\"TO_PURE_NUMBER(G31)\"),0)","v":0},{"$error":"#VALUE!"}]
["Beurre de cacahuètes - Go Nuts - 500g","8,90 €","8.9",{"$f":"VLOOKUP(A32,Import!A:D,4)","v":"Alimentaire Conditionné"},false,0,0,{"$f":"IFERROR(__xludf.DUMMYFUNCTION(\"TO_PURE_NUMBER(G32)\"),0)","v":0},{"$error":"#VALUE!"}]
["Beurre de cacahuètes Extra Crunchy - Go Nuts - 270g","4,90 €","4.9",{"$f":"VLOOKUP(A33,Import!A:D,4)","v":"Alimentaire Conditionné"},false,0,0,{"$f":"IFERROR(__xludf.DUMMYFUNCTION(\"TO_PURE_NUMBER(G33)\"),0)","v":0},{"$error":"#VALUE!"}]
["Beurre de cacao Iris - pour le corps - Lamazuna","8,50 €","8.5",{"$f":"VLOOKUP(A34,Import!A:D,4)","v":"Produits d'hygiène coporelle"},false,0,0,{"$f":"IFERROR(__xludf.DUMMYFUNCTION(\"TO_PURE_NUMBER(G34)\"),0)","v":0},{"$error":"#VALUE!"}]
["Bicarbonate de soude - Vrac","4,90 € / kg","4.9",{"$f":"VLOOKUP(A35,Import!A:D,4)","v":"Produits d'entretiens"},false,0,0,{"$f":"IFERROR(__xludf.DUMMYFUNCTION(\"TO_PURE_NUMBER(G35)\"),0)","v":0},{"$error":"#VALUE!"}]
["Biere Blanche - La St Bonn’Beer - 33cl","3,00 €","3",{"$f":"VLOOKUP(A36,Import!A:D,4)","v":"Boissons conditionnées"},false,0,0,{"$f":"IFERROR(__xludf.DUMMYFUNCTION(\"TO_PURE_NUMBER(G36)\"),0)","v":0},0]
["Biere Blanche - La St Bonn’Beer - 75cl","6,50 €","6.5",{"$f":"VLOOKUP(A37,Import!A:D,4)","v":"Boissons conditionnées"},false,0,0,{"$f":"IFERROR(__xludf.DUMMYFUNCTION(\"TO_PURE_NUMBER(G37)\"),0)","v":0},{"$error":"#VALUE!"}]
["Biere Blonde - La Promesse - 33cl","3,00 €","3",{"$f":"VLOOKUP(A38,Import!A:D,4)","v":"Boissons conditionnées"},false,0,0,{"$f":"IFERROR(__xludf.DUMMYFUNCTION(\"TO_PURE_NUMBER(G38)\"),0)","v":0},0]
["Biere Blonde - La Promesse - 75cl","6,50 €","6.5",{"$f":"VLOOKUP(A39,Import!A:D,4)","v":"Boissons conditionnées"},false,0,0,{"$f":"IFERROR(__xludf.DUMMYFUNCTION(\"TO_PURE_NUMBER(G39)\"),0)","v":0},{"$error":"#VALUE!"},{"$f":"VLOOKUP(A39,Import!A:N,13)","v":"Brasserie Sous le Bois"},null,"Dao"]
["Biere IPA - La Collector - 33cl","3,00 €","3",{"$f":"VLOOKUP(A40,Import!A:D,4)","v":"Boissons conditionnées"},false,0,0,{"$f":"IFERROR(__xludf.DUMMYFUNCTION(\"TO_PURE_NUMBER(G40)\"),0)","v":0},0,{"$f":"VLOOKUP(A40,Import!A:N,13)","v":"Brasserie Sous le Bois"},null,"Dao"]
["Biere IPA - La Collector- 75cl","6,50 €","6.5",{"$f":"VLOOKUP(A41,Import!A:D,4)","v":"Boissons conditionnées"},false,0,0,{"$f":"IFERROR(__xludf.DUMMYFUNCTION(\"TO_PURE_NUMBER(G41)\"),0)","v":0},{"$error":"#VALUE!"},{"$f":"VLOOKUP(A41,Import!A:N,13)","v":"Brasserie Sous le Bois"}]
["Biere IPA - La Gonette - 33cl","3,00 €","3",{"$f":"VLOOKUP(A42,Import!A:D,4)","v":"Boissons conditionnées"},false,0,0,{"$f":"IFERROR(__xludf.DUMMYFUNCTION(\"TO_PURE_NUMBER(G42)\"),0)","v":0},0,{"$f":"VLOOKUP(A42,Import!A:N,13)","v":"Brasserie Sous le Bois"}]
["Biere IPA - La Gonette - 75cl","6,50 €","6.5",{"$f":"VLOOKUP(A43,Import!A:D,4)","v":"Boissons conditionnées"},false,0,0,{"$f":"IFERROR(__xludf.DUMMYFUNCTION(\"TO_PURE_NUMBER(G43)\"),0)","v":0},{"$error":"#VALUE!"},{"$f":"VLOOKUP(A43,Import!A:N,13)","v":"Brasserie Sous le Bois"}]
["Biscuits 1péro -Tortillas ","29€/kg","29",{"$f":"VLOOKUP(A44,Import!A:D,4,FALSE)","v":"Alimentaire Vrac"},false,0,{"$f":"IF(F44=\"100G\",0.1,IF(F44=\"250G\",0.25,IF(F44=\"500G\",0.5,IF(F44=\"1 Kilo\",1,IF(F44=\"10G\",0.01,IF(F44=\"50G\",0.05,F44))))))","v":0},{"$f":"G44","v":0},{"$f":"G44*C44","v":0},{"$f":"VLOOKUP(A44,Import!A:N,14)","v":"🇫🇷 France - Aquitaine "}]
["Biscuits Apéro - Cumin & pois chiches","30,00€ / kg","30",{"$f":"VLOOKUP(A45,Import!A:D,4,FALSE)","v":"Alimentaire Vrac"},false,0,0,0,0,{"$f":"VLOOKUP(A45,Import!A:N,14)","v":"🇫🇷 France - Hurigny (71)"}]
["Biscuits Apéro - Gruyère","30,50€ / kg","30,5",{"$f":"VLOOKUP(A46,Import!A:D,4,FALSE)","v":"Alimentaire Vrac"},false,0,0,0,0,{"$f":"VLOOKUP(A46,Import!A:N,14)","v":"🇫🇷 France - Hurigny (71)"}]
["Biscuits Apéro - Noix de Cajou - Curry","34,50€ / kg",34.5,{"$f":"VLOOKUP(A47,Import!A:D,4,FALSE)","v":"Alimentaire Vrac"},false,0,0,0,0,{"$f":"VLOOKUP(A47,Import!A:N,14)","v":"🇧🇫 Burkina faso - Fabriquée 🇫🇷 France - 69"}]
["Biscuits Apéro - Noix de Cajou - Herbes de Provence","34,50€ / kg",34.5,{"$f":"VLOOKUP(A48,Import!A:D,4,FALSE)","v":"Alimentaire Vrac"},false,0,0,0,0,{"$f":"VLOOKUP(A48,Import!A:N,14)","v":"🇧🇫 Burkina faso - Fabriquée 🇫🇷 France - 69"}]
["Biscuits Apéro - Noix de Cajou - Parmesan","34,50€ / kg",34.5,{"$f":"VLOOKUP(A49,Import!A:D,4,FALSE)","v":"Alimentaire Vrac"},false,0,0,0,0,{"$f":"VLOOKUP(A49,Import!A:N,14)","v":"🇧🇫 Burkina faso - Fabriquée 🇫🇷 France - 69"}]
["Biscuits Apéro - Noix de Cajou - Poivre de Kampot","34,50€ / kg",34.5,{"$f":"VLOOKUP(A50,Import!A:D,4,FALSE)","v":"Alimentaire Vrac"},false,0,0,0,0,{"$f":"VLOOKUP(A50,Import!A:N,14)","v":"🇧🇫 Burkina faso - Fabriquée 🇫🇷 France - 69"}]
["Biscuits Apéro - Noix de Cajou - Sweet chili","34,50€ / kg",34.5,{"$f":"VLOOKUP(A51,Import!A:D,4,FALSE)","v":"Alimentaire Vrac"},false,0,0,0,0,{"$f":"VLOOKUP(A51,Import!A:N,14)","v":"🇧🇫 Burkina faso - Fabriquée 🇫🇷 France - 69"}]
["Biscuits Apéro - Noix de Cajou - Tandoori","34,50€ / kg",34.5,{"$f":"VLOOKUP(A52,Import!A:D,4,FALSE)","v":"Alimentaire Vrac"},false,0,0,0,0,{"$f":"VLOOKUP(A52,Import!A:N,14)","v":"🇧🇫 Burkina faso - Fabriquée 🇫🇷 France - 69"}]
["Biscuits Apéro - Oignon & Paprika","30,00€ / kg","30",{"$f":"VLOOKUP(A53,Import!A:D,4,FALSE)","v":"Alimentaire Vrac"},false,0,0,0,0,{"$f":"VLOOKUP(A53,Import!A:N,14)","v":"🇫🇷 France - Hurigny (71)"}]
["Biscuits Apéro - Tomate & Oignons","30,00€ / kg","30",{"$f":"VLOOKUP(A54,Import!A:D,4,FALSE)","v":"Alimentaire Vrac"},false,0,0,0,0,{"$f":"VLOOKUP(A54,Import!A:N,14)","v":"🇫🇷 France - Hurigny (71)"}]
["Biscuits P’tit Dej - Avoine Miel","18,00€ / kg","18",{"$f":"VLOOKUP(A55,Import!A:D,4,FALSE)","v":"Alimentaire Vrac"},false,0,0,0,0,{"$f":"VLOOKUP(A55,Import!A:N,13)","v":"Scop Epice"}]
["Biscuits P’tit Dej - Cacao & Pépites de Chocolat","18,00€ / kg","18",{"$f":"VLOOKUP(A56,Import!A:D,4,FALSE)","v":"Alimentaire Vrac"},false,0,0,0,0,{"$f":"VLOOKUP(A56,Import!A:N,13)","v":"Scop Epice"}]
["Biscuits salés - Moutarde à l’ancienne","30,50€ / kg","30.5",{"$f":"VLOOKUP(A57,Import!A:D,4)","v":0},false,0,{"$f":"IF(F57=\"100G\",0.1,IF(F57=\"250G\",0.25,IF(F57=\"500G\",0.5,IF(F57=\"1 Kilo\",1,F57))))","v":0},{"$f":"IFERROR(__xludf.DUMMYFUNCTION(\"TO_PURE_NUMBER(G57)\"),0)","v":0},{"$error":"#VALUE!"},{"$f":"VLOOKUP(A57,Import!A:N,13)","v":"Croquelicot"}]
["Biscuits Sucrés - Chocolat","25,00€ / kg","25",{"$f":"VLOOKUP(A58,Import!A:D,4,FALSE)","v":"Alimentaire Vrac"},false,0,{"$f":"IF(F58=\"100G\",0.1,IF(F58=\"250G\",0.25,IF(F58=\"500G\",0.5,IF(F58=\"1 Kilo\",1,IF(F58=\"10G\",0.01,IF(F58=\"50G\",0.05,F58))))))","v":0},{"$f":"G58","v":0},{"$f":"G58*C58","v":0},{"$f":"VLOOKUP(A58,Import!A:N,13)","v":"Croquelicot"}]
["Biscuits sucrés - Cookies Vegan bio","23,00€ / kg","23",{"$f":"VLOOKUP(A59,Import!A:D,4,FALSE)","v":"Alimentaire Vrac"},false,0,0,0,0]
["Biscuits Sucrés - Nature au Beurre","30,00€ / kg","30",{"$f":"VLOOKUP(A60,Import!A:D,4,FALSE)","v":"Alimentaire Vrac"},false,0,0,0,0,{"$f":"VLOOKUP(A60,Import!A:N,14)","v":"🇫🇷 France - Hurigny (71)"}]
["Biscuits Sucrés - Pomme au beurre ","25,00€ / kg","25",{"$f":"VLOOKUP(A61,Import!A:D,4,FALSE)","v":"Alimentaire Vrac"},false,0,0,0,0,{"$f":"VLOOKUP(A61,Import!A:N,13)","v":"Croquelicot"}]
["Biscuits Sucrés - Sans Gluten - Choco Noisette","30,00€ / kg",30,{"$f":"VLOOKUP(A62,Import!A:D,4,FALSE)","v":"Alimentaire Vrac"},false,0,0,0,0,{"$f":"VLOOKUP(A62,Import!A:N,14)","v":0}]
["Biscuits Sucrés - Sans Gluten - Figue","30,00€ / kg",30,{"$f":"VLOOKUP(A63,Import!A:D,4,FALSE)","v":"Alimentaire Vrac"},false,0,0,0,0]
["Blanc de Blanc du Jura - Jacquier",9.5,"9.50",{"$f":"VLOOKUP(A64,Import!A:D,4)","v":"Boissons conditionnées"},false,0,{"$f":"IF(F64=\"100G\",0.1,IF(F64=\"250G\",0.25,IF(F64=\"500G\",0.5,IF(F64=\"1 Kilo\",1,F64))))","v":0},{"$f":"IFERROR(__xludf.DUMMYFUNCTION(\"TO_PURE_NUMBER(G64)\"),0)","v":0},{"$error":"#VALUE!"},{"$f":"VLOOKUP(A64,Import!A:N,13)","v":0}]
["Blé Pré cuit mondé","4,00€ / kg","4",{"$f":"VLOOKUP(A65,Import!A:D,4,FALSE)","v":"Alimentaire Vrac"},false,0,{"$f":"IF(F65=\"100G\",0.1,IF(F65=\"250G\",0.25,IF(F65=\"500G\",0.5,IF(F65=\"1 Kilo\",1,IF(F65=\"10G\",0.01,IF(F65=\"50G\",0.05,F65))))))","v":0},{"$f":"G65","v":0},{"$f":"G65*C65","v":0},{"$f":"VLOOKUP(A65,Import!A:N,13)","v":"Actibio"}]
["Bocal - Asperges vertes - 185g","4,90€","4.9",{"$f":"VLOOKUP(A66,Import!A:D,4)","v":"Alimentaire Conditionné"},false,0,0,{"$f":"IFERROR(__xludf.DUMMYFUNCTION(\"TO_PURE_NUMBER(G66)\"),0)","v":0},{"$error":"#VALUE!"}]
["Bocal - Chili végétarien - 355g","4,50 €","4.5",{"$f":"VLOOKUP(A67,Import!A:D,4)","v":"Alimentaire Conditionné"},false,0,0,{"$f":"IFERROR(__xludf.DUMMYFUNCTION(\"TO_PURE_NUMBER(G67)\"),0)","v":0},{"$error":"#VALUE!"}]
["Bocal - Chili végétarien - 670g","5,95 €","5.95",{"$f":"VLOOKUP(A68,Import!A:D,4)","v":"Alimentaire Conditionné"},false,0,0,{"$f":"IFERROR(__xludf.DUMMYFUNCTION(\"TO_PURE_NUMBER(G68)\"),0)","v":0},{"$error":"#VALUE!"}]
["Bocal - Cocotte Indienne haricots blancs, riz complet, tofu - 360g","4,50 €","4.5",{"$f":"VLOOKUP(A69,Import!A:D,4)","v":"Alimentaire Conditionné"},false,0,0,{"$f":"IFERROR(__xludf.DUMMYFUNCTION(\"TO_PURE_NUMBER(G69)\"),0)","v":0},{"$error":"#VALUE!"}]
["Bocal - Couscous aux 7 légumes - 1kg","6,95 €","6.95",{"$f":"VLOOKUP(A70,Import!A:D,4)","v":"Alimentaire Conditionné"},false,0,0,{"$f":"IFERROR(__xludf.DUMMYFUNCTION(\"TO_PURE_NUMBER(G70)\"),0)","v":0},{"$error":"#VALUE!"}]
["Bocal - Curry d’aubergines - 345g",4.5,4.5,{"$f":"VLOOKUP(A71,Import!A:D,4)","v":"Alimentaire Conditionné"},false,0,0,{"$f":"IFERROR(__xludf.DUMMYFUNCTION(\"TO_PURE_NUMBER(G71)\"),0)","v":0},0]
["Bocal - Curry d’aubergines - 650g",6.5,6.5,{"$f":"VLOOKUP(A72,Import!A:D,4)","v":"Alimentaire Conditionné"},false,0,0,{"$f":"IFERROR(__xludf.DUMMYFUNCTION(\"TO_PURE_NUMBER(G72)\"),0)","v":0},0]
["Bocal - Curry de lentilles coco - 345g","4,50 €","4.5",{"$f":"VLOOKUP(A73,Import!A:D,4)","v":"Alimentaire Conditionné"},false,0,0,{"$f":"IFERROR(__xludf.DUMMYFUNCTION(\"TO_PURE_NUMBER(G73)\"),0)","v":0},{"$error":"#VALUE!"}]
["Bocal - Epinards en branches - 445g","6,20 €","6.2",{"$f":"VLOOKUP(A74,Import!A:D,4)","v":"Alimentaire Conditionné"},false,0,0,{"$f":"IFERROR(__xludf.DUMMYFUNCTION(\"TO_PURE_NUMBER(G74)\"),0)","v":0},{"$error":"#VALUE!"}]
["Bocal - Flageolets Demeter - 215g","3,30€","3.3",{"$f":"VLOOKUP(A75,Import!A:D,4)","v":"Alimentaire Conditionné"},false,0,0,{"$f":"IFERROR(__xludf.DUMMYFUNCTION(\"TO_PURE_NUMBER(G75)\"),0)","v":0},{"$f":"G75*C75","v":{"$error":"#VALUE!"}}]
["Bocal - Haricots Coco - 690g","4,50€","45",{"$f":"VLOOKUP(A76,Import!A:D,4)","v":"Alimentaire Conditionné"},false,0,{"$f":"IF(F76=\"100G\",0.1,IF(F76=\"250G\",0.25,IF(F76=\"500G\",0.5,IF(F76=\"1 Kilo\",1,IF(F76=\"10G\",0.01,IF(F76=\"50G\",0.05,F76))))))","v":0},{"$f":"IFERROR(__xludf.DUMMYFUNCTION(\"TO_PURE_NUMBER(G76)\"),0)","v":0},0,{"$f":"VLOOKUP(A76,Import!A:N,14)","v":"🇫🇷 France "}]
["Bocal - Haricots Rouges - 255g","3,20€","3.2",{"$f":"VLOOKUP(A77,Import!A:D,4)","v":"Alimentaire Conditionné"},false,0,0,{"$f":"IFERROR(__xludf.DUMMYFUNCTION(\"TO_PURE_NUMBER(G77)\"),0)","v":0},{"$error":"#VALUE!"},{"$f":"VLOOKUP(A77,Import!A:N,14)","v":"🇫🇷 France"}]
["Bocal - Haricots verts extra fins - 345g","4,20€","4.2",{"$f":"VLOOKUP(A78,Import!A:D,4)","v":"Alimentaire Conditionné"},false,0,{"$f":"IF(F78=\"100G\",0.1,IF(F78=\"250G\",0.25,IF(F78=\"500G\",0.5,IF(F78=\"1 Kilo\",1,F78))))","v":0},{"$f":"IFERROR(__xludf.DUMMYFUNCTION(\"TO_PURE_NUMBER(G78)\"),0)","v":0},{"$error":"#VALUE!"},{"$f":"VLOOKUP(A78,Import!A:N,13)","v":"Biodis"},null,"Café Dagobert"]
["Bocal - Korma de légumes 680g","6,50€","6.5",{"$f":"VLOOKUP(A79,Import!A:D,4)","v":"Alimentaire Conditionné"},false,0,0,{"$f":"IFERROR(__xludf.DUMMYFUNCTION(\"TO_PURE_NUMBER(G79)\"),0)","v":0},{"$f":"G79*C79","v":{"$error":"#VALUE!"}},{"$f":"VLOOKUP(A79,Import!A:N,13)","v":"Biodis"}]
["Bocal - Lentilles vertes aux petits légumes - 420g","4,50€","4.5",{"$f":"VLOOKUP(A80,Import!A:D,4)","v":"Alimentaire Conditionné"},false,0,0,{"$f":"IFERROR(__xludf.DUMMYFUNCTION(\"TO_PURE_NUMBER(G80)\"),0)","v":0},{"$error":"#VALUE!"},{"$f":"VLOOKUP(A80,Import!A:N,13)","v":"Biodis"}]
["Bocal - Macédoine de légumes - 230g","2,90 €","2.9",{"$f":"VLOOKUP(A81,Import!A:D,4)","v":"Alimentaire Conditionné"},false,0,0,{"$f":"IFERROR(__xludf.DUMMYFUNCTION(\"TO_PURE_NUMBER(G81)\"),0)","v":0},{"$error":"#VALUE!"}]
["Bocal - Mais doux - 240g","2,90€","2.9",{"$f":"VLOOKUP(A82,Import!A:D,4)","v":"Alimentaire Conditionné"},false,"500G",{"$f":"IF(F82=\"100G\",0.1,IF(F82=\"250G\",0.25,IF(F82=\"500G\",0.5,IF(F82=\"1 Kilo\",1,IF(F82=\"10G\",0.01,IF(F82=\"50G\",0.05,F82))))))","v":0.5},{"$f":"IFERROR(__xludf.DUMMYFUNCTION(\"TO_PURE_NUMBER(G82)\"),0.5)","v":0.5},{"$f":"G82*C82","v":{"$error":"#VALUE!"}},{"$f":"VLOOKUP(A82,Import!A:N,14)","v":"🇫🇷 France "}]
["Bocal - Moussaka vegan, Aubergines, soja, légumes - 345g","4,50 €","4.5",{"$f":"VLOOKUP(A83,Import!A:D,4)","v":"Alimentaire Conditionné"},false,0,0,{"$f":"IFERROR(__xludf.DUMMYFUNCTION(\"TO_PURE_NUMBER(G83)\"),0)","v":0},{"$error":"#VALUE!"},{"$f":"VLOOKUP(A83,Import!A:N,14)","v":"🇫🇷 France "}]
["Bocal - Petits pois extra fins - 240g","3,50 €","3.5",{"$f":"VLOOKUP(A84,Import!A:D,4)","v":"Alimentaire Conditionné"},false,0,0,{"$f":"IFERROR(__xludf.DUMMYFUNCTION(\"TO_PURE_NUMBER(G84)\"),0)","v":0},{"$error":"#VALUE!"},{"$f":"VLOOKUP(A84,Import!A:N,14)","v":"🇫🇷 France "}]
["Bocal - Petits pois extra fins - 445g","5,10 €","5.1",{"$f":"VLOOKUP(A85,Import!A:D,4)","v":"Alimentaire Conditionné"},false,0,0,{"$f":"IFERROR(__xludf.DUMMYFUNCTION(\"TO_PURE_NUMBER(G85)\"),0)","v":0},{"$error":"#VALUE!"},{"$f":"VLOOKUP(A85,Import!A:N,14)","v":"🇫🇷 France "}]
["Bocal - Petits Pois très fins et carottes - 425g","5,50 €","5.5",{"$f":"VLOOKUP(A86,Import!A:D,4)","v":"Alimentaire Conditionné"},false,0,0,{"$f":"IFERROR(__xludf.DUMMYFUNCTION(\"TO_PURE_NUMBER(G86)\"),0)","v":0},{"$error":"#VALUE!"},{"$f":"VLOOKUP(A86,Import!A:N,14)","v":"🇫🇷 France "}]
["Bocal - Pois Chiche - 230g","3,50 €","3.5",{"$f":"VLOOKUP(A87,Import!A:D,4)","v":"Alimentaire Conditionné"},false,0,0,{"$f":"IFERROR(__xludf.DUMMYFUNCTION(\"TO_PURE_NUMBER(G87)\"),0)","v":0},{"$error":"#VALUE!"},{"$f":"VLOOKUP(A87,Import!A:N,14)","v":"🇫🇷 France "}]
["Bocal - Pois Chiches - 420g","5,00 €","5",{"$f":"VLOOKUP(A88,Import!A:D,4)","v":"Alimentaire Conditionné"},false,0,0,{"$f":"IFERROR(__xludf.DUMMYFUNCTION(\"TO_PURE_NUMBER(G88)\"),0)","v":0},0,{"$f":"VLOOKUP(A88,Import!A:N,14)","v":"🇫🇷 France "}]
["Bocal - Préparation  tarte aux oignons 345g","4,50€","4.5",{"$f":"VLOOKUP(A89,Import!A:D,4)","v":"Alimentaire Conditionné"},false,0,{"$f":"IF(F89=\"100G\",0.1,IF(F89=\"250G\",0.25,IF(F89=\"500G\",0.5,IF(F89=\"1 Kilo\",1,F89))))","v":0},{"$f":"IFERROR(__xludf.DUMMYFUNCTION(\"TO_PURE_NUMBER(G89)\"),0)","v":0},{"$error":"#VALUE!"},{"$f":"VLOOKUP(A89,Import!A:N,13)","v":"Biodis"}]
["Bocal - Préparation tarte aux poireaux 345g","4,50€","4.5",{"$f":"VLOOKUP(A90,Import!A:D,4)","v":"Alimentaire Conditionné"},false,0,{"$f":"IF(F90=\"100G\",0.1,IF(F90=\"250G\",0.25,IF(F90=\"500G\",0.5,IF(F90=\"1 Kilo\",1,IF(F90=\"10G\",0.01,IF(F90=\"50G\",0.05,F90))))))","v":0},{"$f":"IFERROR(__xludf.DUMMYFUNCTION(\"TO_PURE_NUMBER(G90)\"),0)","v":0},{"$f":"G90*C90","v":{"$error":"#VALUE!"}},{"$f":"VLOOKUP(A90,Import!A:N,14)","v":"🇫🇷 France "}]
["Bocal - Ratatouille à la provençale - 650g","5,10€","5.1",{"$f":"VLOOKUP(A91,Import!A:D,4)","v":"Alimentaire Conditionné"},false,0,{"$f":"IF(F91=\"100G\",0.1,IF(F91=\"250G\",0.25,IF(F91=\"500G\",0.5,IF(F91=\"1 Kilo\",1,F91))))","v":0},{"$f":"IFERROR(__xludf.DUMMYFUNCTION(\"TO_PURE_NUMBER(G91)\"),0)","v":0},{"$error":"#VALUE!"},{"$f":"VLOOKUP(A91,Import!A:N,13)","v":"Biodis"}]
["Bocal - Risotto d’automne -350g","4,90€","4.9",{"$f":"VLOOKUP(A92,Import!A:D,4)","v":"Alimentaire Conditionné"},false,0,{"$f":"IF(F92=\"100G\",0.1,IF(F92=\"250G\",0.25,IF(F92=\"500G\",0.5,IF(F92=\"1 Kilo\",1,IF(F92=\"10G\",0.01,IF(F92=\"50G\",0.05,F92))))))","v":0},{"$f":"IFERROR(__xludf.DUMMYFUNCTION(\"TO_PURE_NUMBER(G92)\"),0)","v":0},{"$f":"G92*C92","v":{"$error":"#VALUE!"}},{"$f":"VLOOKUP(A92,Import!A:N,14)","v":"🇫🇷 France "}]
["Bocal - Sauce bolognaise végétale au soja - 340g","3,30€","3.3",{"$f":"VLOOKUP(A93,Import!A:D,4)","v":"Alimentaire Conditionné"},false,0,{"$f":"IF(F93=\"100G\",0.1,IF(F93=\"250G\",0.25,IF(F93=\"500G\",0.5,IF(F93=\"1 Kilo\",1,F93))))","v":0},{"$f":"IFERROR(__xludf.DUMMYFUNCTION(\"TO_PURE_NUMBER(G93)\"),0)","v":0},{"$error":"#VALUE!"},{"$f":"VLOOKUP(A93,Import!A:N,13)","v":"Biodis"}]
["Bocal - Sauce Vegan - 185g","3,50€","3.5",{"$f":"VLOOKUP(A94,Import!A:D,4)","v":"Alimentaire Conditionné"},false,0,0,{"$f":"IFERROR(__xludf.DUMMYFUNCTION(\"TO_PURE_NUMBER(G94)\"),0)","v":0},{"$error":"#VALUE!"}]
["Bocal - Tikka Masala aux légumes et pois chiches - 360g","4,50€","4.5",{"$f":"VLOOKUP(A95,Import!A:D,4)","v":"Alimentaire Conditionné"},false,0,0,{"$f":"IFERROR(__xludf.DUMMYFUNCTION(\"TO_PURE_NUMBER(G95)\"),0)","v":0},{"$error":"#VALUE!"}]
["Bocal Haricots beurre extra fins - 180g","2,90 €","2.9",{"$f":"VLOOKUP(A96,Import!A:D,4)","v":"Alimentaire Conditionné"},false,0,0,{"$f":"IFERROR(__xludf.DUMMYFUNCTION(\"TO_PURE_NUMBER(G96)\"),0)","v":0},{"$error":"#VALUE!"}]
["Boisson végétale - Avoine","2,10 €","2.1",{"$f":"VLOOKUP(A97,Import!A:D,4)","v":"Boissons conditionnées"},false,0,0,{"$f":"IFERROR(__xludf.DUMMYFUNCTION(\"TO_PURE_NUMBER(G97)\"),0)","v":0},{"$error":"#VALUE!"}]
["Boisson végétale - So amande Nature UHT - 1L","2,60 €","2.6",{"$f":"VLOOKUP(A98,Import!A:D,4)","v":"Boissons conditionnées"},false,0,0,{"$f":"IFERROR(__xludf.DUMMYFUNCTION(\"TO_PURE_NUMBER(G98)\"),0)","v":0},{"$error":"#VALUE!"}]
["Boisson végétale - Soja Nature - 1L","2,10 €","2.1",{"$f":"VLOOKUP(A99,Import!A:D,4)","v":"Boissons conditionnées"},false,0,0,{"$f":"IFERROR(__xludf.DUMMYFUNCTION(\"TO_PURE_NUMBER(G99)\"),0)","v":0},{"$error":"#VALUE!"}]
["Boisson végétale - Sojade UHT Calcium - 1L","2,60€","2.6",{"$f":"VLOOKUP(A100,Import!A:D,4)","v":"Boissons conditionnées"},false,0,0,{"$f":"IFERROR(__xludf.DUMMYFUNCTION(\"TO_PURE_NUMBER(G100)\"),0)","v":0},{"$error":"#VALUE!"}]
["Bol 15x7 Gravé Cap Bambou","14,90 €","14.9",{"$f":"VLOOKUP(A101,Import!A:D,4)","v":"Zéros déchets et Bocaux"},false,0,0,{"$f":"IFERROR(__xludf.DUMMYFUNCTION(\"TO_PURE_NUMBER(G101)\"),0)","v":0},{"$error":"#VALUE!"}]
["Bougies de Léa - Brûle Parfum","15,50 €","15.5",{"$f":"VLOOKUP(A102,Import!A:D,4)","v":"Zéros déchets et Bocaux"},false,0,0,{"$f":"IFERROR(__xludf.DUMMYFUNCTION(\"TO_PURE_NUMBER(G102)\"),0)","v":0},{"$error":"#VALUE!"}]
["Bougies de Léa - Grandes bougies Parfumées ","18,00 €","18",{"$f":"VLOOKUP(A103,Import!A:D,4)","v":"Zéros déchets et Bocaux"},false,0,0,{"$f":"IFERROR(__xludf.DUMMYFUNCTION(\"TO_PURE_NUMBER(G103)\"),0)","v":0},0]
["Bougies de Léa - Petites bougies Parfumées ","11,00 €","11",{"$f":"VLOOKUP(A104,Import!A:D,4)","v":"Zéros déchets et Bocaux"},false,0,0,{"$f":"IFERROR(__xludf.DUMMYFUNCTION(\"TO_PURE_NUMBER(G104)\"),0)","v":0},0]
["Bougies de Léa - Suspensions parfumées","6€","6",{"$f":"VLOOKUP(A105,Import!A:D,4)","v":"Zéros déchets et Bocaux"},false,0,0,{"$f":"IFERROR(__xludf.DUMMYFUNCTION(\"TO_PURE_NUMBER(G105)\"),0)","v":0},0]
["Bouillon de légumes - Sans levure & huile de palme","24,00€ / kg","24",{"$f":"VLOOKUP(A106,Import!A:D,4,FALSE)","v":"Alimentaire Vrac"},false,0,{"$f":"IF(F106=\"100G\",0.1,IF(F106=\"250G\",0.25,IF(F106=\"500G\",0.5,IF(F106=\"1 Kilo\",1,IF(F106=\"10G\",0.01,IF(F106=\"50G\",0.05,F106))))))","v":0},{"$f":"G106","v":0},{"$f":"G106*C106","v":0},{"$f":"VLOOKUP(A106,Import!A:N,13)","v":0}]
["Boule à Thé diamètre 50mm",3.5,"3.5",{"$f":"VLOOKUP(A107,Import!A:D,4)","v":"Zéros déchets et Bocaux"},false,0,{"$f":"IF(F107=\"100G\",0.1,IF(F107=\"250G\",0.25,IF(F107=\"500G\",0.5,IF(F107=\"1 Kilo\",1,IF(F107=\"10G\",0.01,IF(F107=\"50G\",0.05,F107))))))","v":0},{"$f":"IFERROR(__xludf.DUMMYFUNCTION(\"TO_PURE_NUMBER(G107)\"),0)","v":0},{"$f":"G107*C107","v":{"$error":"#VALUE!"}},{"$f":"VLOOKUP(A107,Import!A:N,14)","v":"🇫🇷 France - Sud Est"}]
["Boulgour","3,10€ / kg","3,1",{"$f":"VLOOKUP(A108,Import!A:D,4,FALSE)","v":"Alimentaire Vrac"},false,0,0,{"$f":"G108","v":0},{"$f":"G108*C108","v":0},{"$f":"VLOOKUP(A108,Import!A:N,14)","v":"🇹🇷 Turquie"}]
["Brosse à cheveux Bébé","9,50 €","9.5",{"$f":"VLOOKUP(A109,Import!A:D,4)","v":"Produits d'hygiène coporelle"},false,"500G",0.5,{"$f":"IFERROR(__xludf.DUMMYFUNCTION(\"TO_PURE_NUMBER(G109)\"),0.5)","v":0.5},{"$error":"#VALUE!"},{"$f":"VLOOKUP(A109,Import!A:N,14)","v":"🇫🇷 France - Attignat (01)"}]
["Brosse à cheveux Démélante","14,90 €","14.9",{"$f":"VLOOKUP(A110,Import!A:D,4)","v":"Produits d'hygiène coporelle"},false,0,0,{"$f":"IFERROR(__xludf.DUMMYFUNCTION(\"TO_PURE_NUMBER(G110)\"),0)","v":0},{"$error":"#VALUE!"},{"$f":"VLOOKUP(A110,Import!A:N,14)","v":"🇫🇷 France - Attignat (01)"}]
["Brosse à cheveux Démélante Enfants",9.5,"9.50",{"$f":"VLOOKUP(A111,Import!A:D,4)","v":"Produits d'hygiène coporelle"},false,0,{"$f":"IF(F111=\"100G\",0.1,IF(F111=\"250G\",0.25,IF(F111=\"500G\",0.5,IF(F111=\"1 Kilo\",1,F111))))","v":0},{"$f":"IFERROR(__xludf.DUMMYFUNCTION(\"TO_PURE_NUMBER(G111)\"),0)","v":0},{"$error":"#VALUE!"}]
["Brosse à dent - Lot de 3 têtes extra souples",7.9,"7.90",{"$f":"VLOOKUP(A112,Import!A:D,4)","v":"Produits d'hygiène coporelle"},false,0,0,{"$f":"IFERROR(__xludf.DUMMYFUNCTION(\"TO_PURE_NUMBER(G112)\"),0)","v":0},{"$error":"#VALUE!"}]
["Brosse à dent - Lot de 3 têtes medium",7.9,"7.90",{"$f":"VLOOKUP(A113,Import!A:D,4)","v":"Produits d'hygiène coporelle"},false,0,0,{"$f":"IFERROR(__xludf.DUMMYFUNCTION(\"TO_PURE_NUMBER(G113)\"),0)","v":0},{"$error":"#VALUE!"}]
["Brosse à dent - Lot de 3 têtes souples",7.9,"7.90",{"$f":"VLOOKUP(A114,Import!A:D,4)","v":"Produits d'hygiène coporelle"},false,0,0,{"$f":"IFERROR(__xludf.DUMMYFUNCTION(\"TO_PURE_NUMBER(G114)\"),0)","v":0},{"$error":"#VALUE!"},{"$f":"VLOOKUP(A114,Import!A:N,13)","v":0}]
["Brosse à dent à tête rechargeable - manche bioplastic",3.5,"3.50",{"$f":"VLOOKUP(A115,Import!A:D,4)","v":"Produits d'hygiène coporelle"},false,0,0,{"$f":"IFERROR(__xludf.DUMMYFUNCTION(\"TO_PURE_NUMBER(G115)\"),0)","v":0},{"$error":"#VALUE!"}]
["Brosse à dent à tête rechargeable - manche hêtre","8,50 €","8.5",{"$f":"VLOOKUP(A116,Import!A:D,4)","v":0},false,0,0,{"$f":"IFERROR(__xludf.DUMMYFUNCTION(\"TO_PURE_NUMBER(G116)\"),0)","v":0},{"$error":"#VALUE!"},{"$f":"VLOOKUP(A116,Import!A:N,13)","v":"Aventure Bio"}]
["Brosse à dents adultes","3,99 €","3.99",{"$f":"VLOOKUP(A117,Import!A:D,4)","v":0},false,"500G",{"$f":"IF(F117=\"100G\",0.1,IF(F117=\"250G\",0.25,IF(F117=\"500G\",0.5,IF(F117=\"1 Kilo\",1,IF(F117=\"10G\",0.01,IF(F117=\"50G\",0.05,F117))))))","v":0.5},{"$f":"IFERROR(__xludf.DUMMYFUNCTION(\"TO_PURE_NUMBER(G117)\"),0.5)","v":0.5},{"$f":"G117*C117","v":{"$error":"#VALUE!"}},{"$f":"VLOOKUP(A117,Import!A:N,14)","v":"🇫🇷 France - Attignat (01)"}]
["Brosse à vaisselle - Recharges","5,50 €","5.5",{"$f":"VLOOKUP(A118,Import!A:D,4)","v":0},false,0,{"$f":"IF(F118=\"100G\",0.1,IF(F118=\"250G\",0.25,IF(F118=\"500G\",0.5,IF(F118=\"1 Kilo\",1,F118))))","v":0},{"$f":"IFERROR(__xludf.DUMMYFUNCTION(\"TO_PURE_NUMBER(G118)\"),0)","v":0},{"$error":"#VALUE!"}]
["Brosse à vaisselle à tête rechargeable ","24,90 €","24.9",{"$f":"VLOOKUP(A119,Import!A:D,4)","v":0},false,0,{"$f":"IF(F119=\"100G\",0.1,IF(F119=\"250G\",0.25,IF(F119=\"500G\",0.5,IF(F119=\"1 Kilo\",1,IF(F119=\"10G\",0.01,IF(F119=\"50G\",0.05,F119))))))","v":0},{"$f":"IFERROR(__xludf.DUMMYFUNCTION(\"TO_PURE_NUMBER(G119)\"),0)","v":0},{"$f":"G119*C119","v":{"$error":"#VALUE!"}},{"$f":"VLOOKUP(A119,Import!A:N,14)","v":"🇫🇷 France - Attignat (01)"}]
["Brosse à vaisselle en bois avec manche","6,50 €","6.5",{"$f":"VLOOKUP(A120,Import!A:D,4)","v":0},false,0,{"$f":"IF(F120=\"100G\",0.1,IF(F120=\"250G\",0.25,IF(F120=\"500G\",0.5,IF(F120=\"1 Kilo\",1,F120))))","v":0},{"$f":"IFERROR(__xludf.DUMMYFUNCTION(\"TO_PURE_NUMBER(G120)\"),0)","v":0},{"$error":"#VALUE!"}]
["Brosses à dents enfants - Jaune","3,50 €","3.5",{"$f":"VLOOKUP(A121,Import!A:D,4)","v":"Produits d'hygiène coporelle"},false,0,0,{"$f":"IFERROR(__xludf.DUMMYFUNCTION(\"TO_PURE_NUMBER(G121)\"),0)","v":0},{"$error":"#VALUE!"}]
["Brosses à dents enfants - Violet","3,50 €","3.5",{"$f":"VLOOKUP(A122,Import!A:D,4)","v":"Produits d'hygiène coporelle"},false,0,0,{"$f":"IFERROR(__xludf.DUMMYFUNCTION(\"TO_PURE_NUMBER(G122)\"),0)","v":0},{"$error":"#VALUE!"}]
["Café - Dagosette colombie (capsule)","0,40€","0.4",{"$f":"VLOOKUP(A123,Import!A:D,4,FALSE)","v":"Boisson en vrac"},false,0,0,{"$f":"IFERROR(__xludf.DUMMYFUNCTION(\"TO_PURE_NUMBER(G123)\"),0)","v":0},{"$error":"#VALUE!"}]
["Café - Dosette Americ’ain (senseo)","0,20€ / pièce","0.2",{"$f":"VLOOKUP(A124,Import!A:D,4)","v":"Boisson en vrac"},false,0,0,{"$f":"IFERROR(__xludf.DUMMYFUNCTION(\"TO_PURE_NUMBER(G124)\"),0)","v":0},{"$error":"#VALUE!"},{"$f":"VLOOKUP(A124,Import!A:N,13)","v":"Café Dagobert"}]
["Café - Grains - Colombie","19,90€ / kg","19.5",{"$f":"VLOOKUP(A125,Import!A:D,4)","v":"Boisson en vrac"},false,0,0,{"$f":"IFERROR(__xludf.DUMMYFUNCTION(\"TO_PURE_NUMBER(G125)\"),0)","v":0},{"$error":"#VALUE!"},{"$f":"VLOOKUP(A125,Import!A:N,13)","v":"Café Dagobert"}]
["Café - Grains - Moka Djimmah ","19,90€ / kg","19.5",{"$f":"VLOOKUP(A126,Import!A:D,4)","v":"Boisson en vrac"},false,0,0,{"$f":"IFERROR(__xludf.DUMMYFUNCTION(\"TO_PURE_NUMBER(G126)\"),0)","v":0},{"$error":"#VALUE!"}]
["Cannelle en Poudre","56,00€ / kg","56",{"$f":"VLOOKUP(A127,Import!A:D,4,FALSE)","v":"Alimentaire Vrac"},false,0,{"$f":"IF(F127=\"100G\",0.1,IF(F127=\"250G\",0.25,IF(F127=\"500G\",0.5,IF(F127=\"1 Kilo\",1,IF(F127=\"10G\",0.01,IF(F127=\"50G\",0.05,F127))))))","v":0},{"$f":"G127","v":0},{"$f":"G127*C127","v":0},{"$f":"VLOOKUP(A127,Import!A:N,14)","v":"🇲🇬 Madagascar"}]
["Cannelle en Tuyau","62,00€ / kg","62",{"$f":"VLOOKUP(A128,Import!A:D,4,FALSE)","v":"Alimentaire Vrac"},false,0,0,0,0,{"$f":"VLOOKUP(A128,Import!A:N,14)","v":"🇮🇩 Indonésie "}]
["Carrés démaquillants - Lot de 5","7,50 €","7.5",{"$f":"VLOOKUP(A129,Import!A:D,4,FALSE)","v":{"$error":"#N/A"}},false,0,{"$f":"IF(F129=\"100G\",0.1,IF(F129=\"250G\",0.25,IF(F129=\"500G\",0.5,IF(F129=\"1 Kilo\",1,F129))))","v":0},{"$f":"IFERROR(__xludf.DUMMYFUNCTION(\"TO_PURE_NUMBER(G129)\"),0)","v":0},{"$error":"#VALUE!"},{"$f":"VLOOKUP(A129,Import!A:N,13)","v":"Actibio"}]
["Céréales - Choco crisp ","9,50 € / kg","9,5",{"$f":"VLOOKUP(A130,Import!A:D,4,FALSE)","v":"Alimentaire Vrac"},false,0,{"$f":"IF(F130=\"100G\",0.1,IF(F130=\"250G\",0.25,IF(F130=\"500G\",0.5,IF(F130=\"1 Kilo\",1,IF(F130=\"10G\",0.01,IF(F130=\"50G\",0.05,F130))))))","v":0},{"$f":"G130","v":0},{"$f":"G130*C130","v":0},{"$f":"VLOOKUP(A130,Import!A:N,14)","v":"🇫🇷 France"}]
["Céréales - Corn Flakes ","8,50€ / kg","8,5",{"$f":"VLOOKUP(A131,Import!A:D,4,FALSE)","v":"Alimentaire Vrac"},false,0,0,0,0,{"$f":"VLOOKUP(A131,Import!A:N,14)","v":"🇫🇷 France - Bretagne"}]
["Céréales - Crosti Choco Noisettes ",11,"11",{"$f":"VLOOKUP(A132,Import!A:D,4,FALSE)","v":"Alimentaire Vrac"},false,0,0,0,0]
["Céréales - Flocons Avoine Gros ","3,50€ / kg","3,5",{"$f":"VLOOKUP(A133,Import!A:D,4,FALSE)","v":"Alimentaire Vrac"},false,0,0,0,0]
["Céréales - Flocons Avoine Petit","2,90€ / kg","2,9",{"$f":"VLOOKUP(A134,Import!A:D,4,FALSE)","v":"Alimentaire Vrac"},false,0,0,0,0]
["Céréales - Krounchy 3 chocolats","10,00€ / kg","10",{"$f":"VLOOKUP(A135,Import!A:D,4,FALSE)","v":"Alimentaire Vrac"},false,0,0,0,0]
["Céréales - Krounchy aux fruits","11,50€ / kg",11.5,{"$f":"VLOOKUP(A136,Import!A:D,4,FALSE)","v":"Alimentaire Vrac"},false,0,0,0,0,{"$f":"VLOOKUP(A136,Import!A:N,14)","v":0}]
["Céréales - Krounchy Nature","7,50€",7.5,{"$f":"VLOOKUP(A137,Import!A:D,4,FALSE)","v":"Alimentaire Vrac"},false,0,0,0,0,{"$f":"VLOOKUP(A137,Import!A:N,14)","v":0}]
["Céréales - Mops Miel","9,80€ / kg","9,8",{"$f":"VLOOKUP(A138,Import!A:D,4,FALSE)","v":"Alimentaire Vrac"},false,0,0,0,0,{"$f":"VLOOKUP(A138,Import!A:N,14)","v":"🇫🇷 France - Bretagne"}]
["Chicorée torréfiée soluble - 200g","7,20€ / pièce","6.5",{"$f":"VLOOKUP(A139,Import!A:D,4)","v":"Boisson en vrac"},false,0,{"$f":"IF(F139=\"100G\",0.1,IF(F139=\"250G\",0.25,IF(F139=\"500G\",0.5,IF(F139=\"1 Kilo\",1,F139))))","v":0},{"$f":"IFERROR(__xludf.DUMMYFUNCTION(\"TO_PURE_NUMBER(G139)\"),0)","v":0},{"$error":"#VALUE!"}]
["Chips de Banane au Miel ","15,00 € / kg","15",{"$f":"VLOOKUP(A140,Import!A:D,4,FALSE)","v":"Alimentaire Vrac"},false,0,{"$f":"IF(F140=\"100G\",0.1,IF(F140=\"250G\",0.25,IF(F140=\"500G\",0.5,IF(F140=\"1 Kilo\",1,IF(F140=\"10G\",0.01,IF(F140=\"50G\",0.05,F140))))))","v":0},{"$f":"G140","v":0},{"$f":"G140*C140","v":0}]
["Chocolat Lait - Palets","20€/ kg","16",{"$f":"VLOOKUP(A141,Import!A:D,4,FALSE)","v":"Alimentaire Vrac"},false,0,0,0,0]
["Chocolat Lait - Pépites ","20,00 € / kg","20",{"$f":"VLOOKUP(A142,Import!A:D,4,FALSE)","v":"Alimentaire Vrac"},false,0,0,0,0]
["Chocolat Noir - Palets","18,00 € / kg","18",{"$f":"VLOOKUP(A143,Import!A:D,4,FALSE)","v":"Alimentaire Vrac"},false,0,0,0,0]
["Chocolat Noir - Pépites ","20,00 € / kg","20",{"$f":"VLOOKUP(A144,Import!A:D,4,FALSE)","v":"Alimentaire Vrac"},false,0,0,0,0]
["Chocolat Noir Poudre Instantané - Cacao et Sucre","90,00 € / kg","90",{"$f":"VLOOKUP(A145,Import!A:D,4,FALSE)","v":"Alimentaire Vrac"},false,0,0,0,0]
["Chouchou","4,50 €","4.5",{"$f":"VLOOKUP(A146,Import!A:D,4)","v":"Zéros déchets et Bocaux"},false,0,0,{"$f":"IFERROR(__xludf.DUMMYFUNCTION(\"TO_PURE_NUMBER(G146)\"),0)","v":0},{"$error":"#VALUE!"}]
["Ciboulette Feuilles ","80,00 € / kg","80",{"$f":"VLOOKUP(A147,Import!A:D,4,FALSE)","v":"Alimentaire Vrac"},false,0,{"$f":"IF(F147=\"100G\",0.1,IF(F147=\"250G\",0.25,IF(F147=\"500G\",0.5,IF(F147=\"1 Kilo\",1,IF(F147=\"10G\",0.01,IF(F147=\"50G\",0.05,F147))))))","v":0},{"$f":"G147","v":0},0]
["Cidre Brut 75cl","5,90 €","5.9",{"$f":"VLOOKUP(A148,Import!A:D,4)","v":"Boissons conditionnées"},false,0,0,{"$f":"IFERROR(__xludf.DUMMYFUNCTION(\"TO_PURE_NUMBER(G148)\"),0)","v":0},{"$error":"#VALUE!"}]
["Cinq baies concassées","114,00 € / kg","114",{"$f":"VLOOKUP(A149,Import!A:D,4,FALSE)","v":"Alimentaire Vrac"},false,0,{"$f":"IF(F149=\"100G\",0.1,IF(F149=\"250G\",0.25,IF(F149=\"500G\",0.5,IF(F149=\"1 Kilo\",1,IF(F149=\"10G\",0.01,IF(F149=\"50G\",0.05,F149))))))","v":0},{"$f":"G149","v":0},0]
["Citronnade pur jus de citron jaune - 75cl","3,50 €","3.5",{"$f":"VLOOKUP(A150,Import!A:D,4)","v":"Boissons conditionnées"},false,0,0,{"$f":"IFERROR(__xludf.DUMMYFUNCTION(\"TO_PURE_NUMBER(G150)\"),0)","v":0},{"$error":"#VALUE!"}]
["Compote Allégée - Pomme Abricot - 660g","5 €","5.00",{"$f":"VLOOKUP(A151,Import!A:D,4)","v":"Alimentaire Conditionné"},false,0,0,{"$f":"IFERROR(__xludf.DUMMYFUNCTION(\"TO_PURE_NUMBER(G151)\"),0)","v":0},{"$error":"#VALUE!"}]
["Compote Allégée - Pomme Chataigne - 660g","4,80 €","4.80 ",{"$f":"VLOOKUP(A152,Import!A:D,4)","v":"Alimentaire Conditionné"},false,0,0,{"$f":"IFERROR(__xludf.DUMMYFUNCTION(\"TO_PURE_NUMBER(G152)\"),0)","v":0},{"$error":"#VALUE!"}]
["Compote Pomme - 480g - ","3,50 €","3.50",{"$f":"VLOOKUP(A153,Import!A:D,4)","v":"Alimentaire Conditionné"},false,0,0,{"$f":"IFERROR(__xludf.DUMMYFUNCTION(\"TO_PURE_NUMBER(G153)\"),0)","v":0},{"$error":"#VALUE!"}]
["Compote Pomme Banane",5,"5.00",{"$f":"VLOOKUP(A154,Import!A:D,4)","v":"Alimentaire Conditionné"},false,0,0,{"$f":"IFERROR(__xludf.DUMMYFUNCTION(\"TO_PURE_NUMBER(G154)\"),0)","v":0},{"$error":"#VALUE!"}]
["Compote Pomme Framboise - 480g ","4,50 €","4.5",{"$f":"VLOOKUP(A155,Import!A:D,4)","v":"Alimentaire Conditionné"},false,0,0,{"$f":"IFERROR(__xludf.DUMMYFUNCTION(\"TO_PURE_NUMBER(G155)\"),0)","v":0},{"$error":"#VALUE!"}]
["Concentré de Tomate - 200g","2,30 €","2.3",{"$f":"VLOOKUP(A156,Import!A:D,4)","v":"Alimentaire Conditionné"},false,0,0,{"$f":"IFERROR(__xludf.DUMMYFUNCTION(\"TO_PURE_NUMBER(G156)\"),0)","v":0},{"$error":"#VALUE!"}]
["Confiture Abricot - 340g ","4,90 €","4.9",{"$f":"VLOOKUP(A157,Import!A:D,4)","v":"Alimentaire Conditionné"},false,0,0,{"$f":"IFERROR(__xludf.DUMMYFUNCTION(\"TO_PURE_NUMBER(G157)\"),0)","v":0},{"$error":"#VALUE!"},{"$f":"VLOOKUP(A157,Import!A:N,13)","v":"Relais local"}]
["Confiture de Figue 340g","4,90 €","4.9",{"$f":"VLOOKUP(A158,Import!A:D,4)","v":"Alimentaire Conditionné"},false,0,0,{"$f":"IFERROR(__xludf.DUMMYFUNCTION(\"TO_PURE_NUMBER(G158)\"),0)","v":0},{"$error":"#VALUE!"}]
["Confiture de Fraise - 370g ","4,90 €","4.9",{"$f":"VLOOKUP(A159,Import!A:D,4)","v":"Alimentaire Conditionné"},false,0,0,{"$f":"IFERROR(__xludf.DUMMYFUNCTION(\"TO_PURE_NUMBER(G159)\"),0)","v":0},{"$error":"#VALUE!"}]
["Confiture de Fruits des Bois 370g ","5,50 €","5.5",{"$f":"VLOOKUP(A160,Import!A:D,4)","v":"Alimentaire Conditionné"},false,0,0,{"$f":"IFERROR(__xludf.DUMMYFUNCTION(\"TO_PURE_NUMBER(G160)\"),0)","v":0},{"$error":"#VALUE!"}]
["Confiture de Myrtille - 370g ","4,90 €","4.9",{"$f":"VLOOKUP(A161,Import!A:D,4)","v":"Alimentaire Conditionné"},false,0,0,{"$f":"IFERROR(__xludf.DUMMYFUNCTION(\"TO_PURE_NUMBER(G161)\"),0)","v":0},{"$error":"#VALUE!"}]
["Confitures d'à côté - Abricot","6€","6",{"$f":"VLOOKUP(A162,Import!A:D,4)","v":"Alimentaire Conditionné"},false,0,0,{"$f":"IFERROR(__xludf.DUMMYFUNCTION(\"TO_PURE_NUMBER(G162)\"),0)","v":0},0]
["Confitures d'à côté - Ananas Vanille","6€","6",{"$f":"VLOOKUP(A163,Import!A:D,4)","v":0},false,0,0,{"$f":"IFERROR(__xludf.DUMMYFUNCTION(\"TO_PURE_NUMBER(G163)\"),0)","v":0},0]
["Confitures d'à côté - Cerise","6€","6",{"$f":"VLOOKUP(A164,Import!A:D,4)","v":0},false,0,0,{"$f":"IFERROR(__xludf.DUMMYFUNCTION(\"TO_PURE_NUMBER(G164)\"),0)","v":0},0,{"$f":"VLOOKUP(A164,Import!A:N,13)","v":"Les confitures d'à côté"}]
["Confitures d'à côté - Clémentine","6€","6",{"$f":"VLOOKUP(A165,Import!A:D,4)","v":0},false,0,0,{"$f":"IFERROR(__xludf.DUMMYFUNCTION(\"TO_PURE_NUMBER(G165)\"),0)","v":0},0,{"$f":"VLOOKUP(A165,Import!A:N,13)","v":"Les confitures d'à côté"}]
["Confitures d'à côté - Figue pointe de vanille","6€","6",{"$f":"VLOOKUP(A166,Import!A:D,4)","v":"Alimentaire Conditionné"},false,0,0,{"$f":"IFERROR(__xludf.DUMMYFUNCTION(\"TO_PURE_NUMBER(G166)\"),0)","v":0},0,{"$f":"VLOOKUP(A166,Import!A:N,13)","v":"Les confitures d'à côté"}]
["Confitures d'à côté - Kiwi Ananas","6€","6",{"$f":"VLOOKUP(A167,Import!A:D,4)","v":"Alimentaire Conditionné"},false,0,0,{"$f":"IFERROR(__xludf.DUMMYFUNCTION(\"TO_PURE_NUMBER(G167)\"),0)","v":0},0,{"$f":"VLOOKUP(A167,Import!A:N,13)","v":"Les confitures d'à côté"}]
["Confitures d'à côté - Mirabelle ","6€","6",{"$f":"VLOOKUP(A168,Import!A:D,4)","v":0},false,0,0,{"$f":"IFERROR(__xludf.DUMMYFUNCTION(\"TO_PURE_NUMBER(G168)\"),0)","v":0},0,{"$f":"VLOOKUP(A168,Import!A:N,13)","v":"Les confitures d'à côté"}]
["Confitures d'à côté - Nectarine Pêche","6€","6",{"$f":"VLOOKUP(A169,Import!A:D,4)","v":0},false,0,0,{"$f":"IFERROR(__xludf.DUMMYFUNCTION(\"TO_PURE_NUMBER(G169)\"),0)","v":0},0,{"$f":"VLOOKUP(A169,Import!A:N,13)","v":"Les confitures d'à côté"}]
["Confitures d'à côté - Nectarine Vanille","6€","6",{"$f":"VLOOKUP(A170,Import!A:D,4)","v":"Alimentaire Conditionné"},false,0,0,{"$f":"IFERROR(__xludf.DUMMYFUNCTION(\"TO_PURE_NUMBER(G170)\"),0)","v":0},0,{"$f":"VLOOKUP(A170,Import!A:N,13)","v":"Les confitures d'à côté"}]
["Confitures d'à côté - Pêche ","6€","6",{"$f":"VLOOKUP(A171,Import!A:D,4)","v":0},false,0,0,{"$f":"IFERROR(__xludf.DUMMYFUNCTION(\"TO_PURE_NUMBER(G171)\"),0)","v":0},0,{"$f":"VLOOKUP(A171,Import!A:N,13)","v":"Les confitures d'à côté"}]
["Confitures d'à côté - Poire Tonka","6€","6",{"$f":"VLOOKUP(A172,Import!A:D,4)","v":"Alimentaire Conditionné"},false,0,0,{"$f":"IFERROR(__xludf.DUMMYFUNCTION(\"TO_PURE_NUMBER(G172)\"),0)","v":0},0,{"$f":"VLOOKUP(A172,Import!A:N,13)","v":"Les confitures d'à côté"}]
["Confitures d'à côté - Pomme Cannelle","6€","6",{"$f":"VLOOKUP(A173,Import!A:D,4)","v":"Alimentaire Conditionné"},false,0,0,{"$f":"IFERROR(__xludf.DUMMYFUNCTION(\"TO_PURE_NUMBER(G173)\"),0)","v":0},0,{"$f":"VLOOKUP(A173,Import!A:N,13)","v":"Les confitures d'à côté"}]
["Confitures d'à côté - Pomme Caramel ","6€","6",{"$f":"VLOOKUP(A174,Import!A:D,4)","v":"Alimentaire Conditionné"},false,0,0,{"$f":"IFERROR(__xludf.DUMMYFUNCTION(\"TO_PURE_NUMBER(G174)\"),0)","v":0},0]
["Confitures d'à côté - Questche","6€","6",{"$f":"VLOOKUP(A175,Import!A:D,4)","v":0},false,0,0,{"$f":"IFERROR(__xludf.DUMMYFUNCTION(\"TO_PURE_NUMBER(G175)\"),0)","v":0},{"$f":"G175*C175","v":0}]
["Confitures d'à côté - Tomate verte aux épices ","5€","5",{"$f":"VLOOKUP(A176,Import!A:D,4)","v":0},false,0,0,{"$f":"IFERROR(__xludf.DUMMYFUNCTION(\"TO_PURE_NUMBER(G176)\"),0)","v":0},0]
["Confitures d'à côté- Mûre sauvage","6€","6",{"$f":"VLOOKUP(A177,Import!A:D,4)","v":"Alimentaire Conditionné"},false,0,0,{"$f":"IFERROR(__xludf.DUMMYFUNCTION(\"TO_PURE_NUMBER(G177)\"),0)","v":0},0]
["Cornichons au vinaigre 37cl - 185g","7,50 €","7.5",{"$f":"VLOOKUP(A178,Import!A:D,4)","v":"Alimentaire Conditionné"},false,0,0,{"$f":"IFERROR(__xludf.DUMMYFUNCTION(\"TO_PURE_NUMBER(G178)\"),0)","v":0},{"$error":"#VALUE!"}]
["Cotons tiges x 100","1,95 €","1.95",{"$f":"VLOOKUP(A179,Import!A:D,4)","v":"Produits d'hygiène coporelle"},false,0,0,{"$f":"IFERROR(__xludf.DUMMYFUNCTION(\"TO_PURE_NUMBER(G179)\"),0)","v":0},{"$error":"#VALUE!"}]
["Cotons tiges x 200","3,59 €","3.59",{"$f":"VLOOKUP(A180,Import!A:D,4)","v":"Produits d'hygiène coporelle"},false,0,0,{"$f":"IFERROR(__xludf.DUMMYFUNCTION(\"TO_PURE_NUMBER(G180)\"),0)","v":0},{"$error":"#VALUE!"},{"$f":"VLOOKUP(A180,Import!A:N,13)","v":"Cap Bambou"}]
["Coulis de Tomate  Nature - 680g","2,50 €","2.5",{"$f":"VLOOKUP(A181,Import!A:D,4)","v":"Alimentaire Conditionné"},false,0,0,{"$f":"IFERROR(__xludf.DUMMYFUNCTION(\"TO_PURE_NUMBER(G181)\"),0)","v":0},{"$error":"#VALUE!"}]
["Coulis de Tomate Basilic - 680g","2,50 €","2.5",{"$f":"VLOOKUP(A182,Import!A:D,4)","v":"Alimentaire Conditionné"},false,0,{"$f":"IF(F182=\"100G\",0.1,IF(F182=\"250G\",0.25,IF(F182=\"500G\",0.5,IF(F182=\"1 Kilo\",1,IF(F182=\"10G\",0.01,IF(F182=\"50G\",0.05,F182))))))","v":0},{"$f":"IFERROR(__xludf.DUMMYFUNCTION(\"TO_PURE_NUMBER(G182)\"),0)","v":0},{"$f":"G182*C182","v":{"$error":"#VALUE!"}},{"$f":"VLOOKUP(A182,Import!A:N,14)","v":"🇮🇹 Italie"}]
["Couscous Complet ","3,50€","3,5",{"$f":"VLOOKUP(A183,Import!A:D,4,FALSE)","v":"Alimentaire Vrac"},false,0,0,{"$f":"G183","v":0},0,{"$f":"VLOOKUP(A183,Import!A:N,14)","v":"🇫🇷 France - Provence "}]
["Couteau Réutilisable en bambou","2€","2",{"$f":"VLOOKUP(A184,Import!A:D,4)","v":"Zéros déchets et Bocaux"},false,0,{"$f":"IF(#REF!=\"100G\",0.1,IF(#REF!=\"250G\",0.25,IF(#REF!=\"500G\",0.5,IF(#REF!=\"1 Kilo\",1,IF(#REF!=\"10G\",0.01,IF(#REF!=\"50G\",0.05,#REF!))))))","v":{"$error":"#REF!"}},{"$f":"IFERROR(__xludf.DUMMYFUNCTION(\"TO_PURE_NUMBER(G184)\"),\"#REF!\")","v":"#REF!"},{"$error":"#REF!"},{"$f":"VLOOKUP(A184,Import!A:N,14)","v":"🇫🇷 France - Attignat (01)"}]
["Cranberries Demi séchées au sucre de Canne","17,50€ / kg","17,5",{"$f":"VLOOKUP(A185,Import!A:D,4,FALSE)","v":"Alimentaire Vrac"},false,0,0,{"$f":"G185","v":0},0,{"$f":"VLOOKUP(A185,Import!A:N,14)","v":"🇨🇦 Canada"}]
["Crème corps hydratant - Fleur de coton - Endro","15,60 €","15.6",{"$f":"VLOOKUP(A186,Import!A:D,4)","v":"Produits d'hygiène coporelle"},false,0,{"$f":"IF(F186=\"100G\",0.1,IF(F186=\"250G\",0.25,IF(F186=\"500G\",0.5,IF(F186=\"1 Kilo\",1,IF(F186=\"10G\",0.01,IF(F186=\"50G\",0.05,F186))))))","v":0},{"$f":"IFERROR(__xludf.DUMMYFUNCTION(\"TO_PURE_NUMBER(G186)\"),0)","v":0},{"$error":"#VALUE!"},{"$f":"VLOOKUP(A186,Import!A:N,14)","v":"🇫🇷 France - Lannion (22)"}]
["Crème corps nourrissante - douceur iodée - Endro","12,90 €","12.9",{"$f":"VLOOKUP(A187,Import!A:D,4)","v":"Produits d'hygiène coporelle"},false,0,0,{"$f":"IFERROR(__xludf.DUMMYFUNCTION(\"TO_PURE_NUMBER(G187)\"),0)","v":0},{"$error":"#VALUE!"},{"$f":"VLOOKUP(A187,Import!A:N,14)","v":"🇫🇷 France - Lannion (22)"}]
["Crème de Marron - 320g ","5,90 €","5.9",{"$f":"VLOOKUP(A188,Import!A:D,4)","v":"Alimentaire Conditionné"},false,0,0,{"$f":"IFERROR(__xludf.DUMMYFUNCTION(\"TO_PURE_NUMBER(G188)\"),0)","v":0},{"$error":"#VALUE!"},{"$f":"VLOOKUP(A188,Import!A:N,14)","v":"🇫🇷 France - La chapelle sous aubenas (07)"}]
["Crème solaire SPF 30 - 50ml","18,90 €","18.9",{"$f":"VLOOKUP(A189,Import!A:D,4)","v":"Produits d'hygiène coporelle"},false,0,0,{"$f":"IFERROR(__xludf.DUMMYFUNCTION(\"TO_PURE_NUMBER(G189)\"),0)","v":0},{"$error":"#VALUE!"},{"$f":"VLOOKUP(A189,Import!A:N,14)","v":"🇫🇷 France - Lannion (22)"}]
["Crème solaire SPF 50 - 100ml","24,90 €","24.9",{"$f":"VLOOKUP(A190,Import!A:D,4)","v":"Produits d'hygiène coporelle"},false,0,0,{"$f":"IFERROR(__xludf.DUMMYFUNCTION(\"TO_PURE_NUMBER(G190)\"),0.5)","v":0.5},{"$error":"#VALUE!"},{"$f":"VLOOKUP(A190,Import!A:N,14)","v":"🇫🇷 France - Lannion (22)"}]
["Crème solaire SPF 50 - 50ml","19,90 €","19.9",{"$f":"VLOOKUP(A191,Import!A:D,4)","v":"Produits d'hygiène coporelle"},false,0,{"$f":"IF(F191=\"100G\",0.1,IF(F191=\"250G\",0.25,IF(F191=\"500G\",0.5,IF(F191=\"1 Kilo\",1,F191))))","v":0},{"$f":"IFERROR(__xludf.DUMMYFUNCTION(\"TO_PURE_NUMBER(G191)\"),0)","v":0},{"$error":"#VALUE!"}]
["Crème végétale - Soya cuisine briquette - 20cl","1,95€","1.95",{"$f":"VLOOKUP(A192,Import!A:D,4)","v":"Alimentaire Conditionné"},false,0,0,{"$f":"IFERROR(__xludf.DUMMYFUNCTION(\"TO_PURE_NUMBER(G192)\"),0)","v":0},{"$error":"#VALUE!"},{"$f":"VLOOKUP(A192,Import!A:N,13)","v":"Biodis"}]
["Crème visage - bonne mine","13,60 €","13.6",{"$f":"VLOOKUP(A193,Import!A:D,4)","v":"Produits d'hygiène coporelle"},false,0,0,{"$f":"IFERROR(__xludf.DUMMYFUNCTION(\"TO_PURE_NUMBER(G193)\"),0)","v":0},{"$error":"#VALUE!"},{"$f":"VLOOKUP(A193,Import!A:N,13)","v":"Endro"}]
["Crozets Sarrasin","9€ / kg","9",{"$f":"VLOOKUP(A194,Import!A:D,4,FALSE)","v":"Alimentaire Vrac"},false,0,{"$f":"IF(F194=\"100G\",0.1,IF(F194=\"250G\",0.25,IF(F194=\"500G\",0.5,IF(F194=\"1 Kilo\",1,IF(F194=\"10G\",0.01,IF(F194=\"50G\",0.05,F194))))))","v":0},{"$f":"G194","v":0},0,{"$f":"VLOOKUP(A194,Import!A:N,13)","v":"Scop Epice"}]
["Cuillère réutilisable en bambou","1,50 €","1.5",{"$f":"VLOOKUP(A195,Import!A:D,4)","v":"Zéros déchets et Bocaux"},false,0,0,{"$f":"IFERROR(__xludf.DUMMYFUNCTION(\"TO_PURE_NUMBER(G195)\"),0)","v":0},{"$error":"#VALUE!"}]
["Cumin moulu poudre","55,00€ / kg","55",{"$f":"VLOOKUP(A196,Import!A:D,4,FALSE)","v":"Alimentaire Vrac"},false,0,{"$f":"IF(F196=\"100G\",0.1,IF(F196=\"250G\",0.25,IF(F196=\"500G\",0.5,IF(F196=\"1 Kilo\",1,IF(F196=\"10G\",0.01,IF(F196=\"50G\",0.05,F196))))))","v":0},{"$f":"G196","v":0},{"$f":"G196*C196","v":0}]
["Curcuma ","45,00€ / kg",45,{"$f":"VLOOKUP(A197,Import!A:D,4,FALSE)","v":"Alimentaire Vrac"},false,0,0,0,0,{"$f":"VLOOKUP(A197,Import!A:N,14)","v":"🇲🇬 Madagascar"}]
["Cure Oreilles - Bamb’ori",2.99,2.99,{"$f":"VLOOKUP(A198,Import!A:D,4)","v":"Produits d'hygiène coporelle"},false,0,{"$f":"IF(F198=\"100G\",0.1,IF(F198=\"250G\",0.25,IF(F198=\"500G\",0.5,IF(F198=\"1 Kilo\",1,F198))))","v":0},{"$f":"IFERROR(__xludf.DUMMYFUNCTION(\"TO_PURE_NUMBER(G198)\"),0)","v":0},0,{"$f":"VLOOKUP(A198,Import!A:N,13)","v":"Cap Bambou"}]
["Curry Poudre","42,00€ / kg","42",{"$f":"VLOOKUP(A199,Import!A:D,4,FALSE)","v":"Alimentaire Vrac"},false,0,{"$f":"IF(F199=\"100G\",0.1,IF(F199=\"250G\",0.25,IF(F199=\"500G\",0.5,IF(F199=\"1 Kilo\",1,IF(F199=\"10G\",0.01,IF(F199=\"50G\",0.05,F199))))))","v":0},{"$f":"G199","v":0},{"$f":"G199*C199","v":0},{"$f":"VLOOKUP(A199,Import!A:N,14)","v":"🇪🇺 UE / NON UE"}]
["Dattes Dénoyautées ","10,50€ / kg","10,5",{"$f":"VLOOKUP(A200,Import!A:D,4,FALSE)","v":"Alimentaire Vrac"},false,0,0,0,0,{"$f":"VLOOKUP(A200,Import!A:N,14)","v":"🇹🇳 Tunisie"}]
["Dentifrice bio à croquer Menthe Fraîche","180,00€ / kg","180",{"$f":"VLOOKUP(A201,Import!A:D,4)","v":"Produits d'hygiène coporelle"},false,0,{"$f":"IF(F201=\"100G\",0.1,IF(F201=\"250G\",0.25,IF(F201=\"500G\",0.5,IF(F201=\"1 Kilo\",1,F201))))","v":0},{"$f":"IFERROR(__xludf.DUMMYFUNCTION(\"TO_PURE_NUMBER(G201)\"),0)","v":0},0]
["Dentifrice Naturel - Fruits Rouges - Endro","10,60€","10.6",{"$f":"VLOOKUP(A202,Import!A:D,4)","v":"Produits d'hygiène coporelle"},false,0,0,{"$f":"IFERROR(__xludf.DUMMYFUNCTION(\"TO_PURE_NUMBER(G202)\"),0)","v":0},{"$error":"#VALUE!"}]
["Dentifrice Naturel - Menthe Givrée - Endro","10,60€","10.6",{"$f":"VLOOKUP(A203,Import!A:D,4)","v":"Produits d'hygiène coporelle"},false,0,0,{"$f":"IFERROR(__xludf.DUMMYFUNCTION(\"TO_PURE_NUMBER(G203)\"),0)","v":0},{"$error":"#VALUE!"},{"$f":"VLOOKUP(A203,Import!A:N,13)","v":"Endro"}]
["Dentifrice Naturel - Zeste Citronné - Endro","10,60€","10.6",{"$f":"VLOOKUP(A204,Import!A:D,4)","v":"Produits d'hygiène coporelle"},false,0,0,{"$f":"IFERROR(__xludf.DUMMYFUNCTION(\"TO_PURE_NUMBER(G204)\"),0)","v":0},{"$error":"#VALUE!"}]
["Dentifrice solide - Charbon - Recharge - Savon de Joya","8,90€","8.9",{"$f":"VLOOKUP(A205,Import!A:D,4)","v":"Produits d'hygiène coporelle"},false,0,{"$f":"IF(F205=\"100G\",0.1,IF(F205=\"250G\",0.25,IF(F205=\"500G\",0.5,IF(F205=\"1 Kilo\",1,IF(F205=\"10G\",0.01,IF(F205=\"50G\",0.05,F205))))))","v":0},{"$f":"IFERROR(__xludf.DUMMYFUNCTION(\"TO_PURE_NUMBER(G205)\"),0)","v":0},{"$f":"G205*C205","v":{"$error":"#VALUE!"}},{"$f":"VLOOKUP(A205,Import!A:N,14)","v":"🇫🇷 France - Douvres-la-Délivrande (14)"}]
["Dentifrice solide - Charbon - Savon de Joya","10,60€","10.6",{"$f":"VLOOKUP(A206,Import!A:D,4)","v":"Produits d'hygiène coporelle"},false,0,{"$f":"IF(F206=\"100G\",0.1,IF(F206=\"250G\",0.25,IF(F206=\"500G\",0.5,IF(F206=\"1 Kilo\",1,F206))))","v":0},{"$f":"IFERROR(__xludf.DUMMYFUNCTION(\"TO_PURE_NUMBER(G206)\"),0)","v":0},{"$error":"#VALUE!"},{"$f":"VLOOKUP(A206,Import!A:N,13)","v":"Les Savons de Joya"}]
["Dentifrice solide - Citron & Romarin - Recharge - - Savon de Joya","8,90€","8.9",{"$f":"VLOOKUP(A207,Import!A:D,4)","v":"Produits d'hygiène coporelle"},false,0,0,{"$f":"IFERROR(__xludf.DUMMYFUNCTION(\"TO_PURE_NUMBER(G207)\"),0)","v":0},{"$error":"#VALUE!"}]
["Dentifrice solide - Citron & Romarin Savon de Joya","10,60€","10.6",{"$f":"VLOOKUP(A208,Import!A:D,4)","v":"Produits d'hygiène coporelle"},false,0,0,{"$f":"IFERROR(__xludf.DUMMYFUNCTION(\"TO_PURE_NUMBER(G208)\"),0)","v":0},{"$error":"#VALUE!"}]
["Dentifrice solide - Framboise - - Savon de Joya","10,60€","10.6",{"$f":"VLOOKUP(A209,Import!A:D,4)","v":"Produits d'hygiène coporelle"},false,0,{"$f":"IF(F209=\"100G\",0.1,IF(F209=\"250G\",0.25,IF(F209=\"500G\",0.5,IF(F209=\"1 Kilo\",1,IF(F209=\"10G\",0.01,IF(F209=\"50G\",0.05,F209))))))","v":0},{"$f":"IFERROR(__xludf.DUMMYFUNCTION(\"TO_PURE_NUMBER(G209)\"),0)","v":0},{"$f":"G209*C209","v":{"$error":"#VALUE!"}},{"$f":"VLOOKUP(A209,Import!A:N,14)","v":"🇫🇷 France - Douvres-la-Délivrande (14)"}]
["Dentifrice solide - Framboise - Recharge ","8,90€","8.9",{"$f":"VLOOKUP(A210,Import!A:D,4)","v":"Produits d'hygiène coporelle"},false,0,0,{"$f":"IFERROR(__xludf.DUMMYFUNCTION(\"TO_PURE_NUMBER(G210)\"),0)","v":0},{"$error":"#VALUE!"},{"$f":"VLOOKUP(A210,Import!A:N,14)","v":"🇫🇷 France - Douvres-la-Délivrande (14)"}]
["Dentifrice solide - Menthe - - Savon de Joya","10,60€","10.6",{"$f":"VLOOKUP(A211,Import!A:D,4)","v":"Produits d'hygiène coporelle"},false,0,{"$f":"IF(F211=\"100G\",0.1,IF(F211=\"250G\",0.25,IF(F211=\"500G\",0.5,IF(F211=\"1 Kilo\",1,F211))))","v":0},{"$f":"IFERROR(__xludf.DUMMYFUNCTION(\"TO_PURE_NUMBER(G211)\"),0)","v":0},{"$error":"#VALUE!"}]
["Dentifrice solide - Menthe - Recharge - - Savon de Joya","8,90€","8.9",{"$f":"VLOOKUP(A212,Import!A:D,4)","v":"Produits d'hygiène coporelle"},false,0,0,{"$f":"IFERROR(__xludf.DUMMYFUNCTION(\"TO_PURE_NUMBER(G212)\"),0)","v":0},{"$error":"#VALUE!"}]
["Déodorant - Clémence & Vivien - Le Fleuri",8.5,"7.9",{"$f":"VLOOKUP(A213,Import!A:D,4)","v":"Produits d'hygiène coporelle"},false,0,{"$f":"IF(F213=\"100G\",0.1,IF(F213=\"250G\",0.25,IF(F213=\"500G\",0.5,IF(F213=\"1 Kilo\",1,IF(F213=\"10G\",0.01,IF(F213=\"50G\",0.05,F213))))))","v":0},{"$f":"IFERROR(__xludf.DUMMYFUNCTION(\"TO_PURE_NUMBER(G213)\"),0)","v":0},{"$error":"#VALUE!"},{"$f":"VLOOKUP(A213,Import!A:N,14)","v":"🇫🇷 France - Chauray (79)"}]
["Déodorant - Clémence & Vivien - Le Poudré",8.5,"7.9",{"$f":"VLOOKUP(A214,Import!A:D,4)","v":"Produits d'hygiène coporelle"},false,0,0,{"$f":"IFERROR(__xludf.DUMMYFUNCTION(\"TO_PURE_NUMBER(G214)\"),0)","v":0},{"$error":"#VALUE!"},{"$f":"VLOOKUP(A214,Import!A:N,14)","v":"🇫🇷 France - Chauray (79)"}]
["Déodorant - Clémence & Vivien - Le Sucré",8.5,"7.9",{"$f":"VLOOKUP(A215,Import!A:D,4)","v":"Produits d'hygiène coporelle"},false,0,0,{"$f":"IFERROR(__xludf.DUMMYFUNCTION(\"TO_PURE_NUMBER(G215)\"),0)","v":0},{"$f":"G215*C215","v":{"$error":"#VALUE!"}},{"$f":"VLOOKUP(A215,Import!A:N,14)","v":"🇫🇷 France - Chauray (79)"}]
["Déodorant - Clémence & Vivien - Sensible Mandarinne",8.5,"7.9",{"$f":"VLOOKUP(A216,Import!A:D,4)","v":"Produits d'hygiène coporelle"},false,0,0,{"$f":"IFERROR(__xludf.DUMMYFUNCTION(\"TO_PURE_NUMBER(G216)\"),0)","v":0},{"$error":"#VALUE!"},{"$f":"VLOOKUP(A216,Import!A:N,14)","v":"🇫🇷 France - Chauray (79)"}]
["Déodorant - Clémence & Vivien - Sensible Vanille",8.5,"7.9",{"$f":"VLOOKUP(A217,Import!A:D,4)","v":"Produits d'hygiène coporelle"},false,0,{"$f":"IF(F217=\"100G\",0.1,IF(F217=\"250G\",0.25,IF(F217=\"500G\",0.5,IF(F217=\"1 Kilo\",1,F217))))","v":0},{"$f":"IFERROR(__xludf.DUMMYFUNCTION(\"TO_PURE_NUMBER(G217)\"),0)","v":0},{"$error":"#VALUE!"},{"$f":"VLOOKUP(A217,Import!A:N,13)","v":"Clémence & Vivien"}]
["Déodorant - Clémence & Vivien- L’Herbacé",8.5,"7.9",{"$f":"VLOOKUP(A218,Import!A:D,4)","v":"Produits d'hygiène coporelle"},false,0,0,{"$f":"IFERROR(__xludf.DUMMYFUNCTION(\"TO_PURE_NUMBER(G218)\"),0)","v":0},{"$error":"#VALUE!"}]
["Déodorant - Endro - Bergamote / Arbre à thé","9,80€","9.8",{"$f":"VLOOKUP(A219,Import!A:D,4)","v":"Produits d'hygiène coporelle"},false,0,{"$f":"IF(F219=\"100G\",0.1,IF(F219=\"250G\",0.25,IF(F219=\"500G\",0.5,IF(F219=\"1 Kilo\",1,IF(F219=\"10G\",0.01,IF(F219=\"50G\",0.05,F219))))))","v":0},{"$f":"IFERROR(__xludf.DUMMYFUNCTION(\"TO_PURE_NUMBER(G219)\"),0)","v":0},{"$f":"G219*C219","v":{"$error":"#VALUE!"}},{"$f":"VLOOKUP(A219,Import!A:N,14)","v":"🇫🇷 France - Lannion (22)"}]
["Déodorant - Endro - Coco","9,80€","9.8",{"$f":"VLOOKUP(A220,Import!A:D,4)","v":"Produits d'hygiène coporelle"},false,0,{"$f":"IF(F220=\"100G\",0.1,IF(F220=\"250G\",0.25,IF(F220=\"500G\",0.5,IF(F220=\"1 Kilo\",1,F220))))","v":0},{"$f":"IFERROR(__xludf.DUMMYFUNCTION(\"TO_PURE_NUMBER(G220)\"),0)","v":0},{"$error":"#VALUE!"}]
["Déodorant - Endro - Menthe Poivrée / Cèdre","9,80€","9.8",{"$f":"VLOOKUP(A221,Import!A:D,4)","v":"Produits d'hygiène coporelle"},false,0,{"$f":"IF(F221=\"100G\",0.1,IF(F221=\"250G\",0.25,IF(F221=\"500G\",0.5,IF(F221=\"1 Kilo\",1,IF(F221=\"10G\",0.01,IF(F221=\"50G\",0.05,F221))))))","v":0},{"$f":"IFERROR(__xludf.DUMMYFUNCTION(\"TO_PURE_NUMBER(G221)\"),0)","v":0},{"$f":"G221*C221","v":{"$error":"#VALUE!"}},{"$f":"VLOOKUP(A221,Import!A:N,14)","v":"🇫🇷 France - Lannion (22)"}]
["Déodorant - Endro - Palmarosa / Géranium","9,80€","9.8",{"$f":"VLOOKUP(A222,Import!A:D,4)","v":"Produits d'hygiène coporelle"},false,0,0,{"$f":"IFERROR(__xludf.DUMMYFUNCTION(\"TO_PURE_NUMBER(G222)\"),0)","v":0},{"$error":"#VALUE!"},{"$f":"VLOOKUP(A222,Import!A:N,14)","v":"🇫🇷 France - Lannion (22)"}]
["Déodorant - Endro - Peaux sensilbles","9,80€","9.8",{"$f":"VLOOKUP(A223,Import!A:D,4)","v":"Produits d'hygiène coporelle"},false,0,{"$f":"IF(F223=\"100G\",0.1,IF(F223=\"250G\",0.25,IF(F223=\"500G\",0.5,IF(F223=\"1 Kilo\",1,F223))))","v":0},{"$f":"IFERROR(__xludf.DUMMYFUNCTION(\"TO_PURE_NUMBER(G223)\"),0)","v":0},{"$error":"#VALUE!"}]
["Déodorant - Savon de Joya - Recharge Stick - Cèdre Vétiver - 75g","8,90 €","8.9",{"$f":"VLOOKUP(A224,Import!A:D,4)","v":"Produits d'hygiène coporelle"},false,0,0,{"$f":"IFERROR(__xludf.DUMMYFUNCTION(\"TO_PURE_NUMBER(G224)\"),0)","v":0},{"$error":"#VALUE!"},{"$f":"VLOOKUP(A224,Import!A:N,13)","v":"Les Savons de Joya"}]
["Déodorant - Savon de Joya - Recharge Stick - Citron & Mandarine - 75g","8,90 €","8.9",{"$f":"VLOOKUP(A225,Import!A:D,4)","v":"Produits d'hygiène coporelle"},false,0,{"$f":"IF(F225=\"100G\",0.1,IF(F225=\"250G\",0.25,IF(F225=\"500G\",0.5,IF(F225=\"1 Kilo\",1,IF(F225=\"10G\",0.01,IF(F225=\"50G\",0.05,F225))))))","v":0},{"$f":"IFERROR(__xludf.DUMMYFUNCTION(\"TO_PURE_NUMBER(G225)\"),0)","v":0},{"$f":"G225*C225","v":{"$error":"#VALUE!"}},{"$f":"VLOOKUP(A225,Import!A:N,14)","v":"🇫🇷 France - Douvres-la-Délivrande (14)"}]
["Déodorant - Savon de Joya - Recharge Stick - Rose, 0 bicarbonate - 75g","8,90 €","8.9",{"$f":"VLOOKUP(A226,Import!A:D,4)","v":"Produits d'hygiène coporelle"},false,0,0,{"$f":"IFERROR(__xludf.DUMMYFUNCTION(\"TO_PURE_NUMBER(G226)\"),0)","v":0},{"$error":"#VALUE!"},{"$f":"VLOOKUP(A226,Import!A:N,14)","v":"🇫🇷 France - Douvres-la-Délivrande (14)"}]
["Déodorant - Savon de Joya - Recharge Stick Mini  - Cèdre Vétivier - 25g","7,90 €","7.9",{"$f":"VLOOKUP(A227,Import!A:D,4)","v":"Produits d'hygiène coporelle"},false,0,{"$f":"IF(F227=\"100G\",0.1,IF(F227=\"250G\",0.25,IF(F227=\"500G\",0.5,IF(F227=\"1 Kilo\",1,F227))))","v":0},{"$f":"IFERROR(__xludf.DUMMYFUNCTION(\"TO_PURE_NUMBER(G227)\"),0)","v":0},{"$error":"#VALUE!"}]
["Déodorant - Savon de Joya - Recharge Stick Mini  - Citron & Mandarine 25g","7,90 €","7.9",{"$f":"VLOOKUP(A228,Import!A:D,4)","v":"Produits d'hygiène coporelle"},false,0,0,{"$f":"IFERROR(__xludf.DUMMYFUNCTION(\"TO_PURE_NUMBER(G228)\"),0)","v":0},{"$error":"#VALUE!"}]
["Déodorant Stick - Savon de Joya - Cèdre Vétiver - 75g","12,50 €","12.5",{"$f":"VLOOKUP(A229,Import!A:D,4)","v":"Produits d'hygiène coporelle"},false,0,0,{"$f":"IFERROR(__xludf.DUMMYFUNCTION(\"TO_PURE_NUMBER(G229)\"),0)","v":0},{"$error":"#VALUE!"}]
["Déodorant Stick - Savon de Joya - Citron & Mandarine - 75g","12,50 €","12.5",{"$f":"VLOOKUP(A230,Import!A:D,4)","v":"Produits d'hygiène coporelle"},false,0,{"$f":"IF(F230=\"100G\",0.1,IF(F230=\"250G\",0.25,IF(F230=\"500G\",0.5,IF(F230=\"1 Kilo\",1,IF(F230=\"10G\",0.01,IF(F230=\"50G\",0.05,F230))))))","v":0},{"$f":"IFERROR(__xludf.DUMMYFUNCTION(\"TO_PURE_NUMBER(G230)\"),0)","v":0},{"$f":"G230*C230","v":{"$error":"#VALUE!"}},{"$f":"VLOOKUP(A230,Import!A:N,14)","v":"🇫🇷 France - Douvres-la-Délivrande (14)"}]
["Déodorant Stick - Savon de Joya - Rose, 0 bicarbonate - 75g","12,50 €","12.5",{"$f":"VLOOKUP(A231,Import!A:D,4)","v":"Produits d'hygiène coporelle"},false,0,{"$f":"IF(F231=\"100G\",0.1,IF(F231=\"250G\",0.25,IF(F231=\"500G\",0.5,IF(F231=\"1 Kilo\",1,F231))))","v":0},{"$f":"IFERROR(__xludf.DUMMYFUNCTION(\"TO_PURE_NUMBER(G231)\"),0)","v":0},{"$error":"#VALUE!"}]
["Déodorant Stick Mini  - Savon de Joya -  Rose, 0 bicarbonate - 25g","7,90 €","7.9",{"$f":"VLOOKUP(A232,Import!A:D,4)","v":"Produits d'hygiène coporelle"},false,0,0,{"$f":"IFERROR(__xludf.DUMMYFUNCTION(\"TO_PURE_NUMBER(G232)\"),0)","v":0},{"$error":"#VALUE!"}]
["Déodorant Stick Mini - Savon de Joya - Cèdre Vétiver - 25g","7,90 €","7.9",{"$f":"VLOOKUP(A233,Import!A:D,4)","v":"Produits d'hygiène coporelle"},false,0,{"$f":"IF(F233=\"100G\",0.1,IF(F233=\"250G\",0.25,IF(F233=\"500G\",0.5,IF(F233=\"1 Kilo\",1,IF(F233=\"10G\",0.01,IF(F233=\"50G\",0.05,F233))))))","v":0},{"$f":"IFERROR(__xludf.DUMMYFUNCTION(\"TO_PURE_NUMBER(G233)\"),0)","v":0},{"$f":"G233*C233","v":{"$error":"#VALUE!"}},{"$f":"VLOOKUP(A233,Import!A:N,14)","v":"🇫🇷 France - Douvres-la-Délivrande (14)"}]
["Déodorant Stick Mini - Savon de Joya - Citron & Mandarine - 25g","5,20 €","5.2",{"$f":"VLOOKUP(A234,Import!A:D,4)","v":"Produits d'hygiène coporelle"},false,0,{"$f":"IF(F234=\"100G\",0.1,IF(F234=\"250G\",0.25,IF(F234=\"500G\",0.5,IF(F234=\"1 Kilo\",1,F234))))","v":0},{"$f":"IFERROR(__xludf.DUMMYFUNCTION(\"TO_PURE_NUMBER(G234)\"),0)","v":0},{"$error":"#VALUE!"}]
["Désinfectant sans rinçage - Vrac","12,50 €","12.50",{"$f":"VLOOKUP(A235,Import!A:D,4)","v":"Produits d'entretiens"},false,0,0,{"$f":"IFERROR(__xludf.DUMMYFUNCTION(\"TO_PURE_NUMBER(G235)\"),0)","v":0},{"$error":"#VALUE!"}]
["Détachant - Vrac",9.9,"9;90",{"$f":"VLOOKUP(A236,Import!A:D,4)","v":"Produits d'entretiens"},false,0,0,{"$f":"IFERROR(__xludf.DUMMYFUNCTION(\"TO_PURE_NUMBER(G236)\"),0)","v":0},{"$error":"#VALUE!"}]
["Emballage 1L Plat + Bouchon ","2 €","2",{"$f":"VLOOKUP(A237,Import!A:D,4)","v":"Produits d'entretiens"},false,0,0,{"$f":"IFERROR(__xludf.DUMMYFUNCTION(\"TO_PURE_NUMBER(G237)\"),0)","v":0},0]
["Emballage 3L + Bouchon","4 €","4",{"$f":"VLOOKUP(A238,Import!A:D,4)","v":"Produits d'entretiens"},false,0,0,{"$f":"IFERROR(__xludf.DUMMYFUNCTION(\"TO_PURE_NUMBER(G238)\"),0)","v":0},0]
["Emballage WC 750ml + Bouchon","2,50 €","2.5",{"$f":"VLOOKUP(A239,Import!A:D,4)","v":"Produits d'entretiens"},false,0,0,{"$f":"IFERROR(__xludf.DUMMYFUNCTION(\"TO_PURE_NUMBER(G239)\"),0)","v":0},{"$error":"#VALUE!"}]
["Essuie tout blanc, 100% recyclés, 200f x 12","2 €","2",{"$f":"VLOOKUP(A240,Import!A:D,4,FALSE)","v":"Produits d'entretiens"},false,0,{"$f":"IF(F240=\"100G\",0.1,IF(F240=\"250G\",0.25,IF(F240=\"500G\",0.5,IF(F240=\"1 Kilo\",1,IF(F240=\"10G\",0.01,IF(F240=\"50G\",0.05,F240))))))","v":0},{"$f":"IFERROR(__xludf.DUMMYFUNCTION(\"TO_PURE_NUMBER(G240)\"),0)","v":0},{"$f":"G240*C240","v":0},{"$f":"VLOOKUP(A240,Import!A:N,14)","v":"🇫🇷 France"}]
["Essuie-tout - Lot de 5 Multicolore","10,00 €","10",{"$f":"VLOOKUP(A241,Import!A:D,4)","v":"Zéros déchets et Bocaux"},false,0,{"$f":"IF(F241=\"100G\",0.1,IF(F241=\"250G\",0.25,IF(F241=\"500G\",0.5,IF(F241=\"1 Kilo\",1,F241))))","v":0},{"$f":"IFERROR(__xludf.DUMMYFUNCTION(\"TO_PURE_NUMBER(G241)\"),0)","v":0},0]
["Farine de blé - T110","2,10€ / kg","2",{"$f":"VLOOKUP(A242,Import!A:D,4,FALSE)","v":"Alimentaire Vrac"},false,0,{"$f":"IF(F242=\"100G\",0.1,IF(F242=\"250G\",0.25,IF(F242=\"500G\",0.5,IF(F242=\"1 Kilo\",1,IF(F242=\"10G\",0.01,IF(F242=\"50G\",0.05,F242))))))","v":0},{"$f":"G242","v":0},{"$f":"G242*C242","v":0}]
["Farine de blé - T55 ","2,10€ / kg","2,1",{"$f":"VLOOKUP(A243,Import!A:D,4,FALSE)","v":"Alimentaire Vrac"},false,0,0,0,0]
["Farine de blé - T65 ","2,10€ / kg","2",{"$f":"VLOOKUP(A244,Import!A:D,4,FALSE)","v":"Alimentaire Vrac"},false,0,0,0,0]
["Farine de Maïs ","2,95€ / kg",2.95,{"$f":"VLOOKUP(A245,Import!A:D,4,FALSE)","v":"Alimentaire Vrac"},false,0,0,0,0]
["Farine de Maïs - Paquet 500g",1.7,1.7,{"$f":"VLOOKUP(A246,Import!A:D,4,FALSE)","v":"Alimentaire Conditionné"},false,0,0,0,0,{"$f":"VLOOKUP(A246,Import!A:N,13)","v":0}]
["Farine de Petit épeautre ","6,00€ / kg","6",{"$f":"VLOOKUP(A247,Import!A:D,4,FALSE)","v":"Alimentaire Vrac"},false,0,{"$f":"IF(F247=\"100G\",0.1,IF(F247=\"250G\",0.25,IF(F247=\"500G\",0.5,IF(F247=\"1 Kilo\",1,IF(F247=\"10G\",0.01,IF(F247=\"50G\",0.05,F247))))))","v":0},0,0,{"$f":"VLOOKUP(A247,Import!A:N,13)","v":"Scop Epice"}]
["Farine de Pois chiches ","5,40€ / kg","5,4",{"$f":"VLOOKUP(A248,Import!A:D,4,FALSE)","v":"Alimentaire Vrac"},false,0,0,0,0]
["Farine de Pos chiches - paquet 500g","2.70","2.70",{"$f":"VLOOKUP(A249,Import!A:D,4)","v":"Alimentaire Conditionné"},false,0,0,{"$f":"IFERROR(__xludf.DUMMYFUNCTION(\"TO_PURE_NUMBER(G249)\"),0)","v":0},{"$error":"#VALUE!"}]
["Fécule de Pomme de Terre ","4,90€ / kg","4,9",{"$f":"VLOOKUP(A250,Import!A:D,4,FALSE)","v":"Alimentaire Vrac"},false,0,{"$f":"IF(F250=\"100G\",0.1,IF(F250=\"250G\",0.25,IF(F250=\"500G\",0.5,IF(F250=\"1 Kilo\",1,IF(F250=\"10G\",0.01,IF(F250=\"50G\",0.05,F250))))))","v":0},{"$f":"G250","v":0},{"$f":"G250*C250","v":0}]
["Figues Entières ","12,00€ / kg","12",{"$f":"VLOOKUP(A251,Import!A:D,4,FALSE)","v":"Alimentaire Vrac"},false,0,0,0,0,{"$f":"VLOOKUP(A251,Import!A:N,13)","v":"Actibio"}]
["Filet à fruits et légumes - Taille L","8,50€","8.5",{"$f":"VLOOKUP(A252,Import!A:D,4)","v":"Zéros déchets et Bocaux"},false,0,0,{"$f":"IFERROR(__xludf.DUMMYFUNCTION(\"TO_PURE_NUMBER(G252)\"),0)","v":0},{"$error":"#VALUE!"}]
["Filet à fruits et légumes - Taille M","9,50€","9.5",{"$f":"VLOOKUP(A253,Import!A:D,4)","v":"Zéros déchets et Bocaux"},false,0,0,{"$f":"IFERROR(__xludf.DUMMYFUNCTION(\"TO_PURE_NUMBER(G253)\"),0)","v":0},{"$error":"#VALUE!"}]
["Filtre à café","4,50€","4.5",{"$f":"VLOOKUP(A254,Import!A:D,4)","v":"Zéros déchets et Bocaux"},false,0,0,{"$f":"IFERROR(__xludf.DUMMYFUNCTION(\"TO_PURE_NUMBER(G254)\"),0)","v":0},{"$error":"#VALUE!"},{"$f":"VLOOKUP(A254,Import!A:N,13)","v":"Alterosac"}]
["Filtre à Infusion ","4,50€","4.5",{"$f":"VLOOKUP(A255,Import!A:D,4,FALSE)","v":"Zéros déchets et Bocaux"},false,0,{"$f":"IF(F255=\"100G\",0.1,IF(F255=\"250G\",0.25,IF(F255=\"500G\",0.5,IF(F255=\"1 Kilo\",1,IF(F255=\"10G\",0.01,IF(F255=\"50G\",0.05,F255))))))","v":0},{"$f":"IFERROR(__xludf.DUMMYFUNCTION(\"TO_PURE_NUMBER(G255)\"),0)","v":0},{"$f":"G255*C255","v":{"$error":"#VALUE!"}},{"$f":"VLOOKUP(A255,Import!A:N,14)","v":"🇫🇷 France - Annemasse (74)"}]
["Filtre à thé ","4,00€","4",{"$f":"VLOOKUP(A256,Import!A:D,4)","v":"Zéros déchets et Bocaux"},false,0,{"$f":"IF(F256=\"100G\",0.1,IF(F256=\"250G\",0.25,IF(F256=\"500G\",0.5,IF(F256=\"1 Kilo\",1,F256))))","v":0},{"$f":"IFERROR(__xludf.DUMMYFUNCTION(\"TO_PURE_NUMBER(G256)\"),0)","v":0},0]
["Filtre à théière inox forme théière","5,50€","5.5",{"$f":"VLOOKUP(A257,Import!A:D,4)","v":"Zéros déchets et Bocaux"},false,0,0,{"$f":"IFERROR(__xludf.DUMMYFUNCTION(\"TO_PURE_NUMBER(G257)\"),0)","v":0},{"$f":"H257*C257","v":{"$error":"#VALUE!"}},{"$f":"VLOOKUP(A257,Import!A:N,13)","v":"SolàSol"}]
["Flageolets","6,50€ / kg","6,5",{"$f":"VLOOKUP(A258,Import!A:D,4,FALSE)","v":"Alimentaire Vrac"},false,0,{"$f":"IF(F258=\"100G\",0.1,IF(F258=\"250G\",0.25,IF(F258=\"500G\",0.5,IF(F258=\"1 Kilo\",1,IF(F258=\"10G\",0.01,IF(F258=\"50G\",0.05,F258))))))","v":0},{"$f":"G258","v":0},{"$f":"G258*C258","v":0},{"$f":"VLOOKUP(A258,Import!A:N,13)","v":"Actibio"}]
["Fondants Parfumés","3,50€","3.5",{"$f":"VLOOKUP(A259,Import!A:D,4)","v":"Alimentaire Vrac"},false,0,0,{"$f":"IFERROR(__xludf.DUMMYFUNCTION(\"TO_PURE_NUMBER(G259)\"),0)","v":0},{"$error":"#VALUE!"}]
["Fourchette réutilisable","2,00€","2",{"$f":"VLOOKUP(A260,Import!A:D,4)","v":"Zéros déchets et Bocaux"},false,0,0,{"$f":"IFERROR(__xludf.DUMMYFUNCTION(\"TO_PURE_NUMBER(G260)\"),0)","v":0},0]
["Furoshikis - Taille M","6,50€","6.5",{"$f":"VLOOKUP(A261,Import!A:D,4)","v":"Zéros déchets et Bocaux"},false,0,{"$f":"IF(F261=\"100G\",0.1,IF(F261=\"250G\",0.25,IF(F261=\"500G\",0.5,IF(F261=\"1 Kilo\",1,IF(F261=\"10G\",0.01,IF(F261=\"50G\",0.05,F261))))))","v":0},{"$f":"IFERROR(__xludf.DUMMYFUNCTION(\"TO_PURE_NUMBER(G261)\"),0)","v":0},{"$f":"G261*C261","v":{"$error":"#VALUE!"}},{"$f":"VLOOKUP(A261,Import!A:N,14)","v":"🇫🇷 France - Annemasse (74)"}]
["Furoshikis - Taille S","5,00€","5",{"$f":"VLOOKUP(A262,Import!A:D,4)","v":"Zéros déchets et Bocaux"},false,0,0,{"$f":"IFERROR(__xludf.DUMMYFUNCTION(\"TO_PURE_NUMBER(G262)\"),0)","v":0},0,{"$f":"VLOOKUP(A262,Import!A:N,14)","v":"🇫🇷 France - Annemasse (74)"}]
["Fusilli Riz Quinoa ","12,00€ / kg","12",{"$f":"VLOOKUP(A263,Import!A:D,4,FALSE)","v":"Alimentaire Vrac"},false,0,0,{"$f":"G263","v":0},{"$f":"G263*C263","v":0},{"$f":"VLOOKUP(A263,Import!A:N,13)","v":"Scop Epice"}]
["Gamme anti âge - Contour des yeux - Endro ",9.9,"9.90",{"$f":"VLOOKUP(A264,Import!A:D,4)","v":"Produits d'hygiène coporelle"},false,0,{"$f":"IF(F264=\"100G\",0.1,IF(F264=\"250G\",0.25,IF(F264=\"500G\",0.5,IF(F264=\"1 Kilo\",1,F264))))","v":0},{"$f":"IFERROR(__xludf.DUMMYFUNCTION(\"TO_PURE_NUMBER(G264)\"),0)","v":0},{"$error":"#VALUE!"},{"$f":"VLOOKUP(A264,Import!A:N,13)","v":0}]
["Gamme anti âge - Crème - Endro ",19.899999999999999,"19.90",{"$f":"VLOOKUP(A265,Import!A:D,4)","v":"Produits d'hygiène coporelle"},false,0,0,{"$f":"IFERROR(__xludf.DUMMYFUNCTION(\"TO_PURE_NUMBER(G265)\"),0)","v":0},{"$error":"#VALUE!"},{"$f":"VLOOKUP(A265,Import!A:N,13)","v":0}]
["Gamme anti âge - Sérum- Endro ",24.9,"24.90",{"$f":"VLOOKUP(A266,Import!A:D,4)","v":"Produits d'hygiène coporelle"},false,0,{"$f":"IF(F266=\"100G\",0.1,IF(F266=\"250G\",0.25,IF(F266=\"500G\",0.5,IF(F266=\"1 Kilo\",1,IF(F266=\"10G\",0.01,IF(F266=\"50G\",0.05,F266))))))","v":0},{"$f":"IFERROR(__xludf.DUMMYFUNCTION(\"TO_PURE_NUMBER(G266)\"),0)","v":0},{"$f":"G266*C266","v":{"$error":"#VALUE!"}},{"$f":"VLOOKUP(A266,Import!A:N,14)","v":0}]
["Gant de toilette","5,50€","5.5",{"$f":"VLOOKUP(A267,Import!A:D,4)","v":"Zéros déchets et Bocaux"},false,0,{"$f":"IF(F267=\"100G\",0.1,IF(F267=\"250G\",0.25,IF(F267=\"500G\",0.5,IF(F267=\"1 Kilo\",1,F267))))","v":0},{"$f":"IFERROR(__xludf.DUMMYFUNCTION(\"TO_PURE_NUMBER(G267)\"),0)","v":0},{"$error":"#VALUE!"},{"$f":"VLOOKUP(A267,Import!A:N,13)","v":"Alterosac"}]
["Gel douche vrac - Karité verveine","8,30€ / kg","8.3",{"$f":"VLOOKUP(A268,Import!A:D,4)","v":"Produits d'entretiens"},false,0,0,{"$f":"IFERROR(__xludf.DUMMYFUNCTION(\"TO_PURE_NUMBER(G268)\"),0)","v":0},{"$error":"#VALUE!"}]
["Gel WC - Vrac","5,90€ / kg","5.9",{"$f":"VLOOKUP(A269,Import!A:D,4)","v":"Produits d'entretiens"},false,0,{"$f":"IF(F269=\"100G\",0.1,IF(F269=\"250G\",0.25,IF(F269=\"500G\",0.5,IF(F269=\"1 Kilo\",1,IF(F269=\"10G\",0.01,IF(F269=\"50G\",0.05,F269))))))","v":0},{"$f":"IFERROR(__xludf.DUMMYFUNCTION(\"TO_PURE_NUMBER(G269)\"),0)","v":0},{"$f":"G269*C269","v":{"$error":"#VALUE!"}},{"$f":"VLOOKUP(A269,Import!A:N,14)","v":"🇫🇷 France - Malataverne (26)"}]
["Gingembre Confit irréguliers ","14,50€ / kg","14,5",{"$f":"VLOOKUP(A270,Import!A:D,4,FALSE)","v":"Alimentaire Vrac"},false,0,{"$f":"IF(F270=\"100G\",0.1,IF(F270=\"250G\",0.25,IF(F270=\"500G\",0.5,IF(F270=\"1 Kilo\",1,IF(F270=\"10G\",0.01,IF(F270=\"50G\",0.05,F270))))))","v":0},{"$f":"G270","v":0},{"$f":"G270*C270","v":0}]
["Gingembre en Poudre ","50,00€ / kg","50",{"$f":"VLOOKUP(A271,Import!A:D,4,FALSE)","v":"Alimentaire Vrac"},false,0,0,0,0]
["Gommage visage Douce Aloe","14,90€","14.9",{"$f":"VLOOKUP(A272,Import!A:D,4)","v":"Produits d'hygiène coporelle"},false,0,{"$f":"IF(F272=\"100G\",0.1,IF(F272=\"250G\",0.25,IF(F272=\"500G\",0.5,IF(F272=\"1 Kilo\",1,IF(F272=\"10G\",0.01,IF(F272=\"50G\",0.05,F272))))))","v":0},{"$f":"IFERROR(__xludf.DUMMYFUNCTION(\"TO_PURE_NUMBER(G272)\"),0)","v":0},{"$f":"G272*C272","v":{"$error":"#VALUE!"}},{"$f":"VLOOKUP(A272,Import!A:N,14)","v":"🇫🇷 France - Lannion (22)"}]
["Goupillon","1,15€","1.15",{"$f":"VLOOKUP(A273,Import!A:D,4)","v":"Produits d'hygiène coporelle"},false,0,0,{"$f":"IFERROR(__xludf.DUMMYFUNCTION(\"TO_PURE_NUMBER(G273)\"),0)","v":0},{"$error":"#VALUE!"},{"$f":"VLOOKUP(A273,Import!A:N,14)","v":"🇫🇷 France - Lannion (22)"}]
["Graines de Chia ","50€ / kg","5",{"$f":"VLOOKUP(A274,Import!A:D,4,FALSE)","v":"Alimentaire Vrac"},false,0,0,{"$f":"G274","v":0},0]
["Graines de Courges Foncées ","18,50€ / kg","18,5",{"$f":"VLOOKUP(A275,Import!A:D,4,FALSE)","v":"Alimentaire Vrac"},false,0,0,0,0]
["Graines de Lin Brun ","6,20€ / kg","6,2",{"$f":"VLOOKUP(A276,Import!A:D,4,FALSE)","v":"Alimentaire Vrac"},false,0,0,0,0]
["Graines de Pavot","135€ / kg","135",{"$f":"VLOOKUP(A277,Import!A:D,4,FALSE)","v":"Alimentaire Vrac"},false,0,0,0,0]
["Graines de Sésame ","30€ / kg","30",{"$f":"VLOOKUP(A278,Import!A:D,4,FALSE)","v":"Alimentaire Vrac"},false,0,0,0,0,{"$f":"VLOOKUP(A278,Import!A:N,14)","v":"🇪🇹 Ethiopie"}]
["Haricots Blancs ","6,00€ / kg","6",{"$f":"VLOOKUP(A279,Import!A:D,4,FALSE)","v":"Alimentaire Vrac"},false,0,0,0,0,{"$f":"VLOOKUP(A279,Import!A:N,14)","v":"🇹🇷 Turquie"}]
["Haricots Noirs","7,50€ / kg","7,5",{"$f":"VLOOKUP(A280,Import!A:D,4,FALSE)","v":"Alimentaire Vrac"},false,0,0,0,0,{"$f":"VLOOKUP(A280,Import!A:N,14)","v":"🇨🇳 Chine"}]
["Haricots Rouges ","7,50€ /kg","7,5",{"$f":"VLOOKUP(A281,Import!A:D,4,FALSE)","v":"Alimentaire Vrac"},false,0,0,0,0,{"$f":"VLOOKUP(A281,Import!A:N,14)","v":"🇫🇷 France"}]
["Herbes de provence ","54,00€ / kg","54",{"$f":"VLOOKUP(A282,Import!A:D,4,FALSE)","v":"Alimentaire Vrac"},false,0,0,0,0,{"$f":"VLOOKUP(A282,Import!A:N,14)","v":"🇫🇷 France "}]
["Huile d’Olive extra vierge ","9€ / kg",9,{"$f":"VLOOKUP(A283,Import!A:D,4,FALSE)","v":"Alimentaire Vrac"},false,0,0,0,0]
["Huile d’olive Luce - 1L",10.9,"9.5",{"$f":"VLOOKUP(A284,Import!A:D,4)","v":"Alimentaire Conditionné"},false,0,{"$f":"IF(F284=\"100G\",0.1,IF(F284=\"250G\",0.25,IF(F284=\"500G\",0.5,IF(F284=\"1 Kilo\",1,F284))))","v":0},{"$f":"IFERROR(__xludf.DUMMYFUNCTION(\"TO_PURE_NUMBER(G284)\"),0)","v":0},{"$error":"#VALUE!"}]
["Huile de Cameline - 25cl","10,50€","10.5",{"$f":"VLOOKUP(A285,Import!A:D,4)","v":"Alimentaire Conditionné"},false,0,0,{"$f":"IFERROR(__xludf.DUMMYFUNCTION(\"TO_PURE_NUMBER(G285)\"),0)","v":0},{"$error":"#VALUE!"}]
["Huile de Chanvre - 25cl","11,50€","11.5",{"$f":"VLOOKUP(A286,Import!A:D,4)","v":"Alimentaire Conditionné"},false,0,0,{"$f":"IFERROR(__xludf.DUMMYFUNCTION(\"TO_PURE_NUMBER(G286)\"),0)","v":0},{"$error":"#VALUE!"}]
["Huile de Coco vierge","12,00€ / kg","12",{"$f":"VLOOKUP(A287,Import!A:D,4,FALSE)","v":"Alimentaire Vrac"},false,0,{"$f":"IF(F287=\"100G\",0.1,IF(F287=\"250G\",0.25,IF(F287=\"500G\",0.5,IF(F287=\"1 Kilo\",1,IF(F287=\"10G\",0.01,IF(F287=\"50G\",0.05,F287))))))","v":0},{"$f":"G287","v":0},{"$f":"G287*C287","v":0},{"$f":"VLOOKUP(A287,Import!A:N,13)","v":"Actibio"}]
["Huile de Colza - 1L","14,00€","14",{"$f":"VLOOKUP(A288,Import!A:D,4)","v":"Alimentaire Conditionné"},false,0,0,{"$f":"IFERROR(__xludf.DUMMYFUNCTION(\"TO_PURE_NUMBER(G288)\"),0)","v":0},0,{"$f":"VLOOKUP(A288,Import!A:N,13)","v":"Clos de Galène"}]
["Huile de Colza - 50cl","7,00€","7",{"$f":"VLOOKUP(A289,Import!A:D,4)","v":"Alimentaire Conditionné"},false,0,0,{"$f":"IFERROR(__xludf.DUMMYFUNCTION(\"TO_PURE_NUMBER(G289)\"),0)","v":0},0,{"$f":"VLOOKUP(A289,Import!A:N,13)","v":"Clos de Galène"}]
["Huile de Colza - en vrac ","11,00€","11",{"$f":"VLOOKUP(A290,Import!A:D,4,FALSE)","v":"Alimentaire Vrac"},false,0,{"$f":"IF(F290=\"100G\",0.1,IF(F290=\"250G\",0.25,IF(F290=\"500G\",0.5,IF(F290=\"1 Kilo\",1,IF(F290=\"10G\",0.01,IF(F290=\"50G\",0.05,F290))))))","v":0},{"$f":"G290","v":0},{"$f":"G290*C290","v":0}]
["Huile de Lin - 25cl ","7,50€","7.5",{"$f":"VLOOKUP(A291,Import!A:D,4)","v":"Alimentaire Conditionné"},false,0,0,{"$f":"IFERROR(__xludf.DUMMYFUNCTION(\"TO_PURE_NUMBER(G291)\"),0)","v":0},{"$error":"#VALUE!"}]
["Huile de soin Antixiodante - Clemence & Vivien ","11,90€","11.9",{"$f":"VLOOKUP(A292,Import!A:D,4)","v":"Produits d'hygiène coporelle"},false,0,0,{"$f":"IFERROR(__xludf.DUMMYFUNCTION(\"TO_PURE_NUMBER(G292)\"),0)","v":0},{"$error":"#VALUE!"}]
["Huile de soin Peaux Mixtes - Clemence & Vivien ","11,90€","11.9",{"$f":"VLOOKUP(A293,Import!A:D,4)","v":"Produits d'hygiène coporelle"},false,0,0,{"$f":"IFERROR(__xludf.DUMMYFUNCTION(\"TO_PURE_NUMBER(G293)\"),0)","v":0},{"$error":"#VALUE!"}]
["Huile de soin Peaux Sèches - Clemence & Vivien ","11,90€","11.9",{"$f":"VLOOKUP(A294,Import!A:D,4)","v":"Produits d'hygiène coporelle"},false,0,0,{"$f":"IFERROR(__xludf.DUMMYFUNCTION(\"TO_PURE_NUMBER(G294)\"),0)","v":0},{"$error":"#VALUE!"},{"$f":"VLOOKUP(A294,Import!A:N,13)","v":"Clémence & Vivien"}]
["Huile de Tournesol - 1L","12,00€","12",{"$f":"VLOOKUP(A295,Import!A:D,4)","v":"Alimentaire Conditionné"},false,0,0,{"$f":"IFERROR(__xludf.DUMMYFUNCTION(\"TO_PURE_NUMBER(G295)\"),0)","v":0},0,{"$f":"VLOOKUP(A295,Import!A:N,13)","v":"Clos de Galène"}]
["Huile de Tournesol - 50cl","6,00€","6",{"$f":"VLOOKUP(A296,Import!A:D,4)","v":"Alimentaire Conditionné"},false,0,0,{"$f":"IFERROR(__xludf.DUMMYFUNCTION(\"TO_PURE_NUMBER(G296)\"),0)","v":0},0,{"$f":"VLOOKUP(A296,Import!A:N,13)","v":"Clos de Galène"}]
["Huile de Tournesol - en vrac ","7,90€ / kg","7,9",{"$f":"VLOOKUP(A297,Import!A:D,4,FALSE)","v":"Alimentaire Vrac"},false,0,{"$f":"IF(F297=\"100G\",0.1,IF(F297=\"250G\",0.25,IF(F297=\"500G\",0.5,IF(F297=\"1 Kilo\",1,IF(F297=\"10G\",0.01,IF(F297=\"50G\",0.05,F297))))))","v":0},{"$f":"G297","v":0},{"$f":"G297*C297","v":0},{"$f":"VLOOKUP(A297,Import!A:N,14)","v":"🇫🇷 France - Sandrans (01)"}]
["Huile démaquillante toute douce Amande - Clemence & Vivien ","11,90€","11.9",{"$f":"VLOOKUP(A298,Import!A:D,4)","v":"Produits d'hygiène coporelle"},false,0,{"$f":"IF(F298=\"100G\",0.1,IF(F298=\"250G\",0.25,IF(F298=\"500G\",0.5,IF(F298=\"1 Kilo\",1,F298))))","v":0},{"$f":"IFERROR(__xludf.DUMMYFUNCTION(\"TO_PURE_NUMBER(G298)\"),0)","v":0},{"$error":"#VALUE!"},{"$f":"VLOOKUP(A298,Import!A:N,13)","v":"Clémence & Vivien"}]
["Huile démaquillante toute douce Rose-Muguet - Clemence & Vivien ","11,90€","11.9",{"$f":"VLOOKUP(A299,Import!A:D,4)","v":"Produits d'hygiène coporelle"},false,0,0,{"$f":"IFERROR(__xludf.DUMMYFUNCTION(\"TO_PURE_NUMBER(G299)\"),0)","v":0},{"$error":"#VALUE!"},{"$f":"VLOOKUP(A299,Import!A:N,13)","v":"Clémence & Vivien"}]
["Huile Sèche 3 en 1 - Endro","19,90€","19.9",{"$f":"VLOOKUP(A300,Import!A:D,4)","v":"Produits d'hygiène coporelle"},false,0,0,{"$f":"IFERROR(__xludf.DUMMYFUNCTION(\"TO_PURE_NUMBER(G300)\"),0)","v":0},{"$error":"#VALUE!"},{"$f":"VLOOKUP(A300,Import!A:N,13)","v":"Endro"}]
["Jus d’orange du Maroc - 75cl","4€","4",{"$f":"VLOOKUP(A301,Import!A:D,4)","v":"Boissons conditionnées"},false,0,0,{"$f":"IFERROR(__xludf.DUMMYFUNCTION(\"TO_PURE_NUMBER(G301)\"),0)","v":0},0,{"$f":"VLOOKUP(A301,Import!A:N,13)","v":"Biodis"}]
["Jus de citron Sicile - 1L","5,90€","5.9",{"$f":"VLOOKUP(A302,Import!A:D,4)","v":"Boissons conditionnées"},false,0,{"$f":"IF(F302=\"100G\",0.1,IF(F302=\"250G\",0.25,IF(F302=\"500G\",0.5,IF(F302=\"1 Kilo\",1,IF(F302=\"10G\",0.01,IF(F302=\"50G\",0.05,F302))))))","v":0},{"$f":"IFERROR(__xludf.DUMMYFUNCTION(\"TO_PURE_NUMBER(G302)\"),0)","v":0},{"$f":"G302*C302","v":{"$error":"#VALUE!"}},{"$f":"VLOOKUP(A302,Import!A:N,14)","v":"🇮🇹 Italie"}]
["Jus de citron Sicile - 50cl","3,50€","3.5",{"$f":"VLOOKUP(A303,Import!A:D,4)","v":"Boissons conditionnées"},false,0,0,{"$f":"IFERROR(__xludf.DUMMYFUNCTION(\"TO_PURE_NUMBER(G303)\"),1)","v":1},{"$error":"#VALUE!"},{"$f":"VLOOKUP(A303,Import!A:N,14)","v":"🇮🇹 Italie"}]
["Jus de Pamplemousse rose Demeter - 75cl","4,50€","4.5",{"$f":"VLOOKUP(A304,Import!A:D,4)","v":"Boissons conditionnées"},false,0,{"$f":"IF(F304=\"100G\",0.1,IF(F304=\"250G\",0.25,IF(F304=\"500G\",0.5,IF(F304=\"1 Kilo\",1,F304))))","v":0},{"$f":"IFERROR(__xludf.DUMMYFUNCTION(\"TO_PURE_NUMBER(G304)\"),0)","v":0},{"$error":"#VALUE!"},{"$f":"VLOOKUP(A304,Import!A:N,13)","v":"Biodis"}]
["Jus de Pomme 1L ","4,50€","4.5",{"$f":"VLOOKUP(A305,Import!A:D,4)","v":"Boissons conditionnées"},false,0,{"$f":"IF(F305=\"100G\",0.1,IF(F305=\"250G\",0.25,IF(F305=\"500G\",0.5,IF(F305=\"1 Kilo\",1,IF(F305=\"10G\",0.01,IF(F305=\"50G\",0.05,F305))))))","v":0},{"$f":"IFERROR(__xludf.DUMMYFUNCTION(\"TO_PURE_NUMBER(G305)\"),0)","v":0},{"$f":"G305*C305","v":{"$error":"#VALUE!"}},{"$f":"VLOOKUP(A305,Import!A:N,14)","v":"🇫🇷 France"}]
["Jus de Pomme Cassis - 75cl","4€","4",{"$f":"VLOOKUP(A306,Import!A:D,4)","v":"Boissons conditionnées"},false,0,{"$f":"IF(F306=\"100G\",0.1,IF(F306=\"250G\",0.25,IF(F306=\"500G\",0.5,IF(F306=\"1 Kilo\",1,F306))))","v":0},{"$f":"IFERROR(__xludf.DUMMYFUNCTION(\"TO_PURE_NUMBER(G306)\"),0)","v":0},0,{"$f":"VLOOKUP(A306,Import!A:N,13)","v":"Biodis"}]
["Jus de Raisin 1L","4,50€","4.5",{"$f":"VLOOKUP(A307,Import!A:D,4)","v":"Boissons conditionnées"},false,0,0,{"$f":"IFERROR(__xludf.DUMMYFUNCTION(\"TO_PURE_NUMBER(G307)\"),0)","v":0},{"$error":"#VALUE!"},{"$f":"VLOOKUP(A307,Import!A:N,13)","v":"Relais local"}]
["Jus Pomme Cassis 1L ","4,50€","4.5",{"$f":"VLOOKUP(A308,Import!A:D,4)","v":"Boissons conditionnées"},false,0,0,{"$f":"IFERROR(__xludf.DUMMYFUNCTION(\"TO_PURE_NUMBER(G308)\"),0)","v":0},{"$error":"#VALUE!"}]
["Jus Pomme Framboise - 1L","4,90€","4.9",{"$f":"VLOOKUP(A309,Import!A:D,4)","v":"Boissons conditionnées"},false,0,0,{"$f":"IFERROR(__xludf.DUMMYFUNCTION(\"TO_PURE_NUMBER(G309)\"),0)","v":0},{"$error":"#VALUE!"}]
["Ketchup bouteille - 500g","3,50€","3.5",{"$f":"VLOOKUP(A310,Import!A:D,4)","v":"Alimentaire Conditionné"},false,0,{"$f":"IF(F310=\"100G\",0.1,IF(F310=\"250G\",0.25,IF(F310=\"500G\",0.5,IF(F310=\"1 Kilo\",1,IF(F310=\"10G\",0.01,IF(F310=\"50G\",0.05,F310))))))","v":0},{"$f":"IFERROR(__xludf.DUMMYFUNCTION(\"TO_PURE_NUMBER(G310)\"),0)","v":0},{"$f":"G310*C310","v":{"$error":"#VALUE!"}},{"$f":"VLOOKUP(A310,Import!A:N,14)","v":"🇮🇹 Italie"}]
["Kombucha - Citron Gingembre - 33cl","4,50€","4.5",{"$f":"VLOOKUP(A311,Import!A:D,4)","v":"Boissons conditionnées"},false,0,0,{"$f":"IFERROR(__xludf.DUMMYFUNCTION(\"TO_PURE_NUMBER(G311)\"),0)","v":0},{"$error":"#VALUE!"},{"$f":"VLOOKUP(A311,Import!A:N,14)","v":"🇫🇷 France - Decines (69)"}]
["Kombucha - Menthe - 33cl","4,50€","4.5",{"$f":"VLOOKUP(A312,Import!A:D,4)","v":"Boissons conditionnées"},false,0,0,{"$f":"IFERROR(__xludf.DUMMYFUNCTION(\"TO_PURE_NUMBER(G312)\"),0)","v":0},{"$error":"#VALUE!"},{"$f":"VLOOKUP(A312,Import!A:N,14)","v":"🇫🇷 France - Decines (69)"}]
["Kombucha - Nature - 33cl","4,50€","4.5",{"$f":"VLOOKUP(A313,Import!A:D,4)","v":"Boissons conditionnées"},false,0,0,{"$f":"IFERROR(__xludf.DUMMYFUNCTION(\"TO_PURE_NUMBER(G313)\"),1)","v":1},{"$error":"#VALUE!"},{"$f":"VLOOKUP(A313,Import!A:N,14)","v":"🇫🇷 France - Decines (69)"}]
["Lait après-soleil - 100ml","14,90€","14.9",{"$f":"VLOOKUP(A314,Import!A:D,4)","v":"Produits d'hygiène coporelle"},false,0,0,{"$f":"IFERROR(__xludf.DUMMYFUNCTION(\"TO_PURE_NUMBER(G314)\"),0)","v":0},{"$error":"#VALUE!"},{"$f":"VLOOKUP(A314,Import!A:N,14)","v":"🇫🇷 France - Lannion (22)"}]
["Lait après-soleil - 50ml","9,90€","9.9",{"$f":"VLOOKUP(A315,Import!A:D,4)","v":"Produits d'hygiène coporelle"},false,0,0,{"$f":"IFERROR(__xludf.DUMMYFUNCTION(\"TO_PURE_NUMBER(G315)\"),0)","v":0},{"$error":"#VALUE!"},{"$f":"VLOOKUP(A315,Import!A:N,14)","v":"🇫🇷 France - Lannion (22)"}]
["Lait corps au beurre de Karité Vrac","31,00€","31",{"$f":"VLOOKUP(A316,Import!A:D,4)","v":"Produits d'hygiène coporelle"},false,0,0,{"$f":"IFERROR(__xludf.DUMMYFUNCTION(\"TO_PURE_NUMBER(G316)\"),0)","v":0},0,{"$f":"VLOOKUP(A316,Import!A:N,14)","v":"🇫🇷 France - La Ciotat (13)"}]
["Lait UHT 1/2 écrémé - 1L","1,50€","1.5",{"$f":"VLOOKUP(A317,Import!A:D,4)","v":"Boissons conditionnées"},false,0,0,{"$f":"IFERROR(__xludf.DUMMYFUNCTION(\"TO_PURE_NUMBER(G317)\"),0)","v":0},{"$error":"#VALUE!"},{"$f":"VLOOKUP(A317,Import!A:N,14)","v":"🇫🇷 France "}]
["Lait UHT entier - 1L","1,95€","1.95",{"$f":"VLOOKUP(A318,Import!A:D,4)","v":"Boissons conditionnées"},false,0,0,{"$f":"IFERROR(__xludf.DUMMYFUNCTION(\"TO_PURE_NUMBER(G318)\"),0)","v":0},{"$error":"#VALUE!"},{"$f":"VLOOKUP(A318,Import!A:N,14)","v":"🇫🇷 France "}]
["Lentilles Corail"," 8,50€ / kg","8,5",{"$f":"VLOOKUP(A319,Import!A:D,4,FALSE)","v":"Alimentaire Vrac"},false,0,0,{"$f":"G319","v":0},{"$f":"G319*C319","v":0},{"$f":"VLOOKUP(A319,Import!A:N,14)","v":"🇫🇷 France"}]
["Lessive Fleur à Savon ","4,35€ / kg","4.35",{"$f":"VLOOKUP(A320,Import!A:D,4)","v":"Produits d'entretiens"},false,0,0,{"$f":"IFERROR(__xludf.DUMMYFUNCTION(\"TO_PURE_NUMBER(G320)\"),0)","v":0},{"$error":"#VALUE!"},{"$f":"VLOOKUP(A320,Import!A:N,14)","v":"🇫🇷 France - Malataverne (26)"}]
["Lessive Hypoallergénique","5,90€ / kg","5.9",{"$f":"VLOOKUP(A321,Import!A:D,4)","v":"Produits d'entretiens"},false,0,0,{"$f":"IFERROR(__xludf.DUMMYFUNCTION(\"TO_PURE_NUMBER(G321)\"),0)","v":0},{"$error":"#VALUE!"},{"$f":"VLOOKUP(A321,Import!A:N,14)","v":"🇫🇷 France - Malataverne (26)"}]
["Levure Paillettes Maltées","9,50€ / kg","9,5",{"$f":"VLOOKUP(A322,Import!A:D,4,FALSE)","v":"Alimentaire Vrac"},false,0,0,{"$f":"G322","v":0},{"$f":"G322*C322","v":0},{"$f":"VLOOKUP(A322,Import!A:N,14)","v":"🇩🇪 Allemagne"}]
["Limonade Bulles d’orange - 25cl","3,00 €","3",{"$f":"VLOOKUP(A323,Import!A:D,4)","v":"Boissons conditionnées"},false,0,{"$f":"IF(F323=\"100G\",0.1,IF(F323=\"250G\",0.25,IF(F323=\"500G\",0.5,IF(F323=\"1 Kilo\",1,F323))))","v":0},{"$f":"IFERROR(__xludf.DUMMYFUNCTION(\"TO_PURE_NUMBER(G323)\"),0)","v":0},0,{"$f":"VLOOKUP(A323,Import!A:N,13)","v":"Scop Epice"}]
["Limonade Sucre de Canne 1L","4€","4",{"$f":"VLOOKUP(A324,Import!A:D,4)","v":"Boissons conditionnées"},false,0,0,{"$f":"IFERROR(__xludf.DUMMYFUNCTION(\"TO_PURE_NUMBER(G324)\"),0)","v":0},0]
["Liquide Vaisselle Main - Vrac ","3,80€ / kg","3.8",{"$f":"VLOOKUP(A325,Import!A:D,4)","v":"Produits d'entretiens"},false,0,0,{"$f":"IFERROR(__xludf.DUMMYFUNCTION(\"TO_PURE_NUMBER(G325)\"),0)","v":0},{"$error":"#VALUE!"}]
["Maïs Popcorn ","4,50€ / kg","4,5",{"$f":"VLOOKUP(A326,Import!A:D,4,FALSE)","v":"Alimentaire Vrac"},false,0,{"$f":"IF(F326=\"100G\",0.1,IF(F326=\"250G\",0.25,IF(F326=\"500G\",0.5,IF(F326=\"1 Kilo\",1,IF(F326=\"10G\",0.01,IF(F326=\"50G\",0.05,F326))))))","v":0},{"$f":"G326","v":0},{"$f":"G326*C326","v":0},{"$f":"VLOOKUP(A326,Import!A:N,13)","v":"Actibio"}]
["Mangues séchées","27,50€ / kg","27,5",{"$f":"VLOOKUP(A327,Import!A:D,4,FALSE)","v":"Alimentaire Vrac"},false,0,0,0,0,{"$f":"VLOOKUP(A327,Import!A:N,13)","v":0}]
["Masque Visage Purifiant - Endro","24,90 €","24.9",{"$f":"VLOOKUP(A328,Import!A:D,4)","v":"Produits d'hygiène coporelle"},false,0,0,{"$f":"IFERROR(__xludf.DUMMYFUNCTION(\"TO_PURE_NUMBER(G328)\"),0)","v":0},{"$error":"#VALUE!"}]
["Maté Nature - Vrac","45€ / kg","45",{"$f":"VLOOKUP(A329,Import!A:D,4)","v":"Boisson en Vrac"},false,0,0,{"$f":"IFERROR(__xludf.DUMMYFUNCTION(\"TO_PURE_NUMBER(G329)\"),0)","v":0},0]
["Mayonnaise dijonnaise - 185g","3,50 €","3.5",{"$f":"VLOOKUP(A330,Import!A:D,4)","v":"Alimentaire Conditionné"},false,0,0,{"$f":"IFERROR(__xludf.DUMMYFUNCTION(\"TO_PURE_NUMBER(G330)\"),0)","v":0},{"$error":"#VALUE!"}]
["Mayonnaise nature - 325g","5€","5",{"$f":"VLOOKUP(A331,Import!A:D,4)","v":"Alimentaire Conditionné"},false,0,0,{"$f":"IFERROR(__xludf.DUMMYFUNCTION(\"TO_PURE_NUMBER(G331)\"),0)","v":0},0,{"$f":"VLOOKUP(A331,Import!A:N,13)","v":"Scop Epice"}]
["Mélange Détox","20,50 € / kg","20,5",{"$f":"VLOOKUP(A332,Import!A:D,4,FALSE)","v":"Alimentaire Vrac"},false,0,{"$f":"IF(F332=\"100G\",0.1,IF(F332=\"250G\",0.25,IF(F332=\"500G\",0.5,IF(F332=\"1 Kilo\",1,IF(F332=\"10G\",0.01,IF(F332=\"50G\",0.05,F332))))))","v":0},{"$f":"G332","v":0},{"$f":"G332*C332","v":0},{"$f":"VLOOKUP(A332,Import!A:N,14)","v":"NON 🇪🇺 UE"}]
["Mélange Energie","18,50 € /kg","18,5",{"$f":"VLOOKUP(A333,Import!A:D,4,FALSE)","v":"Alimentaire Vrac"},false,0,0,0,0,{"$f":"VLOOKUP(A333,Import!A:N,14)","v":"NON 🇪🇺 UE"}]
["Mélange Exotique","18,50 € / kg","18,5",{"$f":"VLOOKUP(A334,Import!A:D,4,FALSE)","v":"Alimentaire Vrac"},false,0,0,0,0]
["Mélange Rando ","18,50 € / kg","18,5",{"$f":"VLOOKUP(A335,Import!A:D,4,FALSE)","v":"Alimentaire Vrac"},false,0,0,0,0]
["Mélange Salade","15,50€/kg","15,5",{"$f":"VLOOKUP(A336,Import!A:D,4,FALSE)","v":"Alimentaire Vrac"},false,0,0,0,0,{"$f":"VLOOKUP(A336,Import!A:N,13)","v":0}]
["Miel d’Acacia - 250g","6,90 €","6.9",{"$f":"VLOOKUP(A337,Import!A:D,4)","v":"Alimentaire Conditionné"},false,0,{"$f":"IF(F337=\"100G\",0.1,IF(F337=\"250G\",0.25,IF(F337=\"500G\",0.5,IF(F337=\"1 Kilo\",1,F337))))","v":0},{"$f":"IFERROR(__xludf.DUMMYFUNCTION(\"TO_PURE_NUMBER(G337)\"),0)","v":0},{"$error":"#VALUE!"},{"$f":"VLOOKUP(A337,Import!A:N,13)","v":"Olivier Dutang"}]
["Miel d’Acacia - 500g","12,50 €","12.5",{"$f":"VLOOKUP(A338,Import!A:D,4)","v":"Alimentaire Conditionné"},false,0,{"$f":"IF(F338=\"100G\",0.1,IF(F338=\"250G\",0.25,IF(F338=\"500G\",0.5,IF(F338=\"1 Kilo\",1,IF(F338=\"10G\",0.01,IF(F338=\"50G\",0.05,F338))))))","v":0},{"$f":"IFERROR(__xludf.DUMMYFUNCTION(\"TO_PURE_NUMBER(G338)\"),0)","v":0},{"$f":"G338*C338","v":{"$error":"#VALUE!"}},{"$f":"VLOOKUP(A338,Import!A:N,14)","v":"🇫🇷 France - Neuville les Dames (01)"}]
["Miel de Lavande - 250g","8,50 €","8.5",{"$f":"VLOOKUP(A339,Import!A:D,4)","v":"Alimentaire Conditionné"},false,0,{"$f":"IF(F339=\"100G\",0.1,IF(F339=\"250G\",0.25,IF(F339=\"500G\",0.5,IF(F339=\"1 Kilo\",1,F339))))","v":0},{"$f":"IFERROR(__xludf.DUMMYFUNCTION(\"TO_PURE_NUMBER(G339)\"),0)","v":0},{"$error":"#VALUE!"}]
["Miel de Lavande - 500g","14,90 €","14.9",{"$f":"VLOOKUP(A340,Import!A:D,4)","v":"Alimentaire Conditionné"},false,0,0,{"$f":"IFERROR(__xludf.DUMMYFUNCTION(\"TO_PURE_NUMBER(G340)\"),0)","v":0},{"$error":"#VALUE!"}]
["Miel de Printemps - 250g","6,90 €","6.9",{"$f":"VLOOKUP(A341,Import!A:D,4)","v":"Alimentaire Conditionné"},false,0,0,{"$f":"IFERROR(__xludf.DUMMYFUNCTION(\"TO_PURE_NUMBER(G341)\"),0)","v":0},{"$error":"#VALUE!"}]
["Miel de Printemps - 500g","12€","12",{"$f":"VLOOKUP(A342,Import!A:D,4)","v":"Alimentaire Conditionné"},false,0,{"$f":"IF(F342=\"100G\",0.1,IF(F342=\"250G\",0.25,IF(F342=\"500G\",0.5,IF(F342=\"1 Kilo\",1,IF(F342=\"10G\",0.01,IF(F342=\"50G\",0.05,F342))))))","v":0},{"$f":"IFERROR(__xludf.DUMMYFUNCTION(\"TO_PURE_NUMBER(G342)\"),0)","v":0},{"$f":"G342*C342","v":0},{"$f":"VLOOKUP(A342,Import!A:N,14)","v":"🇫🇷 France - Neuville les Dames (01)"}]
["Miel de Sapin - 250g","8,50 €","8.5",{"$f":"VLOOKUP(A343,Import!A:D,4)","v":"Alimentaire Conditionné"},false,0,0,{"$f":"IFERROR(__xludf.DUMMYFUNCTION(\"TO_PURE_NUMBER(G343)\"),1)","v":1},{"$error":"#VALUE!"},{"$f":"VLOOKUP(A343,Import!A:N,14)","v":"🇫🇷 France - Neuville les Dames (01)"}]
["Miel de Sapin - 500g","15,00 €","15",{"$f":"VLOOKUP(A344,Import!A:D,4)","v":"Alimentaire Conditionné"},false,0,{"$f":"IF(F344=\"100G\",0.1,IF(F344=\"250G\",0.25,IF(F344=\"500G\",0.5,IF(F344=\"1 Kilo\",1,F344))))","v":0},{"$f":"IFERROR(__xludf.DUMMYFUNCTION(\"TO_PURE_NUMBER(G344)\"),0)","v":0},0]
["Miel de Tilleul - 250g","7,50 €","7.5",{"$f":"VLOOKUP(A345,Import!A:D,4)","v":"Alimentaire Conditionné"},false,0,0,{"$f":"IFERROR(__xludf.DUMMYFUNCTION(\"TO_PURE_NUMBER(G345)\"),0)","v":0},{"$error":"#VALUE!"}]
["Miel de Tilleul - 500g","12,50 €","12.5",{"$f":"VLOOKUP(A346,Import!A:D,4)","v":"Alimentaire Conditionné"},false,0,0,{"$f":"IFERROR(__xludf.DUMMYFUNCTION(\"TO_PURE_NUMBER(G346)\"),0)","v":0},{"$error":"#VALUE!"},{"$f":"VLOOKUP(A346,Import!A:N,13)","v":"Olivier Dutang"}]
["Miel Polyfloral - 250g","6,50 €","6.5",{"$f":"VLOOKUP(A347,Import!A:D,4)","v":"Alimentaire Conditionné"},false,0,0,{"$f":"IFERROR(__xludf.DUMMYFUNCTION(\"TO_PURE_NUMBER(G347)\"),0)","v":0},{"$error":"#VALUE!"}]
["Miel Polyfloral - 500g","11,50 €","11.5",{"$f":"VLOOKUP(A348,Import!A:D,4)","v":"Alimentaire Conditionné"},false,0,0,{"$f":"IFERROR(__xludf.DUMMYFUNCTION(\"TO_PURE_NUMBER(G348)\"),0)","v":0},{"$error":"#VALUE!"},{"$f":"VLOOKUP(A348,Import!A:N,13)","v":"Olivier Dutang"}]
["Mini Filet à chute de savon","3,50 €","3.5",{"$f":"VLOOKUP(A349,Import!A:D,4)","v":"Zéros déchets et Bocaux"},false,0,{"$f":"IF(F349=\"100G\",0.1,IF(F349=\"250G\",0.25,IF(F349=\"500G\",0.5,IF(F349=\"1 Kilo\",1,IF(F349=\"10G\",0.01,IF(F349=\"50G\",0.05,F349))))))","v":0},{"$f":"IFERROR(__xludf.DUMMYFUNCTION(\"TO_PURE_NUMBER(G349)\"),0)","v":0},{"$f":"G349*C349","v":{"$error":"#VALUE!"}},{"$f":"VLOOKUP(A349,Import!A:N,14)","v":"🇫🇷 France - Annemasse (74)"}]
["Mouchoirs","9,50 €","9.5",{"$f":"VLOOKUP(A350,Import!A:D,4)","v":"Zéros déchets et Bocaux"},false,0,{"$f":"IF(F350=\"100G\",0.1,IF(F350=\"250G\",0.25,IF(F350=\"500G\",0.5,IF(F350=\"1 Kilo\",1,F350))))","v":0},{"$f":"IFERROR(__xludf.DUMMYFUNCTION(\"TO_PURE_NUMBER(G350)\"),0)","v":0},{"$error":"#VALUE!"},{"$f":"VLOOKUP(A350,Import!A:N,13)","v":"Alterosac"}]
["Moutarde à l’ancienne - 350g","4,20€","4.20",{"$f":"VLOOKUP(A351,Import!A:D,4)","v":"Alimentaire Conditionné"},false,0,0,{"$f":"IFERROR(__xludf.DUMMYFUNCTION(\"TO_PURE_NUMBER(G351)\"),0)","v":0},{"$error":"#VALUE!"},{"$f":"VLOOKUP(A351,Import!A:N,13)","v":"Scop Epice"}]
["Moutarde de Dijon - 350g","4,20€","4.2",{"$f":"VLOOKUP(A352,Import!A:D,4)","v":"Alimentaire Conditionné"},false,0,0,{"$f":"IFERROR(__xludf.DUMMYFUNCTION(\"TO_PURE_NUMBER(G352)\"),0)","v":0},{"$error":"#VALUE!"}]
["Muesli aux fruits","5,90 € / kg","5,9",{"$f":"VLOOKUP(A353,Import!A:D,4,FALSE)","v":"Alimentaire Vrac"},false,0,{"$f":"IF(F353=\"100G\",0.1,IF(F353=\"250G\",0.25,IF(F353=\"500G\",0.5,IF(F353=\"1 Kilo\",1,IF(F353=\"10G\",0.01,IF(F353=\"50G\",0.05,F353))))))","v":0},{"$f":"G353","v":0},{"$f":"G353*C353","v":0}]
["Muesli croustillant chocolat ","10,50 € / kg","10,5",{"$f":"VLOOKUP(A354,Import!A:D,4,FALSE)","v":"Alimentaire Vrac"},false,0,0,0,0,{"$f":"VLOOKUP(A354,Import!A:N,14)","v":"🇫🇷 France "}]
["Multi Usage - Vrac ",5.9,5.9,{"$f":"VLOOKUP(A355,Import!A:D,4)","v":"Produits d'entretiens"},false,0,{"$f":"IF(F355=\"100G\",0.1,IF(F355=\"250G\",0.25,IF(F355=\"500G\",0.5,IF(F355=\"1 Kilo\",1,IF(F355=\"10G\",0.01,IF(F355=\"50G\",0.05,F355))))))","v":0},{"$f":"IFERROR(__xludf.DUMMYFUNCTION(\"TO_PURE_NUMBER(G355)\"),0)","v":0},{"$f":"G355*C355","v":0},{"$f":"VLOOKUP(A355,Import!A:N,14)","v":"🇫🇷 France - Malataverne (26)"}]
["Muscade Noix Poudre ","76€ / kg","76",{"$f":"VLOOKUP(A356,Import!A:D,4,FALSE)","v":"Alimentaire Vrac"},false,0,0,{"$f":"G356","v":0},{"$f":"G356*C356","v":0},{"$f":"VLOOKUP(A356,Import!A:N,14)","v":"🇮🇳 Inde"}]
["Nectar d’abricot 75cl ","4,50 €","4.5",{"$f":"VLOOKUP(A357,Import!A:D,4)","v":"Boissons conditionnées"},false,0,{"$f":"IF(F357=\"100G\",0.1,IF(F357=\"250G\",0.25,IF(F357=\"500G\",0.5,IF(F357=\"1 Kilo\",1,F357))))","v":0},{"$f":"IFERROR(__xludf.DUMMYFUNCTION(\"TO_PURE_NUMBER(G357)\"),0)","v":0},{"$error":"#VALUE!"}]
["Nectar de Pêche - 75cl ","4,50 €","4.5",{"$f":"VLOOKUP(A358,Import!A:D,4)","v":"Boissons conditionnées"},false,0,0,{"$f":"IFERROR(__xludf.DUMMYFUNCTION(\"TO_PURE_NUMBER(G358)\"),0)","v":0},{"$error":"#VALUE!"}]
["Nectar de Poire - 75cl ","4,50 €","4.5",{"$f":"VLOOKUP(A359,Import!A:D,4)","v":"Boissons conditionnées"},false,0,0,{"$f":"IFERROR(__xludf.DUMMYFUNCTION(\"TO_PURE_NUMBER(G359)\"),0)","v":0},{"$error":"#VALUE!"},{"$f":"VLOOKUP(A359,Import!A:N,13)","v":"Relais local"}]
["Nettoyant visage - Peau sèche Hibiscus ","8,90 €","8.9",{"$f":"VLOOKUP(A360,Import!A:D,4)","v":"Produits d'hygiène coporelle"},false,0,0,{"$f":"IFERROR(__xludf.DUMMYFUNCTION(\"TO_PURE_NUMBER(G360)\"),0)","v":0},{"$error":"#VALUE!"},{"$f":"VLOOKUP(A360,Import!A:N,13)","v":"Aventure Bio"}]
["Nids de Pâtes de Riz Thai Complet ","17,50 € / kg","17,5",{"$f":"VLOOKUP(A361,Import!A:D,4,FALSE)","v":"Alimentaire Vrac"},false,0,{"$f":"IF(F361=\"100G\",0.1,IF(F361=\"250G\",0.25,IF(F361=\"500G\",0.5,IF(F361=\"1 Kilo\",1,IF(F361=\"10G\",0.01,IF(F361=\"50G\",0.05,F361))))))","v":0},{"$f":"G361","v":0},{"$f":"G361*C361","v":0}]
["Noisettes décortiquées","18,90 € / kg","18,9",{"$f":"VLOOKUP(A362,Import!A:D,4,FALSE)","v":"Alimentaire Vrac"},false,0,0,0,0]
["Noix Cerneaux Brisures 3-12m","28,50 € / kg","28,5",{"$f":"VLOOKUP(A363,Import!A:D,4,FALSE)","v":"Alimentaire Vrac"},false,0,0,0,0]
["Noix de Cajou Nature","23,50 € / kg","2,5",{"$f":"VLOOKUP(A364,Import!A:D,4,FALSE)","v":"Alimentaire Vrac"},false,0,0,0,0,{"$f":"VLOOKUP(A364,Import!A:N,14)","v":"🇻🇳 Vietnam"}]
["Noix de coco Chips ","12,00 € / kg","12",{"$f":"VLOOKUP(A365,Import!A:D,4,FALSE)","v":"Alimentaire Vrac"},false,0,0,0,0]
["Noix de Coco Râpée ","8€ / kg","8",{"$f":"VLOOKUP(A366,Import!A:D,4,FALSE)","v":"Alimentaire Vrac"},false,0,0,0,0,{"$f":"VLOOKUP(A366,Import!A:N,14)","v":"🇵🇭 Philippines"}]
["Noix de Pécan - Gros Morceaux ","29,00 € / kg","29",{"$f":"VLOOKUP(A367,Import!A:D,4,FALSE)","v":"Alimentaire Vrac"},false,0,0,0,0,{"$f":"VLOOKUP(A367,Import!A:N,14)","v":"🇲🇽 Mexique"}]
["Noix du brésil ","22,00 € / kg","22",{"$f":"VLOOKUP(A368,Import!A:D,4,FALSE)","v":"Alimentaire Vrac"},false,0,0,0,0,{"$f":"VLOOKUP(A368,Import!A:N,14)","v":"🇧🇷 Brésil"}]
["Oeufs frais bio (boîte de 6)",3,3,{"$f":"VLOOKUP(A369,Import!A:D,4)","v":"Produits Frais"},false,0,{"$f":"IF(F369=\"100G\",0.1,IF(F369=\"250G\",0.25,IF(F369=\"500G\",0.5,IF(F369=\"1 Kilo\",1,IF(F369=\"10G\",0.01,IF(F369=\"50G\",0.05,F369))))))","v":0},{"$f":"IFERROR(__xludf.DUMMYFUNCTION(\"TO_PURE_NUMBER(G369)\"),0)","v":0},{"$f":"G369*C369","v":0},{"$f":"VLOOKUP(A369,Import!A:N,14)","v":"🇫🇷 France - Vonnas (01)"}]
["Oriculi en bioplastique - Bleu","4,50 €","4.5",{"$f":"VLOOKUP(A370,Import!A:D,4)","v":"Produits d'hygiène coporelle"},false,0,{"$f":"IF(F370=\"100G\",0.1,IF(F370=\"250G\",0.25,IF(F370=\"500G\",0.5,IF(F370=\"1 Kilo\",1,F370))))","v":0},{"$f":"IFERROR(__xludf.DUMMYFUNCTION(\"TO_PURE_NUMBER(G370)\"),0)","v":0},{"$error":"#VALUE!"}]
["Oriculi en bioplastique - Jaune","4,50 €","4.5",{"$f":"VLOOKUP(A371,Import!A:D,4)","v":"Produits d'hygiène coporelle"},false,0,0,{"$f":"IFERROR(__xludf.DUMMYFUNCTION(\"TO_PURE_NUMBER(G371)\"),0)","v":0},{"$error":"#VALUE!"}]
["Oriculi en bioplastique - Vert","4,50 €","4.5",{"$f":"VLOOKUP(A372,Import!A:D,4)","v":"Produits d'hygiène coporelle"},false,0,0,{"$f":"IFERROR(__xludf.DUMMYFUNCTION(\"TO_PURE_NUMBER(G372)\"),0)","v":0},{"$error":"#VALUE!"}]
["Oriculi en bioplastique - Violet","4,50 €","4.5",{"$f":"VLOOKUP(A373,Import!A:D,4)","v":"Produits d'hygiène coporelle"},false,0,0,{"$f":"IFERROR(__xludf.DUMMYFUNCTION(\"TO_PURE_NUMBER(G373)\"),0)","v":0},{"$error":"#VALUE!"}]
["Paille Courte - 13cm Gravée","1,49 €","1.49",{"$f":"VLOOKUP(A374,Import!A:D,4)","v":"Zéros déchets et Bocaux"},false,0,0,{"$f":"IFERROR(__xludf.DUMMYFUNCTION(\"TO_PURE_NUMBER(G374)\"),0)","v":0},{"$error":"#VALUE!"}]
["Paille Longue - 20cm Gravée","1,69 €","1.69",{"$f":"VLOOKUP(A375,Import!A:D,4)","v":"Zéros déchets et Bocaux"},false,0,0,{"$f":"IFERROR(__xludf.DUMMYFUNCTION(\"TO_PURE_NUMBER(G375)\"),0)","v":0},{"$error":"#VALUE!"}]
["Panier de rangement (Panier seul)","9,50 €","9.5",{"$f":"VLOOKUP(A376,Import!A:D,4)","v":"Zéros déchets et Bocaux"},false,0,0,{"$f":"IFERROR(__xludf.DUMMYFUNCTION(\"TO_PURE_NUMBER(G376)\"),0)","v":0},{"$error":"#VALUE!"}]
["Papier toilette 600 feuilles non blanchi","0,95 €","0.95",{"$f":"VLOOKUP(A377,Import!A:D,4)","v":"Produits d'entretiens"},false,0,{"$f":"IF(F377=\"100G\",0.1,IF(F377=\"250G\",0.25,IF(F377=\"500G\",0.5,IF(F377=\"1 Kilo\",1,IF(F377=\"10G\",0.01,IF(F377=\"50G\",0.05,F377))))))","v":0},{"$f":"IFERROR(__xludf.DUMMYFUNCTION(\"TO_PURE_NUMBER(G377)\"),0)","v":0},{"$f":"G377*C377","v":{"$error":"#VALUE!"}},{"$f":"VLOOKUP(A377,Import!A:N,14)","v":"🇫🇷 France "}]
["Paprika Doux Poudre ","67,00 € / kg","67",{"$f":"VLOOKUP(A378,Import!A:D,4,FALSE)","v":"Alimentaire Vrac"},false,0,0,{"$f":"G378","v":0},0,{"$f":"VLOOKUP(A378,Import!A:N,14)","v":"🇪🇸 Espagne"}]
["Paprika Fort moulu","88,00 € / kg","88",{"$f":"VLOOKUP(A379,Import!A:D,4,FALSE)","v":"Alimentaire Vrac"},false,0,0,0,0,{"$f":"VLOOKUP(A379,Import!A:N,14)","v":"🇪🇸 Espagne"}]
["Pâte à tartiner - Amande sésame miel","7,50€","7.5",{"$f":"VLOOKUP(A380,Import!A:D,4)","v":"Alimentaire Conditionné"},false,0,{"$f":"IF(F380=\"100G\",0.1,IF(F380=\"250G\",0.25,IF(F380=\"500G\",0.5,IF(F380=\"1 Kilo\",1,F380))))","v":0},{"$f":"IFERROR(__xludf.DUMMYFUNCTION(\"TO_PURE_NUMBER(G380)\"),0)","v":0},{"$error":"#VALUE!"},{"$f":"VLOOKUP(A380,Import!A:N,13)","v":"Happy Hours"}]
["Pâte à tartiner - Cajou coco miel bio","7,50€","7.5",{"$f":"VLOOKUP(A381,Import!A:D,4)","v":"Alimentaire Conditionné"},false,0,0,{"$f":"IFERROR(__xludf.DUMMYFUNCTION(\"TO_PURE_NUMBER(G381)\"),0)","v":0},{"$error":"#VALUE!"},{"$f":"VLOOKUP(A381,Import!A:N,13)","v":"Happy Hours"}]
["Pâte à tartiner Amande Miel - 280g ","10,50€","10.50",{"$f":"VLOOKUP(A382,Import!A:D,4)","v":"Alimentaire Conditionné"},false,0,0,{"$f":"IFERROR(__xludf.DUMMYFUNCTION(\"TO_PURE_NUMBER(G382)\"),0)","v":0},{"$error":"#VALUE!"},{"$f":"VLOOKUP(A382,Import!A:N,13)","v":"Relais local"}]
["Pâte à tartiner Choc-Noisettes - 265g ","9,90€","9.9",{"$f":"VLOOKUP(A383,Import!A:D,4)","v":"Alimentaire Conditionné"},false,0,{"$f":"IF(F383=\"100G\",0.1,IF(F383=\"250G\",0.25,IF(F383=\"500G\",0.5,IF(F383=\"1 Kilo\",1,IF(F383=\"10G\",0.01,IF(F383=\"50G\",0.05,F383))))))","v":0},{"$f":"IFERROR(__xludf.DUMMYFUNCTION(\"TO_PURE_NUMBER(G383)\"),0)","v":0},{"$f":"G383*C383","v":{"$error":"#VALUE!"}},{"$f":"VLOOKUP(A383,Import!A:N,14)","v":"🇫🇷 France - Saint Priest (69)"}]
["Pâtes - Coquillettes blanches","3,50€ / kg","3,5",{"$f":"VLOOKUP(A384,Import!A:D,4,FALSE)","v":"Alimentaire Vrac"},false,0,{"$f":"IF(F384=\"100G\",0.1,IF(F384=\"250G\",0.25,IF(F384=\"500G\",0.5,IF(F384=\"1 Kilo\",1,IF(F384=\"10G\",0.01,IF(F384=\"50G\",0.05,F384))))))","v":0},{"$f":"G384","v":0},{"$f":"G384*C384","v":0},{"$f":"VLOOKUP(A384,Import!A:N,13)","v":0}]
["Pâtes - Coquillettes Semi Complètes ","3,50€ / kg","3,5",{"$f":"VLOOKUP(A385,Import!A:D,4,FALSE)","v":"Alimentaire Vrac"},false,0,0,0,0,{"$f":"VLOOKUP(A385,Import!A:N,13)","v":"Scop Epice"}]
["Pâtes - Farfalles Blanches ","3,30€ / kg","3,3",{"$f":"VLOOKUP(A386,Import!A:D,4,FALSE)","v":"Alimentaire Vrac"},false,0,0,0,0,{"$f":"VLOOKUP(A386,Import!A:N,13)","v":"Actibio"}]
["Pâtes - Lasagnes Blanches ","6,00€ / kg","6",{"$f":"VLOOKUP(A387,Import!A:D,4,FALSE)","v":"Alimentaire Vrac"},false,0,0,0,0,{"$f":"VLOOKUP(A387,Import!A:N,14)","v":"🇮🇹 Italie"}]
["Pâtes - Pennes Blancs ","3,50€ / kg","4,5",{"$f":"VLOOKUP(A388,Import!A:D,4,FALSE)","v":"Alimentaire Vrac"},false,0,0,0,0,{"$f":"VLOOKUP(A388,Import!A:N,14)","v":"🇫🇷 France - Provence "}]
["Pâtes - Pennes Semi Complets","3,50€ / kg","4,5",{"$f":"VLOOKUP(A389,Import!A:D,4,FALSE)","v":"Alimentaire Vrac"},false,0,0,0,0,{"$f":"VLOOKUP(A389,Import!A:N,13)","v":0}]
["Pâtes - Spaghettis Blancs","3,30€/kg","3,3",{"$f":"VLOOKUP(A390,Import!A:D,4,FALSE)","v":"Alimentaire Vrac"},false,0,0,0,0]
["Pâtes - Spaghettis Complets","3,30€/kg","3,3",{"$f":"VLOOKUP(A391,Import!A:D,4,FALSE)","v":"Alimentaire Vrac"},false,0,0,0,0]
["Pâtes - Tagliatelles Nature sans oeufs","4,50€/kg","4,5",{"$f":"VLOOKUP(A392,Import!A:D,4,FALSE)","v":"Alimentaire Vrac"},false,0,0,0,0]
["Peigne Démeloir à manche","6,49 €","6.49",{"$f":"VLOOKUP(A393,Import!A:D,4)","v":"Produits d'hygiène coporelle"},false,0,{"$f":"IF(F393=\"100G\",0.1,IF(F393=\"250G\",0.25,IF(F393=\"500G\",0.5,IF(F393=\"1 Kilo\",1,F393))))","v":0},{"$f":"IFERROR(__xludf.DUMMYFUNCTION(\"TO_PURE_NUMBER(G393)\"),0)","v":0},{"$error":"#VALUE!"}]
["Peigne Démêloir sans manche","6,49 €","6.49",{"$f":"VLOOKUP(A394,Import!A:D,4)","v":"Produits d'hygiène coporelle"},false,0,0,{"$f":"IFERROR(__xludf.DUMMYFUNCTION(\"TO_PURE_NUMBER(G394)\"),0)","v":0},{"$error":"#VALUE!"}]
["Pelle à thé Inox",10.9,10.9,{"$f":"VLOOKUP(A395,Import!A:D,4)","v":0},false,0,0,{"$f":"IFERROR(__xludf.DUMMYFUNCTION(\"TO_PURE_NUMBER(G395)\"),0)","v":0},0]
["Percarbonate Blanchissant Linge Vrac ","4,90 € / kg","4.9",{"$f":"VLOOKUP(A396,Import!A:D,4)","v":"Produits d'entretiens"},false,0,0,{"$f":"IFERROR(__xludf.DUMMYFUNCTION(\"TO_PURE_NUMBER(G396)\"),0)","v":0},{"$error":"#VALUE!"},{"$f":"VLOOKUP(A396,Import!A:N,13)","v":"Relais local"}]
["Pesto Ail des Ours","4,20 €","4.20",{"$f":"VLOOKUP(A397,Import!A:D,4)","v":"Alimentaire Conditionné"},false,0,0,{"$f":"IFERROR(__xludf.DUMMYFUNCTION(\"TO_PURE_NUMBER(G397)\"),0)","v":0},{"$error":"#VALUE!"}]
["Pesto Basilic classique - ","4,20 €","4.2",{"$f":"VLOOKUP(A398,Import!A:D,4)","v":"Alimentaire Conditionné"},false,0,0,{"$f":"IFERROR(__xludf.DUMMYFUNCTION(\"TO_PURE_NUMBER(G398)\"),0)","v":0},{"$error":"#VALUE!"}]
["Pesto Rosso - 90g","4,20 €","4.2",{"$f":"VLOOKUP(A399,Import!A:D,4)","v":"Alimentaire Conditionné"},false,0,{"$f":"IF(F399=\"100G\",0.1,IF(F399=\"250G\",0.25,IF(F399=\"500G\",0.5,IF(F399=\"1 Kilo\",1,IF(F399=\"10G\",0.01,IF(F399=\"50G\",0.05,F399))))))","v":0},{"$f":"IFERROR(__xludf.DUMMYFUNCTION(\"TO_PURE_NUMBER(G399)\"),0)","v":0},{"$f":"G399*C399","v":{"$error":"#VALUE!"}},{"$f":"VLOOKUP(A399,Import!A:N,14)","v":"🇫🇷 France "}]
["Pesto Verde - 90g","4,20 €","4.2",{"$f":"VLOOKUP(A400,Import!A:D,4)","v":"Alimentaire Conditionné"},false,0,0,{"$f":"IFERROR(__xludf.DUMMYFUNCTION(\"TO_PURE_NUMBER(G400)\"),0)","v":0},{"$error":"#VALUE!"},{"$f":"VLOOKUP(A400,Import!A:N,14)","v":"🇫🇷 France "}]
["Petit Epeautre ","7,50 € / kg","7,5",{"$f":"VLOOKUP(A401,Import!A:D,4,FALSE)","v":"Alimentaire Vrac"},false,0,0,{"$f":"G401","v":0},{"$f":"G401*C401","v":0},{"$f":"VLOOKUP(A401,Import!A:N,14)","v":"🇫🇷 France - Drôme"}]
["Petit Sac à thé de Noël","2,50 €","2.5",{"$f":"VLOOKUP(A402,Import!A:D,4)","v":"Zéros déchets et Bocaux"},false,0,{"$f":"IF(F402=\"100G\",0.1,IF(F402=\"250G\",0.25,IF(F402=\"500G\",0.5,IF(F402=\"1 Kilo\",1,F402))))","v":0},{"$f":"IFERROR(__xludf.DUMMYFUNCTION(\"TO_PURE_NUMBER(G402)\"),0)","v":0},{"$error":"#VALUE!"},{"$f":"VLOOKUP(A402,Import!A:N,14)","v":"🇫🇷 France - Annemasse (74)"}]
["Pignons de Pin","67,00 € / kg","67",{"$f":"VLOOKUP(A403,Import!A:D,4,FALSE)","v":"Alimentaire Vrac"},false,0,{"$f":"IF(F403=\"100G\",0.1,IF(F403=\"250G\",0.25,IF(F403=\"500G\",0.5,IF(F403=\"1 Kilo\",1,IF(F403=\"10G\",0.01,IF(F403=\"50G\",0.05,F403))))))","v":0},{"$f":"G403","v":0},{"$f":"G403*C403","v":0},{"$f":"VLOOKUP(A403,Import!A:N,14)","v":"🇷🇺 Russie"}]
["Pistaches Coques Grillées Salées","35,00 € / kg","35",{"$f":"VLOOKUP(A404,Import!A:D,4,FALSE)","v":"Alimentaire Vrac"},false,0,0,0,0,{"$f":"VLOOKUP(A404,Import!A:N,14)","v":"🇪🇸 Espagne"}]
["Pistaches vertes sans coque non salées ","46,00 € / kg","46",{"$f":"VLOOKUP(A405,Import!A:D,4,FALSE)","v":"Alimentaire Vrac"},false,0,0,0,0,{"$f":"VLOOKUP(A405,Import!A:N,14)","v":"🇪🇸 Espagne"}]
["Pochette à brosse à dent ou à paille","3,50 €","3.5",{"$f":"VLOOKUP(A406,Import!A:D,4)","v":"Zéros déchets et Bocaux"},false,0,{"$f":"IF(F406=\"100G\",0.1,IF(F406=\"250G\",0.25,IF(F406=\"500G\",0.5,IF(F406=\"1 Kilo\",1,IF(F406=\"10G\",0.01,IF(F406=\"50G\",0.05,F406))))))","v":0},{"$f":"IFERROR(__xludf.DUMMYFUNCTION(\"TO_PURE_NUMBER(G406)\"),0)","v":0},{"$f":"G406*C406","v":{"$error":"#VALUE!"}},{"$f":"VLOOKUP(A406,Import!A:N,14)","v":"🇫🇷 France - Annemasse (74)"}]
["Pochette à Goûter ","9,50 €","9.5",{"$f":"VLOOKUP(A407,Import!A:D,4)","v":"Zéros déchets et Bocaux"},false,0,0,{"$f":"IFERROR(__xludf.DUMMYFUNCTION(\"TO_PURE_NUMBER(G407)\"),0.5)","v":0.5},{"$error":"#VALUE!"},{"$f":"VLOOKUP(A407,Import!A:N,14)","v":"🇫🇷 France - Annemasse (74)"}]
["Pochette à Savon","4,50 €","4.5",{"$f":"VLOOKUP(A408,Import!A:D,4)","v":"Zéros déchets et Bocaux"},false,0,{"$f":"IF(F408=\"100G\",0.1,IF(F408=\"250G\",0.25,IF(F408=\"500G\",0.5,IF(F408=\"1 Kilo\",1,F408))))","v":0},{"$f":"IFERROR(__xludf.DUMMYFUNCTION(\"TO_PURE_NUMBER(G408)\"),0)","v":0},{"$error":"#VALUE!"},{"$f":"VLOOKUP(A408,Import!A:N,13)","v":"Alterosac"}]
["Pois chiches","5€ / kg","5",{"$f":"VLOOKUP(A409,Import!A:D,4,FALSE)","v":"Alimentaire Vrac"},false,0,{"$f":"IF(F409=\"100G\",0.1,IF(F409=\"250G\",0.25,IF(F409=\"500G\",0.5,IF(F409=\"1 Kilo\",1,IF(F409=\"10G\",0.01,IF(F409=\"50G\",0.05,F409))))))","v":0},{"$f":"G409","v":0},{"$f":"G409*C409","v":0},{"$f":"VLOOKUP(A409,Import!A:N,13)","v":0}]
["Poivre Blanc Grains ","115,00 € / kg","115",{"$f":"VLOOKUP(A410,Import!A:D,4,FALSE)","v":"Alimentaire Vrac"},false,0,0,0,0,{"$f":"VLOOKUP(A410,Import!A:N,14)","v":"🇱🇰 Sri Lanka"}]
["Poivre Noir en poudre","50€/kg",50,{"$f":"VLOOKUP(A411,Import!A:D,4,FALSE)","v":"Alimentaire Vrac"},false,0,0,0,0]
["Poivre Noir Grains ","85,00 € / kg","85",{"$f":"VLOOKUP(A412,Import!A:D,4,FALSE)","v":"Alimentaire Vrac"},false,0,0,0,0]
["Polenta instantanée ","3,50 € / kg","3,5",{"$f":"VLOOKUP(A413,Import!A:D,4,FALSE)","v":"Alimentaire Vrac"},false,0,0,0,0]
["Pommes séchées rondelles ","25,00 € / kg","25",{"$f":"VLOOKUP(A414,Import!A:D,4)","v":0},false,0,{"$f":"IF(F414=\"100G\",0.1,IF(F414=\"250G\",0.25,IF(F414=\"500G\",0.5,IF(F414=\"1 Kilo\",1,F414))))","v":0},{"$f":"IFERROR(__xludf.DUMMYFUNCTION(\"TO_PURE_NUMBER(G414)\"),0)","v":0},0]
["Porte savon classic vrac","8,00 €","8",{"$f":"VLOOKUP(A415,Import!A:D,4)","v":"Produits d'hygiène coporelle"},false,0,0,{"$f":"IFERROR(__xludf.DUMMYFUNCTION(\"TO_PURE_NUMBER(G415)\"),0)","v":0},0]
["Potion Detoxifiante -  33cl","3,50 €","3.5",{"$f":"VLOOKUP(A416,Import!A:D,4)","v":"Boissons conditionnées"},false,0,0,{"$f":"IFERROR(__xludf.DUMMYFUNCTION(\"TO_PURE_NUMBER(G416)\"),0)","v":0},{"$error":"#VALUE!"}]
["Potion Detoxifiante - 75cl","5,50€","5.50",{"$f":"VLOOKUP(A417,Import!A:D,4)","v":"Boissons conditionnées"},false,0,0,{"$f":"IFERROR(__xludf.DUMMYFUNCTION(\"TO_PURE_NUMBER(G417)\"),0)","v":0},{"$f":"G417*C417","v":{"$error":"#VALUE!"}},{"$f":"VLOOKUP(A417,Import!A:N,14)","v":"🇫🇷 France - (54)"}]
["Potion Energisante - 33cl","3,50 €","3.5",{"$f":"VLOOKUP(A418,Import!A:D,4)","v":"Boissons conditionnées"},false,0,0,{"$f":"IFERROR(__xludf.DUMMYFUNCTION(\"TO_PURE_NUMBER(G418)\"),0)","v":0},{"$error":"#VALUE!"}]
["Potion Energisante - 75cl","5,50€","5.50",{"$f":"VLOOKUP(A419,Import!A:D,4)","v":"Boissons conditionnées"},false,0,0,{"$f":"IFERROR(__xludf.DUMMYFUNCTION(\"TO_PURE_NUMBER(G419)\"),0)","v":0},{"$error":"#VALUE!"}]
["Potion Relaxante -  33cl","3,50 €","3.50",{"$f":"VLOOKUP(A420,Import!A:D,4)","v":"Boissons conditionnées"},false,0,0,{"$f":"IFERROR(__xludf.DUMMYFUNCTION(\"TO_PURE_NUMBER(G420)\"),0)","v":0},{"$error":"#VALUE!"}]
["Potion Relaxante - 75cl","5,50€","5.50",{"$f":"VLOOKUP(A421,Import!A:D,4)","v":"Boissons conditionnées"},false,0,0,{"$f":"IFERROR(__xludf.DUMMYFUNCTION(\"TO_PURE_NUMBER(G421)\"),0)","v":0},{"$error":"#VALUE!"}]
["Poudre à Lever sans Gluten ","17,90 € / kg","7,9",{"$f":"VLOOKUP(A422,Import!A:D,4,FALSE)","v":"Alimentaire Vrac"},false,0,{"$f":"IF(F422=\"100G\",0.1,IF(F422=\"250G\",0.25,IF(F422=\"500G\",0.5,IF(F422=\"1 Kilo\",1,IF(F422=\"10G\",0.01,IF(F422=\"50G\",0.05,F422))))))","v":0},{"$f":"G422","v":0},{"$f":"G422*C422","v":0}]
["Poudre d’Amande Blanche ","25€ / kg",25,{"$f":"VLOOKUP(A423,Import!A:D,4)","v":0},false,0,0,{"$f":"IFERROR(__xludf.DUMMYFUNCTION(\"TO_PURE_NUMBER(G423)\"),0)","v":0},0]
["Poudre d’amande complète","25€ / kg","25",{"$f":"VLOOKUP(A424,Import!A:D,4,FALSE)","v":"Alimentaire Vrac"},false,0,{"$f":"IF(F424=\"100G\",0.1,IF(F424=\"250G\",0.25,IF(F424=\"500G\",0.5,IF(F424=\"1 Kilo\",1,IF(F424=\"10G\",0.01,IF(F424=\"50G\",0.05,F424))))))","v":0},{"$f":"G424","v":0},{"$f":"G424*C424","v":0}]
["Protège slip","6,00 €","6",{"$f":"VLOOKUP(A425,Import!A:D,4)","v":"Zéros déchets et Bocaux"},false,0,0,{"$f":"IFERROR(__xludf.DUMMYFUNCTION(\"TO_PURE_NUMBER(G425)\"),0)","v":0},0]
["Pruneaux dénoyautés ","22€ / kg","22",{"$f":"VLOOKUP(A426,Import!A:D,4,FALSE)","v":"Alimentaire Vrac"},false,0,{"$f":"IF(F426=\"100G\",0.1,IF(F426=\"250G\",0.25,IF(F426=\"500G\",0.5,IF(F426=\"1 Kilo\",1,IF(F426=\"10G\",0.01,IF(F426=\"50G\",0.05,F426))))))","v":0},{"$f":"G426","v":0},{"$f":"G426*C426","v":0}]
["Purée Amande 270g - Go Nuts","8,90€","8.9",{"$f":"VLOOKUP(A427,Import!A:D,4)","v":"Alimentaire Conditionné"},false,0,0,{"$f":"IFERROR(__xludf.DUMMYFUNCTION(\"TO_PURE_NUMBER(G427)\"),0)","v":0},{"$error":"#VALUE!"}]
["Purée de Sésame Blanc - France - 350g","6,50€","6.5",{"$f":"VLOOKUP(A428,Import!A:D,4)","v":"Alimentaire Conditionné"},false,0,0,{"$f":"IFERROR(__xludf.DUMMYFUNCTION(\"TO_PURE_NUMBER(G428)\"),0)","v":0},{"$error":"#VALUE!"}]
["Purée Noisette - 270g","8,50€","8.50",{"$f":"VLOOKUP(A429,Import!A:D,4)","v":"Alimentaire Conditionné"},false,0,{"$f":"IF(F429=\"100G\",0.1,IF(F429=\"250G\",0.25,IF(F429=\"500G\",0.5,IF(F429=\"1 Kilo\",1,IF(F429=\"10G\",0.01,IF(F429=\"50G\",0.05,F429))))))","v":0},{"$f":"IFERROR(__xludf.DUMMYFUNCTION(\"TO_PURE_NUMBER(G429)\"),0)","v":0},{"$f":"G429*C429","v":{"$error":"#VALUE!"}},{"$f":"VLOOKUP(A429,Import!A:N,14)","v":"🇫🇷 France - Saint Priest (69)"}]
["Quinoa Complet ","9,50€/kg","9,5",{"$f":"VLOOKUP(A430,Import!A:D,4,FALSE)","v":"Alimentaire Vrac"},false,0,0,{"$f":"G430","v":0},0,{"$f":"VLOOKUP(A430,Import!A:N,14)","v":"🇫🇷 France"}]
["Raisins secs Sultanines","7,90€/kg","7,9",{"$f":"VLOOKUP(A431,Import!A:D,4,FALSE)","v":"Alimentaire Vrac"},false,0,0,0,0]
["Rasoir de sûreté à lame rechargeable","45€","45",{"$f":"VLOOKUP(A432,Import!A:D,4)","v":"Produits d'hygiène coporelle"},false,0,{"$f":"IF(F432=\"100G\",0.1,IF(F432=\"250G\",0.25,IF(F432=\"500G\",0.5,IF(F432=\"1 Kilo\",1,F432))))","v":0},{"$f":"IFERROR(__xludf.DUMMYFUNCTION(\"TO_PURE_NUMBER(G432)\"),0)","v":0},0]
["Recharge de 10 lames pour rasoir de sûreté","7,50€","7.5",{"$f":"VLOOKUP(A433,Import!A:D,4)","v":"Produits d'hygiène coporelle"},false,0,0,{"$f":"IFERROR(__xludf.DUMMYFUNCTION(\"TO_PURE_NUMBER(G433)\"),0)","v":0},{"$error":"#VALUE!"}]
["Recouvre bol en coton enduit - Taille à Cake","7€","7",{"$f":"VLOOKUP(A434,Import!A:D,4)","v":"Zéros déchets et Bocaux"},false,0,0,{"$f":"IFERROR(__xludf.DUMMYFUNCTION(\"TO_PURE_NUMBER(G434)\"),0)","v":0},0]
["Recouvre bol en coton enduit - Taille à Gratin","9€","9",{"$f":"VLOOKUP(A435,Import!A:D,4)","v":"Zéros déchets et Bocaux"},false,0,0,{"$f":"IFERROR(__xludf.DUMMYFUNCTION(\"TO_PURE_NUMBER(G435)\"),0)","v":0},0]
["Recouvre bol en coton enduit - Taille L","9€","9",{"$f":"VLOOKUP(A436,Import!A:D,4)","v":"Zéros déchets et Bocaux"},false,0,0,{"$f":"IFERROR(__xludf.DUMMYFUNCTION(\"TO_PURE_NUMBER(G436)\"),0)","v":0},0]
["Recouvre bol en coton enduit - Taille M","7€","7",{"$f":"VLOOKUP(A437,Import!A:D,4)","v":"Zéros déchets et Bocaux"},false,0,0,{"$f":"IFERROR(__xludf.DUMMYFUNCTION(\"TO_PURE_NUMBER(G437)\"),0)","v":0},0]
["Recouvre bol en coton enduit - Taille S","5€","5",{"$f":"VLOOKUP(A438,Import!A:D,4)","v":"Zéros déchets et Bocaux"},false,0,0,{"$f":"IFERROR(__xludf.DUMMYFUNCTION(\"TO_PURE_NUMBER(G438)\"),0)","v":0},0,{"$f":"VLOOKUP(A438,Import!A:N,13)","v":"Alterosac"}]
["Recouvre bol en coton enduit - Taille XS","4€","4",{"$f":"VLOOKUP(A439,Import!A:D,4)","v":"Zéros déchets et Bocaux"},false,0,0,{"$f":"IFERROR(__xludf.DUMMYFUNCTION(\"TO_PURE_NUMBER(G439)\"),0)","v":0},0]
["Riz - Trio de Camargue ","6€/kg","6",{"$f":"VLOOKUP(A440,Import!A:D,4,FALSE)","v":"Alimentaire Vrac"},false,0,{"$f":"IF(F440=\"100G\",0.1,IF(F440=\"250G\",0.25,IF(F440=\"500G\",0.5,IF(F440=\"1 Kilo\",1,IF(F440=\"10G\",0.01,IF(F440=\"50G\",0.05,F440))))))","v":0},{"$f":"G440","v":0},{"$f":"G440*C440","v":0},{"$f":"VLOOKUP(A440,Import!A:N,13)","v":"Scop Epice"}]
["Riz Arborio Blanc pour Risotto ","5,50€/kg","5,5",{"$f":"VLOOKUP(A441,Import!A:D,4,FALSE)","v":"Alimentaire Vrac"},false,0,0,0,0,{"$f":"VLOOKUP(A441,Import!A:N,13)","v":"Actibio"}]
["Riz Blanc Basmati Blanc ","5,50€/kg",5.5,{"$f":"VLOOKUP(A442,Import!A:D,4,FALSE)","v":"Alimentaire Vrac"},false,0,0,0,0,{"$f":"VLOOKUP(A442,Import!A:N,13)","v":0}]
["Riz Blanc IGP Camargue","5,50€/kg",5.5,{"$f":"VLOOKUP(A443,Import!A:D,4,FALSE)","v":"Alimentaire Vrac"},false,0,0,0,0]
["Riz Long blanc étuvé de Camargue ","4,90€/kg","4.90",{"$f":"VLOOKUP(A444,Import!A:D,4)","v":0},false,0,0,{"$f":"IFERROR(__xludf.DUMMYFUNCTION(\"TO_PURE_NUMBER(G444)\"),0)","v":0},{"$error":"#VALUE!"},{"$f":"VLOOKUP(A444,Import!A:N,13)","v":"Actibio"}]
["Riz Long Complet ","4,25€/kg",4.25,{"$f":"VLOOKUP(A445,Import!A:D,4,FALSE)","v":"Alimentaire Vrac"},false,0,{"$f":"IF(F445=\"100G\",0.1,IF(F445=\"250G\",0.25,IF(F445=\"500G\",0.5,IF(F445=\"1 Kilo\",1,IF(F445=\"10G\",0.01,IF(F445=\"50G\",0.05,F445))))))","v":0},{"$f":"G445","v":0},{"$f":"G445*C445","v":0}]
["Riz Rond Blanc ",null,null,{"$f":"VLOOKUP(A446,Import!A:D,4)","v":"/"},false,0,0,{"$f":"IFERROR(__xludf.DUMMYFUNCTION(\"TO_PURE_NUMBER(G446)\"),0)","v":0},0]
["Riz Rond blanc IGP Camargue","5,50€",5.5,{"$f":"VLOOKUP(A447,Import!A:D,4,FALSE)","v":"Alimentaire Vrac"},false,0,{"$f":"IF(F447=\"100G\",0.1,IF(F447=\"250G\",0.25,IF(F447=\"500G\",0.5,IF(F447=\"1 Kilo\",1,IF(F447=\"10G\",0.01,IF(F447=\"50G\",0.05,F447))))))","v":0},{"$f":"G447","v":0},{"$f":"G447*C447","v":0}]
["Riz semi complet IGP Camargue","4,90€/kg","4,9",{"$f":"VLOOKUP(A448,Import!A:D,4,FALSE)","v":"Alimentaire Vrac"},false,0,0,0,0]
["Romarin feuille ","65€/kg","65",{"$f":"VLOOKUP(A449,Import!A:D,4,FALSE)","v":"Alimentaire Vrac"},false,0,0,0,0,{"$f":"VLOOKUP(A449,Import!A:N,13)","v":"Scop Epice"}]
["Ronds démaquillants - Lot de 5","7€","7",{"$f":"VLOOKUP(A450,Import!A:D,4,FALSE)","v":{"$error":"#N/A"}},false,0,0,{"$f":"IFERROR(__xludf.DUMMYFUNCTION(\"TO_PURE_NUMBER(G450)\"),0)","v":0},0,{"$f":"VLOOKUP(A450,Import!A:N,13)","v":"Scop Epice"}]
["Rooibos - Earl Grey ","60€/kg","60",{"$f":"VLOOKUP(A451,Import!A:D,4,FALSE)","v":"Boisson en vrac"},false,0,0,{"$f":"IFERROR(__xludf.DUMMYFUNCTION(\"TO_PURE_NUMBER(G451)\"),0)","v":0},0,{"$f":"VLOOKUP(A451,Import!A:N,13)","v":"SolàSol"}]
["Rooibos Nature","50€/kg","50",{"$f":"VLOOKUP(A452,Import!A:D,4,FALSE)","v":"Boisson en vrac"},false,0,0,{"$f":"IFERROR(__xludf.DUMMYFUNCTION(\"TO_PURE_NUMBER(G452)\"),0)","v":0},0,{"$f":"VLOOKUP(A452,Import!A:N,13)","v":"Scop Epice"}]
["Sac à congélation - Taille L","8,50€","8.5",{"$f":"VLOOKUP(A453,Import!A:D,4,FALSE)","v":"Zéros déchets et Bocaux"},false,0,0,{"$f":"IFERROR(__xludf.DUMMYFUNCTION(\"TO_PURE_NUMBER(G453)\"),0)","v":0},{"$error":"#VALUE!"},{"$f":"VLOOKUP(A453,Import!A:N,13)","v":"Alterosac"}]
["Sac à congélation - Taille M","7,50€","7.5",{"$f":"VLOOKUP(A454,Import!A:D,4,FALSE)","v":"Zéros déchets et Bocaux"},false,0,0,{"$f":"IFERROR(__xludf.DUMMYFUNCTION(\"TO_PURE_NUMBER(G454)\"),0)","v":0},{"$error":"#VALUE!"},{"$f":"VLOOKUP(A454,Import!A:N,13)","v":"Alterosac"}]
["Sac à congélation - Taille S","6,50€","6.5",{"$f":"VLOOKUP(A455,Import!A:D,4,FALSE)","v":"Zéros déchets et Bocaux"},false,0,0,{"$f":"IFERROR(__xludf.DUMMYFUNCTION(\"TO_PURE_NUMBER(G455)\"),0)","v":0},{"$error":"#VALUE!"},{"$f":"VLOOKUP(A455,Import!A:N,13)","v":"Alterosac"}]
["Sac à vrac en Coton - Taille L","8,50€","8.5",{"$f":"VLOOKUP(A456,Import!A:D,4,FALSE)","v":"Zéros déchets et Bocaux"},false,0,0,{"$f":"IFERROR(__xludf.DUMMYFUNCTION(\"TO_PURE_NUMBER(G456)\"),0)","v":0},{"$error":"#VALUE!"}]
["Sac à vrac en Coton - Taille M","7,50€","7.5",{"$f":"VLOOKUP(A457,Import!A:D,4,FALSE)","v":"Zéros déchets et Bocaux"},false,0,0,{"$f":"IFERROR(__xludf.DUMMYFUNCTION(\"TO_PURE_NUMBER(G457)\"),0)","v":0},{"$error":"#VALUE!"}]
["Sac à vrac en Coton - Taille S","7€","7",{"$f":"VLOOKUP(A458,Import!A:D,4,FALSE)","v":"Zéros déchets et Bocaux"},false,0,0,{"$f":"IFERROR(__xludf.DUMMYFUNCTION(\"TO_PURE_NUMBER(G458)\"),0)","v":0},0]
["Sarrasin Décortiqué ","7€ / kg",7,{"$f":"VLOOKUP(A459,Import!A:D,4,FALSE)","v":"Alimentaire Vrac"},false,0,{"$f":"IF(F459=\"100G\",0.1,IF(F459=\"250G\",0.25,IF(F459=\"500G\",0.5,IF(F459=\"1 Kilo\",1,IF(F459=\"10G\",0.01,IF(F459=\"50G\",0.05,F459))))))","v":0},{"$f":"G459","v":0},{"$f":"G459*C459","v":0},{"$f":"VLOOKUP(A459,Import!A:N,13)","v":"Actibio"}]
["Savon à froid l’Emir - Clemence & Vivien ",4.5,4.5,{"$f":"VLOOKUP(A460,Import!A:D,4,FALSE)","v":"Produits d'hygiène coporelle"},false,0,{"$f":"IF(F460=\"100G\",0.1,IF(F460=\"250G\",0.25,IF(F460=\"500G\",0.5,IF(F460=\"1 Kilo\",1,IF(F460=\"10G\",0.01,IF(F460=\"50G\",0.05,F460))))))","v":0},{"$f":"IFERROR(__xludf.DUMMYFUNCTION(\"TO_PURE_NUMBER(G460)\"),0)","v":0},{"$f":"G460*C460","v":0},{"$f":"VLOOKUP(A460,Import!A:N,14)","v":"🇫🇷 France - Chauray (79)"}]
["Savon à froid le Chérubin - Clemence & Vivien ",4.2,4.2,{"$f":"VLOOKUP(A461,Import!A:D,4,FALSE)","v":"Produits d'hygiène coporelle"},false,0,{"$f":"IF(F461=\"100G\",0.1,IF(F461=\"250G\",0.25,IF(F461=\"500G\",0.5,IF(F461=\"1 Kilo\",1,F461))))","v":0},{"$f":"IFERROR(__xludf.DUMMYFUNCTION(\"TO_PURE_NUMBER(G461)\"),0)","v":0},0]
["Savon à froid le Gandhi - Clemence & Vivien ",4.5,4.5,{"$f":"VLOOKUP(A462,Import!A:D,4,FALSE)","v":"Produits d'hygiène coporelle"},false,0,0,{"$f":"IFERROR(__xludf.DUMMYFUNCTION(\"TO_PURE_NUMBER(G462)\"),0)","v":0},{"$f":"G462*C462","v":0}]
["Savon à froid le Gecko - Clemence & Vivien ",4.5,4.5,{"$f":"VLOOKUP(A463,Import!A:D,4,FALSE)","v":"Produits d'hygiène coporelle"},false,0,0,{"$f":"IFERROR(__xludf.DUMMYFUNCTION(\"TO_PURE_NUMBER(G463)\"),0)","v":0},0]
["Savon à froid le Saint Bernard - Clemence & Vivien ",4.5,4.5,{"$f":"VLOOKUP(A464,Import!A:D,4,FALSE)","v":"Produits d'hygiène coporelle"},false,0,0,{"$f":"IFERROR(__xludf.DUMMYFUNCTION(\"TO_PURE_NUMBER(G464)\"),0)","v":0},0]
["Savon à froid le Suisse - Clemence & Vivien ",4.2,4.2,{"$f":"VLOOKUP(A465,Import!A:D,4,FALSE)","v":"Produits d'hygiène coporelle"},false,0,0,{"$f":"IFERROR(__xludf.DUMMYFUNCTION(\"TO_PURE_NUMBER(G465)\"),0)","v":0},0]
["Savon à froid le Vahiné - Clemence & Vivien ",4.5,4.5,{"$f":"VLOOKUP(A466,Import!A:D,4,FALSE)","v":"Produits d'hygiène coporelle"},false,0,0,{"$f":"IFERROR(__xludf.DUMMYFUNCTION(\"TO_PURE_NUMBER(G466)\"),0)","v":0},{"$f":"G466*C466","v":0}]
["Savon liquide de Marseille à l’huile d’olive & Lavande","6,90€ / kg","6.9",{"$f":"VLOOKUP(A467,Import!A:D,4,FALSE)","v":"Produits d'hygiène coporelle"},false,0,0,{"$f":"IFERROR(__xludf.DUMMYFUNCTION(\"TO_PURE_NUMBER(G467)\"),0)","v":0},{"$error":"#VALUE!"}]
["Savon Noir Tradition - Vrac ","5€ / kg","5",{"$f":"VLOOKUP(A468,Import!A:D,4,FALSE)","v":"Produits d'entretiens"},false,0,0,{"$f":"IFERROR(__xludf.DUMMYFUNCTION(\"TO_PURE_NUMBER(G468)\"),0)","v":0},0]
["Savon Soin Lavant Purifiant - Endro","14,90€","14.9",{"$f":"VLOOKUP(A469,Import!A:D,4,FALSE)","v":"Produits d'hygiène coporelle"},false,0,0,{"$f":"IFERROR(__xludf.DUMMYFUNCTION(\"TO_PURE_NUMBER(G469)\"),0)","v":0},{"$error":"#VALUE!"}]
["Sel de Mer Gros - Guérande","3,90€ / kg","3,9",{"$f":"VLOOKUP(A470,Import!A:D,4,FALSE)","v":"Alimentaire Vrac"},false,0,{"$f":"IF(F470=\"100G\",0.1,IF(F470=\"250G\",0.25,IF(F470=\"500G\",0.5,IF(F470=\"1 Kilo\",1,IF(F470=\"10G\",0.01,IF(F470=\"50G\",0.05,F470))))))","v":0},{"$f":"G470","v":0},{"$f":"G470*C470","v":0}]
["Sel fin de méditerrannée","3€ / kg","3",{"$f":"VLOOKUP(A471,Import!A:D,4,FALSE)","v":"Alimentaire Vrac"},false,0,0,0,0,{"$f":"VLOOKUP(A471,Import!A:N,14)","v":"🇫🇷 France - Guérande (44)"}]
["Sel régénérant vrac","2,10€ / kg","2.1",{"$f":"VLOOKUP(A472,Import!A:D,4,FALSE)","v":"Produits d'entretiens"},false,0,{"$f":"IF(F472=\"100G\",0.1,IF(F472=\"250G\",0.25,IF(F472=\"500G\",0.5,IF(F472=\"1 Kilo\",1,IF(F472=\"10G\",0.01,IF(F472=\"50G\",0.05,F472))))))","v":0},{"$f":"IFERROR(__xludf.DUMMYFUNCTION(\"TO_PURE_NUMBER(G472)\"),0)","v":0},{"$f":"G472*C472","v":{"$error":"#VALUE!"}},{"$f":"VLOOKUP(A472,Import!A:N,14)","v":"🇫🇷 France - Malataverne (26)"}]
["Sérum anti-imperfection - Endro","24,90€","24.9",{"$f":"VLOOKUP(A473,Import!A:D,4,FALSE)","v":"Produits d'hygiène coporelle"},false,0,0,{"$f":"IFERROR(__xludf.DUMMYFUNCTION(\"TO_PURE_NUMBER(G473)\"),0)","v":0},{"$error":"#VALUE!"},{"$f":"VLOOKUP(A473,Import!A:N,14)","v":"🇫🇷 France - Lannion (22)"}]
["Sérum désaltérant à l’acide hyaluronique - Clemence & Vivien ",9.1999999999999993,9.1999999999999993,{"$f":"VLOOKUP(A474,Import!A:D,4,FALSE)","v":"Produits d'hygiène coporelle"},false,0,0,{"$f":"IFERROR(__xludf.DUMMYFUNCTION(\"TO_PURE_NUMBER(G474)\"),0)","v":0},0,{"$f":"VLOOKUP(A474,Import!A:N,14)","v":"🇫🇷 France - Chauray (79)"}]
["Sérum Longueurs et pointes - Clemence & Vivien ","8,90€","8.9",{"$f":"VLOOKUP(A475,Import!A:D,4,FALSE)","v":"Produits d'hygiène coporelle"},false,0,0,{"$f":"IFERROR(__xludf.DUMMYFUNCTION(\"TO_PURE_NUMBER(G475)\"),0)","v":0},{"$error":"#VALUE!"},{"$f":"VLOOKUP(A475,Import!A:N,14)","v":"🇫🇷 France - Chauray (79)"}]
["Serviette de table","8,50€","8.5",{"$f":"VLOOKUP(A476,Import!A:D,4,FALSE)","v":"Zéros déchets et Bocaux"},false,0,0,{"$f":"IFERROR(__xludf.DUMMYFUNCTION(\"TO_PURE_NUMBER(G476)\"),0)","v":0},{"$error":"#VALUE!"},{"$f":"VLOOKUP(A476,Import!A:N,14)","v":"🇫🇷 France - Annemasse (74)"}]
["Serviette hygiénique ","9€","9",{"$f":"VLOOKUP(A477,Import!A:D,4,FALSE)","v":{"$error":"#N/A"}},false,0,0,{"$f":"IFERROR(__xludf.DUMMYFUNCTION(\"TO_PURE_NUMBER(G477)\"),0)","v":0},0,{"$f":"VLOOKUP(A477,Import!A:N,14)","v":"🇫🇷 France - Annemasse (74)"}]
["Serviette hygiénique Nuit","11€","11",{"$f":"VLOOKUP(A478,Import!A:D,4,FALSE)","v":{"$error":"#N/A"}},false,0,0,{"$f":"IFERROR(__xludf.DUMMYFUNCTION(\"TO_PURE_NUMBER(G478)\"),0)","v":0},0,{"$f":"VLOOKUP(A478,Import!A:N,14)","v":"🇫🇷 France - Annemasse (74)"}]
["Set Assiette et cuillère enfant - Bordeaux ","25€","25",{"$f":"VLOOKUP(A479,Import!A:D,4,FALSE)","v":"Zéros déchets et Bocaux"},false,0,0,{"$f":"IFERROR(__xludf.DUMMYFUNCTION(\"TO_PURE_NUMBER(G479)\"),0)","v":0},0,{"$f":"VLOOKUP(A479,Import!A:N,14)","v":"🇫🇷 France - Attignat (01)"}]
["Set Assiette et cuillère enfant - Lilas ","25€","25",{"$f":"VLOOKUP(A480,Import!A:D,4,FALSE)","v":"Zéros déchets et Bocaux"},false,0,0,{"$f":"IFERROR(__xludf.DUMMYFUNCTION(\"TO_PURE_NUMBER(G480)\"),0)","v":0},0,{"$f":"VLOOKUP(A480,Import!A:N,14)","v":"🇫🇷 France - Attignat (01)"}]
["Set de 3 couverts réutilisables","5,49€","5.49",{"$f":"VLOOKUP(A481,Import!A:D,4,FALSE)","v":"Zéros déchets et Bocaux"},false,0,{"$f":"IF(F481=\"100G\",0.1,IF(F481=\"250G\",0.25,IF(F481=\"500G\",0.5,IF(F481=\"1 Kilo\",1,F481))))","v":0},{"$f":"IFERROR(__xludf.DUMMYFUNCTION(\"TO_PURE_NUMBER(G481)\"),0)","v":0},{"$error":"#VALUE!"}]
["Set de Repas Bébé - Bleu","23,50€","23.5",{"$f":"VLOOKUP(A482,Import!A:D,4,FALSE)","v":"Zéros déchets et Bocaux"},false,0,0,{"$f":"IFERROR(__xludf.DUMMYFUNCTION(\"TO_PURE_NUMBER(G482)\"),0)","v":0},{"$error":"#VALUE!"}]
["Set de Repas Bébé - Jaune","23,50€","23.5",{"$f":"VLOOKUP(A483,Import!A:D,4,FALSE)","v":"Zéros déchets et Bocaux"},false,0,0,{"$f":"IFERROR(__xludf.DUMMYFUNCTION(\"TO_PURE_NUMBER(G483)\"),0)","v":0},{"$error":"#VALUE!"}]
["Set de Repas Bébé - Rose","23,50€","23.5",{"$f":"VLOOKUP(A484,Import!A:D,4,FALSE)","v":"Zéros déchets et Bocaux"},false,0,{"$f":"IF(F484=\"100G\",0.1,IF(F484=\"250G\",0.25,IF(F484=\"500G\",0.5,IF(F484=\"1 Kilo\",1,IF(F484=\"10G\",0.01,IF(F484=\"50G\",0.05,F484))))))","v":0},{"$f":"IFERROR(__xludf.DUMMYFUNCTION(\"TO_PURE_NUMBER(G484)\"),0)","v":0},{"$f":"G484*C484","v":{"$error":"#VALUE!"}},{"$f":"VLOOKUP(A484,Import!A:N,14)","v":"🇫🇷 France - Attignat (01)"}]
["Set de Repas Bébé - Vert","23,50€","23.5",{"$f":"VLOOKUP(A485,Import!A:D,4,FALSE)","v":"Zéros déchets et Bocaux"},false,0,0,{"$f":"IFERROR(__xludf.DUMMYFUNCTION(\"TO_PURE_NUMBER(G485)\"),0)","v":0},{"$error":"#VALUE!"},{"$f":"VLOOKUP(A485,Import!A:N,14)","v":"🇫🇷 France - Attignat (01)"}]
["Set de repas enfants","25€","25",{"$f":"VLOOKUP(A486,Import!A:D,4,FALSE)","v":"Zéros déchets et Bocaux"},false,0,{"$f":"IF(F486=\"100G\",0.1,IF(F486=\"250G\",0.25,IF(F486=\"500G\",0.5,IF(F486=\"1 Kilo\",1,F486))))","v":0},{"$f":"IFERROR(__xludf.DUMMYFUNCTION(\"TO_PURE_NUMBER(G486)\"),0)","v":0},0]
["Set de Table à colorier ","7,50€","7.5",{"$f":"VLOOKUP(A487,Import!A:D,4,FALSE)","v":"Zéros déchets et Bocaux"},false,0,0,{"$f":"IFERROR(__xludf.DUMMYFUNCTION(\"TO_PURE_NUMBER(G487)\"),0)","v":0},{"$error":"#VALUE!"},{"$f":"VLOOKUP(A487,Import!A:N,13)","v":"Alterosac"}]
["Shampoing Douche à l’huile d’argan - Vrac",14.5,14.5,{"$f":"VLOOKUP(A488,Import!A:D,4,FALSE)","v":"Produits d'hygiène coporelle"},false,0,0,{"$f":"IFERROR(__xludf.DUMMYFUNCTION(\"TO_PURE_NUMBER(G488)\"),0)","v":0},0,{"$f":"VLOOKUP(A488,Import!A:N,13)","v":"La savonnerie Pilon du Roy"}]
["Shampoing sec - sans HE - 35ml","8,50€","8.5",{"$f":"VLOOKUP(A489,Import!A:D,4,FALSE)","v":"Produits d'hygiène coporelle"},false,0,0,{"$f":"IFERROR(__xludf.DUMMYFUNCTION(\"TO_PURE_NUMBER(G489)\"),0)","v":0},{"$error":"#VALUE!"},{"$f":"VLOOKUP(A489,Import!A:N,13)","v":"Les Savons de Joya"}]
["Shampoing sec - sans HE - Recharge ","6€","6",{"$f":"VLOOKUP(A490,Import!A:D,4,FALSE)","v":"Produits d'hygiène coporelle"},false,0,0,{"$f":"IFERROR(__xludf.DUMMYFUNCTION(\"TO_PURE_NUMBER(G490)\"),0)","v":0},0]
["Shampoing solide - Antipelliculaire - 80g","10,60€","10.6",{"$f":"VLOOKUP(A491,Import!A:D,4,FALSE)","v":"Produits d'hygiène coporelle"},false,0,0,{"$f":"IFERROR(__xludf.DUMMYFUNCTION(\"TO_PURE_NUMBER(G491)\"),0)","v":0},{"$error":"#VALUE!"}]
["Shampoing solide - Bleu - 80g","10,60€","10.6",{"$f":"VLOOKUP(A492,Import!A:D,4,FALSE)","v":"Produits d'hygiène coporelle"},false,0,0,{"$f":"IFERROR(__xludf.DUMMYFUNCTION(\"TO_PURE_NUMBER(G492)\"),0)","v":0},{"$error":"#VALUE!"}]
["Shampoing solide - Cheveux abîmés & colorés - Sans HE - 80g","10,60€","10.6",{"$f":"VLOOKUP(A493,Import!A:D,4,FALSE)","v":"Produits d'hygiène coporelle"},false,0,0,{"$f":"IFERROR(__xludf.DUMMYFUNCTION(\"TO_PURE_NUMBER(G493)\"),0)","v":0},{"$error":"#VALUE!"}]
["Shampoing solide - Cheveux abîmés et colorés - 80g","10,60€","10.6",{"$f":"VLOOKUP(A494,Import!A:D,4,FALSE)","v":"Produits d'hygiène coporelle"},false,0,0,{"$f":"IFERROR(__xludf.DUMMYFUNCTION(\"TO_PURE_NUMBER(G494)\"),0)","v":0},{"$error":"#VALUE!"}]
["Shampoing solide - Cheveux frisés / crépus - 80g","10,60€","10.6",{"$f":"VLOOKUP(A495,Import!A:D,4,FALSE)","v":"Produits d'hygiène coporelle"},false,0,0,{"$f":"IFERROR(__xludf.DUMMYFUNCTION(\"TO_PURE_NUMBER(G495)\"),0)","v":0},{"$error":"#VALUE!"}]
["Shampoing solide - Cheveux gras - 80g","10,60€","10.6",{"$f":"VLOOKUP(A496,Import!A:D,4,FALSE)","v":"Produits d'hygiène coporelle"},false,0,0,{"$f":"IFERROR(__xludf.DUMMYFUNCTION(\"TO_PURE_NUMBER(G496)\"),0)","v":0},{"$error":"#VALUE!"}]
["Shampoing solide - Cheveux gras - Sans HE 80g","10,60€","10.6",{"$f":"VLOOKUP(A497,Import!A:D,4,FALSE)","v":"Produits d'hygiène coporelle"},false,0,0,{"$f":"IFERROR(__xludf.DUMMYFUNCTION(\"TO_PURE_NUMBER(G497)\"),0)","v":0},{"$error":"#VALUE!"},{"$f":"VLOOKUP(A497,Import!A:N,13)","v":"Les Savons de Joya"}]
["Shampoing solide - Sensible - 80g","10,60€","10.6",{"$f":"VLOOKUP(A498,Import!A:D,4,FALSE)","v":"Produits d'hygiène coporelle"},false,0,0,{"$f":"IFERROR(__xludf.DUMMYFUNCTION(\"TO_PURE_NUMBER(G498)\"),0)","v":0},{"$error":"#VALUE!"},{"$f":"VLOOKUP(A498,Import!A:N,13)","v":"Les Savons de Joya"}]
["Shampoing solide - Stimulant - 80g","10,60€","10.6",{"$f":"VLOOKUP(A499,Import!A:D,4,FALSE)","v":"Produits d'hygiène coporelle"},false,0,0,{"$f":"IFERROR(__xludf.DUMMYFUNCTION(\"TO_PURE_NUMBER(G499)\"),0)","v":0},{"$error":"#VALUE!"},{"$f":"VLOOKUP(A499,Import!A:N,13)","v":"Les Savons de Joya"}]
["Shampoing solide - Tout type de cheveux - 80g","10,60€","10.6",{"$f":"VLOOKUP(A500,Import!A:D,4,FALSE)","v":"Produits d'hygiène coporelle"},false,0,0,{"$f":"IFERROR(__xludf.DUMMYFUNCTION(\"TO_PURE_NUMBER(G500)\"),0)","v":0},{"$error":"#VALUE!"},{"$f":"VLOOKUP(A500,Import!A:N,13)","v":"Les Savons de Joya"}]
["Sirop d’Erable ","25€/kg","25",{"$f":"VLOOKUP(A501,Import!A:D,4,FALSE)","v":"Alimentaire Vrac"},false,0,{"$f":"IF(F501=\"100G\",0.1,IF(F501=\"250G\",0.25,IF(F501=\"500G\",0.5,IF(F501=\"1 Kilo\",1,IF(F501=\"10G\",0.01,IF(F501=\"50G\",0.05,F501))))))","v":0},{"$f":"G501","v":0},{"$f":"G501*C501","v":0},{"$f":"VLOOKUP(A501,Import!A:N,13)","v":"Actibio"}]
["Sirop de Cassis - 70cl","6,90€","6.9",{"$f":"VLOOKUP(A502,Import!A:D,4,FALSE)","v":"Alimentaire Conditionné"},false,0,0,{"$f":"IFERROR(__xludf.DUMMYFUNCTION(\"TO_PURE_NUMBER(G502)\"),0)","v":0},{"$error":"#VALUE!"},{"$f":"VLOOKUP(A502,Import!A:N,13)","v":"Scop Epice"}]
["Sirop de Citron ","9,50€/kg","9.5",{"$f":"VLOOKUP(A503,Import!A:D,4,FALSE)","v":"Boisson en vrac"},false,0,0,{"$f":"IFERROR(__xludf.DUMMYFUNCTION(\"TO_PURE_NUMBER(G503)\"),0)","v":0},{"$error":"#VALUE!"}]
["Sirop de Grenadine","9,50€/kg","9.5",{"$f":"VLOOKUP(A504,Import!A:D,4,FALSE)","v":"Boisson en vrac"},false,0,0,{"$f":"IFERROR(__xludf.DUMMYFUNCTION(\"TO_PURE_NUMBER(G504)\"),0)","v":0},{"$error":"#VALUE!"}]
["Sirop de Menthe","9,50€/kg","9.5",{"$f":"VLOOKUP(A505,Import!A:D,4,FALSE)","v":"Boisson en vrac"},false,0,0,{"$f":"IFERROR(__xludf.DUMMYFUNCTION(\"TO_PURE_NUMBER(G505)\"),0)","v":0},{"$error":"#VALUE!"},{"$f":"VLOOKUP(A505,Import!A:N,13)","v":"Scop Epice"}]
["Sirop de Pamplemousse - 70cl ","6,90€","6.9",{"$f":"VLOOKUP(A506,Import!A:D,4,FALSE)","v":"Alimentaire Conditionné"},false,0,0,{"$f":"IFERROR(__xludf.DUMMYFUNCTION(\"TO_PURE_NUMBER(G506)\"),0)","v":0},{"$error":"#VALUE!"},{"$f":"VLOOKUP(A506,Import!A:N,13)","v":"Scop Epice"}]
["Sirop de Pêche","9,50€/kg","9.5",{"$f":"VLOOKUP(A507,Import!A:D,4,FALSE)","v":"Boisson en vrac"},false]
["Solution hydroalcolique","7,50€/kg","7.5",{"$f":"VLOOKUP(A508,Import!A:D,4,FALSE)","v":"Produits d'entretiens"},false]
["Spirales Complètes ","3,30€/kg","3,3",{"$f":"VLOOKUP(A509,Import!A:D,4,FALSE)","v":"Alimentaire Vrac"},false,0,{"$f":"IF(F509=\"100G\",0.1,IF(F509=\"250G\",0.25,IF(F509=\"500G\",0.5,IF(F509=\"1 Kilo\",1,IF(F509=\"10G\",0.01,IF(F509=\"50G\",0.05,F509))))))","v":0},{"$f":"G509","v":0},{"$f":"H509*C509","v":0}]
["Sucre Blanc de Canne","2,95€/kg",2.95,{"$f":"VLOOKUP(A510,Import!A:D,4,FALSE)","v":"Alimentaire Vrac"},false,0,0,0,0]
["Sucre Blond - Paraguay","3,20€/kg","3,2",{"$f":"VLOOKUP(A511,Import!A:D,4,FALSE)","v":"Alimentaire Vrac"},false,0,0,0,0]
["Sucre Complet - Rapadura ","4,90€/kg","4,9",{"$f":"VLOOKUP(A512,Import!A:D,4,FALSE)","v":"Alimentaire Vrac"},false,0,0,0,0]
["Sucre de Canne Complet","4,90€/kg",4.9000000000000004,{"$f":"VLOOKUP(A513,Import!A:D,4,FALSE)","v":"Alimentaire Vrac"},false,0,0,0,0]
["Sucre de Coco","5,50€/kg",5.5,{"$f":"VLOOKUP(A514,Import!A:D,4,FALSE)","v":"Alimentaire Vrac"},false,0,0,0,0]
["Sucre Glace sans séparateur ","5,50€/kg","5,5",{"$f":"VLOOKUP(A515,Import!A:D,4,FALSE)","v":"Alimentaire Vrac"},false,0,0,0,0]
["Sucre Roux Demérara (Cassonade) ","3,50€/kg","3,5",{"$f":"VLOOKUP(A516,Import!A:D,4,FALSE)","v":"Alimentaire Vrac"},false,0,0,0,0]
["Super bain d’huile avant-shampoing - - Clemence & Vivien ","9,90€","9.9",{"$f":"VLOOKUP(A517,Import!A:D,4,FALSE)","v":"Produits d'hygiène coporelle"},false]
["Tablettes Lave Vaisselle Vrac","13,60€/kg","13.6",{"$f":"VLOOKUP(A518,Import!A:D,4,FALSE)","v":"Produits d'entretiens"},false]
["Tamari - Vrac","10,80€/kg","10,8",{"$f":"VLOOKUP(A519,Import!A:D,4,FALSE)","v":"Alimentaire Vrac"},false,0,{"$f":"IF(F519=\"100G\",0.1,IF(F519=\"250G\",0.25,IF(F519=\"500G\",0.5,IF(F519=\"1 Kilo\",1,IF(F519=\"10G\",0.01,IF(F519=\"50G\",0.05,F519))))))","v":0},{"$f":"G519","v":0},{"$f":"H519*C519","v":0}]
["Tamari, less salt 25% - 250ml","6,50€","6.5",{"$f":"VLOOKUP(A520,Import!A:D,4,FALSE)","v":"Alimentaire Conditionné"},false]
["Tartinade - de Noël","6€","6",{"$f":"VLOOKUP(A521,Import!A:D,4,FALSE)","v":"/"},false]
["Tartinade Apéro - Aubergine Paprika fumé","5,50€","5.5",{"$f":"VLOOKUP(A522,Import!A:D,4,FALSE)","v":"Alimentaire Conditionné"},false]
["Tartinade Apéro - Betterave Grains moutarde","5,50€","5.5",{"$f":"VLOOKUP(A523,Import!A:D,4,FALSE)","v":"Alimentaire Conditionné"},false]
["Tartinade Apéro - Butternut verveine citron","5,50€","5.5",{"$f":"VLOOKUP(A524,Import!A:D,4,FALSE)","v":"Alimentaire Conditionné"},false,0,{"$f":"IF(F524=\"100G\",0.1,IF(F524=\"250G\",0.25,IF(F524=\"500G\",0.5,IF(F524=\"1 Kilo\",1,IF(F524=\"10G\",0.01,IF(F524=\"50G\",0.05,F524))))))","v":0},{"$f":"IFERROR(__xludf.DUMMYFUNCTION(\"TO_PURE_NUMBER(G524)\"),0)","v":0},{"$f":"H524*C524","v":{"$error":"#VALUE!"}},{"$f":"VLOOKUP(A524,Import!A:N,14)","v":"🇫🇷 France - Fareins (01)"}]
["Tartinade Apéro - Carotte cumin","5,50€","5.5",{"$f":"VLOOKUP(A525,Import!A:D,4,FALSE)","v":"Alimentaire Conditionné"},false]
["Tartinade Apéro - Chou fleur Ail noir","5,50€","5.5",{"$f":"VLOOKUP(A526,Import!A:D,4,FALSE)","v":"Alimentaire Conditionné"},false]
["Tartinade Apéro - Courgette Thym","5,50€","5.5",{"$f":"VLOOKUP(A527,Import!A:D,4,FALSE)","v":"Alimentaire Conditionné"},false]
["Tartinade Apéro - Gwacamole 130g","4,50€","4.5",{"$f":"VLOOKUP(A528,Import!A:D,4,FALSE)","v":"Alimentaire Conditionné"},false]
["Tartinade Apéro - Poichichade au paprika - 100g","4,50 €","4.5",{"$f":"VLOOKUP(A529,Import!A:D,4,FALSE)","v":"Alimentaire Conditionné"},false]
["Tartinade Apéro - Poichichade traditionnelle - 100g","4,00 €","4",{"$f":"VLOOKUP(A530,Import!A:D,4,FALSE)","v":"Alimentaire Conditionné"},false]
["Tartinade Apéro - Pois chiches Graines de Nigelle","5,50€","5.5",{"$f":"VLOOKUP(A531,Import!A:D,4,FALSE)","v":"Alimentaire Conditionné"},false]
["Tartinade Apéro - Tomates Sarriette","5,50€","5.50",{"$f":"VLOOKUP(A532,Import!A:D,4,FALSE)","v":"/"},false]
["Tartine Craquante Sarrasin - 300g","5,50€","5.50",{"$f":"VLOOKUP(A533,Import!A:D,4,FALSE)","v":"Alimentaire Conditionné"},false,0,{"$f":"IF(F533=\"100G\",0.1,IF(F533=\"250G\",0.25,IF(F533=\"500G\",0.5,IF(F533=\"1 Kilo\",1,IF(F533=\"10G\",0.01,IF(F533=\"50G\",0.05,F533))))))","v":0},{"$f":"IFERROR(__xludf.DUMMYFUNCTION(\"TO_PURE_NUMBER(G533)\"),0)","v":0},{"$f":"H533*C533","v":{"$error":"#VALUE!"}},{"$f":"VLOOKUP(A533,Import!A:N,14)","v":"🇫🇷 France - Peaugres (07)"}]
["Tête rechargeable pour Brosse vaisselle","2,70€","2.7",{"$f":"VLOOKUP(A534,Import!A:D,4,FALSE)","v":"Produits d'entretiens"},false,0,0,{"$f":"IFERROR(__xludf.DUMMYFUNCTION(\"TO_PURE_NUMBER(G534)\"),0)","v":0},{"$error":"#VALUE!"},{"$f":"VLOOKUP(A534,Import!A:N,14)","v":"🇫🇷 France - Marseille (13)"}]
["Thé Noir - Darjeling ","50€/kg","50",{"$f":"VLOOKUP(A535,Import!A:D,4,FALSE)","v":"Boisson en vrac"},false,0,0,{"$f":"IFERROR(__xludf.DUMMYFUNCTION(\"TO_PURE_NUMBER(G535)\"),0)","v":0},0,{"$f":"VLOOKUP(A535,Import!A:N,14)","v":"🇮🇳 Inde"}]
["Thé Noir - Earl Grey ","60€/kg","60",{"$f":"VLOOKUP(A536,Import!A:D,4,FALSE)","v":"Boisson en vrac"},false,0,0,{"$f":"IFERROR(__xludf.DUMMYFUNCTION(\"TO_PURE_NUMBER(G536)\"),0)","v":0},0,{"$f":"VLOOKUP(A536,Import!A:N,14)","v":"Asie"}]
["Thé Noir - Noël","69€/kg","60",{"$f":"VLOOKUP(A537,Import!A:D,4,FALSE)","v":"Boisson en vrac"},false]
["Thé Vert - Au chant des cigales ","60€/kg","60",{"$f":"VLOOKUP(A538,Import!A:D,4,FALSE)","v":"Boisson en vrac"},false]
["Thé Vert - Earl Grey Azur ","60€/kg","60",{"$f":"VLOOKUP(A539,Import!A:D,4,FALSE)","v":"Boisson en vrac"},false,0,{"$f":"IF(F539=\"100G\",0.1,IF(F539=\"250G\",0.25,IF(F539=\"500G\",0.5,IF(F539=\"1 Kilo\",1,IF(F539=\"10G\",0.01,IF(F539=\"50G\",0.05,F539))))))","v":0},{"$f":"IFERROR(__xludf.DUMMYFUNCTION(\"TO_PURE_NUMBER(G539)\"),0)","v":0},{"$f":"H539*C539","v":0},{"$f":"VLOOKUP(A539,Import!A:N,14)","v":"Asie"}]
["Thé Vert - Fruité Tropical","60€/kg","60",{"$f":"VLOOKUP(A540,Import!A:D,4,FALSE)","v":"Boisson en vrac"},false,0,0,{"$f":"IFERROR(__xludf.DUMMYFUNCTION(\"TO_PURE_NUMBER(G540)\"),0)","v":0},0,{"$f":"VLOOKUP(A540,Import!A:N,14)","v":"Asie"}]
["Thé Vert - Gunpowder ","50€/kg","50",{"$f":"VLOOKUP(A541,Import!A:D,4,FALSE)","v":"Boisson en vrac"},false]
["Thé Vert - Jasmin","65€/kg","65",{"$f":"VLOOKUP(A542,Import!A:D,4,FALSE)","v":"Boisson en vrac"},false]
["Thé Vert - Mandarine Pamplemousse","60€/kg","60",{"$f":"VLOOKUP(A543,Import!A:D,4,FALSE)","v":"Boisson en vrac"},false]
["Thé Vert - Menthe Marrakech","60€/kg","60",{"$f":"VLOOKUP(A544,Import!A:D,4,FALSE)","v":"Boisson en vrac"},false]
["Thym Feuilles ","140€/kg","140",{"$f":"VLOOKUP(A545,Import!A:D,4,FALSE)","v":"Alimentaire Vrac"},false,0,{"$f":"IF(F545=\"100G\",0.1,IF(F545=\"250G\",0.25,IF(F545=\"500G\",0.5,IF(F545=\"1 Kilo\",1,IF(F545=\"10G\",0.01,IF(F545=\"50G\",0.05,F545))))))","v":0},{"$f":"G545","v":0},{"$f":"H545*C545","v":0}]
["Tisane - Après Repas","50€/kg","50",{"$f":"VLOOKUP(A546,Import!A:D,4,FALSE)","v":"Boisson en vrac"},false]
["Tisane - Camomille","60€/kg","60",{"$f":"VLOOKUP(A547,Import!A:D,4,FALSE)","v":"Boisson en vrac"},false]
["Tisane - Des elfes","60€/kg","60",{"$f":"VLOOKUP(A548,Import!A:D,4,FALSE)","v":"Boisson en vrac"},false]
["Tisane - Du soir ","50€/kg","50",{"$f":"VLOOKUP(A549,Import!A:D,4,FALSE)","v":"Boisson en vrac"},false]
["Tisane - Hibiscus","50€/kg","50",{"$f":"VLOOKUP(A550,Import!A:D,4,FALSE)","v":"Boisson en vrac"},false]
["Tisane - La mésange bleue ","50€/kg","50",{"$f":"VLOOKUP(A551,Import!A:D,4,FALSE)","v":"Boisson en vrac"},false]
["Tisane - Verveine citronnée ","50€/kg","50",{"$f":"VLOOKUP(A552,Import!A:D,4,FALSE)","v":"Boisson en vrac"},false]
["Vermicelles demi complets","2,95€/kg",2.95,{"$f":"VLOOKUP(A553,Import!A:D,4,FALSE)","v":"Alimentaire Vrac"},false,0,{"$f":"IF(F553=\"100G\",0.1,IF(F553=\"250G\",0.25,IF(F553=\"500G\",0.5,IF(F553=\"1 Kilo\",1,IF(F553=\"10G\",0.01,IF(F553=\"50G\",0.05,F553))))))","v":0},{"$f":"G553","v":0},{"$f":"H553*C553","v":0}]
["Vinaigre Balsamique","8,50€/kg","8,5",{"$f":"VLOOKUP(A554,Import!A:D,4,FALSE)","v":"Alimentaire Vrac"},false,0,0,0,0]
["Vinaigre balsamique de Modène - 50cl","5,50€/kg","5.5",{"$f":"VLOOKUP(A555,Import!A:D,4,FALSE)","v":"Alimentaire Conditionné"},false]
["Vinaigre Blanc Naturel 14° - Vrac","4,90€/kg","4.9",{"$f":"VLOOKUP(A556,Import!A:D,4,FALSE)","v":"Produits d'entretiens"},false]
["Vinaigre de Cidre ","4,50€/kg","4,5",{"$f":"VLOOKUP(A557,Import!A:D,4,FALSE)","v":"Alimentaire Vrac"},false,0,{"$f":"IF(F557=\"100G\",0.1,IF(F557=\"250G\",0.25,IF(F557=\"500G\",0.5,IF(F557=\"1 Kilo\",1,IF(F557=\"10G\",0.01,IF(F557=\"50G\",0.05,F557))))))","v":0},{"$f":"G557","v":0},{"$f":"H557*C557","v":0}]
["Vinaigre de Vin Rouge","3,75€/kg",3.75,{"$f":"VLOOKUP(A558,Import!A:D,4,FALSE)","v":"Alimentaire Vrac"},false,0,0,0,0]
[null,null,null,{"$f":"VLOOKUP(A559,Import!A:D,4,FALSE)","v":{"$error":"#N/A"}},false]
[null,null,null,{"$f":"VLOOKUP(A560,Import!A:D,4,FALSE)","v":{"$error":"#N/A"}},false]
[null,null,null,{"$f":"VLOOKUP(A561,Import!A:D,4,FALSE)","v":{"$error":"#N/A"}},false]
[null,null,null,{"$f":"VLOOKUP(A562,Import!A:D,4,FALSE)","v":{"$error":"#N/A"}},false]
[null,null,null,{"$f":"VLOOKUP(A563,Import!A:D,4,FALSE)","v":{"$error":"#N/A"}},false]
[null,null,null,{"$f":"VLOOKUP(A564,Import!A:D,4,FALSE)","v":{"$error":"#N/A"}},false]
[null,null,null,{"$f":"VLOOKUP(A565,Import!A:D,4,FALSE)","v":{"$error":"#N/A"}},false]
[null,null,null,{"$f":"VLOOKUP(A566,Import!A:D,4,FALSE)","v":{"$error":"#N/A"}},false]
[null,null,null,{"$f":"VLOOKUP(A567,Import!A:D,4,FALSE)","v":{"$error":"#N/A"}},false]
[null,null,null,{"$f":"VLOOKUP(A568,Import!A:D,4,FALSE)","v":{"$error":"#N/A"}},false]
[null,null,null,{"$f":"VLOOKUP(A569,Import!A:D,4,FALSE)","v":{"$error":"#N/A"}},false]
[null,null,null,{"$f":"VLOOKUP(A570,Import!A:D,4,FALSE)","v":{"$error":"#N/A"}},false]
[null,null,null,{"$f":"VLOOKUP(A571,Import!A:D,4,FALSE)","v":{"$error":"#N/A"}},false]
[null,null,null,{"$f":"VLOOKUP(A572,Import!A:D,4,FALSE)","v":{"$error":"#N/A"}},false]
[null,null,null,{"$f":"VLOOKUP(A573,Import!A:D,4,FALSE)","v":{"$error":"#N/A"}},false]
[null,null,null,{"$f":"VLOOKUP(A574,Import!A:D,4,FALSE)","v":{"$error":"#N/A"}},false]
[null,null,null,{"$f":"VLOOKUP(A575,Import!A:D,4,FALSE)","v":{"$error":"#N/A"}},false]
[null,null,null,{"$f":"VLOOKUP(A576,Import!A:D,4,FALSE)","v":{"$error":"#N/A"}},false]
[null,null,null,{"$f":"VLOOKUP(A577,Import!A:D,4,FALSE)","v":{"$error":"#N/A"}},false]
[null,null,null,{"$f":"VLOOKUP(A578,Import!A:D,4,FALSE)","v":{"$error":"#N/A"}},false]
[null,null,null,{"$f":"VLOOKUP(A579,Import!A:D,4,FALSE)","v":{"$error":"#N/A"}},false]
[null,null,null,{"$f":"VLOOKUP(A580,Import!A:D,4,FALSE)","v":{"$error":"#N/A"}},false]
[null,null,null,{"$f":"VLOOKUP(A581,Import!A:D,4,FALSE)","v":{"$error":"#N/A"}},false]
[null,null,null,{"$f":"VLOOKUP(A582,Import!A:D,4,FALSE)","v":{"$error":"#N/A"}},false]
[null,null,null,{"$f":"VLOOKUP(A583,Import!A:D,4,FALSE)","v":{"$error":"#N/A"}},false]
[null,null,null,{"$f":"VLOOKUP(A584,Import!A:D,4,FALSE)","v":{"$error":"#N/A"}},false]
[null,null,null,{"$f":"VLOOKUP(A585,Import!A:D,4,FALSE)","v":{"$error":"#N/A"}},false]
[null,null,null,{"$f":"VLOOKUP(A586,Import!A:D,4,FALSE)","v":{"$error":"#N/A"}},false]
[null,null,null,{"$f":"VLOOKUP(A587,Import!A:D,4,FALSE)","v":{"$error":"#N/A"}},false]
[null,null,null,{"$f":"VLOOKUP(A588,Import!A:D,4,FALSE)","v":{"$error":"#N/A"}},false]
[null,null,null,{"$f":"VLOOKUP(A589,Import!A:D,4,FALSE)","v":{"$error":"#N/A"}},false]
[null,null,null,{"$f":"VLOOKUP(A590,Import!A:D,4,FALSE)","v":{"$error":"#N/A"}},false]
[null,null,null,{"$f":"VLOOKUP(A591,Import!A:D,4,FALSE)","v":{"$error":"#N/A"}},false]
[null,null,null,{"$f":"VLOOKUP(A592,Import!A:D,4,FALSE)","v":{"$error":"#N/A"}},false]
[null,null,null,{"$f":"VLOOKUP(A593,Import!A:D,4,FALSE)","v":{"$error":"#N/A"}},false]
[null,null,null,{"$f":"VLOOKUP(A594,Import!A:D,4,FALSE)","v":{"$error":"#N/A"}},false]
[null,null,null,{"$f":"VLOOKUP(A595,Import!A:D,4,FALSE)","v":{"$error":"#N/A"}},false]
[null,null,null,{"$f":"VLOOKUP(A596,Import!A:D,4,FALSE)","v":{"$error":"#N/A"}},false]
[null,null,null,{"$f":"VLOOKUP(A597,Import!A:D,4,FALSE)","v":{"$error":"#N/A"}},false]
[null,null,null,{"$f":"VLOOKUP(A598,Import!A:D,4,FALSE)","v":{"$error":"#N/A"}},false]
[null,null,null,{"$f":"VLOOKUP(A599,Import!A:D,4,FALSE)","v":{"$error":"#N/A"}},false]
[null,null,null,{"$f":"VLOOKUP(A600,Import!A:D,4,FALSE)","v":{"$error":"#N/A"}},false]
[null,null,null,{"$f":"VLOOKUP(A601,Import!A:D,4,FALSE)","v":{"$error":"#N/A"}},false]
[null,null,null,{"$f":"VLOOKUP(A602,Import!A:D,4,FALSE)","v":{"$error":"#N/A"}},false]
[null,null,null,{"$f":"VLOOKUP(A603,Import!A:D,4,FALSE)","v":{"$error":"#N/A"}},false]
[null,null,null,{"$f":"VLOOKUP(A604,Import!A:D,4,FALSE)","v":{"$error":"#N/A"}},false]
[null,null,null,{"$f":"VLOOKUP(A605,Import!A:D,4,FALSE)","v":{"$error":"#N/A"}},false]
[null,null,null,{"$f":"VLOOKUP(A606,Import!A:D,4,FALSE)","v":{"$error":"#N/A"}},false]
[null,null,null,{"$f":"VLOOKUP(A607,Import!A:D,4,FALSE)","v":{"$error":"#N/A"}},false]
[null,null,null,{"$f":"VLOOKUP(A608,Import!A:D,4,FALSE)","v":{"$error":"#N/A"}},false]
[null,null,null,{"$f":"VLOOKUP(A609,Import!A:D,4,FALSE)","v":{"$error":"#N/A"}},false]
[null,null,null,{"$f":"VLOOKUP(A610,Import!A:D,4,FALSE)","v":{"$error":"#N/A"}},false]
[null,null,null,{"$f":"VLOOKUP(A611,Import!A:D,4,FALSE)","v":{"$error":"#N/A"}},false]
[null,null,null,{"$f":"VLOOKUP(A612,Import!A:D,4,FALSE)","v":{"$error":"#N/A"}},false]
[null,null,null,{"$f":"VLOOKUP(A613,Import!A:D,4,FALSE)","v":{"$error":"#N/A"}},false]
[null,null,null,{"$f":"VLOOKUP(A614,Import!A:D,4,FALSE)","v":{"$error":"#N/A"}},false]
[null,null,null,{"$f":"VLOOKUP(A615,Import!A:D,4,FALSE)","v":{"$error":"#N/A"}},false]
[null,null,null,{"$f":"VLOOKUP(A616,Import!A:D,4,FALSE)","v":{"$error":"#N/A"}},false]
[null,null,null,{"$f":"VLOOKUP(A617,Import!A:D,4,FALSE)","v":{"$error":"#N/A"}},false]
[null,null,null,{"$f":"VLOOKUP(A618,Import!A:D,4,FALSE)","v":{"$error":"#N/A"}},false]
[null,null,null,{"$f":"VLOOKUP(A619,Import!A:D,4,FALSE)","v":{"$error":"#N/A"}},false]
[null,null,null,{"$f":"VLOOKUP(A620,Import!A:D,4,FALSE)","v":{"$error":"#N/A"}},false]
[null,null,null,{"$f":"VLOOKUP(A621,Import!A:D,4,FALSE)","v":{"$error":"#N/A"}},false]
[null,null,null,{"$f":"VLOOKUP(A622,Import!A:D,4,FALSE)","v":{"$error":"#N/A"}},false]
[null,null,null,{"$f":"VLOOKUP(A623,Import!A:D,4,FALSE)","v":{"$error":"#N/A"}},false]
[null,null,null,{"$f":"VLOOKUP(A624,Import!A:D,4,FALSE)","v":{"$error":"#N/A"}},false]
[null,null,null,{"$f":"VLOOKUP(A625,Import!A:D,4,FALSE)","v":{"$error":"#N/A"}},false]
[null,null,null,{"$f":"VLOOKUP(A626,Import!A:D,4,FALSE)","v":{"$error":"#N/A"}},false]
[null,null,null,{"$f":"VLOOKUP(A627,Import!A:D,4,FALSE)","v":{"$error":"#N/A"}},false]
[null,null,null,{"$f":"VLOOKUP(A628,Import!A:D,4,FALSE)","v":{"$error":"#N/A"}},false]
[null,null,null,{"$f":"VLOOKUP(A629,Import!A:D,4,FALSE)","v":{"$error":"#N/A"}},false]
[null,null,null,{"$f":"VLOOKUP(A630,Import!A:D,4,FALSE)","v":{"$error":"#N/A"}},false]
[null,null,null,{"$f":"VLOOKUP(A631,Import!A:D,4,FALSE)","v":{"$error":"#N/A"}},false]
[null,null,null,{"$f":"VLOOKUP(A632,Import!A:D,4,FALSE)","v":{"$error":"#N/A"}},false]
[null,null,null,{"$f":"VLOOKUP(A633,Import!A:D,4,FALSE)","v":{"$error":"#N/A"}},false]
[null,null,null,{"$f":"VLOOKUP(A634,Import!A:D,4,FALSE)","v":{"$error":"#N/A"}},false]
[null,null,null,{"$f":"VLOOKUP(A635,Import!A:D,4,FALSE)","v":{"$error":"#N/A"}},false]
[null,null,null,{"$f":"VLOOKUP(A636,Import!A:D,4,FALSE)","v":{"$error":"#N/A"}},false]
[null,null,null,{"$f":"VLOOKUP(A637,Import!A:D,4,FALSE)","v":{"$error":"#N/A"}},false]
[null,null,null,{"$f":"VLOOKUP(A638,Import!A:D,4,FALSE)","v":{"$error":"#N/A"}},false]
[null,null,null,{"$f":"VLOOKUP(A639,Import!A:D,4,FALSE)","v":{"$error":"#N/A"}},false]
[null,null,null,{"$f":"VLOOKUP(A640,Import!A:D,4,FALSE)","v":{"$error":"#N/A"}},false]
[null,null,null,{"$f":"VLOOKUP(A641,Import!A:D,4,FALSE)","v":{"$error":"#N/A"}},false]
[null,null,null,{"$f":"VLOOKUP(A642,Import!A:D,4,FALSE)","v":{"$error":"#N/A"}},false]
[null,null,null,{"$f":"VLOOKUP(A643,Import!A:D,4,FALSE)","v":{"$error":"#N/A"}},false]
[null,null,null,{"$f":"VLOOKUP(A644,Import!A:D,4,FALSE)","v":{"$error":"#N/A"}},false]
[null,null,null,{"$f":"VLOOKUP(A645,Import!A:D,4,FALSE)","v":{"$error":"#N/A"}},false]
[null,null,null,{"$f":"VLOOKUP(A646,Import!A:D,4,FALSE)","v":{"$error":"#N/A"}},false]
[null,null,null,{"$f":"VLOOKUP(A647,Import!A:D,4,FALSE)","v":{"$error":"#N/A"}},false]
[null,null,null,{"$f":"VLOOKUP(A648,Import!A:D,4,FALSE)","v":{"$error":"#N/A"}},false]
[null,null,null,{"$f":"VLOOKUP(A649,Import!A:D,4,FALSE)","v":{"$error":"#N/A"}},false]
[null,null,null,{"$f":"VLOOKUP(A650,Import!A:D,4,FALSE)","v":{"$error":"#N/A"}},false]
[null,null,null,{"$f":"VLOOKUP(A651,Import!A:D,4,FALSE)","v":{"$error":"#N/A"}},false]
[null,null,null,{"$f":"VLOOKUP(A652,Import!A:D,4,FALSE)","v":{"$error":"#N/A"}},false]
[null,null,null,{"$f":"VLOOKUP(A653,Import!A:D,4,FALSE)","v":{"$error":"#N/A"}},false]
[null,null,null,{"$f":"VLOOKUP(A654,Import!A:D,4,FALSE)","v":{"$error":"#N/A"}},false]
[null,null,null,{"$f":"VLOOKUP(A655,Import!A:D,4,FALSE)","v":{"$error":"#N/A"}},false]
[null,null,null,{"$f":"VLOOKUP(A656,Import!A:D,4,FALSE)","v":{"$error":"#N/A"}},false]
[null,null,null,{"$f":"VLOOKUP(A657,Import!A:D,4,FALSE)","v":{"$error":"#N/A"}},false]
[null,null,null,{"$f":"VLOOKUP(A658,Import!A:D,4,FALSE)","v":{"$error":"#N/A"}},false]
[null,null,null,{"$f":"VLOOKUP(A659,Import!A:D,4,FALSE)","v":{"$error":"#N/A"}},false]
[null,null,null,{"$f":"VLOOKUP(A660,Import!A:D,4,FALSE)","v":{"$error":"#N/A"}},false]
[null,null,null,{"$f":"VLOOKUP(A661,Import!A:D,4,FALSE)","v":{"$error":"#N/A"}},false]
[null,null,null,{"$f":"VLOOKUP(A662,Import!A:D,4,FALSE)","v":{"$error":"#N/A"}},false]
[null,null,null,{"$f":"VLOOKUP(A663,Import!A:D,4,FALSE)","v":{"$error":"#N/A"}},false]
[null,null,null,{"$f":"VLOOKUP(A664,Import!A:D,4,FALSE)","v":{"$error":"#N/A"}},false]
[null,null,null,{"$f":"VLOOKUP(A665,Import!A:D,4,FALSE)","v":{"$error":"#N/A"}},false]
[null,null,null,{"$f":"VLOOKUP(A666,Import!A:D,4,FALSE)","v":{"$error":"#N/A"}},false]
[null,null,null,{"$f":"VLOOKUP(A667,Import!A:D,4,FALSE)","v":{"$error":"#N/A"}},false]
[null,null,null,{"$f":"VLOOKUP(A668,Import!A:D,4,FALSE)","v":{"$error":"#N/A"}},false]
[null,null,null,{"$f":"VLOOKUP(A669,Import!A:D,4,FALSE)","v":{"$error":"#N/A"}},false]
[null,null,null,{"$f":"VLOOKUP(A670,Import!A:D,4,FALSE)","v":{"$error":"#N/A"}},false]
[null,null,null,{"$f":"VLOOKUP(A671,Import!A:D,4,FALSE)","v":{"$error":"#N/A"}},false]
[null,null,null,{"$f":"VLOOKUP(A672,Import!A:D,4,FALSE)","v":{"$error":"#N/A"}},false]
[null,null,null,{"$f":"VLOOKUP(A673,Import!A:D,4,FALSE)","v":{"$error":"#N/A"}},false]
[null,null,null,{"$f":"VLOOKUP(A674,Import!A:D,4,FALSE)","v":{"$error":"#N/A"}},false]
[null,null,null,{"$f":"VLOOKUP(A675,Import!A:D,4,FALSE)","v":{"$error":"#N/A"}},false]
[null,null,null,{"$f":"VLOOKUP(A676,Import!A:D,4,FALSE)","v":{"$error":"#N/A"}},false]
[null,null,null,{"$f":"VLOOKUP(A677,Import!A:D,4,FALSE)","v":{"$error":"#N/A"}},false]
[null,null,null,{"$f":"VLOOKUP(A678,Import!A:D,4,FALSE)","v":{"$error":"#N/A"}},false]
[null,null,null,{"$f":"VLOOKUP(A679,Import!A:D,4,FALSE)","v":{"$error":"#N/A"}},false]
[null,null,null,{"$f":"VLOOKUP(A680,Import!A:D,4,FALSE)","v":{"$error":"#N/A"}},false]
[null,null,null,{"$f":"VLOOKUP(A681,Import!A:D,4,FALSE)","v":{"$error":"#N/A"}},false]
[null,null,null,{"$f":"VLOOKUP(A682,Import!A:D,4,FALSE)","v":{"$error":"#N/A"}},false]
[null,null,null,{"$f":"VLOOKUP(A683,Import!A:D,4,FALSE)","v":{"$error":"#N/A"}},false]
[null,null,null,{"$f":"VLOOKUP(A684,Import!A:D,4,FALSE)","v":{"$error":"#N/A"}},false]
[null,null,null,{"$f":"VLOOKUP(A685,Import!A:D,4,FALSE)","v":{"$error":"#N/A"}},false]
[null,null,null,{"$f":"VLOOKUP(A686,Import!A:D,4,FALSE)","v":{"$error":"#N/A"}},false]
[null,null,null,{"$f":"VLOOKUP(A687,Import!A:D,4,FALSE)","v":{"$error":"#N/A"}},false]
[null,null,null,{"$f":"VLOOKUP(A688,Import!A:D,4,FALSE)","v":{"$error":"#N/A"}},false]
[null,null,null,{"$f":"VLOOKUP(A689,Import!A:D,4,FALSE)","v":{"$error":"#N/A"}},false]
[null,null,null,{"$f":"VLOOKUP(A690,Import!A:D,4,FALSE)","v":{"$error":"#N/A"}},false]
[null,null,null,{"$f":"VLOOKUP(A691,Import!A:D,4,FALSE)","v":{"$error":"#N/A"}},false]
[null,null,null,{"$f":"VLOOKUP(A692,Import!A:D,4,FALSE)","v":{"$error":"#N/A"}},false]
[null,null,null,{"$f":"VLOOKUP(A693,Import!A:D,4,FALSE)","v":{"$error":"#N/A"}},false]
[null,null,null,{"$f":"VLOOKUP(A694,Import!A:D,4,FALSE)","v":{"$error":"#N/A"}},false]
[null,null,null,{"$f":"VLOOKUP(A695,Import!A:D,4,FALSE)","v":{"$error":"#N/A"}},false]
[null,null,null,{"$f":"VLOOKUP(A696,Import!A:D,4,FALSE)","v":{"$error":"#N/A"}},false]
[null,null,null,{"$f":"VLOOKUP(A697,Import!A:D,4,FALSE)","v":{"$error":"#N/A"}},false]
[null,null,null,{"$f":"VLOOKUP(A698,Import!A:D,4,FALSE)","v":{"$error":"#N/A"}},false]
[null,null,null,{"$f":"VLOOKUP(A699,Import!A:D,4,FALSE)","v":{"$error":"#N/A"}},false]
[null,null,null,{"$f":"VLOOKUP(A700,Import!A:D,4,FALSE)","v":{"$error":"#N/A"}},false]
[null,null,null,{"$f":"VLOOKUP(A701,Import!A:D,4,FALSE)","v":{"$error":"#N/A"}},false]
[null,null,null,{"$f":"VLOOKUP(A702,Import!A:D,4,FALSE)","v":{"$error":"#N/A"}},false]
[null,null,null,{"$f":"VLOOKUP(A703,Import!A:D,4,FALSE)","v":{"$error":"#N/A"}},false]
[null,null,null,{"$f":"VLOOKUP(A704,Import!A:D,4,FALSE)","v":{"$error":"#N/A"}},false]
[null,null,null,{"$f":"VLOOKUP(A705,Import!A:D,4,FALSE)","v":{"$error":"#N/A"}},false]
[null,null,null,{"$f":"VLOOKUP(A706,Import!A:D,4,FALSE)","v":{"$error":"#N/A"}},false]
[null,null,null,{"$f":"VLOOKUP(A707,Import!A:D,4,FALSE)","v":{"$error":"#N/A"}},false]
[null,null,null,{"$f":"VLOOKUP(A708,Import!A:D,4,FALSE)","v":{"$error":"#N/A"}},false]
[null,null,null,{"$f":"VLOOKUP(A709,Import!A:D,4,FALSE)","v":{"$error":"#N/A"}},false]
[null,null,null,{"$f":"VLOOKUP(A710,Import!A:D,4,FALSE)","v":{"$error":"#N/A"}},false]
[null,null,null,{"$f":"VLOOKUP(A711,Import!A:D,4,FALSE)","v":{"$error":"#N/A"}},false]
[null,null,null,{"$f":"VLOOKUP(A712,Import!A:D,4,FALSE)","v":{"$error":"#N/A"}},false]
[null,null,null,{"$f":"VLOOKUP(A713,Import!A:D,4,FALSE)","v":{"$error":"#N/A"}},false]
[null,null,null,{"$f":"VLOOKUP(A714,Import!A:D,4,FALSE)","v":{"$error":"#N/A"}},false]
[null,null,null,{"$f":"VLOOKUP(A715,Import!A:D,4,FALSE)","v":{"$error":"#N/A"}},false]
[null,null,null,{"$f":"VLOOKUP(A716,Import!A:D,4,FALSE)","v":{"$error":"#N/A"}},false]
[null,null,null,{"$f":"VLOOKUP(A717,Import!A:D,4,FALSE)","v":{"$error":"#N/A"}},false]
[null,null,null,{"$f":"VLOOKUP(A718,Import!A:D,4,FALSE)","v":{"$error":"#N/A"}},false]
[null,null,null,{"$f":"VLOOKUP(A719,Import!A:D,4,FALSE)","v":{"$error":"#N/A"}},false]
[null,null,null,{"$f":"VLOOKUP(A720,Import!A:D,4,FALSE)","v":{"$error":"#N/A"}},false]
[null,null,null,{"$f":"VLOOKUP(A721,Import!A:D,4,FALSE)","v":{"$error":"#N/A"}},false]
[null,null,null,{"$f":"VLOOKUP(A722,Import!A:D,4,FALSE)","v":{"$error":"#N/A"}},false]
[null,null,null,{"$f":"VLOOKUP(A723,Import!A:D,4,FALSE)","v":{"$error":"#N/A"}},false]
[null,null,null,{"$f":"VLOOKUP(A724,Import!A:D,4,FALSE)","v":{"$error":"#N/A"}},false]
[null,null,null,{"$f":"VLOOKUP(A725,Import!A:D,4,FALSE)","v":{"$error":"#N/A"}},false]
[null,null,null,{"$f":"VLOOKUP(A726,Import!A:D,4,FALSE)","v":{"$error":"#N/A"}},false]
[null,null,null,{"$f":"VLOOKUP(A727,Import!A:D,4,FALSE)","v":{"$error":"#N/A"}},false]
[null,null,null,{"$f":"VLOOKUP(A728,Import!A:D,4,FALSE)","v":{"$error":"#N/A"}},false]
[null,null,null,{"$f":"VLOOKUP(A729,Import!A:D,4,FALSE)","v":{"$error":"#N/A"}},false]
[null,null,null,{"$f":"VLOOKUP(A730,Import!A:D,4,FALSE)","v":{"$error":"#N/A"}},false]
[null,null,null,{"$f":"VLOOKUP(A731,Import!A:D,4,FALSE)","v":{"$error":"#N/A"}},false]
[null,null,null,{"$f":"VLOOKUP(A732,Import!A:D,4,FALSE)","v":{"$error":"#N/A"}},false]
[null,null,null,{"$f":"VLOOKUP(A733,Import!A:D,4,FALSE)","v":{"$error":"#N/A"}},false]
[null,null,null,{"$f":"VLOOKUP(A734,Import!A:D,4,FALSE)","v":{"$error":"#N/A"}},false]
[null,null,null,{"$f":"VLOOKUP(A735,Import!A:D,4,FALSE)","v":{"$error":"#N/A"}},false]
[null,null,null,{"$f":"VLOOKUP(A736,Import!A:D,4,FALSE)","v":{"$error":"#N/A"}},false]
[null,null,null,{"$f":"VLOOKUP(A737,Import!A:D,4,FALSE)","v":{"$error":"#N/A"}},false]
[null,null,null,{"$f":"VLOOKUP(A738,Import!A:D,4,FALSE)","v":{"$error":"#N/A"}},false]
[null,null,null,{"$f":"VLOOKUP(A739,Import!A:D,4,FALSE)","v":{"$error":"#N/A"}},false]
[null,null,null,{"$f":"VLOOKUP(A740,Import!A:D,4,FALSE)","v":{"$error":"#N/A"}},false]
[null,null,null,{"$f":"VLOOKUP(A741,Import!A:D,4,FALSE)","v":{"$error":"#N/A"}},false]
[null,null,null,{"$f":"VLOOKUP(A742,Import!A:D,4,FALSE)","v":{"$error":"#N/A"}},false]
[null,null,null,{"$f":"VLOOKUP(A743,Import!A:D,4,FALSE)","v":{"$error":"#N/A"}},false]
[null,null,null,{"$f":"VLOOKUP(A744,Import!A:D,4,FALSE)","v":{"$error":"#N/A"}},false]
[null,null,null,{"$f":"VLOOKUP(A745,Import!A:D,4,FALSE)","v":{"$error":"#N/A"}},false]
[null,null,null,{"$f":"VLOOKUP(A746,Import!A:D,4,FALSE)","v":{"$error":"#N/A"}},false]
[null,null,null,{"$f":"VLOOKUP(A747,Import!A:D,4,FALSE)","v":{"$error":"#N/A"}},false]
[null,null,null,{"$f":"VLOOKUP(A748,Import!A:D,4,FALSE)","v":{"$error":"#N/A"}},false]
[null,null,null,{"$f":"VLOOKUP(A749,Import!A:D,4,FALSE)","v":{"$error":"#N/A"}},false]
[null,null,null,{"$f":"VLOOKUP(A750,Import!A:D,4,FALSE)","v":{"$error":"#N/A"}},false]
[null,null,null,{"$f":"VLOOKUP(A751,Import!A:D,4,FALSE)","v":{"$error":"#N/A"}},false]
[null,null,null,{"$f":"VLOOKUP(A752,Import!A:D,4,FALSE)","v":{"$error":"#N/A"}},false]
[null,null,null,{"$f":"VLOOKUP(A753,Import!A:D,4,FALSE)","v":{"$error":"#N/A"}},false]
[null,null,null,{"$f":"VLOOKUP(A754,Import!A:D,4,FALSE)","v":{"$error":"#N/A"}},false]
[null,null,null,{"$f":"VLOOKUP(A755,Import!A:D,4,FALSE)","v":{"$error":"#N/A"}},false]
[null,null,null,{"$f":"VLOOKUP(A756,Import!A:D,4,FALSE)","v":{"$error":"#N/A"}},false]
[null,null,null,{"$f":"VLOOKUP(A757,Import!A:D,4,FALSE)","v":{"$error":"#N/A"}},false]
[null,null,null,null,false]
[null,null,null,null,false]
[null,null,null,null,false]
[null,null,null,null,false]
[null,null,null,null,false]
[null,null,null,null,false]
[null,null,null,null,false]
[null,null,null,null,false]
[null,null,null,null,false]
[null,null,null,null,false]
[null,null,null,null,false]
[null,null,null,null,false]
[null,null,null,null,false]
[null,null,null,null,false]
[null,null,null,null,false]
[null,null,null,null,false]
[null,null,null,null,false]
[null,null,null,null,false]
[null,null,null,null,false]
[null,null,null,null,false]
[null,null,null,null,false]
[null,null,null,null,false]
[null,null,null,null,false]
[null,null,null,null,false]
[null,null,null,null,false]
[null,null,null,null,false]
[null,null,null,null,false]
[null,null,null,null,false]
[null,null,null,null,false]
[null,null,null,null,false]
[null,null,null,null,false]
[null,null,null,null,false]
[null,null,null,null,false]
[null,null,null,null,false]
[null,null,null,null,false]
[null,null,null,null,false]
[null,null,null,null,false]
[null,null,null,null,false]
[null,null,null,null,false]
[null,null,null,null,false]
[null,null,null,null,false]
[null,null,null,null,false]
[null,null,null,null,false]
[null,null,null,null,false]
[null,null,null,null,false]
[null,null,null,null,false]
[null,null,null,null,false]
[null,null,null,null,false]
[null,null,null,null,false]
[null,null,null,null,false]
[null,null,null,null,false]
[null,null,null,null,false]
[null,null,null,null,false]
[null,null,null,null,false]
[null,null,null,null,false]
[null,null,null,null,false]
[null,null,null,null,false]
[null,null,null,null,false]
[null,null,null,null,false]
[null,null,null,null,false]
[null,null,null,null,false]
[null,null,null,null,false]
[null,null,null,null,false]
[null,null,null,null,false]
[null,null,null,null,false]
[null,null,null,null,false]
[null,null,null,null,false]
[null,null,null,null,false]
[null,null,null,null,false]
[null,null,null,null,false]
[null,null,null,null,false]
[null,null,null,null,false]
[null,null,null,null,false]
[null,null,null,null,false]
[null,null,null,null,false]
[null,null,null,null,false]
[null,null,null,null,false]
[null,null,null,null,false]
[null,null,null,null,false]
[null,null,null,null,false]
[null,null,null,null,false]
[null,null,null,null,false]
[null,null,null,null,false]
[null,null,null,null,false]
[null,null,null,null,false]
[null,null,null,null,false]
[null,null,null,null,false]
[null,null,null,null,false]
[null,null,null,null,false]
[null,null,null,null,false]
[null,null,null,null,false]
[null,null,null,null,false]
[null,null,null,null,false]
[null,null,null,null,false]
[null,null,null,null,false]
[null,null,null,null,false]
[null,null,null,null,false]
[null,null,null,null,false]
[null,null,null,null,false]
[null,null,null,null,false]
[null,null,null,null,false]
[null,null,null,null,false]
[null,null,null,null,false]
[null,null,null,null,false]
[null,null,null,null,false]
[null,null,null,null,false]
[null,null,null,null,false]
[null,null,null,null,false]
[null,null,null,null,false]
[null,null,null,null,false]
[null,null,null,null,false]
[null,null,null,null,false]
[null,null,null,null,false]
[null,null,null,null,false]
[null,null,null,null,false]
[null,null,null,null,false]
[null,null,null,null,false]
[null,null,null,null,false]
[null,null,null,null,false]
[null,null,null,null,false]
[null,null,null,null,false]
[null,null,null,null,false]
[null,null,null,null,false]
[null,null,null,null,false]
[null,null,null,null,false]
[null,null,null,null,false]
[null,null,null,null,false]
[null,null,null,null,false]
[null,null,null,null,false]
[null,null,null,null,false]
[null,null,null,null,false]
[null,null,null,null,false]
[null,null,null,null,false]
[null,null,null,null,false]
[null,null,null,null,false]
[null,null,null,null,false]
[null,null,null,null,false]
[null,null,null,null,false]
[null,null,null,null,false]
[null,null,null,null,false]
[null,null,null,null,false]
[null,null,null,null,false]
[null,null,null,null,false]
[null,null,null,null,false]
[null,null,null,null,false]
[null,null,null,null,false]
[null,null,null,null,false]
[null,null,null,null,false]
[null,null,null,null,false]
[null,null,null,null,false]
[null,null,null,null,false]
[null,null,null,null,false]
[null,null,null,null,false]
[null,null,null,null,false]
[null,null,null,null,false]
[null,null,null,null,false]
[null,null,null,null,false]
[null,null,null,null,false]
[null,null,null,null,false]
[null,null,null,null,false]
[null,null,null,null,false]
[null,null,null,null,false]
[null,null,null,null,false]
[null,null,null,null,false]
[null,null,null,null,false]
[null,null,null,null,false]
[null,null,null,null,false]
[null,null,null,null,false]
[null,null,null,null,false]
[null,null,null,null,false]
[null,null,null,null,false]
[null,null,null,null,false]
[null,null,null,null,false]
[null,null,null,null,false]
[null,null,null,null,false]
[null,null,null,null,false]
[null,null,null,null,false]
[null,null,null,null,false]
[null,null,null,null,false]
[null,null,null,null,false]
[null,null,null,null,false]
[null,null,null,null,false]
[null,null,null,null,false]
[null,null,null,null,false]
[null,null,null,null,false]
[null,null,null,null,false]
[null,null,null,null,false]
[null,null,null,null,false]
[null,null,null,null,false]
[null,null,null,null,false]
[null,null,null,null,false]
[null,null,null,null,false]
[null,null,null,null,false]
[null,null,null,null,false]
[null,null,null,null,false]
[null,null,null,null,false]
[null,null,null,null,false]
[null,null,null,null,false]
[null,null,null,null,false]
[null,null,null,null,false]
[null,null,null,null,false]
[null,null,null,null,false]
[null,null,null,null,false]
[null,null,null,null,false]
[null,null,null,null,false]
[null,null,null,null,false]
[null,null,null,null,false]
[null,null,null,null,false]
[null,null,null,null,false]
[null,null,null,null,false]
[null,null,null,null,false]
[null,null,null,null,false]
[null,null,null,null,false]
[null,null,null,null,false]
[null,null,null,null,false]
[null,null,null,null,false]
[null,null,null,null,false]
[null,null,null,null,false]
[null,null,null,null,false]
[null,null,null,null,false]
[null,null,null,null,false]
[null,null,null,null,false]
[null,null,null,null,false]
[null,null,null,null,false]
[null,null,null,null,false]
[null,null,null,null,false]
[null,null,null,null,false]
[null,null,null,null,false]
[null,null,null,null,false]
[null,null,null,null,false]
[null,null,null,null,false]
[null,null,null,null,false]
[null,null,null,null,false]
[null,null,null,null,false]
[null,null,null,null,false]
[null,null,null,null,false]
[null,null,null,null,false]
[null,null,null,null,false]
[null,null,null,null,false]
[null,null,null,null,false]
[null,null,null,null,false]
[null,null,null,null,false]
[null,null,null,null,false]
[null,null,null,null,false]
[null,null,null,null,false]

{"sheet":"Boissons en vrac","index":6,"n_rows":1002,"n_cols":10,"rows_kept":1002,"cut":false,"hidden":false,"merged":[]}
["       Produits\n        Boissons en vrac","💶\nPrix de vente","Prix au kilo","Grandes Catégories","😋 \n J'en veux!","⚖️ \nQuantité",null,"Quantité en format nombre","💰 \nMontant","🇫🇷 \nProvenance"]
["Abricots secs","13,90€ / kg","13,9",{"$f":"VLOOKUP(A2,Import!A:D,4)","v":"Alimentaire Vrac"},false,0,{"$f":"IF(F2=\"100G\",0.1,IF(F2=\"250G\",0.25,IF(F2=\"500G\",0.5,IF(F2=\"1 Kilo\",1,IF(F2=\"10G\",0.01,IF(F2=\"50G\",0.05,F2))))))","v":0},{"$f":"G2","v":0},{"$f":"H2*C2","v":0}]
["Ail des Ours ","135€ / kg","120",{"$f":"VLOOKUP(A3,Import!A:D,4)","v":"Alimentaire Vrac"},false,0,0,{"$f":"G3","v":0},0]
["Ail en Granulé ","50€ / kg","50",{"$f":"VLOOKUP(A4,Import!A:D,4)","v":"Alimentaire Vrac"},false,0,0,0,0]
["Ail en Poudre ","50€ / kg","50",{"$f":"VLOOKUP(A5,Import!A:D,4)","v":"Alimentaire Vrac"},false,0,0,0,0]
["Amandes Blanches entières ","19,9€ / kg","19,9",{"$f":"VLOOKUP(A6,Import!A:D,4)","v":0},false,0,0,0,0]
["Amandes Caramel Chocolat","35€ / kg","35",{"$f":"VLOOKUP(A7,Import!A:D,4)","v":"Alimentaire Vrac"},false,0,0,0,0]
["Amandes Coco Miel ","35€ / kg","35",{"$f":"VLOOKUP(A8,Import!A:D,4)","v":"Alimentaire Vrac"},false,0,0,0,0]
["Amandes Décortiquées entières ","19,9€ / kg","19,9",{"$f":"VLOOKUP(A9,Import!A:D,4)","v":"Alimentaire Vrac"},false,0,0,0,0]
["Amandes Sésame Miel","35€/kg",35,{"$f":"VLOOKUP(A10,Import!A:D,4)","v":"Alimentaire Vrac"},false,0,0,0,0]
["Amidon de maïs","5,50€ / kg","5,5",{"$f":"VLOOKUP(A11,Import!A:D,4)","v":"Alimentaire Vrac"},false,0,0,0,0]
["Après shampoing Solide - Cheveux abimés & secs - 80g ",12.5,"12,5",{"$f":"VLOOKUP(A12,Import!A:D,4)","v":"Produits d'hygiène coporelle"},false,0,0,0,0]
["Après shampoing Solide - Cheveux abîmés & secs - sans HE - 80g ",12.5,"12,5",{"$f":"VLOOKUP(A13,Import!A:D,4)","v":"Produits d'hygiène coporelle"},false,0,0,0,0]
["Après shampoing Solide - démélant - Lamazuna",12.5,"12,5",{"$f":"VLOOKUP(A14,Import!A:D,4)","v":0},false,0,0,0,0]
["Après shampoing Solide - Nourrissant & démêlant - 80g ",12.5,"12,5",{"$f":"VLOOKUP(A15,Import!A:D,4)","v":"Produits d'hygiène coporelle"},false,0,0,0,0]
["Après shampoing Vrac - Huile d’argan","29,00 € / kg","29",{"$f":"VLOOKUP(A16,Import!A:D,4)","v":"Produits d'hygiène coporelle"},false,0,0,0,0]
["Arachides décortiquées grillées nature","12€ / kg","12",{"$f":"VLOOKUP(A17,Import!A:D,4)","v":"Alimentaire Vrac"},false,0,0,0,0]
["Assouplissant - Vrac","5,00€","5",{"$f":"VLOOKUP(A18,Import!A:D,4)","v":"Produits d'entretiens"},false,0,0,0,0]
["Baies de Goji","29,90€","29,90",{"$f":"VLOOKUP(A19,Import!A:D,4)","v":"Alimentaire Vrac"},false,0,0,0,0]
["Basilic Feuilles","27,00€ / kg","27",{"$f":"VLOOKUP(A20,Import!A:D,4)","v":"Alimentaire Vrac"},false,0,0,0,0]
["Baume à Barbe",13.9,"13,9",{"$f":"VLOOKUP(A21,Import!A:D,4)","v":"Produits d'hygiène coporelle"},false,0,0,0,0]
["Baume à lèvre Agrumes - Endro","7,50€","7,5",{"$f":"VLOOKUP(A22,Import!A:D,4)","v":"Produits d'hygiène coporelle"},false,0,0,0,0]
["Baume à lèvre Fruits Rouges - Endro","7,50€","7,5",{"$f":"VLOOKUP(A23,Import!A:D,4)","v":"Produits d'hygiène coporelle"},false,0,0,0,0]
["Baume Mini  Multi-usages Fleurs d’été - Clemence & Vivien ","5,90€","5,9",{"$f":"VLOOKUP(A24,Import!A:D,4)","v":"Produits d'hygiène coporelle"},false,0,0,0,0]
["Baume Mini Multi-usages Lait d’amande - Clemence & Vivien ","5,90€","5,9",{"$f":"VLOOKUP(A25,Import!A:D,4)","v":"Produits d'hygiène coporelle"},false,0,0,0,0]
["Baume Multi-usages Fleurs d’été - Clemence & Vivien ",12.5,"12,5",{"$f":"VLOOKUP(A26,Import!A:D,4)","v":"Produits d'hygiène coporelle"},false,0,0,0,0]
["Baume Multi-usages Lait d’amande - Clemence & Vivien ",12.5,"11,9",{"$f":"VLOOKUP(A27,Import!A:D,4)","v":"Produits d'hygiène coporelle"},false,0,0,0,0]
["Bavoir - Petit","9,50€","9,5",{"$f":"VLOOKUP(A28,Import!A:D,4)","v":"Zéros déchets et Bocaux"},false,0,0,0,0]
["Beurre de cacahuètes - Chocolat Lait - Go Nuts - 270g","6,50€","6,50",{"$f":"VLOOKUP(A29,Import!A:D,4)","v":"Alimentaire Conditionné"},false,0,0,0,0]
["Beurre de cacahuètes - Chocolat Noir - Go Nuts - 500g",8.9,8.9,{"$f":"VLOOKUP(A30,Import!A:D,4)","v":"Alimentaire Conditionné"},false,0,0,0,0]
["Beurre de cacahuètes - Go Nuts - 270g","4,95 €",4.95,{"$f":"VLOOKUP(A31,Import!A:D,4)","v":"Alimentaire Conditionné"},false,0,0,0,0]
["Beurre de cacahuètes - Go Nuts - 500g","8,90 €","8,9",{"$f":"VLOOKUP(A32,Import!A:D,4)","v":"Alimentaire Conditionné"},false,0,0,0,0]
["Beurre de cacahuètes Extra Crunchy - Go Nuts - 270g","4,90 €","4,9",{"$f":"VLOOKUP(A33,Import!A:D,4)","v":"Alimentaire Conditionné"},false,0,0,0,0]
["Beurre de cacao Iris - pour le corps - Lamazuna","8,50 €","8,5",{"$f":"VLOOKUP(A34,Import!A:D,4)","v":"Produits d'hygiène coporelle"},false,0,0,0,0]
["Bicarbonate de soude - Vrac","4,90 € / kg","4,9",{"$f":"VLOOKUP(A35,Import!A:D,4)","v":"Produits d'entretiens"},false,0,0,0,0]
["Biere Blanche - La St Bonn’Beer - 33cl","3,00 €","3",{"$f":"VLOOKUP(A36,Import!A:D,4)","v":"Boissons conditionnées"},false,0,0,0,0]
["Biere Blanche - La St Bonn’Beer - 75cl","6,50 €","6,5",{"$f":"VLOOKUP(A37,Import!A:D,4)","v":"Boissons conditionnées"},false,0,0,0,0]
["Biere Blonde - La Promesse - 33cl","3,00 €","3",{"$f":"VLOOKUP(A38,Import!A:D,4)","v":"Boissons conditionnées"},false,0,0,0,0]
["Biere Blonde - La Promesse - 75cl","6,50 €","6,5",{"$f":"VLOOKUP(A39,Import!A:D,4)","v":"Boissons conditionnées"},false,0,0,0,0]
["Biere IPA - La Collector - 33cl","3,00 €","3",{"$f":"VLOOKUP(A40,Import!A:D,4)","v":"Boissons conditionnées"},false,0,0,0,0]
["Biere IPA - La Collector- 75cl","6,50 €","6,5",{"$f":"VLOOKUP(A41,Import!A:D,4)","v":"Boissons conditionnées"},false,0,0,0,0]
["Biere IPA - La Gonette - 33cl","3,00 €","3",{"$f":"VLOOKUP(A42,Import!A:D,4)","v":"Boissons conditionnées"},false,0,0,0,0]
["Biere IPA - La Gonette - 75cl","6,50 €","6,5",{"$f":"VLOOKUP(A43,Import!A:D,4)","v":"Boissons conditionnées"},false,0,0,0,0]
["Biscuits 1péro -Tortillas ","29€/kg","29",{"$f":"VLOOKUP(A44,Import!A:D,4)","v":"Alimentaire Vrac"},false,0,0,0,0]
["Biscuits Apéro - Cumin & pois chiches","30,00€ / kg","30",{"$f":"VLOOKUP(A45,Import!A:D,4)","v":"Alimentaire Vrac"},false,0,0,0,0]
["Biscuits Apéro - Gruyère","30,50€ / kg","30,5",{"$f":"VLOOKUP(A46,Import!A:D,4)","v":"Alimentaire Vrac"},false,0,0,0,0]
["Biscuits Apéro - Noix de Cajou - Curry","34,50€ / kg",34.5,{"$f":"VLOOKUP(A47,Import!A:D,4)","v":"Alimentaire Vrac"},false,0,0,0,0]
["Biscuits Apéro - Noix de Cajou - Herbes de Provence","34,50€ / kg",34.5,{"$f":"VLOOKUP(A48,Import!A:D,4)","v":"Alimentaire Vrac"},false,0,0,0,0]
["Biscuits Apéro - Noix de Cajou - Parmesan","34,50€ / kg",34.5,{"$f":"VLOOKUP(A49,Import!A:D,4)","v":"Alimentaire Vrac"},false,0,0,0,0]
["Biscuits Apéro - Noix de Cajou - Poivre de Kampot","34,50€ / kg",34.5,{"$f":"VLOOKUP(A50,Import!A:D,4)","v":"Alimentaire Vrac"},false,0,0,0,0]
["Biscuits Apéro - Noix de Cajou - Sweet chili","34,50€ / kg",34.5,{"$f":"VLOOKUP(A51,Import!A:D,4)","v":"Alimentaire Vrac"},false,0,0,0,0]
["Biscuits Apéro - Noix de Cajou - Tandoori","34,50€ / kg",34.5,{"$f":"VLOOKUP(A52,Import!A:D,4)","v":"Alimentaire Vrac"},false,0,0,0,0]
["Biscuits Apéro - Oignon & Paprika","30,00€ / kg","30",{"$f":"VLOOKUP(A53,Import!A:D,4)","v":"Alimentaire Vrac"},false,0,0,0,0]
["Biscuits Apéro - Tomate & Oignons","30,00€ / kg","30",{"$f":"VLOOKUP(A54,Import!A:D,4)","v":"Alimentaire Vrac"},false,0,0,0,0]
["Biscuits P’tit Dej - Avoine Miel","18,00€ / kg","18",{"$f":"VLOOKUP(A55,Import!A:D,4)","v":"Alimentaire Vrac"},false,0,0,0,0]
["Biscuits P’tit Dej - Cacao & Pépites de Chocolat","18,00€ / kg","18",{"$f":"VLOOKUP(A56,Import!A:D,4)","v":"Alimentaire Vrac"},false,0,0,0,0]
["Biscuits salés - Moutarde à l’ancienne","30,50€ / kg","30,5",{"$f":"VLOOKUP(A57,Import!A:D,4)","v":0},false,0,0,0,0]
["Biscuits Sucrés - Chocolat","25,00€ / kg","25",{"$f":"VLOOKUP(A58,Import!A:D,4)","v":"Alimentaire Vrac"},false,0,0,0,0]
["Biscuits sucrés - Cookies Vegan bio","23,00€ / kg","23",{"$f":"VLOOKUP(A59,Import!A:D,4)","v":"Alimentaire Vrac"},false,0,0,0,0]
["Biscuits Sucrés - Nature au Beurre","30,00€ / kg","30",{"$f":"VLOOKUP(A60,Import!A:D,4)","v":"Alimentaire Vrac"},false,0,0,0,0]
["Biscuits Sucrés - Pomme au beurre ","25,00€ / kg","25",{"$f":"VLOOKUP(A61,Import!A:D,4)","v":"Alimentaire Vrac"},false,0,0,0,0]
["Biscuits Sucrés - Sans Gluten - Choco Noisette","30,00€ / kg",30,{"$f":"VLOOKUP(A62,Import!A:D,4)","v":"Alimentaire Vrac"},false,0,0,0,0]
["Biscuits Sucrés - Sans Gluten - Figue","30,00€ / kg",30,{"$f":"VLOOKUP(A63,Import!A:D,4)","v":"Alimentaire Vrac"},false,0,0,0,0]
["Blanc de Blanc du Jura - Jacquier",9.5,9.5,{"$f":"VLOOKUP(A64,Import!A:D,4)","v":"Boissons conditionnées"},false,0,0,0,0]
["Blé Pré cuit mondé","4,00€ / kg","4",{"$f":"VLOOKUP(A65,Import!A:D,4)","v":"Alimentaire Vrac"},false,0,0,0,0]
["Bocal - Asperges vertes - 185g","4,90€","4,9",{"$f":"VLOOKUP(A66,Import!A:D,4)","v":"Alimentaire Conditionné"},false,0,{"$f":"IF(F66=\"100G\",0.1,IF(F66=\"250G\",0.25,IF(F66=\"500G\",0.5,IF(F66=\"1 Kilo\",1,IF(F66=\"10G\",0.01,IF(F66=\"50G\",0.05,F66))))))","v":0},0,{"$f":"H66*C66","v":0}]
["Bocal - Chili végétarien - 355g","4,50 €","4,5",{"$f":"VLOOKUP(A67,Import!A:D,4)","v":"Alimentaire Conditionné"},false,0,0,{"$f":"G67","v":0},0]
["Bocal - Chili végétarien - 670g","5,95 €",5.95,{"$f":"VLOOKUP(A68,Import!A:D,4)","v":"Alimentaire Conditionné"},false,0,0,0,0]
["Bocal - Cocotte Indienne haricots blancs, riz complet, tofu - 360g","4,50 €","4,5",{"$f":"VLOOKUP(A69,Import!A:D,4)","v":"Alimentaire Conditionné"},false,0,0,0,0]
["Bocal - Couscous aux 7 légumes - 1kg","6,95 €",6.95,{"$f":"VLOOKUP(A70,Import!A:D,4)","v":"Alimentaire Conditionné"},false,0,0,0,0]
["Bocal - Curry d’aubergines - 345g",4.5,4.5,{"$f":"VLOOKUP(A71,Import!A:D,4)","v":"Alimentaire Conditionné"},false,0,0,0,0]
["Bocal - Curry d’aubergines - 650g",6.5,6.5,{"$f":"VLOOKUP(A72,Import!A:D,4)","v":"Alimentaire Conditionné"},false,0,0,0,0]
["Bocal - Curry de lentilles coco - 345g","4,50 €","4,5",{"$f":"VLOOKUP(A73,Import!A:D,4)","v":"Alimentaire Conditionné"},false,0,0,0,0]
["Bocal - Epinards en branches - 445g","6,20 €","6,2",{"$f":"VLOOKUP(A74,Import!A:D,4)","v":"Alimentaire Conditionné"},false,0,0,0,0]
["Bocal - Flageolets Demeter - 215g","3,30€","3,3",{"$f":"VLOOKUP(A75,Import!A:D,4)","v":"Alimentaire Conditionné"},false,0,0,0,{"$f":"H75*C75","v":0},{"$f":"VLOOKUP(A75,Import!A:N,14)","v":"🇫🇷 France"}]
["Bocal - Haricots Coco - 690g","4,50€","45",{"$f":"VLOOKUP(A76,Import!A:D,4)","v":"Alimentaire Conditionné"},false,0,0,0,0]
["Bocal - Haricots Rouges - 255g","3,20€","3,2",{"$f":"VLOOKUP(A77,Import!A:D,4)","v":"Alimentaire Conditionné"},false,0,0,0,0]
["Bocal - Haricots verts extra fins - 345g","4,20€","4,2",{"$f":"VLOOKUP(A78,Import!A:D,4)","v":"Alimentaire Conditionné"},false,0,0,0,0,{"$f":"VLOOKUP(A78,Import!A:N,13)","v":"Biodis"}]
["Bocal - Korma de légumes 680g","6,50€","6,5",{"$f":"VLOOKUP(A79,Import!A:D,4)","v":"Alimentaire Conditionné"},false,0,0,0,0,{"$f":"VLOOKUP(A79,Import!A:N,14)","v":"🇫🇷 France "}]
["Bocal - Lentilles vertes aux petits légumes - 420g","4,50€","4,5",{"$f":"VLOOKUP(A80,Import!A:D,4)","v":"Alimentaire Conditionné"},false,0,0,0,0]
["Bocal - Macédoine de légumes - 230g","2,90 €","2,9",{"$f":"VLOOKUP(A81,Import!A:D,4)","v":"Alimentaire Conditionné"},false,0,0,0,0]
["Bocal - Mais doux - 240g","2,90€","2,9",{"$f":"VLOOKUP(A82,Import!A:D,4)","v":"Alimentaire Conditionné"},false,0,0,0,0,{"$f":"VLOOKUP(A82,Import!A:N,13)","v":"Biodis"}]
["Bocal - Moussaka vegan, Aubergines, soja, légumes - 345g","4,50 €","4,5",{"$f":"VLOOKUP(A83,Import!A:D,4)","v":"Alimentaire Conditionné"},false,0,0,0,0]
["Bocal - Petits pois extra fins - 240g","3,50 €","3,5",{"$f":"VLOOKUP(A84,Import!A:D,4)","v":"Alimentaire Conditionné"},false,0,0,0,0]
["Bocal - Petits pois extra fins - 445g","5,10 €","5,1",{"$f":"VLOOKUP(A85,Import!A:D,4)","v":"Alimentaire Conditionné"},false,0,0,0,0]
["Bocal - Petits Pois très fins et carottes - 425g","5,50 €","5,5",{"$f":"VLOOKUP(A86,Import!A:D,4)","v":"Alimentaire Conditionné"},false,0,0,0,0]
["Bocal - Pois Chiche - 230g","3,50 €","3,5",{"$f":"VLOOKUP(A87,Import!A:D,4)","v":"Alimentaire Conditionné"},false,0,0,0,0]
["Bocal - Pois Chiches - 420g","5,00 €","5",{"$f":"VLOOKUP(A88,Import!A:D,4)","v":"Alimentaire Conditionné"},false,0,0,0,0]
["Bocal - Préparation  tarte aux oignons 345g","4,50€","4,5",{"$f":"VLOOKUP(A89,Import!A:D,4)","v":"Alimentaire Conditionné"},false,0,0,0,0]
["Bocal - Préparation tarte aux poireaux 345g","4,50€","4,5",{"$f":"VLOOKUP(A90,Import!A:D,4)","v":"Alimentaire Conditionné"},false,0,0,0,0]
["Bocal - Ratatouille à la provençale - 650g","5,10€","5,1",{"$f":"VLOOKUP(A91,Import!A:D,4)","v":"Alimentaire Conditionné"},false,0,0,0,0]
["Bocal - Risotto d’automne -350g","4,90€","4,9",{"$f":"VLOOKUP(A92,Import!A:D,4)","v":"Alimentaire Conditionné"},false,0,0,0,0]
["Bocal - Sauce bolognaise végétale au soja - 340g","3,30€","3,3",{"$f":"VLOOKUP(A93,Import!A:D,4)","v":"Alimentaire Conditionné"},false,0,0,0,0]
["Bocal - Sauce Vegan - 185g","3,50€","3,5",{"$f":"VLOOKUP(A94,Import!A:D,4)","v":"Alimentaire Conditionné"},false,0,0,0,0]
["Bocal - Tikka Masala aux légumes et pois chiches - 360g","4,50€","4,5",{"$f":"VLOOKUP(A95,Import!A:D,4)","v":"Alimentaire Conditionné"},false,0,0,0,0]
["Bocal Haricots beurre extra fins - 180g","2,90 €","2,9",{"$f":"VLOOKUP(A96,Import!A:D,4)","v":"Alimentaire Conditionné"},false,0,0,0,0]
["Boisson végétale - Avoine","2,10 €","2,1",{"$f":"VLOOKUP(A97,Import!A:D,4)","v":"Boissons conditionnées"},false,0,0,0,0]
["Boisson végétale - So amande Nature UHT - 1L","2,60 €","2,6",{"$f":"VLOOKUP(A98,Import!A:D,4)","v":"Boissons conditionnées"},false,0,0,0,0]
["Boisson végétale - Soja Nature - 1L","2,10 €","2,1",{"$f":"VLOOKUP(A99,Import!A:D,4)","v":"Boissons conditionnées"},false,0,0,0,0]
["Boisson végétale - Sojade UHT Calcium - 1L","2,60€","2,6",{"$f":"VLOOKUP(A100,Import!A:D,4)","v":"Boissons conditionnées"},false,0,0,0,0]
["Bol 15x7 Gravé Cap Bambou","14,90 €","14,9",{"$f":"VLOOKUP(A101,Import!A:D,4)","v":"Zéros déchets et Bocaux"},false,0,0,0,0]
["Bougies de Léa - Brûle Parfum","15,50 €","15,5",{"$f":"VLOOKUP(A102,Import!A:D,4)","v":"Zéros déchets et Bocaux"},false,0,0,0,0]
["Bougies de Léa - Grandes bougies Parfumées ","18,00 €","18",{"$f":"VLOOKUP(A103,Import!A:D,4)","v":"Zéros déchets et Bocaux"},false,0,0,0,0]
["Bougies de Léa - Petites bougies Parfumées ","11,00 €","11",{"$f":"VLOOKUP(A104,Import!A:D,4)","v":"Zéros déchets et Bocaux"},false,0,0,0,0]
["Bougies de Léa - Suspensions parfumées","6€","6",{"$f":"VLOOKUP(A105,Import!A:D,4)","v":"Zéros déchets et Bocaux"},false,0,0,0,0]
["Bouillon de légumes - Sans levure & huile de palme","24,00€ / kg","24",{"$f":"VLOOKUP(A106,Import!A:D,4)","v":"Alimentaire Vrac"},false,0,0,0,0]
["Boule à Thé diamètre 50mm",3.5,3.5,{"$f":"VLOOKUP(A107,Import!A:D,4)","v":"Zéros déchets et Bocaux"},false,0,0,0,{"$f":"H107*C107","v":0}]
["Boulgour","3,10€ / kg","3,1",{"$f":"VLOOKUP(A108,Import!A:D,4)","v":"Alimentaire Vrac"},false,0,0,0,0]
["Brosse à cheveux Bébé","9,50 €","9,5",{"$f":"VLOOKUP(A109,Import!A:D,4)","v":"Produits d'hygiène coporelle"},false,0,0,0,0]
["Brosse à cheveux Démélante","14,90 €","14,9",{"$f":"VLOOKUP(A110,Import!A:D,4)","v":"Produits d'hygiène coporelle"},false,0,0,0,0]
["Brosse à cheveux Démélante Enfants",9.5,9.5,{"$f":"VLOOKUP(A111,Import!A:D,4)","v":"Produits d'hygiène coporelle"},false,0,0,0,0]
["Brosse à dent - Lot de 3 têtes extra souples",7.9,"7,90",{"$f":"VLOOKUP(A112,Import!A:D,4)","v":"Produits d'hygiène coporelle"},false,0,0,0,0]
["Brosse à dent - Lot de 3 têtes medium",7.9,"7,90",{"$f":"VLOOKUP(A113,Import!A:D,4)","v":"Produits d'hygiène coporelle"},false,0,0,0,0]
["Brosse à dent - Lot de 3 têtes souples",7.9,"7,90",{"$f":"VLOOKUP(A114,Import!A:D,4)","v":"Produits d'hygiène coporelle"},false,0,0,0,0]
["Brosse à dent à tête rechargeable - manche bioplastic",3.5,"3,50",{"$f":"VLOOKUP(A115,Import!A:D,4)","v":"Produits d'hygiène coporelle"},false,0,0,0,0]
["Brosse à dent à tête rechargeable - manche hêtre","8,50 €","8,5",{"$f":"VLOOKUP(A116,Import!A:D,4)","v":0},false,0,0,0,0]
["Brosse à dents adultes","3,99 €",3.99,{"$f":"VLOOKUP(A117,Import!A:D,4)","v":0},false,0,0,0,0]
["Brosse à vaisselle - Recharges","5,50 €","5,5",{"$f":"VLOOKUP(A118,Import!A:D,4)","v":0},false,0,0,0,0]
["Brosse à vaisselle à tête rechargeable ","24,90 €","24,9",{"$f":"VLOOKUP(A119,Import!A:D,4)","v":0},false,0,0,0,0]
["Brosse à vaisselle en bois avec manche","6,50 €","6,5",{"$f":"VLOOKUP(A120,Import!A:D,4)","v":0},false,0,0,0,0]
["Brosses à dents enfants - Jaune","3,50 €","3,5",{"$f":"VLOOKUP(A121,Import!A:D,4)","v":"Produits d'hygiène coporelle"},false,0,0,0,0]
["Brosses à dents enfants - Violet","3,50 €","3,5",{"$f":"VLOOKUP(A122,Import!A:D,4)","v":"Produits d'hygiène coporelle"},false,0,0,0,0]
["Café - Dagosette colombie (capsule)","0,40€",0.4,{"$f":"VLOOKUP(A123,Import!A:D,4,FALSE)","v":"Boisson en vrac"},false,0,0,0,0,{"$f":"I123*D123","v":{"$error":"#VALUE!"}}]
["Café - Dosette Americ’ain (senseo)","0,20€ / pièce",0.2,{"$f":"VLOOKUP(A124,Import!A:D,4,FALSE)","v":"Boisson en vrac"},false,0,0,0,{"$f":"H124*C124","v":0}]
["Café - Grains - Colombie","19,90€ / kg","19,5",{"$f":"VLOOKUP(A125,Import!A:D,4,FALSE)","v":"Boisson en vrac"},false,0,0,0,0]
["Café - Grains - Moka Djimmah ","19,90€ / kg","19,5",{"$f":"VLOOKUP(A126,Import!A:D,4,FALSE)","v":"Boisson en vrac"},false,0,0,0,0]
["Cannelle en Poudre","56,00€ / kg","56",{"$f":"VLOOKUP(A127,Import!A:D,4,FALSE)","v":"Alimentaire Vrac"},false,0,0,0,{"$f":"H127*C127","v":0}]
["Cannelle en Tuyau","62,00€ / kg","62",{"$f":"VLOOKUP(A128,Import!A:D,4,FALSE)","v":"Alimentaire Vrac"},false,0,0,0,0]
["Carrés démaquillants - Lot de 5","7,50 €","7,5",{"$f":"VLOOKUP(A129,Import!A:D,4,FALSE)","v":{"$error":"#N/A"}},false,0,0,0,0]
["Céréales - Choco crisp ","9,50 € / kg","9,5",{"$f":"VLOOKUP(A130,Import!A:D,4,FALSE)","v":"Alimentaire Vrac"},false,0,{"$f":"IF(F130=\"100G\",0.1,IF(F130=\"250G\",0.25,IF(F130=\"500G\",0.5,IF(F130=\"1 Kilo\",1,IF(F130=\"10G\",0.01,IF(F130=\"50G\",0.05,F130))))))","v":0},0,0]
["Céréales - Corn Flakes ","8,50€ / kg","8,5",{"$f":"VLOOKUP(A131,Import!A:D,4,FALSE)","v":"Alimentaire Vrac"},false,0,0,{"$f":"G131","v":0},0]
["Céréales - Crosti Choco Noisettes ",11,"11",{"$f":"VLOOKUP(A132,Import!A:D,4,FALSE)","v":"Alimentaire Vrac"},false,0,0,0,0]
["Céréales - Flocons Avoine Gros ","3,50€ / kg","3,5",{"$f":"VLOOKUP(A133,Import!A:D,4,FALSE)","v":"Alimentaire Vrac"},false,0,0,0,0]
["Céréales - Flocons Avoine Petit","2,90€ / kg","2,9",{"$f":"VLOOKUP(A134,Import!A:D,4,FALSE)","v":"Alimentaire Vrac"},false,0,0,0,0]
["Céréales - Krounchy 3 chocolats","10,00€ / kg","10",{"$f":"VLOOKUP(A135,Import!A:D,4,FALSE)","v":"Alimentaire Vrac"},false,0,0,0,0]
["Céréales - Krounchy aux fruits","11,50€ / kg",11.5,{"$f":"VLOOKUP(A136,Import!A:D,4,FALSE)","v":"Alimentaire Vrac"},false,0,0,0,0]
["Céréales - Krounchy Nature","7,50€",7.5,{"$f":"VLOOKUP(A137,Import!A:D,4,FALSE)","v":"Alimentaire Vrac"},false,0,0,0,0]
["Céréales - Mops Miel","9,80€ / kg","9,8",{"$f":"VLOOKUP(A138,Import!A:D,4,FALSE)","v":"Alimentaire Vrac"},false,0,0,0,0]
["Chicorée torréfiée soluble - 200g","7,20€ / pièce","6,5",{"$f":"VLOOKUP(A139,Import!A:D,4,FALSE)","v":"Boisson en vrac"},false,0,0,0,0]
["Chips de Banane au Miel ","15,00 € / kg","15",{"$f":"VLOOKUP(A140,Import!A:D,4,FALSE)","v":"Alimentaire Vrac"},false,0,0,0,0]
["Chocolat Lait - Palets","20€/ kg","16",{"$f":"VLOOKUP(A141,Import!A:D,4,FALSE)","v":"Alimentaire Vrac"},false,0,0,0,0]
["Chocolat Lait - Pépites ","20,00 € / kg","20",{"$f":"VLOOKUP(A142,Import!A:D,4,FALSE)","v":"Alimentaire Vrac"},false,0,0,0,0]
["Chocolat Noir - Palets","18,00 € / kg","18",{"$f":"VLOOKUP(A143,Import!A:D,4,FALSE)","v":"Alimentaire Vrac"},false,0,0,0,0]
["Chocolat Noir - Pépites ","20,00 € / kg","20",{"$f":"VLOOKUP(A144,Import!A:D,4,FALSE)","v":"Alimentaire Vrac"},false,0,0,0,0]
["Chocolat Noir Poudre Instantané - Cacao et Sucre","90,00 € / kg","90",{"$f":"VLOOKUP(A145,Import!A:D,4,FALSE)","v":"Alimentaire Vrac"},false,0,0,0,0]
["Chouchou","4,50 €","4,5",{"$f":"VLOOKUP(A146,Import!A:D,4,FALSE)","v":"Zéros déchets et Bocaux"},false,0,0,0,0]
["Ciboulette Feuilles ","80,00 € / kg","80",{"$f":"VLOOKUP(A147,Import!A:D,4,FALSE)","v":"Alimentaire Vrac"},false,0,0,0,0]
["Cidre Brut 75cl","5,90 €","5,9",{"$f":"VLOOKUP(A148,Import!A:D,4,FALSE)","v":"Boissons conditionnées"},false,0,0,0,0]
["Cinq baies concassées","114,00 € / kg","114",{"$f":"VLOOKUP(A149,Import!A:D,4,FALSE)","v":"Alimentaire Vrac"},false,0,0,0,0]
["Citronnade pur jus de citron jaune - 75cl","3,50 €","3,5",{"$f":"VLOOKUP(A150,Import!A:D,4,FALSE)","v":"Boissons conditionnées"},false,0,0,0,0]
["Compote Allégée - Pomme Abricot - 660g","5 €","5,00",{"$f":"VLOOKUP(A151,Import!A:D,4,FALSE)","v":"Alimentaire Conditionné"},false,0,0,0,0]
["Compote Allégée - Pomme Chataigne - 660g","4,80 €","4,80 ",{"$f":"VLOOKUP(A152,Import!A:D,4,FALSE)","v":"Alimentaire Conditionné"},false,0,0,0,0]
["Compote Pomme - 480g - ","3,50 €","3,50",{"$f":"VLOOKUP(A153,Import!A:D,4,FALSE)","v":"Alimentaire Conditionné"},false,0,0,0,0]
["Compote Pomme Banane",5,"5,00",{"$f":"VLOOKUP(A154,Import!A:D,4,FALSE)","v":"Alimentaire Conditionné"},false,0,null,0,0]
["Compote Pomme Framboise - 480g ","4,50 €","4,5",{"$f":"VLOOKUP(A155,Import!A:D,4,FALSE)","v":"Alimentaire Conditionné"},false,0,null,0,0]
["Concentré de Tomate - 200g","2,30 €","2,3",{"$f":"VLOOKUP(A156,Import!A:D,4,FALSE)","v":"Alimentaire Conditionné"},false,0,null,0,0]
["Confiture Abricot - 340g ","4,90 €","4,9",{"$f":"VLOOKUP(A157,Import!A:D,4,FALSE)","v":"Alimentaire Conditionné"},false,0,null,0,0]
["Confiture de Figue 340g","4,90 €","4,9",{"$f":"VLOOKUP(A158,Import!A:D,4,FALSE)","v":"Alimentaire Conditionné"},false,0,null,0,0]
["Confiture de Fraise - 370g ","4,90 €","4,9",{"$f":"VLOOKUP(A159,Import!A:D,4,FALSE)","v":"Alimentaire Conditionné"},false,0,null,0,0]
["Confiture de Fruits des Bois 370g ","5,50 €","5,5",{"$f":"VLOOKUP(A160,Import!A:D,4,FALSE)","v":"Alimentaire Conditionné"},false,0,null,0,0]
["Confiture de Myrtille - 370g ","4,90 €","4,9",{"$f":"VLOOKUP(A161,Import!A:D,4,FALSE)","v":"Alimentaire Conditionné"},false,0,null,0,0]
["Confitures d'à côté - Abricot","6€","6",{"$f":"VLOOKUP(A162,Import!A:D,4,FALSE)","v":"Alimentaire Conditionné"},false,0,null,0,0]
["Confitures d'à côté - Ananas Vanille","6€","6",{"$f":"VLOOKUP(A163,Import!A:D,4,FALSE)","v":0},false,0,null,0,0]
["Confitures d'à côté - Cerise","6€","6",{"$f":"VLOOKUP(A164,Import!A:D,4,FALSE)","v":0},false,0,null,0,0]
["Confitures d'à côté - Clémentine","6€","6",{"$f":"VLOOKUP(A165,Import!A:D,4,FALSE)","v":0},false,0,null,0,0]
["Confitures d'à côté - Figue pointe de vanille","6€","6",{"$f":"VLOOKUP(A166,Import!A:D,4,FALSE)","v":"Alimentaire Conditionné"},false,0,null,0,0]
["Confitures d'à côté - Kiwi Ananas","6€","6",{"$f":"VLOOKUP(A167,Import!A:D,4,FALSE)","v":"Alimentaire Conditionné"},false,0,null,0,0]
["Confitures d'à côté - Mirabelle ","6€","6",{"$f":"VLOOKUP(A168,Import!A:D,4,FALSE)","v":0},false,0,null,0,0]
["Confitures d'à côté - Nectarine Pêche","6€","6",{"$f":"VLOOKUP(A169,Import!A:D,4,FALSE)","v":0},false,0,null,0,0]
["Confitures d'à côté - Nectarine Vanille","6€","6",{"$f":"VLOOKUP(A170,Import!A:D,4,FALSE)","v":"Alimentaire Conditionné"},false,0,null,0,0]
["Confitures d'à côté - Pêche ","6€","6",{"$f":"VLOOKUP(A171,Import!A:D,4,FALSE)","v":0},false,0,null,0,0]
["Confitures d'à côté - Poire Tonka","6€","6",{"$f":"VLOOKUP(A172,Import!A:D,4,FALSE)","v":"Alimentaire Conditionné"},false,0,null,0,0]
["Confitures d'à côté - Pomme Cannelle","6€","6",{"$f":"VLOOKUP(A173,Import!A:D,4,FALSE)","v":"Alimentaire Conditionné"},false,0,null,0,0]
["Confitures d'à côté - Pomme Caramel ","6€","6",{"$f":"VLOOKUP(A174,Import!A:D,4,FALSE)","v":"Alimentaire Conditionné"},false,0,null,0,0]
["Confitures d'à côté - Questche","6€","6",{"$f":"VLOOKUP(A175,Import!A:D,4,FALSE)","v":0},false,0,null,0,0,{"$f":"VLOOKUP(A175,Import!A:N,14)","v":"🇫🇷 France - Chatillon sur Chalaronne (01)"}]
["Confitures d'à côté - Tomate verte aux épices ","5€","5",{"$f":"VLOOKUP(A176,Import!A:D,4,FALSE)","v":{"$error":"#N/A"}},false,0,null,0,0]
["Confitures d'à côté- Mûre sauvage","6€","6",{"$f":"VLOOKUP(A177,Import!A:D,4,FALSE)","v":"Alimentaire Conditionné"},false,0,null,0,0]
["Cornichons au vinaigre 37cl - 185g","7,50 €","7,5",{"$f":"VLOOKUP(A178,Import!A:D,4,FALSE)","v":"Alimentaire Conditionné"},false,0,null,0,0]
["Cotons tiges x 100","1,95 €",1.95,{"$f":"VLOOKUP(A179,Import!A:D,4,FALSE)","v":"Produits d'hygiène coporelle"},false,0,null,0,0]
["Cotons tiges x 200","3,59 €",3.59,{"$f":"VLOOKUP(A180,Import!A:D,4,FALSE)","v":"Produits d'hygiène coporelle"},false,0,null,0,0]
["Coulis de Tomate  Nature - 680g","2,50 €","2,5",{"$f":"VLOOKUP(A181,Import!A:D,4,FALSE)","v":"Alimentaire Conditionné"},false,0,null,0,0]
["Coulis de Tomate Basilic - 680g","2,50 €","2,5",{"$f":"VLOOKUP(A182,Import!A:D,4,FALSE)","v":"Alimentaire Conditionné"},false,0,null,0,0]
["Couscous Complet ","3,50€","3,5",{"$f":"VLOOKUP(A183,Import!A:D,4,FALSE)","v":"Alimentaire Vrac"},false,0,null,0,0]
["Couteau Réutilisable en bambou","2€","2",{"$f":"VLOOKUP(A184,Import!A:D,4,FALSE)","v":"Zéros déchets et Bocaux"},false,0,null,0,0]
["Cranberries Demi séchées au sucre de Canne","17,50€ / kg","17,5",{"$f":"VLOOKUP(A185,Import!A:D,4,FALSE)","v":"Alimentaire Vrac"},false,0,null,0,0]
["Crème corps hydratant - Fleur de coton - Endro","15,60 €","15,6",{"$f":"VLOOKUP(A186,Import!A:D,4,FALSE)","v":"Produits d'hygiène coporelle"},false,0,null,0,0]
["Crème corps nourrissante - douceur iodée - Endro","12,90 €","12,9",{"$f":"VLOOKUP(A187,Import!A:D,4,FALSE)","v":"Produits d'hygiène coporelle"},false,0,null,0,0]
["Crème de Marron - 320g ","5,90 €","5,9",{"$f":"VLOOKUP(A188,Import!A:D,4,FALSE)","v":"Alimentaire Conditionné"},false,0,null,0,0]
["Crème solaire SPF 30 - 50ml","18,90 €","18,9",{"$f":"VLOOKUP(A189,Import!A:D,4,FALSE)","v":"Produits d'hygiène coporelle"},false,0,null,0,0]
["Crème solaire SPF 50 - 100ml","24,90 €","24,9",{"$f":"VLOOKUP(A190,Import!A:D,4,FALSE)","v":"Produits d'hygiène coporelle"},false,0,null,0,0]
["Crème solaire SPF 50 - 50ml","19,90 €","19,9",{"$f":"VLOOKUP(A191,Import!A:D,4,FALSE)","v":"Produits d'hygiène coporelle"},false,0,null,0,{"$f":"H191*C191","v":0}]
["Crème végétale - Soya cuisine briquette - 20cl","1,95€",1.95,{"$f":"VLOOKUP(A192,Import!A:D,4,FALSE)","v":"Alimentaire Conditionné"},false,0,null,0,0]
["Crème visage - bonne mine","13,60 €","13,6",{"$f":"VLOOKUP(A193,Import!A:D,4,FALSE)","v":"Produits d'hygiène coporelle"},false,0,null,0,0]
["Crozets Sarrasin","9€ / kg","9",{"$f":"VLOOKUP(A194,Import!A:D,4,FALSE)","v":"Alimentaire Vrac"},false,0,null,0,0]
["Cuillère réutilisable en bambou","1,50 €","1,5",{"$f":"VLOOKUP(A195,Import!A:D,4,FALSE)","v":"Zéros déchets et Bocaux"},false,0,null,{"$f":"G195","v":0},0]
["Cumin moulu poudre","55,00€ / kg","55",{"$f":"VLOOKUP(A196,Import!A:D,4,FALSE)","v":"Alimentaire Vrac"},false,0,null,0,0]
["Curcuma ","45,00€ / kg",45,{"$f":"VLOOKUP(A197,Import!A:D,4,FALSE)","v":"Alimentaire Vrac"},false,0,null,0,0]
["Cure Oreilles - Bamb’ori",2.99,2.99,{"$f":"VLOOKUP(A198,Import!A:D,4,FALSE)","v":"Produits d'hygiène coporelle"},false,0,null,0,0]
["Curry Poudre","42,00€ / kg","42",{"$f":"VLOOKUP(A199,Import!A:D,4,FALSE)","v":"Alimentaire Vrac"},false,0,null,0,0]
["Dattes Dénoyautées ","10,50€ / kg","10,5",{"$f":"VLOOKUP(A200,Import!A:D,4,FALSE)","v":"Alimentaire Vrac"},false,0,null,0,0]
["Dentifrice bio à croquer Menthe Fraîche","180,00€ / kg","180",{"$f":"VLOOKUP(A201,Import!A:D,4,FALSE)","v":"Produits d'hygiène coporelle"},false,0,null,0,0]
["Dentifrice Naturel - Fruits Rouges - Endro","10,60€","10,6",{"$f":"VLOOKUP(A202,Import!A:D,4,FALSE)","v":"Produits d'hygiène coporelle"},false,0,null,0,0]
["Dentifrice Naturel - Menthe Givrée - Endro","10,60€","10,6",{"$f":"VLOOKUP(A203,Import!A:D,4,FALSE)","v":"Produits d'hygiène coporelle"},false,0,null,0,0]
["Dentifrice Naturel - Zeste Citronné - Endro","10,60€","10,6",{"$f":"VLOOKUP(A204,Import!A:D,4,FALSE)","v":"Produits d'hygiène coporelle"},false,0,null,0,0]
["Dentifrice solide - Charbon - Recharge - Savon de Joya","8,90€","8,9",{"$f":"VLOOKUP(A205,Import!A:D,4,FALSE)","v":"Produits d'hygiène coporelle"},false,0,null,0,0]
["Dentifrice solide - Charbon - Savon de Joya","10,60€","10,6",{"$f":"VLOOKUP(A206,Import!A:D,4,FALSE)","v":"Produits d'hygiène coporelle"},false,0,null,0,0]
["Dentifrice solide - Citron & Romarin - Recharge - - Savon de Joya","8,90€","8,9",{"$f":"VLOOKUP(A207,Import!A:D,4,FALSE)","v":"Produits d'hygiène coporelle"},false,0,null,0,0]
["Dentifrice solide - Citron & Romarin Savon de Joya","10,60€","10,6",{"$f":"VLOOKUP(A208,Import!A:D,4,FALSE)","v":"Produits d'hygiène coporelle"},false,0,null,0,0]
["Dentifrice solide - Framboise - - Savon de Joya","10,60€","10,6",{"$f":"VLOOKUP(A209,Import!A:D,4,FALSE)","v":"Produits d'hygiène coporelle"},false,0,null,0,0]
["Dentifrice solide - Framboise - Recharge ","8,90€","8,9",{"$f":"VLOOKUP(A210,Import!A:D,4,FALSE)","v":"Produits d'hygiène coporelle"},false,0,null,0,0]
["Dentifrice solide - Menthe - - Savon de Joya","10,60€","10,6",{"$f":"VLOOKUP(A211,Import!A:D,4,FALSE)","v":"Produits d'hygiène coporelle"},false,0,null,0,0]
["Dentifrice solide - Menthe - Recharge - - Savon de Joya","8,90€","8,9",{"$f":"VLOOKUP(A212,Import!A:D,4,FALSE)","v":"Produits d'hygiène coporelle"},false,0,null,0,0]
["Déodorant - Clémence & Vivien - Le Fleuri",8.5,"7,9",{"$f":"VLOOKUP(A213,Import!A:D,4,FALSE)","v":"Produits d'hygiène coporelle"},false,0,null,0,0]
["Déodorant - Clémence & Vivien - Le Poudré",8.5,"7,9",{"$f":"VLOOKUP(A214,Import!A:D,4,FALSE)","v":"Produits d'hygiène coporelle"},false,0,null,0,0]
["Déodorant - Clémence & Vivien - Le Sucré",8.5,"7,9",{"$f":"VLOOKUP(A215,Import!A:D,4,FALSE)","v":"Produits d'hygiène coporelle"},false,0,null,0,0]
["Déodorant - Clémence & Vivien - Sensible Mandarinne",8.5,"7,9",{"$f":"VLOOKUP(A216,Import!A:D,4,FALSE)","v":"Produits d'hygiène coporelle"},false,0,null,0,0]
["Déodorant - Clémence & Vivien - Sensible Vanille",8.5,"7,9",{"$f":"VLOOKUP(A217,Import!A:D,4,FALSE)","v":"Produits d'hygiène coporelle"},false,0,null,0,0]
["Déodorant - Clémence & Vivien- L’Herbacé",8.5,"7,9",{"$f":"VLOOKUP(A218,Import!A:D,4,FALSE)","v":"Produits d'hygiène coporelle"},false,0,null,0,0]
["Déodorant - Endro - Bergamote / Arbre à thé","9,80€","9,8",{"$f":"VLOOKUP(A219,Import!A:D,4,FALSE)","v":"Produits d'hygiène coporelle"},false,0,null,0,0]
["Déodorant - Endro - Coco","9,80€","9,8",{"$f":"VLOOKUP(A220,Import!A:D,4,FALSE)","v":"Produits d'hygiène coporelle"},false,0,null,0,0]
["Déodorant - Endro - Menthe Poivrée / Cèdre","9,80€","9,8",{"$f":"VLOOKUP(A221,Import!A:D,4,FALSE)","v":"Produits d'hygiène coporelle"},false,0,null,0,0]
["Déodorant - Endro - Palmarosa / Géranium","9,80€","9,8",{"$f":"VLOOKUP(A222,Import!A:D,4,FALSE)","v":"Produits d'hygiène coporelle"},false,0,null,0,0]
["Déodorant - Endro - Peaux sensilbles","9,80€","9,8",{"$f":"VLOOKUP(A223,Import!A:D,4,FALSE)","v":"Produits d'hygiène coporelle"},false,0,null,0,0]
["Déodorant - Savon de Joya - Recharge Stick - Cèdre Vétiver - 75g","8,90 €","8,9",{"$f":"VLOOKUP(A224,Import!A:D,4,FALSE)","v":"Produits d'hygiène coporelle"},false,0,null,0,0]
["Déodorant - Savon de Joya - Recharge Stick - Citron & Mandarine - 75g","8,90 €","8,9",{"$f":"VLOOKUP(A225,Import!A:D,4,FALSE)","v":"Produits d'hygiène coporelle"},false,0,null,0,0]
["Déodorant - Savon de Joya - Recharge Stick - Rose, 0 bicarbonate - 75g","8,90 €","8,9",{"$f":"VLOOKUP(A226,Import!A:D,4,FALSE)","v":"Produits d'hygiène coporelle"},false,0,null,0,0]
["Déodorant - Savon de Joya - Recharge Stick Mini  - Cèdre Vétivier - 25g","7,90 €","7,9",{"$f":"VLOOKUP(A227,Import!A:D,4,FALSE)","v":"Produits d'hygiène coporelle"},false,0,null,0,0]
["Déodorant - Savon de Joya - Recharge Stick Mini  - Citron & Mandarine 25g","7,90 €","7,9",{"$f":"VLOOKUP(A228,Import!A:D,4,FALSE)","v":"Produits d'hygiène coporelle"},false,0,null,0,0]
["Déodorant Stick - Savon de Joya - Cèdre Vétiver - 75g","12,50 €","12,5",{"$f":"VLOOKUP(A229,Import!A:D,4,FALSE)","v":"Produits d'hygiène coporelle"},false,0,null,0,0]
["Déodorant Stick - Savon de Joya - Citron & Mandarine - 75g","12,50 €","12,5",{"$f":"VLOOKUP(A230,Import!A:D,4,FALSE)","v":"Produits d'hygiène coporelle"},false,0,null,0,0]
["Déodorant Stick - Savon de Joya - Rose, 0 bicarbonate - 75g","12,50 €","12,5",{"$f":"VLOOKUP(A231,Import!A:D,4,FALSE)","v":"Produits d'hygiène coporelle"},false,0,null,0,0]
["Déodorant Stick Mini  - Savon de Joya -  Rose, 0 bicarbonate - 25g","7,90 €","7,9",{"$f":"VLOOKUP(A232,Import!A:D,4,FALSE)","v":"Produits d'hygiène coporelle"},false,0,null,0,0]
["Déodorant Stick Mini - Savon de Joya - Cèdre Vétiver - 25g","7,90 €","7,9",{"$f":"VLOOKUP(A233,Import!A:D,4,FALSE)","v":"Produits d'hygiène coporelle"},false,0,null,0,0]
["Déodorant Stick Mini - Savon de Joya - Citron & Mandarine - 25g","5,20 €","5,2",{"$f":"VLOOKUP(A234,Import!A:D,4,FALSE)","v":"Produits d'hygiène coporelle"},false,0,null,0,0]
["Désinfectant sans rinçage - Vrac","12,50 €","12,50",{"$f":"VLOOKUP(A235,Import!A:D,4,FALSE)","v":"Produits d'entretiens"},false,0,null,0,0]
["Détachant - Vrac",9.9,"9;90",{"$f":"VLOOKUP(A236,Import!A:D,4,FALSE)","v":"Produits d'entretiens"},false,0,null,0,{"$error":"#VALUE!"}]
["Emballage 1L Plat + Bouchon ","2 €","2",{"$f":"VLOOKUP(A237,Import!A:D,4,FALSE)","v":"Produits d'entretiens"},false,0,null,0,0]
["Emballage 3L + Bouchon","4 €","4",{"$f":"VLOOKUP(A238,Import!A:D,4,FALSE)","v":"Produits d'entretiens"},false,0,null,0,0]
["Emballage WC 750ml + Bouchon","2,50 €","2,5",{"$f":"VLOOKUP(A239,Import!A:D,4,FALSE)","v":"Produits d'entretiens"},false,0,null,0,0]
["Essuie tout blanc, 100% recyclés, 200f x 12","2 €","2",{"$f":"VLOOKUP(A240,Import!A:D,4,FALSE)","v":"Produits d'entretiens"},false,0,null,0,0]
["Essuie-tout - Lot de 5 Multicolore","10,00 €","10",{"$f":"VLOOKUP(A241,Import!A:D,4,FALSE)","v":"Zéros déchets et Bocaux"},false,0,null,0,0]
["Farine de blé - T110","2,10€ / kg","2",{"$f":"VLOOKUP(A242,Import!A:D,4,FALSE)","v":"Alimentaire Vrac"},false,0,null,0,0]
["Farine de blé - T55 ","2,10€ / kg","2,1",{"$f":"VLOOKUP(A243,Import!A:D,4,FALSE)","v":"Alimentaire Vrac"},false,0,null,0,0]
["Farine de blé - T65 ","2,10€ / kg","2",{"$f":"VLOOKUP(A244,Import!A:D,4,FALSE)","v":"Alimentaire Vrac"},false,0,null,0,0]
["Farine de Maïs ","2,95€ / kg",2.95,{"$f":"VLOOKUP(A245,Import!A:D,4,FALSE)","v":"Alimentaire Vrac"},false,0,null,0,0]
["Farine de Maïs - Paquet 500g",1.7,1.7,{"$f":"VLOOKUP(A246,Import!A:D,4,FALSE)","v":"Alimentaire Conditionné"},false,0,null,0,0]
["Farine de Petit épeautre ","6,00€ / kg","6",{"$f":"VLOOKUP(A247,Import!A:D,4,FALSE)","v":"Alimentaire Vrac"},false,0,null,0,0]
["Farine de Pois chiches ","5,40€ / kg","5,4",{"$f":"VLOOKUP(A248,Import!A:D,4,FALSE)","v":"Alimentaire Vrac"},false,0,null,0,0]
["Farine de Pos chiches - paquet 500g","2.70","2,70",{"$f":"VLOOKUP(A249,Import!A:D,4,FALSE)","v":"Alimentaire Conditionné"},false,0,null,0,0]
["Fécule de Pomme de Terre ","4,90€ / kg","4,9",{"$f":"VLOOKUP(A250,Import!A:D,4,FALSE)","v":"Alimentaire Vrac"},false,0,null,0,0]
["Figues Entières ","12,00€ / kg","12",{"$f":"VLOOKUP(A251,Import!A:D,4,FALSE)","v":"Alimentaire Vrac"},false,0,null,0,0]
["Filet à fruits et légumes - Taille L","8,50€","8,5",{"$f":"VLOOKUP(A252,Import!A:D,4,FALSE)","v":"Zéros déchets et Bocaux"},false,0,null,0,0]
["Filet à fruits et légumes - Taille M","9,50€","9,5",{"$f":"VLOOKUP(A253,Import!A:D,4,FALSE)","v":"Zéros déchets et Bocaux"},false,0,null,0,0]
["Filtre à café","4,50€","4,5",{"$f":"VLOOKUP(A254,Import!A:D,4,FALSE)","v":"Zéros déchets et Bocaux"},false,0,null,0,0]
["Filtre à Infusion ","4,50€","4,5",{"$f":"VLOOKUP(A255,Import!A:D,4,FALSE)","v":"Zéros déchets et Bocaux"},false,0,null,0,{"$f":"H255*C255","v":0}]
["Filtre à thé ","4,00€","4",{"$f":"VLOOKUP(A256,Import!A:D,4,FALSE)","v":"Zéros déchets et Bocaux"},false,0,null,0,0]
["Filtre à théière inox forme théière","5,50€","5,5",{"$f":"VLOOKUP(A257,Import!A:D,4,FALSE)","v":"Zéros déchets et Bocaux"},false,0,null,0,0]
["Flageolets","6,50€ / kg","6,5",{"$f":"VLOOKUP(A258,Import!A:D,4,FALSE)","v":"Alimentaire Vrac"},false,0,null,0,0]
["Fondants Parfumés","3,50€","3,5",{"$f":"VLOOKUP(A259,Import!A:D,4,FALSE)","v":{"$error":"#N/A"}},false,0,null,{"$f":"G259","v":0},0]
["Fourchette réutilisable","2,00€","2",{"$f":"VLOOKUP(A260,Import!A:D,4,FALSE)","v":"Zéros déchets et Bocaux"},false,0,null,0,0]
["Furoshikis - Taille M","6,50€","6,5",{"$f":"VLOOKUP(A261,Import!A:D,4,FALSE)","v":"Zéros déchets et Bocaux"},false,0,null,0,0]
["Furoshikis - Taille S","5,00€","5",{"$f":"VLOOKUP(A262,Import!A:D,4,FALSE)","v":"Zéros déchets et Bocaux"},false,0,null,0,0]
["Fusilli Riz Quinoa ","12,00€ / kg","12",{"$f":"VLOOKUP(A263,Import!A:D,4,FALSE)","v":"Alimentaire Vrac"},false,0,null,0,0]
["Gamme anti âge - Contour des yeux - Endro ",9.9,9.9,{"$f":"VLOOKUP(A264,Import!A:D,4,FALSE)","v":"Produits d'hygiène coporelle"},false,0,null,0,0]
["Gamme anti âge - Crème - Endro ",19.899999999999999,19.899999999999999,{"$f":"VLOOKUP(A265,Import!A:D,4,FALSE)","v":"Produits d'hygiène coporelle"},false,0,null,0,0]
["Gamme anti âge - Sérum- Endro ",24.9,24.9,{"$f":"VLOOKUP(A266,Import!A:D,4,FALSE)","v":"Produits d'hygiène coporelle"},false,0,null,0,0]
["Gant de toilette","5,50€","5,5",{"$f":"VLOOKUP(A267,Import!A:D,4,FALSE)","v":"Zéros déchets et Bocaux"},false,0,null,0,0]
["Gel douche vrac - Karité verveine","8,30€ / kg","8,3",{"$f":"VLOOKUP(A268,Import!A:D,4,FALSE)","v":"Produits d'entretiens"},false,0,null,0,0]
["Gel WC - Vrac","5,90€ / kg","5,9",{"$f":"VLOOKUP(A269,Import!A:D,4,FALSE)","v":"Produits d'entretiens"},false,0,null,0,0]
["Gingembre Confit irréguliers ","14,50€ / kg","14,5",{"$f":"VLOOKUP(A270,Import!A:D,4,FALSE)","v":"Alimentaire Vrac"},false,0,null,0,0]
["Gingembre en Poudre ","50,00€ / kg","50",{"$f":"VLOOKUP(A271,Import!A:D,4,FALSE)","v":"Alimentaire Vrac"},false,0,null,0,0]
["Gommage visage Douce Aloe","14,90€","14,9",{"$f":"VLOOKUP(A272,Import!A:D,4,FALSE)","v":"Produits d'hygiène coporelle"},false,0,null,0,0]
["Goupillon","1,15€",1.1499999999999999,{"$f":"VLOOKUP(A273,Import!A:D,4,FALSE)","v":{"$error":"#N/A"}},false,0,null,0,0]
["Graines de Chia ","50€ / kg","5",{"$f":"VLOOKUP(A274,Import!A:D,4,FALSE)","v":"Alimentaire Vrac"},false,0,null,0,0]
["Graines de Courges Foncées ","18,50€ / kg","18,5",{"$f":"VLOOKUP(A275,Import!A:D,4,FALSE)","v":"Alimentaire Vrac"},false,0,null,0,0,{"$f":"VLOOKUP(A275,Import!A:N,14)","v":"🇫🇷 France"}]
["Graines de Lin Brun ","6,20€ / kg","6,2",{"$f":"VLOOKUP(A276,Import!A:D,4,FALSE)","v":"Alimentaire Vrac"},false,0,null,0,0]
["Graines de Pavot","135€ / kg","135",{"$f":"VLOOKUP(A277,Import!A:D,4,FALSE)","v":"Alimentaire Vrac"},false,0,null,0,0]
["Graines de Sésame ","30€ / kg","30",{"$f":"VLOOKUP(A278,Import!A:D,4,FALSE)","v":"Alimentaire Vrac"},false,0,null,0,0]
["Haricots Blancs ","6,00€ / kg","6",{"$f":"VLOOKUP(A279,Import!A:D,4,FALSE)","v":"Alimentaire Vrac"},false,0,null,0,0]
["Haricots Noirs","7,50€ / kg","7,5",{"$f":"VLOOKUP(A280,Import!A:D,4,FALSE)","v":"Alimentaire Vrac"},false,0,null,0,0]
["Haricots Rouges ","7,50€ /kg","7,5",{"$f":"VLOOKUP(A281,Import!A:D,4,FALSE)","v":"Alimentaire Vrac"},false,0,null,0,0]
["Herbes de provence ","54,00€ / kg","54",{"$f":"VLOOKUP(A282,Import!A:D,4,FALSE)","v":"Alimentaire Vrac"},false,0,null,0,0]
["Huile d’Olive extra vierge ","9€ / kg",9,{"$f":"VLOOKUP(A283,Import!A:D,4,FALSE)","v":"Alimentaire Vrac"},false,0,null,0,0]
["Huile d’olive Luce - 1L",10.9,"9,5",{"$f":"VLOOKUP(A284,Import!A:D,4,FALSE)","v":"Alimentaire Conditionné"},false,0,null,0,0]
["Huile de Cameline - 25cl","10,50€","10,5",{"$f":"VLOOKUP(A285,Import!A:D,4,FALSE)","v":"Alimentaire Conditionné"},false,0,null,0,0]
["Huile de Chanvre - 25cl","11,50€","11,5",{"$f":"VLOOKUP(A286,Import!A:D,4,FALSE)","v":"Alimentaire Conditionné"},false,0,null,0,0]
["Huile de Coco vierge","12,00€ / kg","12",{"$f":"VLOOKUP(A287,Import!A:D,4,FALSE)","v":"Alimentaire Vrac"},false,0,null,0,0]
["Huile de Colza - 1L","14,00€","14",{"$f":"VLOOKUP(A288,Import!A:D,4,FALSE)","v":"Alimentaire Conditionné"},false,0,null,0,0]
["Huile de Colza - 50cl","7,00€","7",{"$f":"VLOOKUP(A289,Import!A:D,4,FALSE)","v":"Alimentaire Conditionné"},false,0,null,0,0]
["Huile de Colza - en vrac ","11,00€","11",{"$f":"VLOOKUP(A290,Import!A:D,4,FALSE)","v":"Alimentaire Vrac"},false,0,null,0,0]
["Huile de Lin - 25cl ","7,50€","7,5",{"$f":"VLOOKUP(A291,Import!A:D,4,FALSE)","v":"Alimentaire Conditionné"},false,0,null,0,0]
["Huile de soin Antixiodante - Clemence & Vivien ","11,90€","11,9",{"$f":"VLOOKUP(A292,Import!A:D,4,FALSE)","v":"Produits d'hygiène coporelle"},false,0,null,0,0]
["Huile de soin Peaux Mixtes - Clemence & Vivien ","11,90€","11,9",{"$f":"VLOOKUP(A293,Import!A:D,4,FALSE)","v":"Produits d'hygiène coporelle"},false,0,null,0,0]
["Huile de soin Peaux Sèches - Clemence & Vivien ","11,90€","11,9",{"$f":"VLOOKUP(A294,Import!A:D,4,FALSE)","v":"Produits d'hygiène coporelle"},false,0,null,0,0]
["Huile de Tournesol - 1L","12,00€","12",{"$f":"VLOOKUP(A295,Import!A:D,4,FALSE)","v":"Alimentaire Conditionné"},false,0,null,0,0]
["Huile de Tournesol - 50cl","6,00€","6",{"$f":"VLOOKUP(A296,Import!A:D,4,FALSE)","v":"Alimentaire Conditionné"},false,0,null,0,0]
["Huile de Tournesol - en vrac ","7,90€ / kg","7,9",{"$f":"VLOOKUP(A297,Import!A:D,4,FALSE)","v":"Alimentaire Vrac"},false,0,null,0,0]
["Huile démaquillante toute douce Amande - Clemence & Vivien ","11,90€","11,9",{"$f":"VLOOKUP(A298,Import!A:D,4,FALSE)","v":"Produits d'hygiène coporelle"},false,0,null,0,0]
["Huile démaquillante toute douce Rose-Muguet - Clemence & Vivien ","11,90€","11,9",{"$f":"VLOOKUP(A299,Import!A:D,4,FALSE)","v":"Produits d'hygiène coporelle"},false,0,null,0,0]
["Huile Sèche 3 en 1 - Endro","19,90€","19,9",{"$f":"VLOOKUP(A300,Import!A:D,4,FALSE)","v":"Produits d'hygiène coporelle"},false,0,null,0,0]
["Jus d’orange du Maroc - 75cl","4€","4",{"$f":"VLOOKUP(A301,Import!A:D,4,FALSE)","v":"Boissons conditionnées"},false,0,null,0,0]
["Jus de citron Sicile - 1L","5,90€","5,9",{"$f":"VLOOKUP(A302,Import!A:D,4,FALSE)","v":"Boissons conditionnées"},false,0,null,0,0]
["Jus de citron Sicile - 50cl","3,50€","3,5",{"$f":"VLOOKUP(A303,Import!A:D,4,FALSE)","v":"Boissons conditionnées"},false,0,null,0,0]
["Jus de Pamplemousse rose Demeter - 75cl","4,50€","4,5",{"$f":"VLOOKUP(A304,Import!A:D,4,FALSE)","v":"Boissons conditionnées"},false,0,null,0,0]
["Jus de Pomme 1L ","4,50€","4,5",{"$f":"VLOOKUP(A305,Import!A:D,4,FALSE)","v":"Boissons conditionnées"},false,0,null,0,0]
["Jus de Pomme Cassis - 75cl","4€","4",{"$f":"VLOOKUP(A306,Import!A:D,4,FALSE)","v":"Boissons conditionnées"},false,0,null,0,0]
["Jus de Raisin 1L","4,50€","4,5",{"$f":"VLOOKUP(A307,Import!A:D,4,FALSE)","v":"Boissons conditionnées"},false,0,null,0,0]
["Jus Pomme Cassis 1L ","4,50€","4,5",{"$f":"VLOOKUP(A308,Import!A:D,4,FALSE)","v":"Boissons conditionnées"},false,0,null,0,0]
["Jus Pomme Framboise - 1L","4,90€","4,9",{"$f":"VLOOKUP(A309,Import!A:D,4,FALSE)","v":"Boissons conditionnées"},false,0,null,0,0]
["Ketchup bouteille - 500g","3,50€","3,5",{"$f":"VLOOKUP(A310,Import!A:D,4,FALSE)","v":"Alimentaire Conditionné"},false,0,null,0,0]
["Kombucha - Citron Gingembre - 33cl","4,50€","4,5",{"$f":"VLOOKUP(A311,Import!A:D,4,FALSE)","v":"Boissons conditionnées"},false,0,null,0,0]
["Kombucha - Menthe - 33cl","4,50€","4,5",{"$f":"VLOOKUP(A312,Import!A:D,4,FALSE)","v":"Boissons conditionnées"},false,0,null,0,0]
["Kombucha - Nature - 33cl","4,50€","4,5",{"$f":"VLOOKUP(A313,Import!A:D,4,FALSE)","v":"Boissons conditionnées"},false,0,null,0,0]
["Lait après-soleil - 100ml","14,90€","14,9",{"$f":"VLOOKUP(A314,Import!A:D,4,FALSE)","v":"Produits d'hygiène coporelle"},false,0,null,0,0]
["Lait après-soleil - 50ml","9,90€","9,9",{"$f":"VLOOKUP(A315,Import!A:D,4,FALSE)","v":"Produits d'hygiène coporelle"},false,0,null,0,0]
["Lait corps au beurre de Karité Vrac","31,00€","31",{"$f":"VLOOKUP(A316,Import!A:D,4,FALSE)","v":"Produits d'hygiène coporelle"},false,0,null,0,0]
["Lait UHT 1/2 écrémé - 1L","1,50€","1,5",{"$f":"VLOOKUP(A317,Import!A:D,4,FALSE)","v":"Boissons conditionnées"},false,0,null,0,0]
["Lait UHT entier - 1L","1,95€",1.95,{"$f":"VLOOKUP(A318,Import!A:D,4,FALSE)","v":"Boissons conditionnées"},false,0,null,0,0]
["Lentilles Corail"," 8,50€ / kg","8,5",{"$f":"VLOOKUP(A319,Import!A:D,4,FALSE)","v":"Alimentaire Vrac"},false,0,null,0,{"$f":"H319*C319","v":0}]
["Lessive Fleur à Savon ","4,35€ / kg",4.3499999999999996,{"$f":"VLOOKUP(A320,Import!A:D,4,FALSE)","v":"Produits d'entretiens"},false,0,null,0,0]
["Lessive Hypoallergénique","5,90€ / kg","5,9",{"$f":"VLOOKUP(A321,Import!A:D,4,FALSE)","v":"Produits d'entretiens"},false,0,null,0,0]
["Levure Paillettes Maltées","9,50€ / kg","9,5",{"$f":"VLOOKUP(A322,Import!A:D,4,FALSE)","v":"Alimentaire Vrac"},false,0,null,0,0]
["Limonade Bulles d’orange - 25cl","3,00 €","3",{"$f":"VLOOKUP(A323,Import!A:D,4,FALSE)","v":"Boissons conditionnées"},false,0,null,{"$f":"G323","v":0},0]
["Limonade Sucre de Canne 1L","4€","4",{"$f":"VLOOKUP(A324,Import!A:D,4,FALSE)","v":"Boissons conditionnées"},false,0,null,0,0]
["Liquide Vaisselle Main - Vrac ","3,80€ / kg","3,8",{"$f":"VLOOKUP(A325,Import!A:D,4,FALSE)","v":"Produits d'entretiens"},false,"250G",null,0,0]
["Maïs Popcorn ","4,50€ / kg","4,5",{"$f":"VLOOKUP(A326,Import!A:D,4,FALSE)","v":"Alimentaire Vrac"},false,0,null,0,0]
["Mangues séchées","27,50€ / kg","27,5",{"$f":"VLOOKUP(A327,Import!A:D,4,FALSE)","v":"Alimentaire Vrac"},false,0,null,0,0]
["Masque Visage Purifiant - Endro","24,90 €","24,9",{"$f":"VLOOKUP(A328,Import!A:D,4,FALSE)","v":"Produits d'hygiène coporelle"},false,0,null,0,0]
["Maté Nature - Vrac","45€ / kg","45",{"$f":"VLOOKUP(A329,Import!A:D,4,FALSE)","v":"Boisson en Vrac"},false,0,{"$f":"IF(F329=\"100G\",0.1,IF(F329=\"250G\",0.25,IF(F329=\"500G\",0.5,IF(F329=\"1 Kilo\",1,IF(F329=\"10G\",0.01,IF(F329=\"50G\",0.05,F329))))))","v":0},0,0]
["Mayonnaise dijonnaise - 185g","3,50 €","3,5",{"$f":"VLOOKUP(A330,Import!A:D,4,FALSE)","v":"Alimentaire Conditionné"},false,0,null,0,0]
["Mayonnaise nature - 325g","5€","5",{"$f":"VLOOKUP(A331,Import!A:D,4,FALSE)","v":"Alimentaire Conditionné"},false,0,null,0,0]
["Mélange Détox","20,50 € / kg","20,5",{"$f":"VLOOKUP(A332,Import!A:D,4,FALSE)","v":"Alimentaire Vrac"},false,0,null,0,0]
["Mélange Energie","18,50 € /kg","18,5",{"$f":"VLOOKUP(A333,Import!A:D,4,FALSE)","v":"Alimentaire Vrac"},false,0,null,0,0]
["Mélange Exotique","18,50 € / kg","18,5",{"$f":"VLOOKUP(A334,Import!A:D,4,FALSE)","v":"Alimentaire Vrac"},false,0,null,0,0]
["Mélange Rando ","18,50 € / kg","18,5",{"$f":"VLOOKUP(A335,Import!A:D,4,FALSE)","v":"Alimentaire Vrac"},false,0,null,0,0]
["Mélange Salade","15,50€/kg","15,5",{"$f":"VLOOKUP(A336,Import!A:D,4,FALSE)","v":"Alimentaire Vrac"},false,0,null,0,0]
["Miel d’Acacia - 250g","6,90 €","6,9",{"$f":"VLOOKUP(A337,Import!A:D,4,FALSE)","v":"Alimentaire Conditionné"},false,0,null,0,0]
["Miel d’Acacia - 500g","12,50 €","12,5",{"$f":"VLOOKUP(A338,Import!A:D,4,FALSE)","v":"Alimentaire Conditionné"},false,0,null,0,0]
["Miel de Lavande - 250g","8,50 €","8,5",{"$f":"VLOOKUP(A339,Import!A:D,4,FALSE)","v":"Alimentaire Conditionné"},false,0,null,0,0]
["Miel de Lavande - 500g","14,90 €","14,9",{"$f":"VLOOKUP(A340,Import!A:D,4,FALSE)","v":"Alimentaire Conditionné"},false,0,null,0,0]
["Miel de Printemps - 250g","6,90 €","6,9",{"$f":"VLOOKUP(A341,Import!A:D,4,FALSE)","v":"Alimentaire Conditionné"},false,0,null,0,0]
["Miel de Printemps - 500g","12€","12",{"$f":"VLOOKUP(A342,Import!A:D,4,FALSE)","v":"Alimentaire Conditionné"},false,0,null,0,0]
["Miel de Sapin - 250g","8,50 €","8,5",{"$f":"VLOOKUP(A343,Import!A:D,4,FALSE)","v":"Alimentaire Conditionné"},false,0,null,0,0]
["Miel de Sapin - 500g","15,00 €","15",{"$f":"VLOOKUP(A344,Import!A:D,4,FALSE)","v":"Alimentaire Conditionné"},false,0,null,0,0]
["Miel de Tilleul - 250g","7,50 €","7,5",{"$f":"VLOOKUP(A345,Import!A:D,4,FALSE)","v":"Alimentaire Conditionné"},false,0,null,0,0]
["Miel de Tilleul - 500g","12,50 €","12,5",{"$f":"VLOOKUP(A346,Import!A:D,4,FALSE)","v":"Alimentaire Conditionné"},false,0,null,0,0]
["Miel Polyfloral - 250g","6,50 €","6,5",{"$f":"VLOOKUP(A347,Import!A:D,4,FALSE)","v":"Alimentaire Conditionné"},false,0,null,0,0]
["Miel Polyfloral - 500g","11,50 €","11,5",{"$f":"VLOOKUP(A348,Import!A:D,4,FALSE)","v":"Alimentaire Conditionné"},false,0,null,0,0]
["Mini Filet à chute de savon","3,50 €","3,5",{"$f":"VLOOKUP(A349,Import!A:D,4,FALSE)","v":"Zéros déchets et Bocaux"},false,0,null,0,0]
["Mouchoirs","9,50 €","9,5",{"$f":"VLOOKUP(A350,Import!A:D,4,FALSE)","v":"Zéros déchets et Bocaux"},false,0,null,0,0]
["Moutarde à l’ancienne - 350g","4,20€","4,20",{"$f":"VLOOKUP(A351,Import!A:D,4,FALSE)","v":"Alimentaire Conditionné"},false,0,null,0,0]
["Moutarde de Dijon - 350g","4,20€","4,2",{"$f":"VLOOKUP(A352,Import!A:D,4,FALSE)","v":"Alimentaire Conditionné"},false,0,null,0,0]
["Muesli aux fruits","5,90 € / kg","5,9",{"$f":"VLOOKUP(A353,Import!A:D,4,FALSE)","v":"Alimentaire Vrac"},false,0,null,0,0]
["Muesli croustillant chocolat ","10,50 € / kg","10,5",{"$f":"VLOOKUP(A354,Import!A:D,4,FALSE)","v":"Alimentaire Vrac"},false,0,null,0,0]
["Multi Usage - Vrac ",5.9,5.9,{"$f":"VLOOKUP(A355,Import!A:D,4,FALSE)","v":"Produits d'entretiens"},false,0,null,0,0]
["Muscade Noix Poudre ","76€ / kg","76",{"$f":"VLOOKUP(A356,Import!A:D,4,FALSE)","v":"Alimentaire Vrac"},false,0,null,0,0]
["Nectar d’abricot 75cl ","4,50 €","4,5",{"$f":"VLOOKUP(A357,Import!A:D,4,FALSE)","v":"Boissons conditionnées"},false,0,null,0,0]
["Nectar de Pêche - 75cl ","4,50 €","4,5",{"$f":"VLOOKUP(A358,Import!A:D,4,FALSE)","v":"Boissons conditionnées"},false,0,null,0,0]
["Nectar de Poire - 75cl ","4,50 €","4,5",{"$f":"VLOOKUP(A359,Import!A:D,4,FALSE)","v":"Boissons conditionnées"},false,0,null,0,0]
["Nettoyant visage - Peau sèche Hibiscus ","8,90 €","8,9",{"$f":"VLOOKUP(A360,Import!A:D,4,FALSE)","v":"Produits d'hygiène coporelle"},false,0,null,0,0]
["Nids de Pâtes de Riz Thai Complet ","17,50 € / kg","17,5",{"$f":"VLOOKUP(A361,Import!A:D,4,FALSE)","v":"Alimentaire Vrac"},false,0,null,0,0]
["Noisettes décortiquées","18,90 € / kg","18,9",{"$f":"VLOOKUP(A362,Import!A:D,4,FALSE)","v":"Alimentaire Vrac"},false,0,null,0,0]
["Noix Cerneaux Brisures 3-12m","28,50 € / kg","28,5",{"$f":"VLOOKUP(A363,Import!A:D,4,FALSE)","v":"Alimentaire Vrac"},false,0,null,0,0]
["Noix de Cajou Nature","23,50 € / kg","2,5",{"$f":"VLOOKUP(A364,Import!A:D,4,FALSE)","v":"Alimentaire Vrac"},false,0,null,0,0]
["Noix de coco Chips ","12,00 € / kg","12",{"$f":"VLOOKUP(A365,Import!A:D,4,FALSE)","v":"Alimentaire Vrac"},false,0,null,0,0]
["Noix de Coco Râpée ","8€ / kg","8",{"$f":"VLOOKUP(A366,Import!A:D,4,FALSE)","v":"Alimentaire Vrac"},false,0,null,0,0]
["Noix de Pécan - Gros Morceaux ","29,00 € / kg","29",{"$f":"VLOOKUP(A367,Import!A:D,4,FALSE)","v":"Alimentaire Vrac"},false,0,null,0,0]
["Noix du brésil ","22,00 € / kg","22",{"$f":"VLOOKUP(A368,Import!A:D,4,FALSE)","v":"Alimentaire Vrac"},false,0,null,0,0]
["Oeufs frais bio (boîte de 6)",3,3,{"$f":"VLOOKUP(A369,Import!A:D,4,FALSE)","v":"Produits Frais"},false,0,null,0,0]
["Oriculi en bioplastique - Bleu","4,50 €","4,5",{"$f":"VLOOKUP(A370,Import!A:D,4,FALSE)","v":"Produits d'hygiène coporelle"},false,0,null,0,0]
["Oriculi en bioplastique - Jaune","4,50 €","4,5",{"$f":"VLOOKUP(A371,Import!A:D,4,FALSE)","v":"Produits d'hygiène coporelle"},false,0,null,0,0]
["Oriculi en bioplastique - Vert","4,50 €","4,5",{"$f":"VLOOKUP(A372,Import!A:D,4,FALSE)","v":"Produits d'hygiène coporelle"},false,0,null,0,0]
["Oriculi en bioplastique - Violet","4,50 €","4,5",{"$f":"VLOOKUP(A373,Import!A:D,4,FALSE)","v":"Produits d'hygiène coporelle"},false,0,null,0,0]
["Paille Courte - 13cm Gravée","1,49 €",1.49,{"$f":"VLOOKUP(A374,Import!A:D,4,FALSE)","v":"Zéros déchets et Bocaux"},false,0,null,0,0]
["Paille Longue - 20cm Gravée","1,69 €",1.69,{"$f":"VLOOKUP(A375,Import!A:D,4,FALSE)","v":"Zéros déchets et Bocaux"},false,0,null,0,0]
["Panier de rangement (Panier seul)","9,50 €","9,5",{"$f":"VLOOKUP(A376,Import!A:D,4,FALSE)","v":"Zéros déchets et Bocaux"},false,0,null,0,0]
["Papier toilette 600 feuilles non blanchi","0,95 €",0.95,{"$f":"VLOOKUP(A377,Import!A:D,4,FALSE)","v":"Produits d'entretiens"},false,0,null,0,0]
["Paprika Doux Poudre ","67,00 € / kg","67",{"$f":"VLOOKUP(A378,Import!A:D,4,FALSE)","v":"Alimentaire Vrac"},false,0,null,0,0]
["Paprika Fort moulu","88,00 € / kg","88",{"$f":"VLOOKUP(A379,Import!A:D,4,FALSE)","v":"Alimentaire Vrac"},false,0,null,0,0]
["Pâte à tartiner - Amande sésame miel","7,50€","7,5",{"$f":"VLOOKUP(A380,Import!A:D,4,FALSE)","v":"Alimentaire Conditionné"},false,0,null,0,0]
["Pâte à tartiner - Cajou coco miel bio","7,50€","7,5",{"$f":"VLOOKUP(A381,Import!A:D,4,FALSE)","v":"Alimentaire Conditionné"},false,0,null,0,0]
["Pâte à tartiner Amande Miel - 280g ","10,50€","10,50",{"$f":"VLOOKUP(A382,Import!A:D,4,FALSE)","v":"Alimentaire Conditionné"},false,0,null,0,0]
["Pâte à tartiner Choc-Noisettes - 265g ","9,90€","9,9",{"$f":"VLOOKUP(A383,Import!A:D,4,FALSE)","v":"Alimentaire Conditionné"},false,0,null,0,{"$f":"H383*C383","v":0}]
["Pâtes - Coquillettes blanches","3,50€ / kg","3,5",{"$f":"VLOOKUP(A384,Import!A:D,4,FALSE)","v":"Alimentaire Vrac"},false,0,null,0,0]
["Pâtes - Coquillettes Semi Complètes ","3,50€ / kg","3,5",{"$f":"VLOOKUP(A385,Import!A:D,4,FALSE)","v":"Alimentaire Vrac"},false,0,null,0,0]
["Pâtes - Farfalles Blanches ","3,30€ / kg","3,3",{"$f":"VLOOKUP(A386,Import!A:D,4,FALSE)","v":"Alimentaire Vrac"},false,0,null,0,0]
["Pâtes - Lasagnes Blanches ","6,00€ / kg","6",{"$f":"VLOOKUP(A387,Import!A:D,4,FALSE)","v":"Alimentaire Vrac"},false,0,null,{"$f":"G387","v":0},0]
["Pâtes - Pennes Blancs ","3,50€ / kg","4,5",{"$f":"VLOOKUP(A388,Import!A:D,4,FALSE)","v":"Alimentaire Vrac"},false,0,null,0,0,{"$f":"VLOOKUP(A388,Import!A:N,13)","v":0}]
["Pâtes - Pennes Semi Complets","3,50€ / kg","4,5",{"$f":"VLOOKUP(A389,Import!A:D,4,FALSE)","v":"Alimentaire Vrac"},false,0,null,0,0]
["Pâtes - Spaghettis Blancs","3,30€/kg","3,3",{"$f":"VLOOKUP(A390,Import!A:D,4,FALSE)","v":"Alimentaire Vrac"},false,0,null,0,0]
["Pâtes - Spaghettis Complets","3,30€/kg","3,3",{"$f":"VLOOKUP(A391,Import!A:D,4,FALSE)","v":"Alimentaire Vrac"},false,0,null,0,0]
["Pâtes - Tagliatelles Nature sans oeufs","4,50€/kg","4,5",{"$f":"VLOOKUP(A392,Import!A:D,4,FALSE)","v":"Alimentaire Vrac"},false,0,null,0,0]
["Peigne Démeloir à manche","6,49 €",6.49,{"$f":"VLOOKUP(A393,Import!A:D,4,FALSE)","v":"Produits d'hygiène coporelle"},false,0,null,0,0]
["Peigne Démêloir sans manche","6,49 €",6.49,{"$f":"VLOOKUP(A394,Import!A:D,4,FALSE)","v":"Produits d'hygiène coporelle"},false,0,null,0,0]
["Pelle à thé Inox",10.9,10.9,{"$f":"VLOOKUP(A395,Import!A:D,4,FALSE)","v":0},false,0,null,0,0]
["Percarbonate Blanchissant Linge Vrac ","4,90 € / kg","4,9",{"$f":"VLOOKUP(A396,Import!A:D,4,FALSE)","v":"Produits d'entretiens"},false,0,null,0,0]
["Pesto Ail des Ours","4,20 €","4,20",{"$f":"VLOOKUP(A397,Import!A:D,4,FALSE)","v":"Alimentaire Conditionné"},false,0,null,0,0]
["Pesto Basilic classique - ","4,20 €","4,2",{"$f":"VLOOKUP(A398,Import!A:D,4,FALSE)","v":"Alimentaire Conditionné"},false,0,null,0,0]
["Pesto Rosso - 90g","4,20 €","4,2",{"$f":"VLOOKUP(A399,Import!A:D,4,FALSE)","v":"Alimentaire Conditionné"},false,0,null,0,0]
["Pesto Verde - 90g","4,20 €","4,2",{"$f":"VLOOKUP(A400,Import!A:D,4,FALSE)","v":"Alimentaire Conditionné"},false,0,null,0,0]
["Petit Epeautre ","7,50 € / kg","7,5",{"$f":"VLOOKUP(A401,Import!A:D,4,FALSE)","v":"Alimentaire Vrac"},false,0,null,0,0]
["Petit Sac à thé de Noël","2,50 €","2,5",{"$f":"VLOOKUP(A402,Import!A:D,4,FALSE)","v":"Zéros déchets et Bocaux"},false,0,null,0,0]
["Pignons de Pin","67,00 € / kg","67",{"$f":"VLOOKUP(A403,Import!A:D,4,FALSE)","v":"Alimentaire Vrac"},false,0,null,0,0]
["Pistaches Coques Grillées Salées","35,00 € / kg","35",{"$f":"VLOOKUP(A404,Import!A:D,4,FALSE)","v":"Alimentaire Vrac"},false,0,null,0,0]
["Pistaches vertes sans coque non salées ","46,00 € / kg","46",{"$f":"VLOOKUP(A405,Import!A:D,4,FALSE)","v":"Alimentaire Vrac"},false,0,null,0,0]
["Pochette à brosse à dent ou à paille","3,50 €","3,5",{"$f":"VLOOKUP(A406,Import!A:D,4,FALSE)","v":"Zéros déchets et Bocaux"},false,0,null,0,0]
["Pochette à Goûter ","9,50 €","9,5",{"$f":"VLOOKUP(A407,Import!A:D,4,FALSE)","v":"Zéros déchets et Bocaux"},false,0,null,0,0]
["Pochette à Savon","4,50 €","4,5",{"$f":"VLOOKUP(A408,Import!A:D,4,FALSE)","v":"Zéros déchets et Bocaux"},false,0,null,0,0]
["Pois chiches","5€ / kg","5",{"$f":"VLOOKUP(A409,Import!A:D,4,FALSE)","v":"Alimentaire Vrac"},false,0,null,0,0,{"$f":"VLOOKUP(A409,Import!A:N,14)","v":"🇫🇷 France - Provence "}]
["Poivre Blanc Grains ","115,00 € / kg","115",{"$f":"VLOOKUP(A410,Import!A:D,4,FALSE)","v":"Alimentaire Vrac"},false,0,null,0,0]
["Poivre Noir en poudre","50€/kg",50,{"$f":"VLOOKUP(A411,Import!A:D,4,FALSE)","v":"Alimentaire Vrac"},false,0,null,0,0]
["Poivre Noir Grains ","85,00 € / kg","85",{"$f":"VLOOKUP(A412,Import!A:D,4,FALSE)","v":"Alimentaire Vrac"},false,0,null,0,0]
["Polenta instantanée ","3,50 € / kg","3,5",{"$f":"VLOOKUP(A413,Import!A:D,4,FALSE)","v":"Alimentaire Vrac"},false,0,null,0,0]
["Pommes séchées rondelles ","25,00 € / kg","25",{"$f":"VLOOKUP(A414,Import!A:D,4,FALSE)","v":0},false,0,null,0,0]
["Porte savon classic vrac","8,00 €","8",{"$f":"VLOOKUP(A415,Import!A:D,4,FALSE)","v":"Produits d'hygiène coporelle"},false,0,null,0,0]
["Potion Detoxifiante -  33cl","3,50 €","3,5",{"$f":"VLOOKUP(A416,Import!A:D,4,FALSE)","v":"Boissons conditionnées"},false,0,null,0,0]
["Potion Detoxifiante - 75cl","5,50€","5,50",{"$f":"VLOOKUP(A417,Import!A:D,4,FALSE)","v":"Boissons conditionnées"},false,0,null,0,0]
["Potion Energisante - 33cl","3,50 €","3,5",{"$f":"VLOOKUP(A418,Import!A:D,4,FALSE)","v":"Boissons conditionnées"},false,0,null,0,0]
["Potion Energisante - 75cl","5,50€","5,50",{"$f":"VLOOKUP(A419,Import!A:D,4,FALSE)","v":"Boissons conditionnées"},false,0,null,0,0]
["Potion Relaxante -  33cl","3,50 €","3,50",{"$f":"VLOOKUP(A420,Import!A:D,4,FALSE)","v":"Boissons conditionnées"},false,0,null,0,0]
["Potion Relaxante - 75cl","5,50€","5,50",{"$f":"VLOOKUP(A421,Import!A:D,4,FALSE)","v":"Boissons conditionnées"},false,0,null,0,0]
["Poudre à Lever sans Gluten ","17,90 € / kg","7,9",{"$f":"VLOOKUP(A422,Import!A:D,4,FALSE)","v":"Alimentaire Vrac"},false,0,null,0,0]
["Poudre d’Amande Blanche ","25€ / kg",25,{"$f":"VLOOKUP(A423,Import!A:D,4,FALSE)","v":0},false,0,null,0,0]
["Poudre d’amande complète","25€ / kg","25",{"$f":"VLOOKUP(A424,Import!A:D,4,FALSE)","v":"Alimentaire Vrac"},false,0,null,0,0]
["Protège slip","6,00 €","6",{"$f":"VLOOKUP(A425,Import!A:D,4,FALSE)","v":{"$error":"#N/A"}},false,0,null,0,0]
["Pruneaux dénoyautés ","22€ / kg","22",{"$f":"VLOOKUP(A426,Import!A:D,4,FALSE)","v":"Alimentaire Vrac"},false,0,null,0,0]
["Purée Amande 270g - Go Nuts","8,90€","8,9",{"$f":"VLOOKUP(A427,Import!A:D,4,FALSE)","v":"Alimentaire Conditionné"},false,0,null,0,0]
["Purée de Sésame Blanc - France - 350g","6,50€","6,5",{"$f":"VLOOKUP(A428,Import!A:D,4,FALSE)","v":"Alimentaire Conditionné"},false,0,null,0,0]
["Purée Noisette - 270g","8,50€","8,50",{"$f":"VLOOKUP(A429,Import!A:D,4,FALSE)","v":"Alimentaire Conditionné"},false,0,null,0,0]
["Quinoa Complet ","9,50€/kg","9,5",{"$f":"VLOOKUP(A430,Import!A:D,4,FALSE)","v":"Alimentaire Vrac"},false,0,null,0,0]
["Raisins secs Sultanines","7,90€/kg","7,9",{"$f":"VLOOKUP(A431,Import!A:D,4,FALSE)","v":"Alimentaire Vrac"},false,0,null,0,0]
["Rasoir de sûreté à lame rechargeable","45€","45",{"$f":"VLOOKUP(A432,Import!A:D,4,FALSE)","v":"Produits d'hygiène coporelle"},false,0,null,0,0]
["Recharge de 10 lames pour rasoir de sûreté","7,50€","7,5",{"$f":"VLOOKUP(A433,Import!A:D,4,FALSE)","v":"Produits d'hygiène coporelle"},false,0,null,0,0]
["Recouvre bol en coton enduit - Taille à Cake","7€","7",{"$f":"VLOOKUP(A434,Import!A:D,4,FALSE)","v":"Zéros déchets et Bocaux"},false,0,null,0,0]
["Recouvre bol en coton enduit - Taille à Gratin","9€","9",{"$f":"VLOOKUP(A435,Import!A:D,4,FALSE)","v":"Zéros déchets et Bocaux"},false,0,null,0,0]
["Recouvre bol en coton enduit - Taille L","9€","9",{"$f":"VLOOKUP(A436,Import!A:D,4,FALSE)","v":"Zéros déchets et Bocaux"},false,0,null,0,0]
["Recouvre bol en coton enduit - Taille M","7€","7",{"$f":"VLOOKUP(A437,Import!A:D,4,FALSE)","v":"Zéros déchets et Bocaux"},false,0,null,0,0]
["Recouvre bol en coton enduit - Taille S","5€","5",{"$f":"VLOOKUP(A438,Import!A:D,4,FALSE)","v":"Zéros déchets et Bocaux"},false,0,null,0,0]
["Recouvre bol en coton enduit - Taille XS","4€","4",{"$f":"VLOOKUP(A439,Import!A:D,4,FALSE)","v":"Zéros déchets et Bocaux"},false,0,null,0,0]
["Riz - Trio de Camargue ","6€/kg","6",{"$f":"VLOOKUP(A440,Import!A:D,4,FALSE)","v":"Alimentaire Vrac"},false,0,null,0,0,{"$f":"VLOOKUP(A440,Import!A:N,13)","v":"Scop Epice"}]
["Riz Arborio Blanc pour Risotto ","5,50€/kg","5,5",{"$f":"VLOOKUP(A441,Import!A:D,4,FALSE)","v":"Alimentaire Vrac"},false,0,null,0,0,{"$f":"VLOOKUP(A441,Import!A:N,13)","v":"Actibio"}]
["Riz Blanc Basmati Blanc ","5,50€/kg",5.5,{"$f":"VLOOKUP(A442,Import!A:D,4,FALSE)","v":"Alimentaire Vrac"},false,0,null,0,0,{"$f":"VLOOKUP(A442,Import!A:N,13)","v":0}]
["Riz Blanc IGP Camargue","5,50€/kg",5.5,{"$f":"VLOOKUP(A443,Import!A:D,4,FALSE)","v":"Alimentaire Vrac"},false,0,null,0,0]
["Riz Long blanc étuvé de Camargue ","4,90€/kg",4.9000000000000004,{"$f":"VLOOKUP(A444,Import!A:D,4,FALSE)","v":0},false,0,null,0,0,{"$f":"VLOOKUP(A444,Import!A:N,13)","v":"Actibio"}]
["Riz Long Complet ","4,25€/kg",4.25,{"$f":"VLOOKUP(A445,Import!A:D,4,FALSE)","v":"Alimentaire Vrac"},false,0,null,0,0]
["Riz Rond Blanc ",null,null,{"$f":"VLOOKUP(A446,Import!A:D,4,FALSE)","v":"/"},false,0,null,0,0]
["Riz Rond blanc IGP Camargue","5,50€",5.5,{"$f":"VLOOKUP(A447,Import!A:D,4,FALSE)","v":"Alimentaire Vrac"},false,0,null,0,{"$f":"H447*C447","v":0}]
["Riz semi complet IGP Camargue","4,90€/kg","4,9",{"$f":"VLOOKUP(A448,Import!A:D,4,FALSE)","v":"Alimentaire Vrac"},false,0,null,0,0]
["Romarin feuille ","65€/kg","65",{"$f":"VLOOKUP(A449,Import!A:D,4,FALSE)","v":"Alimentaire Vrac"},false,0,null,0,0]
["Ronds démaquillants - Lot de 5","7€","7",{"$f":"VLOOKUP(A450,Import!A:D,4,FALSE)","v":{"$error":"#N/A"}},false,0,null,0,0]
["Rooibos - Earl Grey ","60€/kg","60",{"$f":"VLOOKUP(A451,Import!A:D,4,FALSE)","v":"Boisson en vrac"},false,0,{"$f":"IF(F451=\"100G\",0.1,IF(F451=\"250G\",0.25,IF(F451=\"500G\",0.5,IF(F451=\"1 Kilo\",1,IF(F451=\"10G\",0.01,IF(F451=\"50G\",0.05,F451))))))","v":0},{"$f":"G451","v":0},{"$f":"H451*C451","v":0}]
["Rooibos Nature","50€/kg","50",{"$f":"VLOOKUP(A452,Import!A:D,4,FALSE)","v":"Boisson en vrac"},false,0,0,0,0]
["Sac à congélation - Taille L","8,50€","8,5",{"$f":"VLOOKUP(A453,Import!A:D,4,FALSE)","v":"Zéros déchets et Bocaux"},false,0,null,0,{"$f":"H453*C453","v":0}]
["Sac à congélation - Taille M","7,50€","7,5",{"$f":"VLOOKUP(A454,Import!A:D,4,FALSE)","v":"Zéros déchets et Bocaux"},false,0,null,0,0]
["Sac à congélation - Taille S","6,50€","6,5",{"$f":"VLOOKUP(A455,Import!A:D,4,FALSE)","v":"Zéros déchets et Bocaux"},false,0,null,0,0]
["Sac à vrac en Coton - Taille L","8,50€","8,5",{"$f":"VLOOKUP(A456,Import!A:D,4,FALSE)","v":"Zéros déchets et Bocaux"},false,0,null,0,0]
["Sac à vrac en Coton - Taille M","7,50€","7,5",{"$f":"VLOOKUP(A457,Import!A:D,4,FALSE)","v":"Zéros déchets et Bocaux"},false,0,null,0,0]
["Sac à vrac en Coton - Taille S","7€","7",{"$f":"VLOOKUP(A458,Import!A:D,4,FALSE)","v":"Zéros déchets et Bocaux"},false,0,null,0,0]
["Sarrasin Décortiqué ","7€ / kg",7,{"$f":"VLOOKUP(A459,Import!A:D,4,FALSE)","v":"Alimentaire Vrac"},false,0,null,0,0]
["Savon à froid l’Emir - Clemence & Vivien ",4.5,4.5,{"$f":"VLOOKUP(A460,Import!A:D,4,FALSE)","v":"Produits d'hygiène coporelle"},false,0,null,0,0]
["Savon à froid le Chérubin - Clemence & Vivien ",4.2,4.2,{"$f":"VLOOKUP(A461,Import!A:D,4,FALSE)","v":"Produits d'hygiène coporelle"},false,0,null,0,0]
["Savon à froid le Gandhi - Clemence & Vivien ",4.5,4.5,{"$f":"VLOOKUP(A462,Import!A:D,4,FALSE)","v":"Produits d'hygiène coporelle"},false,0,null,0,0,{"$f":"VLOOKUP(A462,Import!A:N,14)","v":"🇫🇷 France - Chauray (79)"}]
["Savon à froid le Gecko - Clemence & Vivien ",4.5,4.5,{"$f":"VLOOKUP(A463,Import!A:D,4,FALSE)","v":"Produits d'hygiène coporelle"},false,0,null,0,0,{"$f":"VLOOKUP(A463,Import!A:N,14)","v":"🇫🇷 France - Chauray (79)"}]
["Savon à froid le Saint Bernard - Clemence & Vivien ",4.5,4.5,{"$f":"VLOOKUP(A464,Import!A:D,4,FALSE)","v":"Produits d'hygiène coporelle"},false,0,null,0,0,{"$f":"VLOOKUP(A464,Import!A:N,14)","v":"🇫🇷 France - Chauray (79)"}]
["Savon à froid le Suisse - Clemence & Vivien ",4.2,4.2,{"$f":"VLOOKUP(A465,Import!A:D,4,FALSE)","v":"Produits d'hygiène coporelle"},false,0,null,0,0]
["Savon à froid le Vahiné - Clemence & Vivien ",4.5,4.5,{"$f":"VLOOKUP(A466,Import!A:D,4,FALSE)","v":"Produits d'hygiène coporelle"},false,0,null,0,0,{"$f":"VLOOKUP(A466,Import!A:N,14)","v":"🇫🇷 France - Chauray (79)"}]
["Savon liquide de Marseille à l’huile d’olive & Lavande","6,90€ / kg","6,9",{"$f":"VLOOKUP(A467,Import!A:D,4,FALSE)","v":"Produits d'hygiène coporelle"},false,0,null,0,0]
["Savon Noir Tradition - Vrac ","5€ / kg","5",{"$f":"VLOOKUP(A468,Import!A:D,4,FALSE)","v":"Produits d'entretiens"},false,0,null,0,0]
["Savon Soin Lavant Purifiant - Endro","14,90€","14,9",{"$f":"VLOOKUP(A469,Import!A:D,4,FALSE)","v":"Produits d'hygiène coporelle"},false,0,null,0,0]
["Sel de Mer Gros - Guérande","3,90€ / kg","3,9",{"$f":"VLOOKUP(A470,Import!A:D,4,FALSE)","v":"Alimentaire Vrac"},false,0,null,0,0]
["Sel fin de méditerrannée","3€ / kg","3",{"$f":"VLOOKUP(A471,Import!A:D,4,FALSE)","v":"Alimentaire Vrac"},false,0,null,0,0]
["Sel régénérant vrac","2,10€ / kg","2,1",{"$f":"VLOOKUP(A472,Import!A:D,4,FALSE)","v":"Produits d'entretiens"},false,0,null,0,0]
["Sérum anti-imperfection - Endro","24,90€","24,9",{"$f":"VLOOKUP(A473,Import!A:D,4,FALSE)","v":"Produits d'hygiène coporelle"},false,0,null,0,0]
["Sérum désaltérant à l’acide hyaluronique - Clemence & Vivien ",9.1999999999999993,9.1999999999999993,{"$f":"VLOOKUP(A474,Import!A:D,4,FALSE)","v":"Produits d'hygiène coporelle"},false,0,null,0,0]
["Sérum Longueurs et pointes - Clemence & Vivien ","8,90€","8,9",{"$f":"VLOOKUP(A475,Import!A:D,4,FALSE)","v":"Produits d'hygiène coporelle"},false,0,null,0,0]
["Serviette de table","8,50€","8,5",{"$f":"VLOOKUP(A476,Import!A:D,4,FALSE)","v":"Zéros déchets et Bocaux"},false,0,null,0,0]
["Serviette hygiénique ","9€","9",{"$f":"VLOOKUP(A477,Import!A:D,4,FALSE)","v":{"$error":"#N/A"}},false,0,null,0,0]
["Serviette hygiénique Nuit","11€","11",{"$f":"VLOOKUP(A478,Import!A:D,4,FALSE)","v":{"$error":"#N/A"}},false,0,null,0,0]
["Set Assiette et cuillère enfant - Bordeaux ","25€","25",{"$f":"VLOOKUP(A479,Import!A:D,4,FALSE)","v":"Zéros déchets et Bocaux"},false,0,null,0,0]
["Set Assiette et cuillère enfant - Lilas ","25€","25",{"$f":"VLOOKUP(A480,Import!A:D,4,FALSE)","v":"Zéros déchets et Bocaux"},false,0,null,0,0,{"$f":"VLOOKUP(A480,Import!A:N,13)","v":"Cap Bambou"}]
["Set de 3 couverts réutilisables","5,49€",5.49,{"$f":"VLOOKUP(A481,Import!A:D,4,FALSE)","v":"Zéros déchets et Bocaux"},false,0,null,0,0,{"$f":"VLOOKUP(A481,Import!A:N,13)","v":"Cap Bambou"}]
["Set de Repas Bébé - Bleu","23,50€","23,5",{"$f":"VLOOKUP(A482,Import!A:D,4,FALSE)","v":"Zéros déchets et Bocaux"},false,0,null,0,0,{"$f":"VLOOKUP(A482,Import!A:N,13)","v":"Cap Bambou"}]
["Set de Repas Bébé - Jaune","23,50€","23,5",{"$f":"VLOOKUP(A483,Import!A:D,4,FALSE)","v":"Zéros déchets et Bocaux"},false,0,null,0,0,{"$f":"VLOOKUP(A483,Import!A:N,13)","v":"Cap Bambou"}]
["Set de Repas Bébé - Rose","23,50€","23,5",{"$f":"VLOOKUP(A484,Import!A:D,4,FALSE)","v":"Zéros déchets et Bocaux"},false,0,null,0,0,{"$f":"VLOOKUP(A484,Import!A:N,13)","v":"Cap Bambou"}]
["Set de Repas Bébé - Vert","23,50€","23,5",{"$f":"VLOOKUP(A485,Import!A:D,4,FALSE)","v":"Zéros déchets et Bocaux"},false,0,null,0,{"$f":"H485*C485","v":0},{"$f":"VLOOKUP(A485,Import!A:N,13)","v":"Cap Bambou"}]
["Set de repas enfants","25€","25",{"$f":"VLOOKUP(A486,Import!A:D,4,FALSE)","v":"Zéros déchets et Bocaux"},false,0,null,0,0,{"$f":"VLOOKUP(A486,Import!A:N,13)","v":"Cap Bambou"}]
["Set de Table à colorier ","7,50€","7,5",{"$f":"VLOOKUP(A487,Import!A:D,4,FALSE)","v":"Zéros déchets et Bocaux"},false,0,null,0,0,{"$f":"VLOOKUP(A487,Import!A:N,13)","v":"Alterosac"}]
["Shampoing Douche à l’huile d’argan - Vrac",14.5,14.5,{"$f":"VLOOKUP(A488,Import!A:D,4,FALSE)","v":"Produits d'hygiène coporelle"},false,0,null,0,0,{"$f":"VLOOKUP(A488,Import!A:N,13)","v":"La savonnerie Pilon du Roy"}]
["Shampoing sec - sans HE - 35ml","8,50€","8,5",{"$f":"VLOOKUP(A489,Import!A:D,4,FALSE)","v":"Produits d'hygiène coporelle"},false,0,null,0,0]
["Shampoing sec - sans HE - Recharge ","6€","6",{"$f":"VLOOKUP(A490,Import!A:D,4,FALSE)","v":"Produits d'hygiène coporelle"},false,0,null,0,0]
["Shampoing solide - Antipelliculaire - 80g","10,60€","10,6",{"$f":"VLOOKUP(A491,Import!A:D,4,FALSE)","v":"Produits d'hygiène coporelle"},false,0,null,0,0,{"$f":"VLOOKUP(A491,Import!A:N,13)","v":"Les Savons de Joya"}]
["Shampoing solide - Bleu - 80g","10,60€","10,6",{"$f":"VLOOKUP(A492,Import!A:D,4,FALSE)","v":"Produits d'hygiène coporelle"},false,0,null,0,0,{"$f":"VLOOKUP(A492,Import!A:N,13)","v":"Les Savons de Joya"}]
["Shampoing solide - Cheveux abîmés & colorés - Sans HE - 80g","10,60€","10,6",{"$f":"VLOOKUP(A493,Import!A:D,4,FALSE)","v":"Produits d'hygiène coporelle"},false,0,null,0,0,{"$f":"VLOOKUP(A493,Import!A:N,13)","v":"Les Savons de Joya"}]
["Shampoing solide - Cheveux abîmés et colorés - 80g","10,60€","10,6",{"$f":"VLOOKUP(A494,Import!A:D,4,FALSE)","v":"Produits d'hygiène coporelle"},false,0,null,0,0,{"$f":"VLOOKUP(A494,Import!A:N,13)","v":"Les Savons de Joya"}]
["Shampoing solide - Cheveux frisés / crépus - 80g","10,60€","10,6",{"$f":"VLOOKUP(A495,Import!A:D,4,FALSE)","v":"Produits d'hygiène coporelle"},false,0,null,0,0,{"$f":"VLOOKUP(A495,Import!A:N,13)","v":"Les Savons de Joya"}]
["Shampoing solide - Cheveux gras - 80g","10,60€","10,6",{"$f":"VLOOKUP(A496,Import!A:D,4,FALSE)","v":"Produits d'hygiène coporelle"},false,0,null,0,0,{"$f":"VLOOKUP(A496,Import!A:N,13)","v":"Les Savons de Joya"}]
["Shampoing solide - Cheveux gras - Sans HE 80g","10,60€","10,6",{"$f":"VLOOKUP(A497,Import!A:D,4,FALSE)","v":"Produits d'hygiène coporelle"},false,0,null,0,0,{"$f":"VLOOKUP(A497,Import!A:N,13)","v":"Les Savons de Joya"}]
["Shampoing solide - Sensible - 80g","10,60€","10,6",{"$f":"VLOOKUP(A498,Import!A:D,4,FALSE)","v":"Produits d'hygiène coporelle"},false,0,null,0,0]
["Shampoing solide - Stimulant - 80g","10,60€","10,6",{"$f":"VLOOKUP(A499,Import!A:D,4,FALSE)","v":"Produits d'hygiène coporelle"},false,0,null,0,0]
["Shampoing solide - Tout type de cheveux - 80g","10,60€","10,6",{"$f":"VLOOKUP(A500,Import!A:D,4,FALSE)","v":"Produits d'hygiène coporelle"},false,0,null,0,0]
["Sirop d’Erable ","25€/kg","25",{"$f":"VLOOKUP(A501,Import!A:D,4,FALSE)","v":"Alimentaire Vrac"},false,0,null,0,0]
["Sirop de Cassis - 70cl","6,90€","6,9",{"$f":"VLOOKUP(A502,Import!A:D,4,FALSE)","v":"Alimentaire Conditionné"},false,0,null,0,0]
["Sirop de Citron ","9,50€/kg","9,5",{"$f":"VLOOKUP(A503,Import!A:D,4,FALSE)","v":"Boisson en vrac"},false,0,{"$f":"IF(F503=\"100G\",0.1,IF(F503=\"250G\",0.25,IF(F503=\"500G\",0.5,IF(F503=\"1 Kilo\",1,IF(F503=\"10G\",0.01,IF(F503=\"50G\",0.05,F503))))))","v":0},0,{"$f":"H503*C503","v":0}]
["Sirop de Grenadine","9,50€/kg","9,5",{"$f":"VLOOKUP(A504,Import!A:D,4,FALSE)","v":"Boisson en vrac"},false,0,0,0,0]
["Sirop de Menthe","9,50€/kg","9,5",{"$f":"VLOOKUP(A505,Import!A:D,4,FALSE)","v":"Boisson en vrac"},false,0,0,0,0]
["Sirop de Pamplemousse - 70cl ","6,90€","6,9",{"$f":"VLOOKUP(A506,Import!A:D,4,FALSE)","v":"Alimentaire Conditionné"},false,0,null,0,{"$f":"H506*C506","v":0}]
["Sirop de Pêche","9,50€/kg","9,5",{"$f":"VLOOKUP(A507,Import!A:D,4,FALSE)","v":"Boisson en vrac"},false,0,{"$f":"IF(F507=\"100G\",0.1,IF(F507=\"250G\",0.25,IF(F507=\"500G\",0.5,IF(F507=\"1 Kilo\",1,IF(F507=\"10G\",0.01,IF(F507=\"50G\",0.05,F507))))))","v":0},0,{"$f":"H507*C507","v":0}]
["Solution hydroalcolique","7,50€/kg","7,5",{"$f":"VLOOKUP(A508,Import!A:D,4,FALSE)","v":"Produits d'entretiens"},false,null,null,{"$f":"G508","v":0}]
["Spirales Complètes ","3,30€/kg","3,3",{"$f":"VLOOKUP(A509,Import!A:D,4,FALSE)","v":"Alimentaire Vrac"},false,null,null,{"$f":"G509","v":0}]
["Sucre Blanc de Canne","2,95€/kg",2.95,{"$f":"VLOOKUP(A510,Import!A:D,4,FALSE)","v":"Alimentaire Vrac"},false,null,null,0]
["Sucre Blond - Paraguay","3,20€/kg","3,2",{"$f":"VLOOKUP(A511,Import!A:D,4,FALSE)","v":"Alimentaire Vrac"},false,null,null,0]
["Sucre Complet - Rapadura ","4,90€/kg","4,9",{"$f":"VLOOKUP(A512,Import!A:D,4,FALSE)","v":"Alimentaire Vrac"},false,null,null,0]
["Sucre de Canne Complet","4,90€/kg",4.9000000000000004,{"$f":"VLOOKUP(A513,Import!A:D,4,FALSE)","v":"Alimentaire Vrac"},false,null,null,0]
["Sucre de Coco","5,50€/kg",5.5,{"$f":"VLOOKUP(A514,Import!A:D,4,FALSE)","v":"Alimentaire Vrac"},false,null,null,0]
["Sucre Glace sans séparateur ","5,50€/kg","5,5",{"$f":"VLOOKUP(A515,Import!A:D,4,FALSE)","v":"Alimentaire Vrac"},false,0,null,0,{"$f":"H515*C515","v":0},{"$f":"VLOOKUP(A515,Import!A:N,14)","v":"🇨🇷 Costa Rica"}]
["Sucre Roux Demérara (Cassonade) ","3,50€/kg","3,5",{"$f":"VLOOKUP(A516,Import!A:D,4,FALSE)","v":"Alimentaire Vrac"},false,0,null,0,0,{"$f":"VLOOKUP(A516,Import!A:N,14)","v":"🇨🇴 Colombie"}]
["Super bain d’huile avant-shampoing - - Clemence & Vivien ","9,90€","9,9",{"$f":"VLOOKUP(A517,Import!A:D,4,FALSE)","v":"Produits d'hygiène coporelle"},false,0,null,0,0,{"$f":"VLOOKUP(A517,Import!A:N,14)","v":"🇫🇷 France - Chauray (79)"}]
["Tablettes Lave Vaisselle Vrac","13,60€/kg","13,6",{"$f":"VLOOKUP(A518,Import!A:D,4,FALSE)","v":"Produits d'entretiens"},false,0,null,0,0,{"$f":"VLOOKUP(A518,Import!A:N,14)","v":"🇫🇷 France - Malataverne (26)"}]
["Tamari - Vrac","10,80€/kg","10,8",{"$f":"VLOOKUP(A519,Import!A:D,4,FALSE)","v":"Alimentaire Vrac"},false,0,null,0,0,{"$f":"VLOOKUP(A519,Import!A:N,14)","v":"🇨🇳 Chine"}]
["Tamari, less salt 25% - 250ml","6,50€","6,5",{"$f":"VLOOKUP(A520,Import!A:D,4,FALSE)","v":"Alimentaire Conditionné"},false,0,null,0,0,{"$f":"VLOOKUP(A520,Import!A:N,14)","v":"🇧🇪 Belgique"}]
["Tartinade - de Noël","6€","6",{"$f":"VLOOKUP(A521,Import!A:D,4,FALSE)","v":"/"},false,0,null,0,0,{"$f":"VLOOKUP(A521,Import!A:N,14)","v":"🇫🇷 France - Chatillon sur Chalaronne (01)"}]
["Tartinade Apéro - Aubergine Paprika fumé","5,50€","5,5",{"$f":"VLOOKUP(A522,Import!A:D,4,FALSE)","v":"Alimentaire Conditionné"},false,0,null,0,0,{"$f":"VLOOKUP(A522,Import!A:N,14)","v":"🇫🇷 France - Fareins (01)"}]
["Tartinade Apéro - Betterave Grains moutarde","5,50€","5,5",{"$f":"VLOOKUP(A523,Import!A:D,4,FALSE)","v":"Alimentaire Conditionné"},false,0,null,0,0,{"$f":"VLOOKUP(A523,Import!A:N,14)","v":"🇫🇷 France - Fareins (01)"}]
["Tartinade Apéro - Butternut verveine citron","5,50€","5,5",{"$f":"VLOOKUP(A524,Import!A:D,4,FALSE)","v":"Alimentaire Conditionné"},false,null,null,0]
["Tartinade Apéro - Carotte cumin","5,50€","5,5",{"$f":"VLOOKUP(A525,Import!A:D,4,FALSE)","v":"Alimentaire Conditionné"},false,null,null,0]
["Tartinade Apéro - Chou fleur Ail noir","5,50€","5,5",{"$f":"VLOOKUP(A526,Import!A:D,4,FALSE)","v":"Alimentaire Conditionné"},false,0,null,0,{"$f":"H526*C526","v":0},{"$f":"VLOOKUP(A526,Import!A:N,14)","v":"🇫🇷 France - Fareins (01)"}]
["Tartinade Apéro - Courgette Thym","5,50€","5,5",{"$f":"VLOOKUP(A527,Import!A:D,4,FALSE)","v":"Alimentaire Conditionné"},false,0,null,0,0,{"$f":"VLOOKUP(A527,Import!A:N,14)","v":"🇫🇷 France - Fareins (01)"}]
["Tartinade Apéro - Gwacamole 130g","4,50€","4,5",{"$f":"VLOOKUP(A528,Import!A:D,4,FALSE)","v":"Alimentaire Conditionné"},false,0,null,0,0,{"$f":"VLOOKUP(A528,Import!A:N,14)","v":"🇫🇷 France "}]
["Tartinade Apéro - Poichichade au paprika - 100g","4,50 €","4,5",{"$f":"VLOOKUP(A529,Import!A:D,4,FALSE)","v":"Alimentaire Conditionné"},false,0,null,0,0,{"$f":"VLOOKUP(A529,Import!A:N,14)","v":"🇫🇷 France - Provence"}]
["Tartinade Apéro - Poichichade traditionnelle - 100g","4,00 €","4",{"$f":"VLOOKUP(A530,Import!A:D,4,FALSE)","v":"Alimentaire Conditionné"},false,0,null,0,0,{"$f":"VLOOKUP(A530,Import!A:N,14)","v":"🇫🇷 France - Provence"}]
["Tartinade Apéro - Pois chiches Graines de Nigelle","5,50€","5,5",{"$f":"VLOOKUP(A531,Import!A:D,4,FALSE)","v":"Alimentaire Conditionné"},false,0,null,0,0,{"$f":"VLOOKUP(A531,Import!A:N,14)","v":"🇫🇷 France - Fareins (01)"}]
["Tartinade Apéro - Tomates Sarriette","5,50€",5.5,{"$f":"VLOOKUP(A532,Import!A:D,4,FALSE)","v":"/"},false,0,null,0,0,{"$f":"VLOOKUP(A532,Import!A:N,14)","v":"🇫🇷 France - Fareins (01)"}]
["Tartine Craquante Sarrasin - 300g","5,50€",5.5,{"$f":"VLOOKUP(A533,Import!A:D,4,FALSE)","v":"Alimentaire Conditionné"},false,null,null,0]
["Tête rechargeable pour Brosse vaisselle","2,70€","2,7",{"$f":"VLOOKUP(A534,Import!A:D,4,FALSE)","v":"Produits d'entretiens"},false,null,null,0]
["Thé Noir - Darjeling ","50€/kg","50",{"$f":"VLOOKUP(A535,Import!A:D,4,FALSE)","v":"Boisson en vrac"},false,0,{"$f":"IF(F535=\"100G\",0.1,IF(F535=\"250G\",0.25,IF(F535=\"500G\",0.5,IF(F535=\"1 Kilo\",1,IF(F535=\"10G\",0.01,IF(F535=\"50G\",0.05,F535))))))","v":0},0,{"$f":"H535*C535","v":0}]
["Thé Noir - Earl Grey ","60€/kg","60",{"$f":"VLOOKUP(A536,Import!A:D,4,FALSE)","v":"Boisson en vrac"},false,0,0,0,0]
["Thé Noir - Noël","69€/kg","60",{"$f":"VLOOKUP(A537,Import!A:D,4,FALSE)","v":"Boisson en vrac"},false,0,0,0,0]
["Thé Vert - Au chant des cigales ","60€/kg","60",{"$f":"VLOOKUP(A538,Import!A:D,4,FALSE)","v":"Boisson en vrac"},false,0,0,0,0]
["Thé Vert - Earl Grey Azur ","60€/kg","60",{"$f":"VLOOKUP(A539,Import!A:D,4,FALSE)","v":"Boisson en vrac"},false,0,0,0,0]
["Thé Vert - Fruité Tropical","60€/kg","60",{"$f":"VLOOKUP(A540,Import!A:D,4,FALSE)","v":"Boisson en vrac"},false,0,0,0,0]
["Thé Vert - Gunpowder ","50€/kg","50",{"$f":"VLOOKUP(A541,Import!A:D,4,FALSE)","v":"Boisson en vrac"},false,0,0,0,0]
["Thé Vert - Jasmin","65€/kg","65",{"$f":"VLOOKUP(A542,Import!A:D,4,FALSE)","v":"Boisson en vrac"},false,0,0,0,0]
["Thé Vert - Mandarine Pamplemousse","60€/kg","60",{"$f":"VLOOKUP(A543,Import!A:D,4,FALSE)","v":"Boisson en vrac"},false,0,0,0,0]
["Thé Vert - Menthe Marrakech","60€/kg","60",{"$f":"VLOOKUP(A544,Import!A:D,4,FALSE)","v":"Boisson en vrac"},false,0,0,0,0]
["Thym Feuilles ","140€/kg","140",{"$f":"VLOOKUP(A545,Import!A:D,4,FALSE)","v":"Alimentaire Vrac"},false,null,null,0]
["Tisane - Après Repas","50€/kg","50",{"$f":"VLOOKUP(A546,Import!A:D,4,FALSE)","v":"Boisson en vrac"},false,0,0,0,{"$f":"H546*C546","v":0}]
["Tisane - Camomille","60€/kg","60",{"$f":"VLOOKUP(A547,Import!A:D,4,FALSE)","v":"Boisson en vrac"},false,0,0,0,0]
["Tisane - Des elfes","60€/kg","60",{"$f":"VLOOKUP(A548,Import!A:D,4,FALSE)","v":"Boisson en vrac"},false,0,0,0,0]
["Tisane - Du soir ","50€/kg","50",{"$f":"VLOOKUP(A549,Import!A:D,4,FALSE)","v":"Boisson en vrac"},false,0,0,0,0]
["Tisane - Hibiscus","50€/kg","50",{"$f":"VLOOKUP(A550,Import!A:D,4,FALSE)","v":"Boisson en vrac"},false,0,0,0,0]
["Tisane - La mésange bleue ","50€/kg","50",{"$f":"VLOOKUP(A551,Import!A:D,4,FALSE)","v":"Boisson en vrac"},false,0,0,0,0]
["Tisane - Verveine citronnée ","50€/kg","50",{"$f":"VLOOKUP(A552,Import!A:D,4,FALSE)","v":"Boisson en vrac"},false,0,0,0,0]
["Vermicelles demi complets","2,95€/kg",2.95,{"$f":"VLOOKUP(A553,Import!A:D,4,FALSE)","v":"Alimentaire Vrac"},false,null,null,0]
["Vinaigre Balsamique","8,50€/kg","8,5",{"$f":"VLOOKUP(A554,Import!A:D,4,FALSE)","v":"Alimentaire Vrac"},false,null,null,0]
["Vinaigre balsamique de Modène - 50cl","5,50€/kg","5,5",{"$f":"VLOOKUP(A555,Import!A:D,4,FALSE)","v":"Alimentaire Conditionné"},false,null,null,0]
["Vinaigre Blanc Naturel 14° - Vrac","4,90€/kg","4,9",{"$f":"VLOOKUP(A556,Import!A:D,4,FALSE)","v":"Produits d'entretiens"},false,null,null,0]
["Vinaigre de Cidre ","4,50€/kg","4,5",{"$f":"VLOOKUP(A557,Import!A:D,4,FALSE)","v":"Alimentaire Vrac"},false,null,null,0]
["Vinaigre de Vin Rouge","3,75€/kg",3.75,{"$f":"VLOOKUP(A558,Import!A:D,4,FALSE)","v":"Alimentaire Vrac"},false,null,null,0]
[null,null,null,{"$f":"VLOOKUP(A559,Import!A:D,4,FALSE)","v":{"$error":"#N/A"}},false,null,null,0]
[null,null,null,{"$f":"VLOOKUP(A560,Import!A:D,4,FALSE)","v":{"$error":"#N/A"}},false,null,null,0]
[null,null,null,{"$f":"VLOOKUP(A561,Import!A:D,4,FALSE)","v":{"$error":"#N/A"}},false,null,null,0]
[null,null,null,{"$f":"VLOOKUP(A562,Import!A:D,4,FALSE)","v":{"$error":"#N/A"}},false,null,null,0]
[null,null,null,{"$f":"VLOOKUP(A563,Import!A:D,4,FALSE)","v":{"$error":"#N/A"}},false,null,null,0]
[null,null,null,{"$f":"VLOOKUP(A564,Import!A:D,4,FALSE)","v":{"$error":"#N/A"}},false,null,null,0]
[null,null,null,{"$f":"VLOOKUP(A565,Import!A:D,4,FALSE)","v":{"$error":"#N/A"}},false,null,null,0]
[null,null,null,{"$f":"VLOOKUP(A566,Import!A:D,4,FALSE)","v":{"$error":"#N/A"}},false,null,null,0]
[null,null,null,{"$f":"VLOOKUP(A567,Import!A:D,4,FALSE)","v":{"$error":"#N/A"}},false,null,null,0]
[null,null,null,{"$f":"VLOOKUP(A568,Import!A:D,4,FALSE)","v":{"$error":"#N/A"}},false,null,null,0]
[null,null,null,{"$f":"VLOOKUP(A569,Import!A:D,4,FALSE)","v":{"$error":"#N/A"}},false,null,null,0]
[null,null,null,{"$f":"VLOOKUP(A570,Import!A:D,4,FALSE)","v":{"$error":"#N/A"}},false,null,null,0]
[null,null,null,{"$f":"VLOOKUP(A571,Import!A:D,4,FALSE)","v":{"$error":"#N/A"}},false,null,null,0]
[null,null,null,{"$f":"VLOOKUP(A572,Import!A:D,4,FALSE)","v":{"$error":"#N/A"}},false,null,null,0]
[null,null,null,{"$f":"VLOOKUP(A573,Import!A:D,4,FALSE)","v":{"$error":"#N/A"}},false,null,null,{"$f":"G573","v":0}]
[null,null,null,{"$f":"VLOOKUP(A574,Import!A:D,4,FALSE)","v":{"$error":"#N/A"}},false,null,null,0]
[null,null,null,{"$f":"VLOOKUP(A575,Import!A:D,4,FALSE)","v":{"$error":"#N/A"}},false,null,null,0]
[null,null,null,{"$f":"VLOOKUP(A576,Import!A:D,4,FALSE)","v":{"$error":"#N/A"}},false,null,null,0]
[null,null,null,{"$f":"VLOOKUP(A577,Import!A:D,4,FALSE)","v":{"$error":"#N/A"}},false,null,null,0]
[null,null,null,{"$f":"VLOOKUP(A578,Import!A:D,4,FALSE)","v":{"$error":"#N/A"}},false,null,null,0]
[null,null,null,{"$f":"VLOOKUP(A579,Import!A:D,4,FALSE)","v":{"$error":"#N/A"}},false,null,null,0]
[null,null,null,{"$f":"VLOOKUP(A580,Import!A:D,4,FALSE)","v":{"$error":"#N/A"}},false,null,null,0]
[null,null,null,{"$f":"VLOOKUP(A581,Import!A:D,4,FALSE)","v":{"$error":"#N/A"}},false,null,null,0]
[null,null,null,{"$f":"VLOOKUP(A582,Import!A:D,4,FALSE)","v":{"$error":"#N/A"}},false,null,null,0]
[null,null,null,{"$f":"VLOOKUP(A583,Import!A:D,4,FALSE)","v":{"$error":"#N/A"}},false,null,null,0]
[null,null,null,{"$f":"VLOOKUP(A584,Import!A:D,4,FALSE)","v":{"$error":"#N/A"}},false,null,null,0]
[null,null,null,{"$f":"VLOOKUP(A585,Import!A:D,4,FALSE)","v":{"$error":"#N/A"}},false,null,null,0]
[null,null,null,{"$f":"VLOOKUP(A586,Import!A:D,4,FALSE)","v":{"$error":"#N/A"}},false,null,null,0]
[null,null,null,{"$f":"VLOOKUP(A587,Import!A:D,4,FALSE)","v":{"$error":"#N/A"}},false,null,null,0]
[null,null,null,{"$f":"VLOOKUP(A588,Import!A:D,4,FALSE)","v":{"$error":"#N/A"}},false,null,null,0]
[null,null,null,{"$f":"VLOOKUP(A589,Import!A:D,4,FALSE)","v":{"$error":"#N/A"}},false,null,null,0]
[null,null,null,{"$f":"VLOOKUP(A590,Import!A:D,4,FALSE)","v":{"$error":"#N/A"}},false,null,null,0]
[null,null,null,{"$f":"VLOOKUP(A591,Import!A:D,4,FALSE)","v":{"$error":"#N/A"}},false,null,null,0]
[null,null,null,{"$f":"VLOOKUP(A592,Import!A:D,4,FALSE)","v":{"$error":"#N/A"}},false,null,null,0]
[null,null,null,{"$f":"VLOOKUP(A593,Import!A:D,4,FALSE)","v":{"$error":"#N/A"}},false,null,null,0]
[null,null,null,{"$f":"VLOOKUP(A594,Import!A:D,4,FALSE)","v":{"$error":"#N/A"}},false,null,null,0]
[null,null,null,{"$f":"VLOOKUP(A595,Import!A:D,4,FALSE)","v":{"$error":"#N/A"}},false,null,null,0]
[null,null,null,{"$f":"VLOOKUP(A596,Import!A:D,4,FALSE)","v":{"$error":"#N/A"}},false,null,null,0]
[null,null,null,{"$f":"VLOOKUP(A597,Import!A:D,4,FALSE)","v":{"$error":"#N/A"}},false,null,null,0]
[null,null,null,{"$f":"VLOOKUP(A598,Import!A:D,4,FALSE)","v":{"$error":"#N/A"}},false,null,null,0]
[null,null,null,{"$f":"VLOOKUP(A599,Import!A:D,4,FALSE)","v":{"$error":"#N/A"}},false,null,null,0]
[null,null,null,{"$f":"VLOOKUP(A600,Import!A:D,4,FALSE)","v":{"$error":"#N/A"}},false,null,null,0]
[null,null,null,{"$f":"VLOOKUP(A601,Import!A:D,4,FALSE)","v":{"$error":"#N/A"}},false,null,null,0]
[null,null,null,{"$f":"VLOOKUP(A602,Import!A:D,4,FALSE)","v":{"$error":"#N/A"}},false,null,null,0]
[null,null,null,{"$f":"VLOOKUP(A603,Import!A:D,4,FALSE)","v":{"$error":"#N/A"}},false,null,null,0]
[null,null,null,{"$f":"VLOOKUP(A604,Import!A:D,4,FALSE)","v":{"$error":"#N/A"}},false,null,null,0]
[null,null,null,{"$f":"VLOOKUP(A605,Import!A:D,4,FALSE)","v":{"$error":"#N/A"}},false,null,null,0]
[null,null,null,{"$f":"VLOOKUP(A606,Import!A:D,4,FALSE)","v":{"$error":"#N/A"}},false,null,null,0]
[null,null,null,{"$f":"VLOOKUP(A607,Import!A:D,4,FALSE)","v":{"$error":"#N/A"}},false,null,null,0]
[null,null,null,{"$f":"VLOOKUP(A608,Import!A:D,4,FALSE)","v":{"$error":"#N/A"}},false,null,null,0]
[null,null,null,{"$f":"VLOOKUP(A609,Import!A:D,4,FALSE)","v":{"$error":"#N/A"}},false,null,null,0]
[null,null,null,{"$f":"VLOOKUP(A610,Import!A:D,4,FALSE)","v":{"$error":"#N/A"}},false,null,null,0]
[null,null,null,{"$f":"VLOOKUP(A611,Import!A:D,4,FALSE)","v":{"$error":"#N/A"}},false,null,null,0]
[null,null,null,{"$f":"VLOOKUP(A612,Import!A:D,4,FALSE)","v":{"$error":"#N/A"}},false,null,null,0]
[null,null,null,{"$f":"VLOOKUP(A613,Import!A:D,4,FALSE)","v":{"$error":"#N/A"}},false,null,null,0]
[null,null,null,{"$f":"VLOOKUP(A614,Import!A:D,4,FALSE)","v":{"$error":"#N/A"}},false,null,null,0]
[null,null,null,{"$f":"VLOOKUP(A615,Import!A:D,4,FALSE)","v":{"$error":"#N/A"}},false,null,null,0]
[null,null,null,{"$f":"VLOOKUP(A616,Import!A:D,4,FALSE)","v":{"$error":"#N/A"}},false,null,null,0]
[null,null,null,{"$f":"VLOOKUP(A617,Import!A:D,4,FALSE)","v":{"$error":"#N/A"}},false,null,null,0]
[null,null,null,{"$f":"VLOOKUP(A618,Import!A:D,4,FALSE)","v":{"$error":"#N/A"}},false,null,null,0]
[null,null,null,{"$f":"VLOOKUP(A619,Import!A:D,4,FALSE)","v":{"$error":"#N/A"}},false,null,null,0]
[null,null,null,{"$f":"VLOOKUP(A620,Import!A:D,4,FALSE)","v":{"$error":"#N/A"}},false,null,null,0]
[null,null,null,{"$f":"VLOOKUP(A621,Import!A:D,4,FALSE)","v":{"$error":"#N/A"}},false,null,null,0]
[null,null,null,{"$f":"VLOOKUP(A622,Import!A:D,4,FALSE)","v":{"$error":"#N/A"}},false,null,null,0]
[null,null,null,{"$f":"VLOOKUP(A623,Import!A:D,4,FALSE)","v":{"$error":"#N/A"}},false,null,null,0]
[null,null,null,{"$f":"VLOOKUP(A624,Import!A:D,4,FALSE)","v":{"$error":"#N/A"}},false,null,null,0]
[null,null,null,{"$f":"VLOOKUP(A625,Import!A:D,4,FALSE)","v":{"$error":"#N/A"}},false,null,null,0]
[null,null,null,{"$f":"VLOOKUP(A626,Import!A:D,4,FALSE)","v":{"$error":"#N/A"}},false,null,null,0]
[null,null,null,{"$f":"VLOOKUP(A627,Import!A:D,4,FALSE)","v":{"$error":"#N/A"}},false,null,null,0]
[null,null,null,{"$f":"VLOOKUP(A628,Import!A:D,4,FALSE)","v":{"$error":"#N/A"}},false,null,null,0]
[null,null,null,{"$f":"VLOOKUP(A629,Import!A:D,4,FALSE)","v":{"$error":"#N/A"}},false,null,null,0]
[null,null,null,{"$f":"VLOOKUP(A630,Import!A:D,4,FALSE)","v":{"$error":"#N/A"}},false,null,null,0]
[null,null,null,{"$f":"VLOOKUP(A631,Import!A:D,4,FALSE)","v":{"$error":"#N/A"}},false,null,null,0]
[null,null,null,{"$f":"VLOOKUP(A632,Import!A:D,4,FALSE)","v":{"$error":"#N/A"}},false,null,null,0]
[null,null,null,{"$f":"VLOOKUP(A633,Import!A:D,4,FALSE)","v":{"$error":"#N/A"}},false,null,null,0]
[null,null,null,{"$f":"VLOOKUP(A634,Import!A:D,4,FALSE)","v":{"$error":"#N/A"}},false,null,null,0]
[null,null,null,{"$f":"VLOOKUP(A635,Import!A:D,4,FALSE)","v":{"$error":"#N/A"}},false,null,null,0]
[null,null,null,{"$f":"VLOOKUP(A636,Import!A:D,4,FALSE)","v":{"$error":"#N/A"}},false,null,null,0]
[null,null,null,{"$f":"VLOOKUP(A637,Import!A:D,4,FALSE)","v":{"$error":"#N/A"}},false,null,null,{"$f":"G637","v":0}]
[null,null,null,{"$f":"VLOOKUP(A638,Import!A:D,4,FALSE)","v":{"$error":"#N/A"}},false,null,null,0]
[null,null,null,{"$f":"VLOOKUP(A639,Import!A:D,4,FALSE)","v":{"$error":"#N/A"}},false,null,null,0]
[null,null,null,{"$f":"VLOOKUP(A640,Import!A:D,4,FALSE)","v":{"$error":"#N/A"}},false,null,null,0]
[null,null,null,{"$f":"VLOOKUP(A641,Import!A:D,4,FALSE)","v":{"$error":"#N/A"}},false,null,null,0]
[null,null,null,{"$f":"VLOOKUP(A642,Import!A:D,4,FALSE)","v":{"$error":"#N/A"}},false,null,null,0]
[null,null,null,{"$f":"VLOOKUP(A643,Import!A:D,4,FALSE)","v":{"$error":"#N/A"}},false,null,null,0]
[null,null,null,{"$f":"VLOOKUP(A644,Import!A:D,4,FALSE)","v":{"$error":"#N/A"}},false,null,null,0]
[null,null,null,{"$f":"VLOOKUP(A645,Import!A:D,4,FALSE)","v":{"$error":"#N/A"}},false,null,null,0]
[null,null,null,{"$f":"VLOOKUP(A646,Import!A:D,4,FALSE)","v":{"$error":"#N/A"}},false,null,null,0]
[null,null,null,{"$f":"VLOOKUP(A647,Import!A:D,4,FALSE)","v":{"$error":"#N/A"}},false,null,null,0]
[null,null,null,{"$f":"VLOOKUP(A648,Import!A:D,4,FALSE)","v":{"$error":"#N/A"}},false,null,null,0]
[null,null,null,{"$f":"VLOOKUP(A649,Import!A:D,4,FALSE)","v":{"$error":"#N/A"}},false,null,null,0]
[null,null,null,{"$f":"VLOOKUP(A650,Import!A:D,4,FALSE)","v":{"$error":"#N/A"}},false,null,null,0]
[null,null,null,{"$f":"VLOOKUP(A651,Import!A:D,4,FALSE)","v":{"$error":"#N/A"}},false,null,null,0]
[null,null,null,{"$f":"VLOOKUP(A652,Import!A:D,4,FALSE)","v":{"$error":"#N/A"}},false,null,null,0]
[null,null,null,{"$f":"VLOOKUP(A653,Import!A:D,4,FALSE)","v":{"$error":"#N/A"}},false,null,null,0]
[null,null,null,{"$f":"VLOOKUP(A654,Import!A:D,4,FALSE)","v":{"$error":"#N/A"}},false,null,null,0]
[null,null,null,{"$f":"VLOOKUP(A655,Import!A:D,4,FALSE)","v":{"$error":"#N/A"}},false,null,null,0]
[null,null,null,{"$f":"VLOOKUP(A656,Import!A:D,4,FALSE)","v":{"$error":"#N/A"}},false,null,null,0]
[null,null,null,{"$f":"VLOOKUP(A657,Import!A:D,4,FALSE)","v":{"$error":"#N/A"}},false,null,null,0]
[null,null,null,{"$f":"VLOOKUP(A658,Import!A:D,4,FALSE)","v":{"$error":"#N/A"}},false,null,null,0]
[null,null,null,{"$f":"VLOOKUP(A659,Import!A:D,4,FALSE)","v":{"$error":"#N/A"}},false,null,null,0]
[null,null,null,{"$f":"VLOOKUP(A660,Import!A:D,4,FALSE)","v":{"$error":"#N/A"}},false,null,null,0]
[null,null,null,{"$f":"VLOOKUP(A661,Import!A:D,4,FALSE)","v":{"$error":"#N/A"}},false,null,null,0]
[null,null,null,{"$f":"VLOOKUP(A662,Import!A:D,4,FALSE)","v":{"$error":"#N/A"}},false,null,null,0]
[null,null,null,{"$f":"VLOOKUP(A663,Import!A:D,4,FALSE)","v":{"$error":"#N/A"}},false,null,null,0]
[null,null,null,{"$f":"VLOOKUP(A664,Import!A:D,4,FALSE)","v":{"$error":"#N/A"}},false,null,null,0]
[null,null,null,{"$f":"VLOOKUP(A665,Import!A:D,4,FALSE)","v":{"$error":"#N/A"}},false,null,null,0]
[null,null,null,{"$f":"VLOOKUP(A666,Import!A:D,4,FALSE)","v":{"$error":"#N/A"}},false,null,null,0]
[null,null,null,{"$f":"VLOOKUP(A667,Import!A:D,4,FALSE)","v":{"$error":"#N/A"}},false,null,null,0]
[null,null,null,{"$f":"VLOOKUP(A668,Import!A:D,4,FALSE)","v":{"$error":"#N/A"}},false,null,null,0]
[null,null,null,{"$f":"VLOOKUP(A669,Import!A:D,4,FALSE)","v":{"$error":"#N/A"}},false,null,null,0]
[null,null,null,{"$f":"VLOOKUP(A670,Import!A:D,4,FALSE)","v":{"$error":"#N/A"}},false,null,null,0]
[null,null,null,{"$f":"VLOOKUP(A671,Import!A:D,4,FALSE)","v":{"$error":"#N/A"}},false,null,null,0]
[null,null,null,{"$f":"VLOOKUP(A672,Import!A:D,4,FALSE)","v":{"$error":"#N/A"}},false,null,null,0]
[null,null,null,{"$f":"VLOOKUP(A673,Import!A:D,4,FALSE)","v":{"$error":"#N/A"}},false,null,null,0]
[null,null,null,{"$f":"VLOOKUP(A674,Import!A:D,4,FALSE)","v":{"$error":"#N/A"}},false,null,null,0]
[null,null,null,{"$f":"VLOOKUP(A675,Import!A:D,4,FALSE)","v":{"$error":"#N/A"}},false,null,null,0]
[null,null,null,{"$f":"VLOOKUP(A676,Import!A:D,4,FALSE)","v":{"$error":"#N/A"}},false,null,null,0]
[null,null,null,{"$f":"VLOOKUP(A677,Import!A:D,4,FALSE)","v":{"$error":"#N/A"}},false,null,null,0]
[null,null,null,{"$f":"VLOOKUP(A678,Import!A:D,4,FALSE)","v":{"$error":"#N/A"}},false,null,null,0]
[null,null,null,{"$f":"VLOOKUP(A679,Import!A:D,4,FALSE)","v":{"$error":"#N/A"}},false,null,null,0]
[null,null,null,{"$f":"VLOOKUP(A680,Import!A:D,4,FALSE)","v":{"$error":"#N/A"}},false,null,null,0]
[null,null,null,{"$f":"VLOOKUP(A681,Import!A:D,4,FALSE)","v":{"$error":"#N/A"}},false,null,null,0]
[null,null,null,{"$f":"VLOOKUP(A682,Import!A:D,4,FALSE)","v":{"$error":"#N/A"}},false,null,null,0]
[null,null,null,{"$f":"VLOOKUP(A683,Import!A:D,4,FALSE)","v":{"$error":"#N/A"}},false,null,null,0]
[null,null,null,{"$f":"VLOOKUP(A684,Import!A:D,4,FALSE)","v":{"$error":"#N/A"}},false,null,null,0]
[null,null,null,{"$f":"VLOOKUP(A685,Import!A:D,4,FALSE)","v":{"$error":"#N/A"}},false,null,null,0]
[null,null,null,{"$f":"VLOOKUP(A686,Import!A:D,4,FALSE)","v":{"$error":"#N/A"}},false,null,null,0]
[null,null,null,{"$f":"VLOOKUP(A687,Import!A:D,4,FALSE)","v":{"$error":"#N/A"}},false,null,null,0]
[null,null,null,{"$f":"VLOOKUP(A688,Import!A:D,4,FALSE)","v":{"$error":"#N/A"}},false,null,null,0]
[null,null,null,{"$f":"VLOOKUP(A689,Import!A:D,4,FALSE)","v":{"$error":"#N/A"}},false,null,null,0]
[null,null,null,{"$f":"VLOOKUP(A690,Import!A:D,4,FALSE)","v":{"$error":"#N/A"}},false,null,null,0]
[null,null,null,{"$f":"VLOOKUP(A691,Import!A:D,4,FALSE)","v":{"$error":"#N/A"}},false,null,null,0]
[null,null,null,{"$f":"VLOOKUP(A692,Import!A:D,4,FALSE)","v":{"$error":"#N/A"}},false,null,null,0]
[null,null,null,{"$f":"VLOOKUP(A693,Import!A:D,4,FALSE)","v":{"$error":"#N/A"}},false,null,null,0]
[null,null,null,{"$f":"VLOOKUP(A694,Import!A:D,4,FALSE)","v":{"$error":"#N/A"}},false,null,null,0]
[null,null,null,{"$f":"VLOOKUP(A695,Import!A:D,4,FALSE)","v":{"$error":"#N/A"}},false,null,null,0]
[null,null,null,{"$f":"VLOOKUP(A696,Import!A:D,4,FALSE)","v":{"$error":"#N/A"}},false,null,null,0]
[null,null,null,{"$f":"VLOOKUP(A697,Import!A:D,4,FALSE)","v":{"$error":"#N/A"}},false,null,null,0]
[null,null,null,{"$f":"VLOOKUP(A698,Import!A:D,4,FALSE)","v":{"$error":"#N/A"}},false,null,null,0]
[null,null,null,{"$f":"VLOOKUP(A699,Import!A:D,4,FALSE)","v":{"$error":"#N/A"}},false,null,null,0]
[null,null,null,{"$f":"VLOOKUP(A700,Import!A:D,4,FALSE)","v":{"$error":"#N/A"}},false,null,null,0]
[null,null,null,{"$f":"VLOOKUP(A701,Import!A:D,4,FALSE)","v":{"$error":"#N/A"}},false,null,null,{"$f":"G701","v":0}]
[null,null,null,{"$f":"VLOOKUP(A702,Import!A:D,4,FALSE)","v":{"$error":"#N/A"}},false,null,null,0]
[null,null,null,{"$f":"VLOOKUP(A703,Import!A:D,4,FALSE)","v":{"$error":"#N/A"}},false,null,null,0]
[null,null,null,{"$f":"VLOOKUP(A704,Import!A:D,4,FALSE)","v":{"$error":"#N/A"}},false,null,null,0]
[null,null,null,{"$f":"VLOOKUP(A705,Import!A:D,4,FALSE)","v":{"$error":"#N/A"}},false,null,null,0]
[null,null,null,{"$f":"VLOOKUP(A706,Import!A:D,4,FALSE)","v":{"$error":"#N/A"}},false,null,null,0]
[null,null,null,{"$f":"VLOOKUP(A707,Import!A:D,4,FALSE)","v":{"$error":"#N/A"}},false,null,null,0]
[null,null,null,{"$f":"VLOOKUP(A708,Import!A:D,4,FALSE)","v":{"$error":"#N/A"}},false,null,null,0]
[null,null,null,{"$f":"VLOOKUP(A709,Import!A:D,4,FALSE)","v":{"$error":"#N/A"}},false,null,null,0]
[null,null,null,{"$f":"VLOOKUP(A710,Import!A:D,4,FALSE)","v":{"$error":"#N/A"}},false,null,null,0]
[null,null,null,{"$f":"VLOOKUP(A711,Import!A:D,4,FALSE)","v":{"$error":"#N/A"}},false,null,null,0]
[null,null,null,{"$f":"VLOOKUP(A712,Import!A:D,4,FALSE)","v":{"$error":"#N/A"}},false,null,null,0]
[null,null,null,{"$f":"VLOOKUP(A713,Import!A:D,4,FALSE)","v":{"$error":"#N/A"}},false,null,null,0]
[null,null,null,{"$f":"VLOOKUP(A714,Import!A:D,4,FALSE)","v":{"$error":"#N/A"}},false,null,null,0]
[null,null,null,{"$f":"VLOOKUP(A715,Import!A:D,4,FALSE)","v":{"$error":"#N/A"}},false,null,null,0]
[null,null,null,{"$f":"VLOOKUP(A716,Import!A:D,4,FALSE)","v":{"$error":"#N/A"}},false,null,null,0]
[null,null,null,{"$f":"VLOOKUP(A717,Import!A:D,4,FALSE)","v":{"$error":"#N/A"}},false,null,null,0]
[null,null,null,{"$f":"VLOOKUP(A718,Import!A:D,4,FALSE)","v":{"$error":"#N/A"}},false,null,null,0]
[null,null,null,{"$f":"VLOOKUP(A719,Import!A:D,4,FALSE)","v":{"$error":"#N/A"}},false,null,null,0]
[null,null,null,{"$f":"VLOOKUP(A720,Import!A:D,4,FALSE)","v":{"$error":"#N/A"}},false,null,null,0]
[null,null,null,{"$f":"VLOOKUP(A721,Import!A:D,4,FALSE)","v":{"$error":"#N/A"}},false,null,null,0]
[null,null,null,{"$f":"VLOOKUP(A722,Import!A:D,4,FALSE)","v":{"$error":"#N/A"}},false,null,null,0]
[null,null,null,{"$f":"VLOOKUP(A723,Import!A:D,4,FALSE)","v":{"$error":"#N/A"}},false,null,null,0]
[null,null,null,{"$f":"VLOOKUP(A724,Import!A:D,4,FALSE)","v":{"$error":"#N/A"}},false,null,null,0]
[null,null,null,{"$f":"VLOOKUP(A725,Import!A:D,4,FALSE)","v":{"$error":"#N/A"}},false,null,null,0]
[null,null,null,{"$f":"VLOOKUP(A726,Import!A:D,4,FALSE)","v":{"$error":"#N/A"}},false,null,null,0]
[null,null,null,{"$f":"VLOOKUP(A727,Import!A:D,4,FALSE)","v":{"$error":"#N/A"}},false,null,null,0]
[null,null,null,{"$f":"VLOOKUP(A728,Import!A:D,4,FALSE)","v":{"$error":"#N/A"}},false,null,null,0]
[null,null,null,{"$f":"VLOOKUP(A729,Import!A:D,4,FALSE)","v":{"$error":"#N/A"}},false,null,null,0]
[null,null,null,{"$f":"VLOOKUP(A730,Import!A:D,4,FALSE)","v":{"$error":"#N/A"}},false,null,null,0]
[null,null,null,{"$f":"VLOOKUP(A731,Import!A:D,4,FALSE)","v":{"$error":"#N/A"}},false,null,null,0]
[null,null,null,{"$f":"VLOOKUP(A732,Import!A:D,4,FALSE)","v":{"$error":"#N/A"}},false,null,null,0]
[null,null,null,{"$f":"VLOOKUP(A733,Import!A:D,4,FALSE)","v":{"$error":"#N/A"}},false,null,null,0]
[null,null,null,{"$f":"VLOOKUP(A734,Import!A:D,4,FALSE)","v":{"$error":"#N/A"}},false,null,null,0]
[null,null,null,{"$f":"VLOOKUP(A735,Import!A:D,4,FALSE)","v":{"$error":"#N/A"}},false,null,null,0]
[null,null,null,{"$f":"VLOOKUP(A736,Import!A:D,4,FALSE)","v":{"$error":"#N/A"}},false,null,null,0]
[null,null,null,{"$f":"VLOOKUP(A737,Import!A:D,4,FALSE)","v":{"$error":"#N/A"}},false,null,null,0]
[null,null,null,{"$f":"VLOOKUP(A738,Import!A:D,4,FALSE)","v":{"$error":"#N/A"}},false,null,null,0]
[null,null,null,{"$f":"VLOOKUP(A739,Import!A:D,4,FALSE)","v":{"$error":"#N/A"}},false,null,null,0]
[null,null,null,{"$f":"VLOOKUP(A740,Import!A:D,4,FALSE)","v":{"$error":"#N/A"}},false,null,null,0]
[null,null,null,{"$f":"VLOOKUP(A741,Import!A:D,4,FALSE)","v":{"$error":"#N/A"}},false,null,null,0]
[null,null,null,{"$f":"VLOOKUP(A742,Import!A:D,4,FALSE)","v":{"$error":"#N/A"}},false,null,null,0]
[null,null,null,{"$f":"VLOOKUP(A743,Import!A:D,4,FALSE)","v":{"$error":"#N/A"}},false,null,null,0]
[null,null,null,{"$f":"VLOOKUP(A744,Import!A:D,4,FALSE)","v":{"$error":"#N/A"}},false,null,null,0]
[null,null,null,{"$f":"VLOOKUP(A745,Import!A:D,4,FALSE)","v":{"$error":"#N/A"}},false,null,null,0]
[null,null,null,{"$f":"VLOOKUP(A746,Import!A:D,4,FALSE)","v":{"$error":"#N/A"}},false,null,null,0]
[null,null,null,{"$f":"VLOOKUP(A747,Import!A:D,4,FALSE)","v":{"$error":"#N/A"}},false,null,null,0]
[null,null,null,{"$f":"VLOOKUP(A748,Import!A:D,4,FALSE)","v":{"$error":"#N/A"}},false,null,null,0]
[null,null,null,{"$f":"VLOOKUP(A749,Import!A:D,4,FALSE)","v":{"$error":"#N/A"}},false,null,null,0]
[null,null,null,{"$f":"VLOOKUP(A750,Import!A:D,4,FALSE)","v":{"$error":"#N/A"}},false,null,null,0]
[null,null,null,{"$f":"VLOOKUP(A751,Import!A:D,4,FALSE)","v":{"$error":"#N/A"}},false,null,null,0]
[null,null,null,{"$f":"VLOOKUP(A752,Import!A:D,4,FALSE)","v":{"$error":"#N/A"}},false,null,null,0]
[null,null,null,{"$f":"VLOOKUP(A753,Import!A:D,4,FALSE)","v":{"$error":"#N/A"}},false,null,null,0]
[null,null,null,{"$f":"VLOOKUP(A754,Import!A:D,4,FALSE)","v":{"$error":"#N/A"}},false,null,null,0]
[null,null,null,{"$f":"VLOOKUP(A755,Import!A:D,4,FALSE)","v":{"$error":"#N/A"}},false,null,null,0]
[null,null,null,{"$f":"VLOOKUP(A756,Import!A:D,4,FALSE)","v":{"$error":"#N/A"}},false,null,null,0]
[null,null,null,{"$f":"VLOOKUP(A757,Import!A:D,4,FALSE)","v":{"$error":"#N/A"}},false,null,null,0]
[null,null,null,null,false,null,null,0]
[null,null,null,null,false,null,null,0]
[null,null,null,null,false,null,null,0]
[null,null,null,null,false,null,null,0]
[null,null,null,null,false,null,null,0]
[null,null,null,null,false,null,null,0]
[null,null,null,null,false,null,null,0]
[null,null,null,null,false,null,null,{"$f":"G765","v":0}]
[null,null,null,null,false,null,null,0]
[null,null,null,null,false,null,null,0]
[null,null,null,null,false,null,null,0]
[null,null,null,null,false,null,null,0]
[null,null,null,null,false,null,null,0]
[null,null,null,null,false,null,null,0]
[null,null,null,null,false,null,null,0]
[null,null,null,null,false,null,null,0]
[null,null,null,null,false,null,null,0]
[null,null,null,null,false,null,null,0]
[null,null,null,null,false,null,null,0]
[null,null,null,null,false,null,null,0]
[null,null,null,null,false,null,null,0]
[null,null,null,null,false,null,null,0]
[null,null,null,null,false,null,null,0]
[null,null,null,null,false,null,null,0]
[null,null,null,null,false,null,null,0]
[null,null,null,null,false,null,null,0]
[null,null,null,null,false,null,null,0]
[null,null,null,null,false,null,null,0]
[null,null,null,null,false,null,null,0]
[null,null,null,null,false,null,null,0]
[null,null,null,null,false,null,null,0]
[null,null,null,null,false,null,null,0]
[null,null,null,null,false,null,null,0]
[null,null,null,null,false,null,null,0]
[null,null,null,null,false,null,null,0]
[null,null,null,null,false,null,null,0]
[null,null,null,null,false,null,null,0]
[null,null,null,null,false,null,null,0]
[null,null,null,null,false,null,null,0]
[null,null,null,null,false,null,null,0]
[null,null,null,null,false,null,null,0]
[null,null,null,null,false,null,null,0]
[null,null,null,null,false,null,null,0]
[null,null,null,null,false,null,null,0]
[null,null,null,null,false,null,null,0]
[null,null,null,null,false,null,null,0]
[null,null,null,null,false,null,null,0]
[null,null,null,null,false,null,null,0]
[null,null,null,null,false,null,null,0]
[null,null,null,null,false,null,null,0]
[null,null,null,null,false,null,null,0]
[null,null,null,null,false,null,null,0]
[null,null,null,null,false,null,null,0]
[null,null,null,null,false,null,null,0]
[null,null,null,null,false,null,null,0]
[null,null,null,null,false,null,null,0]
[null,null,null,null,false,null,null,0]
[null,null,null,null,false,null,null,0]
[null,null,null,null,false,null,null,0]
[null,null,null,null,false,null,null,0]
[null,null,null,null,false,null,null,0]
[null,null,null,null,false,null,null,0]
[null,null,null,null,false,null,null,0]
[null,null,null,null,false,null,null,0]
[null,null,null,null,false,null,null,0]
[null,null,null,null,false,null,null,0]
[null,null,null,null,false,null,null,0]
[null,null,null,null,false,null,null,0]
[null,null,null,null,false,null,null,0]
[null,null,null,null,false,null,null,0]
[null,null,null,null,false,null,null,0]
[null,null,null,null,false,null,null,{"$f":"G829","v":0}]
[null,null,null,null,false,null,null,0]
[null,null,null,null,false,null,null,0]
[null,null,null,null,false,null,null,0]
[null,null,null,null,false,null,null,0]
[null,null,null,null,false,null,null,0]
[null,null,null,null,false,null,null,0]
[null,null,null,null,false,null,null,0]
[null,null,null,null,false,null,null,0]
[null,null,null,null,false,null,null,0]
[null,null,null,null,false,null,null,0]
[null,null,null,null,false,null,null,0]
[null,null,null,null,false,null,null,0]
[null,null,null,null,false,null,null,0]
[null,null,null,null,false,null,null,0]
[null,null,null,null,false,null,null,0]
[null,null,null,null,false,null,null,0]
[null,null,null,null,false,null,null,0]
[null,null,null,null,false,null,null,0]
[null,null,null,null,false,null,null,0]
[null,null,null,null,false,null,null,0]
[null,null,null,null,false,null,null,0]
[null,null,null,null,false,null,null,0]
[null,null,null,null,false,null,null,0]
[null,null,null,null,false,null,null,0]
[null,null,null,null,false,null,null,0]
[null,null,null,null,false,null,null,0]
[null,null,null,null,false,null,null,0]
[null,null,null,null,false,null,null,0]
[null,null,null,null,false,null,null,0]
[null,null,null,null,false,null,null,0]
[null,null,null,null,false,null,null,0]
[null,null,null,null,false,null,null,0]
[null,null,null,null,false,null,null,0]
[null,null,null,null,false,null,null,0]
[null,null,null,null,false,null,null,0]
[null,null,null,null,false,null,null,0]
[null,null,null,null,false,null,null,0]
[null,null,null,null,false,null,null,0]
[null,null,null,null,false,null,null,0]
[null,null,null,null,false,null,null,0]
[null,null,null,null,false,null,null,0]
[null,null,null,null,false,null,null,0]
[null,null,null,null,false,null,null,0]
[null,null,null,null,false,null,null,0]
[null,null,null,null,false,null,null,0]
[null,null,null,null,false,null,null,0]
[null,null,null,null,false,null,null,0]
[null,null,null,null,false,null,null,0]
[null,null,null,null,false,null,null,0]
[null,null,null,null,false,null,null,0]
[null,null,null,null,false,null,null,0]
[null,null,null,null,false,null,null,0]
[null,null,null,null,false,null,null,0]
[null,null,null,null,false,null,null,0]
[null,null,null,null,false,null,null,0]
[null,null,null,null,false,null,null,0]
[null,null,null,null,false,null,null,0]
[null,null,null,null,false,null,null,0]
[null,null,null,null,false,null,null,0]
[null,null,null,null,false,null,null,0]
[null,null,null,null,false,null,null,0]
[null,null,null,null,false,null,null,0]
[null,null,null,null,false,null,null,0]
[null,null,null,null,false,null,null,{"$f":"G893","v":0}]
[null,null,null,null,false,null,null,0]
[null,null,null,null,false,null,null,0]
[null,null,null,null,false,null,null,0]
[null,null,null,null,false,null,null,0]
[null,null,null,null,false,null,null,0]
[null,null,null,null,false,null,null,0]
[null,null,null,null,false,null,null,0]
[null,null,null,null,false,null,null,0]
[null,null,null,null,false,null,null,0]
[null,null,null,null,false,null,null,0]
[null,null,null,null,false,null,null,0]
[null,null,null,null,false,null,null,0]
[null,null,null,null,false,null,null,0]
[null,null,null,null,false,null,null,0]
[null,null,null,null,false,null,null,0]
[null,null,null,null,false,null,null,0]
[null,null,null,null,false,null,null,0]
[null,null,null,null,false,null,null,0]
[null,null,null,null,false,null,null,0]
[null,null,null,null,false,null,null,0]
[null,null,null,null,false,null,null,0]
[null,null,null,null,false,null,null,0]
[null,null,null,null,false,null,null,0]
[null,null,null,null,false,null,null,0]
[null,null,null,null,false,null,null,0]
[null,null,null,null,false,null,null,0]
[null,null,null,null,false,null,null,0]
[null,null,null,null,false,null,null,0]
[null,null,null,null,false,null,null,0]
[null,null,null,null,false,null,null,0]
[null,null,null,null,false,null,null,0]
[null,null,null,null,false,null,null,0]
[null,null,null,null,false,null,null,0]
[null,null,null,null,false,null,null,0]
[null,null,null,null,false,null,null,0]
[null,null,null,null,false,null,null,0]
[null,null,null,null,false,null,null,0]
[null,null,null,null,false,null,null,0]
[null,null,null,null,false,null,null,0]
[null,null,null,null,false,null,null,0]
[null,null,null,null,false,null,null,0]
[null,null,null,null,false,null,null,0]
[null,null,null,null,false,null,null,0]
[null,null,null,null,false,null,null,0]
[null,null,null,null,false,null,null,0]
[null,null,null,null,false,null,null,0]
[null,null,null,null,false,null,null,0]
[null,null,null,null,false,null,null,0]
[null,null,null,null,false,null,null,0]
[null,null,null,null,false,null,null,0]
[null,null,null,null,false,null,null,0]
[null,null,null,null,false,null,null,0]
[null,null,null,null,false,null,null,0]
[null,null,null,null,false,null,null,0]
[null,null,null,null,false,null,null,0]
[null,null,null,null,false,null,null,0]
[null,null,null,null,false,null,null,0]
[null,null,null,null,false,null,null,0]
[null,null,null,null,false,null,null,0]
[null,null,null,null,false,null,null,0]
[null,null,null,null,false,null,null,0]
[null,null,null,null,false,null,null,0]
[null,null,null,null,false,null,null,0]
[null,null,null,null,false,null,null,{"$f":"G957","v":0}]
[null,null,null,null,false,null,null,0]
[null,null,null,null,false,null,null,0]
[null,null,null,null,false,null,null,0]
[null,null,null,null,false,null,null,0]
[null,null,null,null,false,null,null,0]
[null,null,null,null,false,null,null,0]
[null,null,null,null,false,null,null,0]
[null,null,null,null,false,null,null,0]
[null,null,null,null,false,null,null,0]
[null,null,null,null,false,null,null,0]
[null,null,null,null,false,null,null,0]
[null,null,null,null,false,null,null,0]
[null,null,null,null,false,null,null,0]
[null,null,null,null,false,null,null,0]
[null,null,null,null,false,null,null,0]
[null,null,null,null,false,null,null,0]
[null,null,null,null,false]
[null,null,null,null,false]
[null,null,null,null,false]
[null,null,null,null,false]
[null,null,null,null,false]
[null,null,null,null,false]
[null,null,null,null,false]
[null,null,null,null,false]
[null,null,null,null,false]
[null,null,null,null,false]
[null,null,null,null,false]
[null,null,null,null,false]
[null,null,null,null,false]
[null,null,null,null,false]
[null,null,null,null,false]
[null,null,null,null,false]
[null,null,null,null,false]
[null,null,null,null,false]
[null,null,null,null,false]
[null,null,null,null,false]
[null,null,null,null,false]
[null,null,null,null,false]
[null,null,null,null,false]
[null,null,null,null,false]
[null,null,null,null,false]
[null,null,null,null,false]
[null,null,null,null,false]
[null,null,null,null,false]
[null,null,null,null,false]

{"sheet":"Boissons conditionnées","index":7,"n_rows":1002,"n_cols":10,"rows_kept":1002,"cut":false,"hidden":false,"merged":[]}
["       Produits\n        Boissons en bouteille","💶\nPrix de vente","Prix au kilo","Grandes Catégories","😋 \n J'en veux!","⚖️ \nQuantité","Quantité format formule","Quantité en format nombre","💰 \nMontant","🇫🇷 \nProvenance"]
["Abricots secs","13,90€ / kg","13,9",{"$f":"VLOOKUP(A2,Import!A:D,4,FALSE)","v":"Alimentaire Vrac"},false,0,{"$f":"IF(F2=\"100G\",0.1,IF(F2=\"250G\",0.25,IF(F2=\"500G\",0.5,IF(F2=\"1 Kilo\",1,F2))))","v":0},{"$f":"G2","v":0},{"$f":"H2*C2","v":0}]
["Ail des Ours ","135€ / kg","120",{"$f":"VLOOKUP(A3,Import!A:D,4,FALSE)","v":"Alimentaire Vrac"},false,0,0,{"$f":"G3","v":0},{"$f":"H3*C3","v":0}]
["Ail en Granulé ","50€ / kg","50",{"$f":"VLOOKUP(A4,Import!A:D,4,FALSE)","v":"Alimentaire Vrac"},false,0,0,0,0]
["Ail en Poudre ","50€ / kg","50",{"$f":"VLOOKUP(A5,Import!A:D,4,FALSE)","v":"Alimentaire Vrac"},false,0,0,0,0]
["Amandes Blanches entières ","19,9€ / kg","19,9",{"$f":"VLOOKUP(A6,Import!A:D,4,FALSE)","v":0},false,0,0,0,0]
["Amandes Caramel Chocolat","35€ / kg","35",{"$f":"VLOOKUP(A7,Import!A:D,4,FALSE)","v":"Alimentaire Vrac"},false,0,0,0,0]
["Amandes Coco Miel ","35€ / kg","35",{"$f":"VLOOKUP(A8,Import!A:D,4,FALSE)","v":"Alimentaire Vrac"},false,0,0,0,0]
["Amandes Décortiquées entières ","19,9€ / kg","19,9",{"$f":"VLOOKUP(A9,Import!A:D,4,FALSE)","v":"Alimentaire Vrac"},false,0,0,0,0]
["Amandes Sésame Miel","35€/kg",35,{"$f":"VLOOKUP(A10,Import!A:D,4,FALSE)","v":"Alimentaire Vrac"},false,0,0,0,0]
["Amidon de maïs","5,50€ / kg","5,5",{"$f":"VLOOKUP(A11,Import!A:D,4,FALSE)","v":"Alimentaire Vrac"},false,0,0,0,0]
["Après shampoing Solide - Cheveux abimés & secs - 80g ",12.5,"12,5",{"$f":"VLOOKUP(A12,Import!A:D,4,FALSE)","v":"Produits d'hygiène coporelle"},false,0,0,0,0]
["Après shampoing Solide - Cheveux abîmés & secs - sans HE - 80g ",12.5,"12,5",{"$f":"VLOOKUP(A13,Import!A:D,4,FALSE)","v":"Produits d'hygiène coporelle"},false,0,0,0,0]
["Après shampoing Solide - démélant - Lamazuna",12.5,"12,5",{"$f":"VLOOKUP(A14,Import!A:D,4,FALSE)","v":0},false,0,0,0,0]
["Après shampoing Solide - Nourrissant & démêlant - 80g ",12.5,"12,5",{"$f":"VLOOKUP(A15,Import!A:D,4,FALSE)","v":"Produits d'hygiène coporelle"},false,0,0,0,0]
["Après shampoing Vrac - Huile d’argan","29,00 € / kg","29",{"$f":"VLOOKUP(A16,Import!A:D,4,FALSE)","v":"Produits d'hygiène coporelle"},false,0,0,0,0]
["Arachides décortiquées grillées nature","12€ / kg","12",{"$f":"VLOOKUP(A17,Import!A:D,4,FALSE)","v":"Alimentaire Vrac"},false,0,0,0,0]
["Assouplissant - Vrac","5,00€","5",{"$f":"VLOOKUP(A18,Import!A:D,4,FALSE)","v":"Produits d'entretiens"},false,0,0,0,0]
["Baies de Goji","29,90€","29,90",{"$f":"VLOOKUP(A19,Import!A:D,4,FALSE)","v":"Alimentaire Vrac"},false,0,0,0,0]
["Basilic Feuilles","27,00€ / kg","27",{"$f":"VLOOKUP(A20,Import!A:D,4,FALSE)","v":"Alimentaire Vrac"},false,0,0,0,0]
["Baume à Barbe",13.9,"13,9",{"$f":"VLOOKUP(A21,Import!A:D,4,FALSE)","v":"Produits d'hygiène coporelle"},false,0,0,0,0]
["Baume à lèvre Agrumes - Endro","7,50€","7,5",{"$f":"VLOOKUP(A22,Import!A:D,4,FALSE)","v":"Produits d'hygiène coporelle"},false,0,0,0,0]
["Baume à lèvre Fruits Rouges - Endro","7,50€","7,5",{"$f":"VLOOKUP(A23,Import!A:D,4,FALSE)","v":"Produits d'hygiène coporelle"},false,0,0,0,0]
["Baume Mini  Multi-usages Fleurs d’été - Clemence & Vivien ","5,90€","5,9",{"$f":"VLOOKUP(A24,Import!A:D,4,FALSE)","v":"Produits d'hygiène coporelle"},false,0,0,0,0]
["Baume Mini Multi-usages Lait d’amande - Clemence & Vivien ","5,90€","5,9",{"$f":"VLOOKUP(A25,Import!A:D,4,FALSE)","v":"Produits d'hygiène coporelle"},false,0,0,0,0]
["Baume Multi-usages Fleurs d’été - Clemence & Vivien ",12.5,"12,5",{"$f":"VLOOKUP(A26,Import!A:D,4,FALSE)","v":"Produits d'hygiène coporelle"},false,0,0,0,0]
["Baume Multi-usages Lait d’amande - Clemence & Vivien ",12.5,"11,9",{"$f":"VLOOKUP(A27,Import!A:D,4,FALSE)","v":"Produits d'hygiène coporelle"},false,0,0,0,0]
["Bavoir - Petit","9,50€","9,5",{"$f":"VLOOKUP(A28,Import!A:D,4,FALSE)","v":"Zéros déchets et Bocaux"},false,0,0,0,0]
["Beurre de cacahuètes - Chocolat Lait - Go Nuts - 270g","6,50€","6,50",{"$f":"VLOOKUP(A29,Import!A:D,4,FALSE)","v":"Alimentaire Conditionné"},false,0,0,0,0]
["Beurre de cacahuètes - Chocolat Noir - Go Nuts - 500g",8.9,8.9,{"$f":"VLOOKUP(A30,Import!A:D,4,FALSE)","v":"Alimentaire Conditionné"},false,0,0,0,0,{"$f":"VLOOKUP(A30,Import!A:N,13)","v":"Relais local"}]
["Beurre de cacahuètes - Go Nuts - 270g","4,95 €",4.95,{"$f":"VLOOKUP(A31,Import!A:D,4,FALSE)","v":"Alimentaire Conditionné"},false,0,0,0,0,{"$f":"VLOOKUP(A31,Import!A:N,13)","v":"Biodis"}]
["Beurre de cacahuètes - Go Nuts - 500g","8,90 €","8,9",{"$f":"VLOOKUP(A32,Import!A:D,4,FALSE)","v":"Alimentaire Conditionné"},false,0,0,0,0,{"$f":"VLOOKUP(A32,Import!A:N,13)","v":"Relais local"}]
["Beurre de cacahuètes Extra Crunchy - Go Nuts - 270g","4,90 €","4,9",{"$f":"VLOOKUP(A33,Import!A:D,4,FALSE)","v":"Alimentaire Conditionné"},false,0,0,0,0,{"$f":"VLOOKUP(A33,Import!A:N,13)","v":"Relais local"}]
["Beurre de cacao Iris - pour le corps - Lamazuna","8,50 €","8,5",{"$f":"VLOOKUP(A34,Import!A:D,4,FALSE)","v":"Produits d'hygiène coporelle"},false,0,0,0,0,{"$f":"VLOOKUP(A34,Import!A:N,13)","v":"Aventure Bio"}]
["Bicarbonate de soude - Vrac","4,90 € / kg","4,9",{"$f":"VLOOKUP(A35,Import!A:D,4,FALSE)","v":"Produits d'entretiens"},false,0,0,0,0,{"$f":"VLOOKUP(A35,Import!A:N,13)","v":"Bulle verte"}]
["Biere Blanche - La St Bonn’Beer - 33cl","3,00 €","3",{"$f":"VLOOKUP(A36,Import!A:D,4,FALSE)","v":"Boissons conditionnées"},false,0,0,0,0,{"$f":"VLOOKUP(A36,Import!A:N,14)","v":"🇫🇷 France - Illiat (01)"}]
["Biere Blanche - La St Bonn’Beer - 75cl","6,50 €","6,5",{"$f":"VLOOKUP(A37,Import!A:D,4,FALSE)","v":"Boissons conditionnées"},false,0,{"$f":"IF(F37=\"100G\",0.1,IF(F37=\"250G\",0.25,IF(F37=\"500G\",0.5,IF(F37=\"1 Kilo\",1,F37))))","v":0},0,0,{"$f":"VLOOKUP(A37,Import!A:N,14)","v":"🇫🇷 France - Illiat (01)"}]
["Biere Blonde - La Promesse - 33cl","3,00 €","3",{"$f":"VLOOKUP(A38,Import!A:D,4,FALSE)","v":"Boissons conditionnées"},false,0,0,0,0,{"$f":"VLOOKUP(A38,Import!A:N,14)","v":"🇫🇷 France - Illiat (01)"}]
["Biere Blonde - La Promesse - 75cl","6,50 €","6,5",{"$f":"VLOOKUP(A39,Import!A:D,4,FALSE)","v":"Boissons conditionnées"},false,0,0,0,0,{"$f":"VLOOKUP(A39,Import!A:N,14)","v":"🇫🇷 France - Illiat (01)"}]
["Biere IPA - La Collector - 33cl","3,00 €","3",{"$f":"VLOOKUP(A40,Import!A:D,4,FALSE)","v":"Boissons conditionnées"},false,0,0,0,0,{"$f":"VLOOKUP(A40,Import!A:N,14)","v":"🇫🇷 France - Illiat (01)"}]
["Biere IPA - La Collector- 75cl","6,50 €","6,5",{"$f":"VLOOKUP(A41,Import!A:D,4,FALSE)","v":"Boissons conditionnées"},false,0,0,0,0,{"$f":"VLOOKUP(A41,Import!A:N,14)","v":"🇫🇷 France - Illiat (01)"}]
["Biere IPA - La Gonette - 33cl","3,00 €","3",{"$f":"VLOOKUP(A42,Import!A:D,4,FALSE)","v":"Boissons conditionnées"},false,0,0,0,0,{"$f":"VLOOKUP(A42,Import!A:N,14)","v":"🇫🇷 France - Illiat (01)"}]
["Biere IPA - La Gonette - 75cl","6,50 €","6,5",{"$f":"VLOOKUP(A43,Import!A:D,4,FALSE)","v":"Boissons conditionnées"},false,0,0,0,0,{"$f":"VLOOKUP(A43,Import!A:N,14)","v":"🇫🇷 France - Illiat (01)"}]
["Biscuits 1péro -Tortillas ","29€/kg","29",{"$f":"VLOOKUP(A44,Import!A:D,4,FALSE)","v":"Alimentaire Vrac"},false,0,0,0,0]
["Biscuits Apéro - Cumin & pois chiches","30,00€ / kg","30",{"$f":"VLOOKUP(A45,Import!A:D,4,FALSE)","v":"Alimentaire Vrac"},false,0,0,0,0]
["Biscuits Apéro - Gruyère","30,50€ / kg","30,5",{"$f":"VLOOKUP(A46,Import!A:D,4,FALSE)","v":"Alimentaire Vrac"},false,0,0,0,0]
["Biscuits Apéro - Noix de Cajou - Curry","34,50€ / kg",34.5,{"$f":"VLOOKUP(A47,Import!A:D,4,FALSE)","v":"Alimentaire Vrac"},false,0,0,0,0]
["Biscuits Apéro - Noix de Cajou - Herbes de Provence","34,50€ / kg",34.5,{"$f":"VLOOKUP(A48,Import!A:D,4,FALSE)","v":"Alimentaire Vrac"},false,0,0,0,0]
["Biscuits Apéro - Noix de Cajou - Parmesan","34,50€ / kg",34.5,{"$f":"VLOOKUP(A49,Import!A:D,4,FALSE)","v":"Alimentaire Vrac"},false,0,0,0,0]
["Biscuits Apéro - Noix de Cajou - Poivre de Kampot","34,50€ / kg",34.5,{"$f":"VLOOKUP(A50,Import!A:D,4,FALSE)","v":"Alimentaire Vrac"},false,0,0,0,0]
["Biscuits Apéro - Noix de Cajou - Sweet chili","34,50€ / kg",34.5,{"$f":"VLOOKUP(A51,Import!A:D,4,FALSE)","v":"Alimentaire Vrac"},false,0,0,0,0]
["Biscuits Apéro - Noix de Cajou - Tandoori","34,50€ / kg",34.5,{"$f":"VLOOKUP(A52,Import!A:D,4,FALSE)","v":"Alimentaire Vrac"},false,0,0,0,0]
["Biscuits Apéro - Oignon & Paprika","30,00€ / kg","30",{"$f":"VLOOKUP(A53,Import!A:D,4,FALSE)","v":"Alimentaire Vrac"},false,0,0,0,0]
["Biscuits Apéro - Tomate & Oignons","30,00€ / kg","30",{"$f":"VLOOKUP(A54,Import!A:D,4,FALSE)","v":"Alimentaire Vrac"},false,0,0,0,0]
["Biscuits P’tit Dej - Avoine Miel","18,00€ / kg","18",{"$f":"VLOOKUP(A55,Import!A:D,4,FALSE)","v":"Alimentaire Vrac"},false,0,0,0,0,{"$f":"VLOOKUP(A55,Import!A:N,14)","v":"🇫🇷 France"}]
["Biscuits P’tit Dej - Cacao & Pépites de Chocolat","18,00€ / kg","18",{"$f":"VLOOKUP(A56,Import!A:D,4,FALSE)","v":"Alimentaire Vrac"},false,0,0,0,0,{"$f":"VLOOKUP(A56,Import!A:N,14)","v":"🇫🇷 France - Manosque (04)"}]
["Biscuits salés - Moutarde à l’ancienne","30,50€ / kg","30,5",{"$f":"VLOOKUP(A57,Import!A:D,4,FALSE)","v":0},false,0,0,0,0,{"$f":"VLOOKUP(A57,Import!A:N,14)","v":"🇫🇷 France - Hurigny (71)"}]
["Biscuits Sucrés - Chocolat","25,00€ / kg","25",{"$f":"VLOOKUP(A58,Import!A:D,4,FALSE)","v":"Alimentaire Vrac"},false,0,0,0,0]
["Biscuits sucrés - Cookies Vegan bio","23,00€ / kg","23",{"$f":"VLOOKUP(A59,Import!A:D,4,FALSE)","v":"Alimentaire Vrac"},false,0,0,0,0,{"$f":"VLOOKUP(A59,Import!A:N,13)","v":"Aventure Bio"}]
["Biscuits Sucrés - Nature au Beurre","30,00€ / kg","30",{"$f":"VLOOKUP(A60,Import!A:D,4,FALSE)","v":"Alimentaire Vrac"},false,0,0,0,0]
["Biscuits Sucrés - Pomme au beurre ","25,00€ / kg","25",{"$f":"VLOOKUP(A61,Import!A:D,4,FALSE)","v":"Alimentaire Vrac"},false,0,0,0,0]
["Biscuits Sucrés - Sans Gluten - Choco Noisette","30,00€ / kg",30,{"$f":"VLOOKUP(A62,Import!A:D,4,FALSE)","v":"Alimentaire Vrac"},false,0,0,0,0]
["Biscuits Sucrés - Sans Gluten - Figue","30,00€ / kg",30,{"$f":"VLOOKUP(A63,Import!A:D,4,FALSE)","v":"Alimentaire Vrac"},false,0,0,0,0]
["Blanc de Blanc du Jura - Jacquier",9.5,9.5,{"$f":"VLOOKUP(A64,Import!A:D,4,FALSE)","v":"Boissons conditionnées"},false,0,{"$f":"IF(F64=\"100G\",0.1,IF(F64=\"250G\",0.25,IF(F64=\"500G\",0.5,IF(F64=\"1 Kilo\",1,F64))))","v":0},0,0]
["Blé Pré cuit mondé","4,00€ / kg","4",{"$f":"VLOOKUP(A65,Import!A:D,4,FALSE)","v":"Alimentaire Vrac"},false,0,0,0,0]
["Bocal - Asperges vertes - 185g","4,90€","4,9",{"$f":"VLOOKUP(A66,Import!A:D,4,FALSE)","v":"Alimentaire Conditionné"},false,0,0,0,0]
["Bocal - Chili végétarien - 355g","4,50 €","4,5",{"$f":"VLOOKUP(A67,Import!A:D,4,FALSE)","v":"Alimentaire Conditionné"},false,0,0,{"$f":"G67","v":0},0]
["Bocal - Chili végétarien - 670g","5,95 €",5.95,{"$f":"VLOOKUP(A68,Import!A:D,4,FALSE)","v":"Alimentaire Conditionné"},false,0,0,0,0]
["Bocal - Cocotte Indienne haricots blancs, riz complet, tofu - 360g","4,50 €","4,5",{"$f":"VLOOKUP(A69,Import!A:D,4,FALSE)","v":"Alimentaire Conditionné"},false,0,0,0,0]
["Bocal - Couscous aux 7 légumes - 1kg","6,95 €",6.95,{"$f":"VLOOKUP(A70,Import!A:D,4,FALSE)","v":"Alimentaire Conditionné"},false,0,0,0,0]
["Bocal - Curry d’aubergines - 345g",4.5,4.5,{"$f":"VLOOKUP(A71,Import!A:D,4,FALSE)","v":"Alimentaire Conditionné"},false,0,0,0,0]
["Bocal - Curry d’aubergines - 650g",6.5,6.5,{"$f":"VLOOKUP(A72,Import!A:D,4,FALSE)","v":"Alimentaire Conditionné"},false,0,0,0,0]
["Bocal - Curry de lentilles coco - 345g","4,50 €","4,5",{"$f":"VLOOKUP(A73,Import!A:D,4,FALSE)","v":"Alimentaire Conditionné"},false,0,0,0,0]
["Bocal - Epinards en branches - 445g","6,20 €","6,2",{"$f":"VLOOKUP(A74,Import!A:D,4,FALSE)","v":"Alimentaire Conditionné"},false,0,0,0,0,{"$f":"VLOOKUP(A74,Import!A:N,14)","v":"🇫🇷 France"}]
["Bocal - Flageolets Demeter - 215g","3,30€","3,3",{"$f":"VLOOKUP(A75,Import!A:D,4,FALSE)","v":"Alimentaire Conditionné"},false,0,0,0,0,{"$f":"VLOOKUP(A75,Import!A:N,14)","v":"🇫🇷 France"}]
["Bocal - Haricots Coco - 690g","4,50€","45",{"$f":"VLOOKUP(A76,Import!A:D,4,FALSE)","v":"Alimentaire Conditionné"},false,0,0,0,0]
["Bocal - Haricots Rouges - 255g","3,20€","3,2",{"$f":"VLOOKUP(A77,Import!A:D,4,FALSE)","v":"Alimentaire Conditionné"},false,0,0,0,0,{"$f":"VLOOKUP(A77,Import!A:N,13)","v":"Biodis"}]
["Bocal - Haricots verts extra fins - 345g","4,20€","4,2",{"$f":"VLOOKUP(A78,Import!A:D,4,FALSE)","v":"Alimentaire Conditionné"},false,0,0,0,0]
["Bocal - Korma de légumes 680g","6,50€","6,5",{"$f":"VLOOKUP(A79,Import!A:D,4,FALSE)","v":"Alimentaire Conditionné"},false,0,0,0,0]
["Bocal - Lentilles vertes aux petits légumes - 420g","4,50€","4,5",{"$f":"VLOOKUP(A80,Import!A:D,4,FALSE)","v":"Alimentaire Conditionné"},false,0,0,0,0]
["Bocal - Macédoine de légumes - 230g","2,90 €","2,9",{"$f":"VLOOKUP(A81,Import!A:D,4,FALSE)","v":"Alimentaire Conditionné"},false,0,0,0,0]
["Bocal - Mais doux - 240g","2,90€","2,9",{"$f":"VLOOKUP(A82,Import!A:D,4,FALSE)","v":"Alimentaire Conditionné"},false,0,0,0,0]
["Bocal - Moussaka vegan, Aubergines, soja, légumes - 345g","4,50 €","4,5",{"$f":"VLOOKUP(A83,Import!A:D,4,FALSE)","v":"Alimentaire Conditionné"},false,0,0,0,0]
["Bocal - Petits pois extra fins - 240g","3,50 €","3,5",{"$f":"VLOOKUP(A84,Import!A:D,4,FALSE)","v":"Alimentaire Conditionné"},false,0,0,0,0]
["Bocal - Petits pois extra fins - 445g","5,10 €","5,1",{"$f":"VLOOKUP(A85,Import!A:D,4,FALSE)","v":"Alimentaire Conditionné"},false,0,0,0,0]
["Bocal - Petits Pois très fins et carottes - 425g","5,50 €","5,5",{"$f":"VLOOKUP(A86,Import!A:D,4,FALSE)","v":"Alimentaire Conditionné"},false,0,0,0,0]
["Bocal - Pois Chiche - 230g","3,50 €","3,5",{"$f":"VLOOKUP(A87,Import!A:D,4,FALSE)","v":"Alimentaire Conditionné"},false,0,0,0,0]
["Bocal - Pois Chiches - 420g","5,00 €","5",{"$f":"VLOOKUP(A88,Import!A:D,4,FALSE)","v":"Alimentaire Conditionné"},false,0,0,0,0]
["Bocal - Préparation  tarte aux oignons 345g","4,50€","4,5",{"$f":"VLOOKUP(A89,Import!A:D,4,FALSE)","v":"Alimentaire Conditionné"},false,0,0,0,0]
["Bocal - Préparation tarte aux poireaux 345g","4,50€","4,5",{"$f":"VLOOKUP(A90,Import!A:D,4,FALSE)","v":"Alimentaire Conditionné"},false,0,0,0,0]
["Bocal - Ratatouille à la provençale - 650g","5,10€","5,1",{"$f":"VLOOKUP(A91,Import!A:D,4,FALSE)","v":"Alimentaire Conditionné"},false,0,0,0,0,{"$f":"VLOOKUP(A91,Import!A:N,14)","v":"🇫🇷 France "}]
["Bocal - Risotto d’automne -350g","4,90€","4,9",{"$f":"VLOOKUP(A92,Import!A:D,4,FALSE)","v":"Alimentaire Conditionné"},false,0,0,0,0,{"$f":"VLOOKUP(A92,Import!A:N,14)","v":"🇫🇷 France "}]
["Bocal - Sauce bolognaise végétale au soja - 340g","3,30€","3,3",{"$f":"VLOOKUP(A93,Import!A:D,4,FALSE)","v":"Alimentaire Conditionné"},false,0,0,0,0,{"$f":"VLOOKUP(A93,Import!A:N,14)","v":"🇮🇹 Italie"}]
["Bocal - Sauce Vegan - 185g","3,50€","3,5",{"$f":"VLOOKUP(A94,Import!A:D,4,FALSE)","v":"Alimentaire Conditionné"},false,0,0,0,0,{"$f":"VLOOKUP(A94,Import!A:N,14)","v":"🇫🇷 France "}]
["Bocal - Tikka Masala aux légumes et pois chiches - 360g","4,50€","4,5",{"$f":"VLOOKUP(A95,Import!A:D,4,FALSE)","v":"Alimentaire Conditionné"},false,0,0,0,0]
["Bocal Haricots beurre extra fins - 180g","2,90 €","2,9",{"$f":"VLOOKUP(A96,Import!A:D,4,FALSE)","v":"Alimentaire Conditionné"},false,0,0,0,0]
["Boisson végétale - Avoine","2,10 €","2,1",{"$f":"VLOOKUP(A97,Import!A:D,4,FALSE)","v":"Boissons conditionnées"},false,0,{"$f":"IF(F97=\"100G\",0.1,IF(F97=\"250G\",0.25,IF(F97=\"500G\",0.5,IF(F97=\"1 Kilo\",1,F97))))","v":0},0,0]
["Boisson végétale - So amande Nature UHT - 1L","2,60 €","2,6",{"$f":"VLOOKUP(A98,Import!A:D,4,FALSE)","v":"Boissons conditionnées"},false,0,0,0,0]
["Boisson végétale - Soja Nature - 1L","2,10 €","2,1",{"$f":"VLOOKUP(A99,Import!A:D,4,FALSE)","v":"Boissons conditionnées"},false,0,0,0,0]
["Boisson végétale - Sojade UHT Calcium - 1L","2,60€","2,6",{"$f":"VLOOKUP(A100,Import!A:D,4,FALSE)","v":"Boissons conditionnées"},false,0,0,0,0]
["Bol 15x7 Gravé Cap Bambou","14,90 €","14,9",{"$f":"VLOOKUP(A101,Import!A:D,4,FALSE)","v":"Zéros déchets et Bocaux"},false,0,0,0,0]
["Bougies de Léa - Brûle Parfum","15,50 €","15,5",{"$f":"VLOOKUP(A102,Import!A:D,4,FALSE)","v":"Zéros déchets et Bocaux"},false,0,0,0,0]
["Bougies de Léa - Grandes bougies Parfumées ","18,00 €","18",{"$f":"VLOOKUP(A103,Import!A:D,4,FALSE)","v":"Zéros déchets et Bocaux"},false,0,0,0,0]
["Bougies de Léa - Petites bougies Parfumées ","11,00 €","11",{"$f":"VLOOKUP(A104,Import!A:D,4,FALSE)","v":"Zéros déchets et Bocaux"},false,0,0,0,0]
["Bougies de Léa - Suspensions parfumées","6€","6",{"$f":"VLOOKUP(A105,Import!A:D,4,FALSE)","v":"Zéros déchets et Bocaux"},false,0,0,0,0]
["Bouillon de légumes - Sans levure & huile de palme","24,00€ / kg","24",{"$f":"VLOOKUP(A106,Import!A:D,4,FALSE)","v":"Alimentaire Vrac"},false,0,0,0,0]
["Boule à Thé diamètre 50mm",3.5,3.5,{"$f":"VLOOKUP(A107,Import!A:D,4,FALSE)","v":"Zéros déchets et Bocaux"},false,0,0,0,0]
["Boulgour","3,10€ / kg","3,1",{"$f":"VLOOKUP(A108,Import!A:D,4,FALSE)","v":"Alimentaire Vrac"},false,0,0,0,0]
["Brosse à cheveux Bébé","9,50 €","9,5",{"$f":"VLOOKUP(A109,Import!A:D,4,FALSE)","v":"Produits d'hygiène coporelle"},false,0,0,0,0]
["Brosse à cheveux Démélante","14,90 €","14,9",{"$f":"VLOOKUP(A110,Import!A:D,4,FALSE)","v":"Produits d'hygiène coporelle"},false,0,0,0,0]
["Brosse à cheveux Démélante Enfants",9.5,9.5,{"$f":"VLOOKUP(A111,Import!A:D,4,FALSE)","v":"Produits d'hygiène coporelle"},false,0,0,0,0]
["Brosse à dent - Lot de 3 têtes extra souples",7.9,"7,90",{"$f":"VLOOKUP(A112,Import!A:D,4,FALSE)","v":"Produits d'hygiène coporelle"},false,0,0,0,0]
["Brosse à dent - Lot de 3 têtes medium",7.9,"7,90",{"$f":"VLOOKUP(A113,Import!A:D,4,FALSE)","v":"Produits d'hygiène coporelle"},false,0,0,0,0]
["Brosse à dent - Lot de 3 têtes souples",7.9,"7,90",{"$f":"VLOOKUP(A114,Import!A:D,4,FALSE)","v":"Produits d'hygiène coporelle"},false,0,0,0,0]
["Brosse à dent à tête rechargeable - manche bioplastic",3.5,"3,50",{"$f":"VLOOKUP(A115,Import!A:D,4,FALSE)","v":"Produits d'hygiène coporelle"},false,0,0,0,0]
["Brosse à dent à tête rechargeable - manche hêtre","8,50 €","8,5",{"$f":"VLOOKUP(A116,Import!A:D,4,FALSE)","v":0},false,0,0,0,0]
["Brosse à dents adultes","3,99 €",3.99,{"$f":"VLOOKUP(A117,Import!A:D,4,FALSE)","v":0},false,0,0,0,0]
["Brosse à vaisselle - Recharges","5,50 €","5,5",{"$f":"VLOOKUP(A118,Import!A:D,4,FALSE)","v":{"$error":"#N/A"}},false,0,0,0,0]
["Brosse à vaisselle à tête rechargeable ","24,90 €","24,9",{"$f":"VLOOKUP(A119,Import!A:D,4,FALSE)","v":{"$error":"#N/A"}},false,0,0,0,0]
["Brosse à vaisselle en bois avec manche","6,50 €","6,5",{"$f":"VLOOKUP(A120,Import!A:D,4,FALSE)","v":{"$error":"#N/A"}},false,0,0,0,0]
["Brosses à dents enfants - Jaune","3,50 €","3,5",{"$f":"VLOOKUP(A121,Import!A:D,4,FALSE)","v":"Produits d'hygiène coporelle"},false,0,0,0,0]
["Brosses à dents enfants - Violet","3,50 €","3,5",{"$f":"VLOOKUP(A122,Import!A:D,4,FALSE)","v":"Produits d'hygiène coporelle"},false,0,0,0,0]
["Café - Dagosette colombie (capsule)","0,40€",0.4,{"$f":"VLOOKUP(A123,Import!A:D,4,FALSE)","v":"Boisson en vrac"},false,0,0,0,0]
["Café - Dosette Americ’ain (senseo)","0,20€ / pièce",0.2,{"$f":"VLOOKUP(A124,Import!A:D,4,FALSE)","v":"Boisson en vrac"},false,0,0,0,0]
["Café - Grains - Colombie","19,90€ / kg","19,5",{"$f":"VLOOKUP(A125,Import!A:D,4,FALSE)","v":"Boisson en vrac"},false,0,0,0,0]
["Café - Grains - Moka Djimmah ","19,90€ / kg","19,5",{"$f":"VLOOKUP(A126,Import!A:D,4,FALSE)","v":"Boisson en vrac"},false,0,0,0,0]
["Cannelle en Poudre","56,00€ / kg","56",{"$f":"VLOOKUP(A127,Import!A:D,4,FALSE)","v":"Alimentaire Vrac"},false,0,0,0,0]
["Cannelle en Tuyau","62,00€ / kg","62",{"$f":"VLOOKUP(A128,Import!A:D,4,FALSE)","v":"Alimentaire Vrac"},false,0,0,0,0]
["Carrés démaquillants - Lot de 5","7,50 €","7,5",{"$f":"VLOOKUP(A129,Import!A:D,4,FALSE)","v":{"$error":"#N/A"}},false,0,0,0,0]
["Céréales - Choco crisp ","9,50 € / kg","9,5",{"$f":"VLOOKUP(A130,Import!A:D,4,FALSE)","v":"Alimentaire Vrac"},false,0,0,0,0]
["Céréales - Corn Flakes ","8,50€ / kg","8,5",{"$f":"VLOOKUP(A131,Import!A:D,4,FALSE)","v":"Alimentaire Vrac"},false,0,0,{"$f":"G131","v":0},0]
["Céréales - Crosti Choco Noisettes ",11,"11",{"$f":"VLOOKUP(A132,Import!A:D,4,FALSE)","v":"Alimentaire Vrac"},false,0,0,0,0]
["Céréales - Flocons Avoine Gros ","3,50€ / kg","3,5",{"$f":"VLOOKUP(A133,Import!A:D,4,FALSE)","v":"Alimentaire Vrac"},false,0,0,0,0]
["Céréales - Flocons Avoine Petit","2,90€ / kg","2,9",{"$f":"VLOOKUP(A134,Import!A:D,4,FALSE)","v":"Alimentaire Vrac"},false,0,0,0,0]
["Céréales - Krounchy 3 chocolats","10,00€ / kg","10",{"$f":"VLOOKUP(A135,Import!A:D,4,FALSE)","v":"Alimentaire Vrac"},false,0,0,0,0]
["Céréales - Krounchy aux fruits","11,50€ / kg",11.5,{"$f":"VLOOKUP(A136,Import!A:D,4,FALSE)","v":"Alimentaire Vrac"},false,0,0,0,0]
["Céréales - Krounchy Nature","7,50€",7.5,{"$f":"VLOOKUP(A137,Import!A:D,4,FALSE)","v":"Alimentaire Vrac"},false,0,0,0,0]
["Céréales - Mops Miel","9,80€ / kg","9,8",{"$f":"VLOOKUP(A138,Import!A:D,4,FALSE)","v":"Alimentaire Vrac"},false,0,0,0,0]
["Chicorée torréfiée soluble - 200g","7,20€ / pièce","6,5",{"$f":"VLOOKUP(A139,Import!A:D,4,FALSE)","v":"Boisson en vrac"},false,0,0,0,0]
["Chips de Banane au Miel ","15,00 € / kg","15",{"$f":"VLOOKUP(A140,Import!A:D,4,FALSE)","v":"Alimentaire Vrac"},false,0,0,0,0]
["Chocolat Lait - Palets","20€/ kg","16",{"$f":"VLOOKUP(A141,Import!A:D,4,FALSE)","v":"Alimentaire Vrac"},false,0,0,0,0]
["Chocolat Lait - Pépites ","20,00 € / kg","20",{"$f":"VLOOKUP(A142,Import!A:D,4,FALSE)","v":"Alimentaire Vrac"},false,0,0,0,0]
["Chocolat Noir - Palets","18,00 € / kg","18",{"$f":"VLOOKUP(A143,Import!A:D,4,FALSE)","v":"Alimentaire Vrac"},false,0,0,0,0]
["Chocolat Noir - Pépites ","20,00 € / kg","20",{"$f":"VLOOKUP(A144,Import!A:D,4,FALSE)","v":"Alimentaire Vrac"},false,0,0,0,0]
["Chocolat Noir Poudre Instantané - Cacao et Sucre","90,00 € / kg","90",{"$f":"VLOOKUP(A145,Import!A:D,4,FALSE)","v":"Alimentaire Vrac"},false,0,0,0,0]
["Chouchou","4,50 €","4,5",{"$f":"VLOOKUP(A146,Import!A:D,4,FALSE)","v":"Zéros déchets et Bocaux"},false,0,0,0,0]
["Ciboulette Feuilles ","80,00 € / kg","80",{"$f":"VLOOKUP(A147,Import!A:D,4,FALSE)","v":"Alimentaire Vrac"},false,0,0,0,0]
["Cidre Brut 75cl","5,90 €","5,9",{"$f":"VLOOKUP(A148,Import!A:D,4,FALSE)","v":"Boissons conditionnées"},false,0,{"$f":"IF(F148=\"100G\",0.1,IF(F148=\"250G\",0.25,IF(F148=\"500G\",0.5,IF(F148=\"1 Kilo\",1,F148))))","v":0},0,0]
["Cinq baies concassées","114,00 € / kg","114",{"$f":"VLOOKUP(A149,Import!A:D,4,FALSE)","v":"Alimentaire Vrac"},false,0,0,0,0]
["Citronnade pur jus de citron jaune - 75cl","3,50 €","3,5",{"$f":"VLOOKUP(A150,Import!A:D,4,FALSE)","v":"Boissons conditionnées"},false,0,{"$f":"IF(F150=\"100G\",0.1,IF(F150=\"250G\",0.25,IF(F150=\"500G\",0.5,IF(F150=\"1 Kilo\",1,F150))))","v":0},0,0]
["Compote Allégée - Pomme Abricot - 660g","5 €","5,00",{"$f":"VLOOKUP(A151,Import!A:D,4,FALSE)","v":"Alimentaire Conditionné"},false,0,0,0,0]
["Compote Allégée - Pomme Chataigne - 660g","4,80 €","4,80 ",{"$f":"VLOOKUP(A152,Import!A:D,4,FALSE)","v":"Alimentaire Conditionné"},false,0,0,0,0]
["Compote Pomme - 480g - ","3,50 €","3,50",{"$f":"VLOOKUP(A153,Import!A:D,4,FALSE)","v":"Alimentaire Conditionné"},false,0,0,0,0]
["Compote Pomme Banane",5,"5,00",{"$f":"VLOOKUP(A154,Import!A:D,4,FALSE)","v":"Alimentaire Conditionné"},false,0,0,0,0]
["Compote Pomme Framboise - 480g ","4,50 €","4,5",{"$f":"VLOOKUP(A155,Import!A:D,4,FALSE)","v":"Alimentaire Conditionné"},false,0,0,0,0]
["Concentré de Tomate - 200g","2,30 €","2,3",{"$f":"VLOOKUP(A156,Import!A:D,4,FALSE)","v":"Alimentaire Conditionné"},false,0,0,0,0]
["Confiture Abricot - 340g ","4,90 €","4,9",{"$f":"VLOOKUP(A157,Import!A:D,4,FALSE)","v":"Alimentaire Conditionné"},false,0,0,0,0]
["Confiture de Figue 340g","4,90 €","4,9",{"$f":"VLOOKUP(A158,Import!A:D,4,FALSE)","v":"Alimentaire Conditionné"},false,0,0,0,0]
["Confiture de Fraise - 370g ","4,90 €","4,9",{"$f":"VLOOKUP(A159,Import!A:D,4,FALSE)","v":"Alimentaire Conditionné"},false,0,0,0,0]
["Confiture de Fruits des Bois 370g ","5,50 €","5,5",{"$f":"VLOOKUP(A160,Import!A:D,4,FALSE)","v":"Alimentaire Conditionné"},false,0,0,0,0]
["Confiture de Myrtille - 370g ","4,90 €","4,9",{"$f":"VLOOKUP(A161,Import!A:D,4,FALSE)","v":"Alimentaire Conditionné"},false,0,0,0,0]
["Confitures d'à côté - Abricot","6€","6",{"$f":"VLOOKUP(A162,Import!A:D,4,FALSE)","v":"Alimentaire Conditionné"},false,0,0,0,0]
["Confitures d'à côté - Ananas Vanille","6€","6",{"$f":"VLOOKUP(A163,Import!A:D,4,FALSE)","v":0},false,0,0,0,0]
["Confitures d'à côté - Cerise","6€","6",{"$f":"VLOOKUP(A164,Import!A:D,4,FALSE)","v":0},false,0,0,0,0]
["Confitures d'à côté - Clémentine","6€","6",{"$f":"VLOOKUP(A165,Import!A:D,4,FALSE)","v":0},false,0,0,0,0]
["Confitures d'à côté - Figue pointe de vanille","6€","6",{"$f":"VLOOKUP(A166,Import!A:D,4,FALSE)","v":"Alimentaire Conditionné"},false,0,0,0,0]
["Confitures d'à côté - Kiwi Ananas","6€","6",{"$f":"VLOOKUP(A167,Import!A:D,4,FALSE)","v":"Alimentaire Conditionné"},false,0,0,0,0]
["Confitures d'à côté - Mirabelle ","6€","6",{"$f":"VLOOKUP(A168,Import!A:D,4,FALSE)","v":0},false,0,0,0,0]
["Confitures d'à côté - Nectarine Pêche","6€","6",{"$f":"VLOOKUP(A169,Import!A:D,4,FALSE)","v":0},false,0,0,0,0]
["Confitures d'à côté - Nectarine Vanille","6€","6",{"$f":"VLOOKUP(A170,Import!A:D,4,FALSE)","v":"Alimentaire Conditionné"},false,0,0,0,0]
["Confitures d'à côté - Pêche ","6€","6",{"$f":"VLOOKUP(A171,Import!A:D,4,FALSE)","v":0},false,0,0,0,0]
["Confitures d'à côté - Poire Tonka","6€","6",{"$f":"VLOOKUP(A172,Import!A:D,4,FALSE)","v":"Alimentaire Conditionné"},false,0,0,0,0]
["Confitures d'à côté - Pomme Cannelle","6€","6",{"$f":"VLOOKUP(A173,Import!A:D,4,FALSE)","v":"Alimentaire Conditionné"},false,0,0,0,0]
["Confitures d'à côté - Pomme Caramel ","6€","6",{"$f":"VLOOKUP(A174,Import!A:D,4,FALSE)","v":"Alimentaire Conditionné"},false,0,0,0,0]
["Confitures d'à côté - Questche","6€","6",{"$f":"VLOOKUP(A175,Import!A:D,4,FALSE)","v":0},false,0,0,0,0]
["Confitures d'à côté - Tomate verte aux épices ","5€","5",{"$f":"VLOOKUP(A176,Import!A:D,4,FALSE)","v":{"$error":"#N/A"}},false,0,0,0,0]
["Confitures d'à côté- Mûre sauvage","6€","6",{"$f":"VLOOKUP(A177,Import!A:D,4,FALSE)","v":"Alimentaire Conditionné"},false,0,0,0,0]
["Cornichons au vinaigre 37cl - 185g","7,50 €","7,5",{"$f":"VLOOKUP(A178,Import!A:D,4,FALSE)","v":"Alimentaire Conditionné"},false,0,0,0,0]
["Cotons tiges x 100","1,95 €",1.95,{"$f":"VLOOKUP(A179,Import!A:D,4,FALSE)","v":"Produits d'hygiène coporelle"},false,0,0,0,0]
["Cotons tiges x 200","3,59 €",3.59,{"$f":"VLOOKUP(A180,Import!A:D,4,FALSE)","v":"Produits d'hygiène coporelle"},false,0,0,0,0]
["Coulis de Tomate  Nature - 680g","2,50 €","2,5",{"$f":"VLOOKUP(A181,Import!A:D,4,FALSE)","v":"Alimentaire Conditionné"},false,0,0,0,0]
["Coulis de Tomate Basilic - 680g","2,50 €","2,5",{"$f":"VLOOKUP(A182,Import!A:D,4,FALSE)","v":"Alimentaire Conditionné"},false,0,0,0,0]
["Couscous Complet ","3,50€","3,5",{"$f":"VLOOKUP(A183,Import!A:D,4,FALSE)","v":"Alimentaire Vrac"},false,0,0,0,0]
["Couteau Réutilisable en bambou","2€","2",{"$f":"VLOOKUP(A184,Import!A:D,4,FALSE)","v":"Zéros déchets et Bocaux"},false,0,0,0,0]
["Cranberries Demi séchées au sucre de Canne","17,50€ / kg","17,5",{"$f":"VLOOKUP(A185,Import!A:D,4,FALSE)","v":"Alimentaire Vrac"},false,0,0,0,0]
["Crème corps hydratant - Fleur de coton - Endro","15,60 €","15,6",{"$f":"VLOOKUP(A186,Import!A:D,4,FALSE)","v":"Produits d'hygiène coporelle"},false,0,0,0,0]
["Crème corps nourrissante - douceur iodée - Endro","12,90 €","12,9",{"$f":"VLOOKUP(A187,Import!A:D,4,FALSE)","v":"Produits d'hygiène coporelle"},false,0,0,0,0]
["Crème de Marron - 320g ","5,90 €","5,9",{"$f":"VLOOKUP(A188,Import!A:D,4,FALSE)","v":"Alimentaire Conditionné"},false,0,0,0,0]
["Crème solaire SPF 30 - 50ml","18,90 €","18,9",{"$f":"VLOOKUP(A189,Import!A:D,4,FALSE)","v":"Produits d'hygiène coporelle"},false,0,0,0,0]
["Crème solaire SPF 50 - 100ml","24,90 €","24,9",{"$f":"VLOOKUP(A190,Import!A:D,4,FALSE)","v":"Produits d'hygiène coporelle"},false,0,0,0,0]
["Crème solaire SPF 50 - 50ml","19,90 €","19,9",{"$f":"VLOOKUP(A191,Import!A:D,4,FALSE)","v":"Produits d'hygiène coporelle"},false,0,0,0,0]
["Crème végétale - Soya cuisine briquette - 20cl","1,95€",1.95,{"$f":"VLOOKUP(A192,Import!A:D,4,FALSE)","v":"Alimentaire Conditionné"},false,0,0,0,0]
["Crème visage - bonne mine","13,60 €","13,6",{"$f":"VLOOKUP(A193,Import!A:D,4,FALSE)","v":"Produits d'hygiène coporelle"},false,0,0,0,0]
["Crozets Sarrasin","9€ / kg","9",{"$f":"VLOOKUP(A194,Import!A:D,4,FALSE)","v":"Alimentaire Vrac"},false,0,0,0,0]
["Cuillère réutilisable en bambou","1,50 €","1,5",{"$f":"VLOOKUP(A195,Import!A:D,4,FALSE)","v":"Zéros déchets et Bocaux"},false,0,0,{"$f":"G195","v":0},0]
["Cumin moulu poudre","55,00€ / kg","55",{"$f":"VLOOKUP(A196,Import!A:D,4,FALSE)","v":"Alimentaire Vrac"},false,0,0,0,0]
["Curcuma ","45,00€ / kg",45,{"$f":"VLOOKUP(A197,Import!A:D,4,FALSE)","v":"Alimentaire Vrac"},false,0,0,0,0]
["Cure Oreilles - Bamb’ori",2.99,2.99,{"$f":"VLOOKUP(A198,Import!A:D,4,FALSE)","v":"Produits d'hygiène coporelle"},false,0,0,0,0]
["Curry Poudre","42,00€ / kg","42",{"$f":"VLOOKUP(A199,Import!A:D,4,FALSE)","v":"Alimentaire Vrac"},false,0,0,0,0]
["Dattes Dénoyautées ","10,50€ / kg","10,5",{"$f":"VLOOKUP(A200,Import!A:D,4,FALSE)","v":"Alimentaire Vrac"},false,0,0,0,0]
["Dentifrice bio à croquer Menthe Fraîche","180,00€ / kg","180",{"$f":"VLOOKUP(A201,Import!A:D,4,FALSE)","v":"Produits d'hygiène coporelle"},false,0,0,0,0]
["Dentifrice Naturel - Fruits Rouges - Endro","10,60€","10,6",{"$f":"VLOOKUP(A202,Import!A:D,4,FALSE)","v":"Produits d'hygiène coporelle"},false,0,0,0,0]
["Dentifrice Naturel - Menthe Givrée - Endro","10,60€","10,6",{"$f":"VLOOKUP(A203,Import!A:D,4,FALSE)","v":"Produits d'hygiène coporelle"},false,0,0,0,0]
["Dentifrice Naturel - Zeste Citronné - Endro","10,60€","10,6",{"$f":"VLOOKUP(A204,Import!A:D,4,FALSE)","v":"Produits d'hygiène coporelle"},false,0,0,0,0]
["Dentifrice solide - Charbon - Recharge - Savon de Joya","8,90€","8,9",{"$f":"VLOOKUP(A205,Import!A:D,4,FALSE)","v":"Produits d'hygiène coporelle"},false,0,0,0,0]
["Dentifrice solide - Charbon - Savon de Joya","10,60€","10,6",{"$f":"VLOOKUP(A206,Import!A:D,4,FALSE)","v":"Produits d'hygiène coporelle"},false,0,0,0,0]
["Dentifrice solide - Citron & Romarin - Recharge - - Savon de Joya","8,90€","8,9",{"$f":"VLOOKUP(A207,Import!A:D,4,FALSE)","v":"Produits d'hygiène coporelle"},false,0,0,0,0]
["Dentifrice solide - Citron & Romarin Savon de Joya","10,60€","10,6",{"$f":"VLOOKUP(A208,Import!A:D,4,FALSE)","v":"Produits d'hygiène coporelle"},false,0,0,0,0]
["Dentifrice solide - Framboise - - Savon de Joya","10,60€","10,6",{"$f":"VLOOKUP(A209,Import!A:D,4,FALSE)","v":"Produits d'hygiène coporelle"},false,0,0,0,0]
["Dentifrice solide - Framboise - Recharge ","8,90€","8,9",{"$f":"VLOOKUP(A210,Import!A:D,4,FALSE)","v":"Produits d'hygiène coporelle"},false,0,0,0,0]
["Dentifrice solide - Menthe - - Savon de Joya","10,60€","10,6",{"$f":"VLOOKUP(A211,Import!A:D,4,FALSE)","v":"Produits d'hygiène coporelle"},false,0,0,0,0]
["Dentifrice solide - Menthe - Recharge - - Savon de Joya","8,90€","8,9",{"$f":"VLOOKUP(A212,Import!A:D,4,FALSE)","v":"Produits d'hygiène coporelle"},false,0,0,0,0]
["Déodorant - Clémence & Vivien - Le Fleuri",8.5,"7,9",{"$f":"VLOOKUP(A213,Import!A:D,4,FALSE)","v":"Produits d'hygiène coporelle"},false,0,0,0,0]
["Déodorant - Clémence & Vivien - Le Poudré",8.5,"7,9",{"$f":"VLOOKUP(A214,Import!A:D,4,FALSE)","v":"Produits d'hygiène coporelle"},false,0,0,0,0]
["Déodorant - Clémence & Vivien - Le Sucré",8.5,"7,9",{"$f":"VLOOKUP(A215,Import!A:D,4,FALSE)","v":"Produits d'hygiène coporelle"},false,0,0,0,0]
["Déodorant - Clémence & Vivien - Sensible Mandarinne",8.5,"7,9",{"$f":"VLOOKUP(A216,Import!A:D,4,FALSE)","v":"Produits d'hygiène coporelle"},false,0,0,0,0]
["Déodorant - Clémence & Vivien - Sensible Vanille",8.5,"7,9",{"$f":"VLOOKUP(A217,Import!A:D,4,FALSE)","v":"Produits d'hygiène coporelle"},false,0,0,0,0]
["Déodorant - Clémence & Vivien- L’Herbacé",8.5,"7,9",{"$f":"VLOOKUP(A218,Import!A:D,4,FALSE)","v":"Produits d'hygiène coporelle"},false,0,0,0,0]
["Déodorant - Endro - Bergamote / Arbre à thé","9,80€","9,8",{"$f":"VLOOKUP(A219,Import!A:D,4,FALSE)","v":"Produits d'hygiène coporelle"},false,0,0,0,0]
["Déodorant - Endro - Coco","9,80€","9,8",{"$f":"VLOOKUP(A220,Import!A:D,4,FALSE)","v":"Produits d'hygiène coporelle"},false,0,0,0,0]
["Déodorant - Endro - Menthe Poivrée / Cèdre","9,80€","9,8",{"$f":"VLOOKUP(A221,Import!A:D,4,FALSE)","v":"Produits d'hygiène coporelle"},false,0,0,0,0]
["Déodorant - Endro - Palmarosa / Géranium","9,80€","9,8",{"$f":"VLOOKUP(A222,Import!A:D,4,FALSE)","v":"Produits d'hygiène coporelle"},false,0,0,0,0]
["Déodorant - Endro - Peaux sensilbles","9,80€","9,8",{"$f":"VLOOKUP(A223,Import!A:D,4,FALSE)","v":"Produits d'hygiène coporelle"},false,0,0,0,0]
["Déodorant - Savon de Joya - Recharge Stick - Cèdre Vétiver - 75g","8,90 €","8,9",{"$f":"VLOOKUP(A224,Import!A:D,4,FALSE)","v":"Produits d'hygiène coporelle"},false,0,0,0,0]
["Déodorant - Savon de Joya - Recharge Stick - Citron & Mandarine - 75g","8,90 €","8,9",{"$f":"VLOOKUP(A225,Import!A:D,4,FALSE)","v":"Produits d'hygiène coporelle"},false,0,0,0,0]
["Déodorant - Savon de Joya - Recharge Stick - Rose, 0 bicarbonate - 75g","8,90 €","8,9",{"$f":"VLOOKUP(A226,Import!A:D,4,FALSE)","v":"Produits d'hygiène coporelle"},false,0,0,0,0]
["Déodorant - Savon de Joya - Recharge Stick Mini  - Cèdre Vétivier - 25g","7,90 €","7,9",{"$f":"VLOOKUP(A227,Import!A:D,4,FALSE)","v":"Produits d'hygiène coporelle"},false,0,0,0,0]
["Déodorant - Savon de Joya - Recharge Stick Mini  - Citron & Mandarine 25g","7,90 €","7,9",{"$f":"VLOOKUP(A228,Import!A:D,4,FALSE)","v":"Produits d'hygiène coporelle"},false,0,0,0,0,{"$f":"VLOOKUP(A228,Import!A:N,13)","v":"Les Savons de Joya"}]
["Déodorant Stick - Savon de Joya - Cèdre Vétiver - 75g","12,50 €","12,5",{"$f":"VLOOKUP(A229,Import!A:D,4,FALSE)","v":"Produits d'hygiène coporelle"},false,0,0,0,0,{"$f":"VLOOKUP(A229,Import!A:N,13)","v":"Les Savons de Joya"}]
["Déodorant Stick - Savon de Joya - Citron & Mandarine - 75g","12,50 €","12,5",{"$f":"VLOOKUP(A230,Import!A:D,4,FALSE)","v":"Produits d'hygiène coporelle"},false,0,0,0,0,{"$f":"VLOOKUP(A230,Import!A:N,13)","v":"Les Savons de Joya"}]
["Déodorant Stick - Savon de Joya - Rose, 0 bicarbonate - 75g","12,50 €","12,5",{"$f":"VLOOKUP(A231,Import!A:D,4,FALSE)","v":"Produits d'hygiène coporelle"},false,0,0,0,0,{"$f":"VLOOKUP(A231,Import!A:N,13)","v":"Les Savons de Joya"}]
["Déodorant Stick Mini  - Savon de Joya -  Rose, 0 bicarbonate - 25g","7,90 €","7,9",{"$f":"VLOOKUP(A232,Import!A:D,4,FALSE)","v":"Produits d'hygiène coporelle"},false,0,0,0,0,{"$f":"VLOOKUP(A232,Import!A:N,13)","v":"Les Savons de Joya"}]
["Déodorant Stick Mini - Savon de Joya - Cèdre Vétiver - 25g","7,90 €","7,9",{"$f":"VLOOKUP(A233,Import!A:D,4,FALSE)","v":"Produits d'hygiène coporelle"},false,0,0,0,0,{"$f":"VLOOKUP(A233,Import!A:N,13)","v":"Les Savons de Joya"}]
["Déodorant Stick Mini - Savon de Joya - Citron & Mandarine - 25g","5,20 €","5,2",{"$f":"VLOOKUP(A234,Import!A:D,4,FALSE)","v":"Produits d'hygiène coporelle"},false,0,0,0,0,{"$f":"VLOOKUP(A234,Import!A:N,13)","v":"Les Savons de Joya"}]
["Désinfectant sans rinçage - Vrac","12,50 €","12,50",{"$f":"VLOOKUP(A235,Import!A:D,4,FALSE)","v":"Produits d'entretiens"},false,0,0,0,0,{"$f":"VLOOKUP(A235,Import!A:N,13)","v":"Bulle verte"}]
["Détachant - Vrac",9.9,"9;90",{"$f":"VLOOKUP(A236,Import!A:D,4,FALSE)","v":"Produits d'entretiens"},false,0,0,0,{"$error":"#VALUE!"},{"$f":"VLOOKUP(A236,Import!A:N,13)","v":"Relais local"}]
["Emballage 1L Plat + Bouchon ","2 €","2",{"$f":"VLOOKUP(A237,Import!A:D,4,FALSE)","v":"Produits d'entretiens"},false,0,0,0,0,{"$f":"VLOOKUP(A237,Import!A:N,13)","v":"Relais local"}]
["Emballage 3L + Bouchon","4 €","4",{"$f":"VLOOKUP(A238,Import!A:D,4,FALSE)","v":"Produits d'entretiens"},false,0,0,0,0]
["Emballage WC 750ml + Bouchon","2,50 €","2,5",{"$f":"VLOOKUP(A239,Import!A:D,4,FALSE)","v":"Produits d'entretiens"},false,0,0,0,0]
["Essuie tout blanc, 100% recyclés, 200f x 12","2 €","2",{"$f":"VLOOKUP(A240,Import!A:D,4,FALSE)","v":"Produits d'entretiens"},false,0,0,0,0]
["Essuie-tout - Lot de 5 Multicolore","10,00 €","10",{"$f":"VLOOKUP(A241,Import!A:D,4,FALSE)","v":"Zéros déchets et Bocaux"},false,0,0,0,0]
["Farine de blé - T110","2,10€ / kg","2",{"$f":"VLOOKUP(A242,Import!A:D,4,FALSE)","v":"Alimentaire Vrac"},false,0,0,0,0]
["Farine de blé - T55 ","2,10€ / kg","2,1",{"$f":"VLOOKUP(A243,Import!A:D,4,FALSE)","v":"Alimentaire Vrac"},false,0,0,0,0]
["Farine de blé - T65 ","2,10€ / kg","2",{"$f":"VLOOKUP(A244,Import!A:D,4,FALSE)","v":"Alimentaire Vrac"},false,0,0,0,0,{"$f":"VLOOKUP(A244,Import!A:N,14)","v":"🇫🇷 France - Fareins (01) "}]
["Farine de Maïs ","2,95€ / kg",2.95,{"$f":"VLOOKUP(A245,Import!A:D,4,FALSE)","v":"Alimentaire Vrac"},false,0,0,0,0,{"$f":"VLOOKUP(A245,Import!A:N,14)","v":"🇫🇷 France"}]
["Farine de Maïs - Paquet 500g",1.7,1.7,{"$f":"VLOOKUP(A246,Import!A:D,4,FALSE)","v":"Alimentaire Conditionné"},false,0,0,0,0,{"$f":"VLOOKUP(A246,Import!A:N,14)","v":0}]
["Farine de Petit épeautre ","6,00€ / kg","6",{"$f":"VLOOKUP(A247,Import!A:D,4,FALSE)","v":"Alimentaire Vrac"},false,0,0,0,0,{"$f":"VLOOKUP(A247,Import!A:N,14)","v":"🇫🇷 France"}]
["Farine de Pois chiches ","5,40€ / kg","5,4",{"$f":"VLOOKUP(A248,Import!A:D,4,FALSE)","v":"Alimentaire Vrac"},false,0,0,0,0,{"$f":"VLOOKUP(A248,Import!A:N,14)","v":"🇫🇷 France"}]
["Farine de Pos chiches - paquet 500g","2.70","2,70",{"$f":"VLOOKUP(A249,Import!A:D,4,FALSE)","v":"Alimentaire Conditionné"},false,0,0,0,0,{"$f":"VLOOKUP(A249,Import!A:N,14)","v":0}]
["Fécule de Pomme de Terre ","4,90€ / kg","4,9",{"$f":"VLOOKUP(A250,Import!A:D,4,FALSE)","v":"Alimentaire Vrac"},false,0,0,0,0,{"$f":"VLOOKUP(A250,Import!A:N,14)","v":"🇫🇮 Finlande"}]
["Figues Entières ","12,00€ / kg","12",{"$f":"VLOOKUP(A251,Import!A:D,4,FALSE)","v":"Alimentaire Vrac"},false,0,0,0,0,{"$f":"VLOOKUP(A251,Import!A:N,14)","v":"🇹🇷 Turquie"}]
["Filet à fruits et légumes - Taille L","8,50€","8,5",{"$f":"VLOOKUP(A252,Import!A:D,4,FALSE)","v":"Zéros déchets et Bocaux"},false,0,0,0,0,{"$f":"VLOOKUP(A252,Import!A:N,14)","v":"🇫🇷 France - Annemasse (74)"}]
["Filet à fruits et légumes - Taille M","9,50€","9,5",{"$f":"VLOOKUP(A253,Import!A:D,4,FALSE)","v":"Zéros déchets et Bocaux"},false,0,0,0,0]
["Filtre à café","4,50€","4,5",{"$f":"VLOOKUP(A254,Import!A:D,4,FALSE)","v":"Zéros déchets et Bocaux"},false,0,0,0,0]
["Filtre à Infusion ","4,50€","4,5",{"$f":"VLOOKUP(A255,Import!A:D,4,FALSE)","v":"Zéros déchets et Bocaux"},false,0,0,0,0]
["Filtre à thé ","4,00€","4",{"$f":"VLOOKUP(A256,Import!A:D,4,FALSE)","v":"Zéros déchets et Bocaux"},false,0,0,0,0]
["Filtre à théière inox forme théière","5,50€","5,5",{"$f":"VLOOKUP(A257,Import!A:D,4,FALSE)","v":"Zéros déchets et Bocaux"},false,0,{"$f":"IF(F257=\"100G\",0.1,IF(F257=\"250G\",0.25,IF(F257=\"500G\",0.5,IF(F257=\"1 Kilo\",1,F257))))","v":0},0,{"$f":"H257*C257","v":0}]
["Flageolets","6,50€ / kg","6,5",{"$f":"VLOOKUP(A258,Import!A:D,4,FALSE)","v":"Alimentaire Vrac"},false,0,0,0,0]
["Fondants Parfumés","3,50€","3,5",{"$f":"VLOOKUP(A259,Import!A:D,4,FALSE)","v":{"$error":"#N/A"}},false,0,0,{"$f":"G259","v":0},0,{"$f":"VLOOKUP(A259,Import!A:N,14)","v":"🇫🇷 France"}]
["Fourchette réutilisable","2,00€","2",{"$f":"VLOOKUP(A260,Import!A:D,4,FALSE)","v":"Zéros déchets et Bocaux"},true,5,5,5,10,{"$f":"VLOOKUP(A260,Import!A:N,14)","v":"🇫🇷 France - Attignat (01)"}]
["Furoshikis - Taille M","6,50€","6,5",{"$f":"VLOOKUP(A261,Import!A:D,4,FALSE)","v":"Zéros déchets et Bocaux"},false,0,0,0,0]
["Furoshikis - Taille S","5,00€","5",{"$f":"VLOOKUP(A262,Import!A:D,4,FALSE)","v":"Zéros déchets et Bocaux"},false,0,0,0,0,{"$f":"VLOOKUP(A262,Import!A:N,14)","v":"🇫🇷 France - Annemasse (74)"}]
["Fusilli Riz Quinoa ","12,00€ / kg","12",{"$f":"VLOOKUP(A263,Import!A:D,4,FALSE)","v":"Alimentaire Vrac"},false,0,0,0,0,{"$f":"VLOOKUP(A263,Import!A:N,14)","v":"🇫🇷 France"}]
["Gamme anti âge - Contour des yeux - Endro ",9.9,9.9,{"$f":"VLOOKUP(A264,Import!A:D,4,FALSE)","v":"Produits d'hygiène coporelle"},false,0,0,0,0]
["Gamme anti âge - Crème - Endro ",19.899999999999999,19.899999999999999,{"$f":"VLOOKUP(A265,Import!A:D,4,FALSE)","v":"Produits d'hygiène coporelle"},false,0,0,0,0]
["Gamme anti âge - Sérum- Endro ",24.9,24.9,{"$f":"VLOOKUP(A266,Import!A:D,4,FALSE)","v":"Produits d'hygiène coporelle"},false,0,0,0,0]
["Gant de toilette","5,50€","5,5",{"$f":"VLOOKUP(A267,Import!A:D,4,FALSE)","v":"Zéros déchets et Bocaux"},false,0,0,0,0,{"$f":"VLOOKUP(A267,Import!A:N,14)","v":"🇫🇷 France - Annemasse (74)"}]
["Gel douche vrac - Karité verveine","8,30€ / kg","8,3",{"$f":"VLOOKUP(A268,Import!A:D,4,FALSE)","v":"Produits d'entretiens"},false,0,0,0,0]
["Gel WC - Vrac","5,90€ / kg","5,9",{"$f":"VLOOKUP(A269,Import!A:D,4,FALSE)","v":"Produits d'entretiens"},false,0,0,0,0]
["Gingembre Confit irréguliers ","14,50€ / kg","14,5",{"$f":"VLOOKUP(A270,Import!A:D,4,FALSE)","v":"Alimentaire Vrac"},false,0,0,0,0,{"$f":"VLOOKUP(A270,Import!A:N,14)","v":"🇨🇳 Chine"}]
["Gingembre en Poudre ","50,00€ / kg","50",{"$f":"VLOOKUP(A271,Import!A:D,4,FALSE)","v":"Alimentaire Vrac"},false,0,0,0,0]
["Gommage visage Douce Aloe","14,90€","14,9",{"$f":"VLOOKUP(A272,Import!A:D,4,FALSE)","v":"Produits d'hygiène coporelle"},false,0,0,0,0]
["Goupillon","1,15€",1.1499999999999999,{"$f":"VLOOKUP(A273,Import!A:D,4,FALSE)","v":{"$error":"#N/A"}},false,0,0,0,0]
["Graines de Chia ","50€ / kg","5",{"$f":"VLOOKUP(A274,Import!A:D,4,FALSE)","v":"Alimentaire Vrac"},false,0,0,0,0]
["Graines de Courges Foncées ","18,50€ / kg","18,5",{"$f":"VLOOKUP(A275,Import!A:D,4,FALSE)","v":"Alimentaire Vrac"},false,0,0,0,0]
["Graines de Lin Brun ","6,20€ / kg","6,2",{"$f":"VLOOKUP(A276,Import!A:D,4,FALSE)","v":"Alimentaire Vrac"},false,0,0,0,0]
["Graines de Pavot","135€ / kg","135",{"$f":"VLOOKUP(A277,Import!A:D,4,FALSE)","v":"Alimentaire Vrac"},false,0,0,0,0]
["Graines de Sésame ","30€ / kg","30",{"$f":"VLOOKUP(A278,Import!A:D,4,FALSE)","v":"Alimentaire Vrac"},false,0,0,0,0]
["Haricots Blancs ","6,00€ / kg","6",{"$f":"VLOOKUP(A279,Import!A:D,4,FALSE)","v":"Alimentaire Vrac"},false,0,0,0,0]
["Haricots Noirs","7,50€ / kg","7,5",{"$f":"VLOOKUP(A280,Import!A:D,4,FALSE)","v":"Alimentaire Vrac"},false,0,0,0,0]
["Haricots Rouges ","7,50€ /kg","7,5",{"$f":"VLOOKUP(A281,Import!A:D,4,FALSE)","v":"Alimentaire Vrac"},false,0,0,0,0]
["Herbes de provence ","54,00€ / kg","54",{"$f":"VLOOKUP(A282,Import!A:D,4,FALSE)","v":"Alimentaire Vrac"},false,0,0,0,0]
["Huile d’Olive extra vierge ","9€ / kg",9,{"$f":"VLOOKUP(A283,Import!A:D,4,FALSE)","v":"Alimentaire Vrac"},false,0,0,0,0]
["Huile d’olive Luce - 1L",10.9,"9,5",{"$f":"VLOOKUP(A284,Import!A:D,4,FALSE)","v":"Alimentaire Conditionné"},false,0,0,0,0]
["Huile de Cameline - 25cl","10,50€","10,5",{"$f":"VLOOKUP(A285,Import!A:D,4,FALSE)","v":"Alimentaire Conditionné"},false,0,0,0,0]
["Huile de Chanvre - 25cl","11,50€","11,5",{"$f":"VLOOKUP(A286,Import!A:D,4,FALSE)","v":"Alimentaire Conditionné"},false,0,0,0,0]
["Huile de Coco vierge","12,00€ / kg","12",{"$f":"VLOOKUP(A287,Import!A:D,4,FALSE)","v":"Alimentaire Vrac"},false,0,0,0,0]
["Huile de Colza - 1L","14,00€","14",{"$f":"VLOOKUP(A288,Import!A:D,4,FALSE)","v":"Alimentaire Conditionné"},false,0,0,0,0]
["Huile de Colza - 50cl","7,00€","7",{"$f":"VLOOKUP(A289,Import!A:D,4,FALSE)","v":"Alimentaire Conditionné"},false,0,0,0,0]
["Huile de Colza - en vrac ","11,00€","11",{"$f":"VLOOKUP(A290,Import!A:D,4,FALSE)","v":"Alimentaire Vrac"},false,0,0,0,0,{"$f":"VLOOKUP(A290,Import!A:N,13)","v":"Clos de Galène"}]
["Huile de Lin - 25cl ","7,50€","7,5",{"$f":"VLOOKUP(A291,Import!A:D,4,FALSE)","v":"Alimentaire Conditionné"},false,0,0,0,0,{"$f":"VLOOKUP(A291,Import!A:N,13)","v":"Clos de Galène"}]
["Huile de soin Antixiodante - Clemence & Vivien ","11,90€","11,9",{"$f":"VLOOKUP(A292,Import!A:D,4,FALSE)","v":"Produits d'hygiène coporelle"},false,0,0,0,0,{"$f":"VLOOKUP(A292,Import!A:N,13)","v":"Clémence & Vivien"}]
["Huile de soin Peaux Mixtes - Clemence & Vivien ","11,90€","11,9",{"$f":"VLOOKUP(A293,Import!A:D,4,FALSE)","v":"Produits d'hygiène coporelle"},false,0,0,0,0]
["Huile de soin Peaux Sèches - Clemence & Vivien ","11,90€","11,9",{"$f":"VLOOKUP(A294,Import!A:D,4,FALSE)","v":"Produits d'hygiène coporelle"},false,0,0,0,0]
["Huile de Tournesol - 1L","12,00€","12",{"$f":"VLOOKUP(A295,Import!A:D,4,FALSE)","v":"Alimentaire Conditionné"},false,0,0,0,0]
["Huile de Tournesol - 50cl","6,00€","6",{"$f":"VLOOKUP(A296,Import!A:D,4,FALSE)","v":"Alimentaire Conditionné"},false,0,0,0,0]
["Huile de Tournesol - en vrac ","7,90€ / kg","7,9",{"$f":"VLOOKUP(A297,Import!A:D,4,FALSE)","v":"Alimentaire Vrac"},false,0,0,0,0]
["Huile démaquillante toute douce Amande - Clemence & Vivien ","11,90€","11,9",{"$f":"VLOOKUP(A298,Import!A:D,4,FALSE)","v":"Produits d'hygiène coporelle"},false,0,0,0,0]
["Huile démaquillante toute douce Rose-Muguet - Clemence & Vivien ","11,90€","11,9",{"$f":"VLOOKUP(A299,Import!A:D,4,FALSE)","v":"Produits d'hygiène coporelle"},false,0,0,0,0]
["Huile Sèche 3 en 1 - Endro","19,90€","19,9",{"$f":"VLOOKUP(A300,Import!A:D,4,FALSE)","v":"Produits d'hygiène coporelle"},false,0,0,0,0]
["Jus d’orange du Maroc - 75cl","4€","4",{"$f":"VLOOKUP(A301,Import!A:D,4,FALSE)","v":"Boissons conditionnées"},false,0,{"$f":"IF(F301=\"100G\",0.1,IF(F301=\"250G\",0.25,IF(F301=\"500G\",0.5,IF(F301=\"1 Kilo\",1,F301))))","v":0},0,0]
["Jus de citron Sicile - 1L","5,90€","5,9",{"$f":"VLOOKUP(A302,Import!A:D,4,FALSE)","v":"Boissons conditionnées"},false,0,0,0,0]
["Jus de citron Sicile - 50cl","3,50€","3,5",{"$f":"VLOOKUP(A303,Import!A:D,4,FALSE)","v":"Boissons conditionnées"},false,0,0,0,0]
["Jus de Pamplemousse rose Demeter - 75cl","4,50€","4,5",{"$f":"VLOOKUP(A304,Import!A:D,4,FALSE)","v":"Boissons conditionnées"},false,0,0,0,0]
["Jus de Pomme 1L ","4,50€","4,5",{"$f":"VLOOKUP(A305,Import!A:D,4,FALSE)","v":"Boissons conditionnées"},false,0,0,0,0]
["Jus de Pomme Cassis - 75cl","4€","4",{"$f":"VLOOKUP(A306,Import!A:D,4,FALSE)","v":"Boissons conditionnées"},false,0,0,0,0,{"$f":"VLOOKUP(A306,Import!A:N,14)","v":"🇫🇷 France "}]
["Jus de Raisin 1L","4,50€","4,5",{"$f":"VLOOKUP(A307,Import!A:D,4,FALSE)","v":"Boissons conditionnées"},false,0,0,0,0,{"$f":"VLOOKUP(A307,Import!A:N,14)","v":"🇫🇷 France - Tournon (73)"}]
["Jus Pomme Cassis 1L ","4,50€","4,5",{"$f":"VLOOKUP(A308,Import!A:D,4,FALSE)","v":"Boissons conditionnées"},false,0,0,0,0,{"$f":"VLOOKUP(A308,Import!A:N,14)","v":"🇫🇷 France - Tournon (73)"}]
["Jus Pomme Framboise - 1L","4,90€","4,9",{"$f":"VLOOKUP(A309,Import!A:D,4,FALSE)","v":"Boissons conditionnées"},false,0,0,0,0,{"$f":"VLOOKUP(A309,Import!A:N,14)","v":"🇫🇷 France - Tournon (73)"}]
["Ketchup bouteille - 500g","3,50€","3,5",{"$f":"VLOOKUP(A310,Import!A:D,4,FALSE)","v":"Alimentaire Conditionné"},false,0,0,0,0,{"$f":"VLOOKUP(A310,Import!A:N,14)","v":"🇮🇹 Italie"}]
["Kombucha - Citron Gingembre - 33cl","4,50€","4,5",{"$f":"VLOOKUP(A311,Import!A:D,4,FALSE)","v":"Boissons conditionnées"},false,0,{"$f":"IF(F311=\"100G\",0.1,IF(F311=\"250G\",0.25,IF(F311=\"500G\",0.5,IF(F311=\"1 Kilo\",1,F311))))","v":0},0,0,{"$f":"VLOOKUP(A311,Import!A:N,14)","v":"🇫🇷 France - Decines (69)"}]
["Kombucha - Menthe - 33cl","4,50€","4,5",{"$f":"VLOOKUP(A312,Import!A:D,4,FALSE)","v":"Boissons conditionnées"},false,0,0,0,0]
["Kombucha - Nature - 33cl","4,50€","4,5",{"$f":"VLOOKUP(A313,Import!A:D,4,FALSE)","v":"Boissons conditionnées"},false,0,0,0,0]
["Lait après-soleil - 100ml","14,90€","14,9",{"$f":"VLOOKUP(A314,Import!A:D,4,FALSE)","v":"Produits d'hygiène coporelle"},false,0,0,0,0]
["Lait après-soleil - 50ml","9,90€","9,9",{"$f":"VLOOKUP(A315,Import!A:D,4,FALSE)","v":"Produits d'hygiène coporelle"},false,0,0,0,0]
["Lait corps au beurre de Karité Vrac","31,00€","31",{"$f":"VLOOKUP(A316,Import!A:D,4,FALSE)","v":"Produits d'hygiène coporelle"},false,0,0,0,0]
["Lait UHT 1/2 écrémé - 1L","1,50€","1,5",{"$f":"VLOOKUP(A317,Import!A:D,4,FALSE)","v":"Boissons conditionnées"},false,0,{"$f":"IF(F317=\"100G\",0.1,IF(F317=\"250G\",0.25,IF(F317=\"500G\",0.5,IF(F317=\"1 Kilo\",1,F317))))","v":0},0,0]
["Lait UHT entier - 1L","1,95€",1.95,{"$f":"VLOOKUP(A318,Import!A:D,4,FALSE)","v":"Boissons conditionnées"},false,0,0,0,0]
["Lentilles Corail"," 8,50€ / kg","8,5",{"$f":"VLOOKUP(A319,Import!A:D,4,FALSE)","v":"Alimentaire Vrac"},false,0,0,0,0]
["Lessive Fleur à Savon ","4,35€ / kg",4.3499999999999996,{"$f":"VLOOKUP(A320,Import!A:D,4,FALSE)","v":"Produits d'entretiens"},false,0,0,0,0]
["Lessive Hypoallergénique","5,90€ / kg","5,9",{"$f":"VLOOKUP(A321,Import!A:D,4,FALSE)","v":"Produits d'entretiens"},false,0,0,0,0]
["Levure Paillettes Maltées","9,50€ / kg","9,5",{"$f":"VLOOKUP(A322,Import!A:D,4,FALSE)","v":"Alimentaire Vrac"},false,0,0,0,0]
["Limonade Bulles d’orange - 25cl","3,00 €","3",{"$f":"VLOOKUP(A323,Import!A:D,4,FALSE)","v":"Boissons conditionnées"},false,0,{"$f":"IF(F323=\"100G\",0.1,IF(F323=\"250G\",0.25,IF(F323=\"500G\",0.5,IF(F323=\"1 Kilo\",1,F323))))","v":0},{"$f":"G323","v":0},0]
["Limonade Sucre de Canne 1L","4€","4",{"$f":"VLOOKUP(A324,Import!A:D,4,FALSE)","v":"Boissons conditionnées"},false,0,0,0,0]
["Liquide Vaisselle Main - Vrac ","3,80€ / kg","3,8",{"$f":"VLOOKUP(A325,Import!A:D,4,FALSE)","v":"Produits d'entretiens"},false,0,0,0,0]
["Maïs Popcorn ","4,50€ / kg","4,5",{"$f":"VLOOKUP(A326,Import!A:D,4,FALSE)","v":"Alimentaire Vrac"},false,0,0,0,0]
["Mangues séchées","27,50€ / kg","27,5",{"$f":"VLOOKUP(A327,Import!A:D,4,FALSE)","v":"Alimentaire Vrac"},false,0,0,0,0]
["Masque Visage Purifiant - Endro","24,90 €","24,9",{"$f":"VLOOKUP(A328,Import!A:D,4,FALSE)","v":"Produits d'hygiène coporelle"},false,0,0,0,0]
["Maté Nature - Vrac","45€ / kg","45",{"$f":"VLOOKUP(A329,Import!A:D,4,FALSE)","v":"Boisson en Vrac"},false,0,0,0,0]
["Mayonnaise dijonnaise - 185g","3,50 €","3,5",{"$f":"VLOOKUP(A330,Import!A:D,4,FALSE)","v":"Alimentaire Conditionné"},false,0,0,0,0]
["Mayonnaise nature - 325g","5€","5",{"$f":"VLOOKUP(A331,Import!A:D,4,FALSE)","v":"Alimentaire Conditionné"},false,0,0,0,0]
["Mélange Détox","20,50 € / kg","20,5",{"$f":"VLOOKUP(A332,Import!A:D,4,FALSE)","v":"Alimentaire Vrac"},false,0,0,0,0]
["Mélange Energie","18,50 € /kg","18,5",{"$f":"VLOOKUP(A333,Import!A:D,4,FALSE)","v":"Alimentaire Vrac"},false,0,0,0,0]
["Mélange Exotique","18,50 € / kg","18,5",{"$f":"VLOOKUP(A334,Import!A:D,4,FALSE)","v":"Alimentaire Vrac"},false,0,0,0,0]
["Mélange Rando ","18,50 € / kg","18,5",{"$f":"VLOOKUP(A335,Import!A:D,4,FALSE)","v":"Alimentaire Vrac"},false,0,0,0,0]
["Mélange Salade","15,50€/kg","15,5",{"$f":"VLOOKUP(A336,Import!A:D,4,FALSE)","v":"Alimentaire Vrac"},false,0,0,0,0]
["Miel d’Acacia - 250g","6,90 €","6,9",{"$f":"VLOOKUP(A337,Import!A:D,4,FALSE)","v":"Alimentaire Conditionné"},false,0,0,0,0]
["Miel d’Acacia - 500g","12,50 €","12,5",{"$f":"VLOOKUP(A338,Import!A:D,4,FALSE)","v":"Alimentaire Conditionné"},false,0,0,0,0]
["Miel de Lavande - 250g","8,50 €","8,5",{"$f":"VLOOKUP(A339,Import!A:D,4,FALSE)","v":"Alimentaire Conditionné"},false,0,0,0,0]
["Miel de Lavande - 500g","14,90 €","14,9",{"$f":"VLOOKUP(A340,Import!A:D,4,FALSE)","v":"Alimentaire Conditionné"},false,0,0,0,0]
["Miel de Printemps - 250g","6,90 €","6,9",{"$f":"VLOOKUP(A341,Import!A:D,4,FALSE)","v":"Alimentaire Conditionné"},false,0,0,0,0]
["Miel de Printemps - 500g","12€","12",{"$f":"VLOOKUP(A342,Import!A:D,4,FALSE)","v":"Alimentaire Conditionné"},false,0,0,0,0]
["Miel de Sapin - 250g","8,50 €","8,5",{"$f":"VLOOKUP(A343,Import!A:D,4,FALSE)","v":"Alimentaire Conditionné"},false,0,0,0,0]
["Miel de Sapin - 500g","15,00 €","15",{"$f":"VLOOKUP(A344,Import!A:D,4,FALSE)","v":"Alimentaire Conditionné"},false,0,0,0,0]
["Miel de Tilleul - 250g","7,50 €","7,5",{"$f":"VLOOKUP(A345,Import!A:D,4,FALSE)","v":"Alimentaire Conditionné"},false,0,0,0,0]
["Miel de Tilleul - 500g","12,50 €","12,5",{"$f":"VLOOKUP(A346,Import!A:D,4,FALSE)","v":"Alimentaire Conditionné"},false,0,0,0,0]
["Miel Polyfloral - 250g","6,50 €","6,5",{"$f":"VLOOKUP(A347,Import!A:D,4,FALSE)","v":"Alimentaire Conditionné"},false,0,0,0,0]
["Miel Polyfloral - 500g","11,50 €","11,5",{"$f":"VLOOKUP(A348,Import!A:D,4,FALSE)","v":"Alimentaire Conditionné"},false,0,0,0,0]
["Mini Filet à chute de savon","3,50 €","3,5",{"$f":"VLOOKUP(A349,Import!A:D,4,FALSE)","v":"Zéros déchets et Bocaux"},false,0,0,0,0]
["Mouchoirs","9,50 €","9,5",{"$f":"VLOOKUP(A350,Import!A:D,4,FALSE)","v":"Zéros déchets et Bocaux"},false,0,0,0,0]
["Moutarde à l’ancienne - 350g","4,20€","4,20",{"$f":"VLOOKUP(A351,Import!A:D,4,FALSE)","v":"Alimentaire Conditionné"},false,0,0,0,0]
["Moutarde de Dijon - 350g","4,20€","4,2",{"$f":"VLOOKUP(A352,Import!A:D,4,FALSE)","v":"Alimentaire Conditionné"},false,0,0,0,0]
["Muesli aux fruits","5,90 € / kg","5,9",{"$f":"VLOOKUP(A353,Import!A:D,4,FALSE)","v":"Alimentaire Vrac"},false,0,0,0,0,{"$f":"VLOOKUP(A353,Import!A:N,13)","v":"Scop Epice"}]
["Muesli croustillant chocolat ","10,50 € / kg","10,5",{"$f":"VLOOKUP(A354,Import!A:D,4,FALSE)","v":"Alimentaire Vrac"},false,0,0,0,0,{"$f":"VLOOKUP(A354,Import!A:N,13)","v":"Biodis"}]
["Multi Usage - Vrac ",5.9,5.9,{"$f":"VLOOKUP(A355,Import!A:D,4,FALSE)","v":"Produits d'entretiens"},false,0,0,0,0,{"$f":"VLOOKUP(A355,Import!A:N,13)","v":"Relais local"}]
["Muscade Noix Poudre ","76€ / kg","76",{"$f":"VLOOKUP(A356,Import!A:D,4,FALSE)","v":"Alimentaire Vrac"},false,0,0,0,0,{"$f":"VLOOKUP(A356,Import!A:N,13)","v":"Actibio"}]
["Nectar d’abricot 75cl ","4,50 €","4,5",{"$f":"VLOOKUP(A357,Import!A:D,4,FALSE)","v":"Boissons conditionnées"},false,0,{"$f":"IF(F357=\"100G\",0.1,IF(F357=\"250G\",0.25,IF(F357=\"500G\",0.5,IF(F357=\"1 Kilo\",1,F357))))","v":0},0,0,{"$f":"VLOOKUP(A357,Import!A:N,13)","v":"Relais local"}]
["Nectar de Pêche - 75cl ","4,50 €","4,5",{"$f":"VLOOKUP(A358,Import!A:D,4,FALSE)","v":"Boissons conditionnées"},false,0,0,0,0,{"$f":"VLOOKUP(A358,Import!A:N,13)","v":"Relais local"}]
["Nectar de Poire - 75cl ","4,50 €","4,5",{"$f":"VLOOKUP(A359,Import!A:D,4,FALSE)","v":"Boissons conditionnées"},false,0,0,0,0]
["Nettoyant visage - Peau sèche Hibiscus ","8,90 €","8,9",{"$f":"VLOOKUP(A360,Import!A:D,4,FALSE)","v":"Produits d'hygiène coporelle"},false,0,0,0,0]
["Nids de Pâtes de Riz Thai Complet ","17,50 € / kg","17,5",{"$f":"VLOOKUP(A361,Import!A:D,4,FALSE)","v":"Alimentaire Vrac"},false,0,0,0,0]
["Noisettes décortiquées","18,90 € / kg","18,9",{"$f":"VLOOKUP(A362,Import!A:D,4,FALSE)","v":"Alimentaire Vrac"},false,0,0,0,0]
["Noix Cerneaux Brisures 3-12m","28,50 € / kg","28,5",{"$f":"VLOOKUP(A363,Import!A:D,4,FALSE)","v":"Alimentaire Vrac"},false,0,0,0,0]
["Noix de Cajou Nature","23,50 € / kg","2,5",{"$f":"VLOOKUP(A364,Import!A:D,4,FALSE)","v":"Alimentaire Vrac"},false,0,0,0,0]
["Noix de coco Chips ","12,00 € / kg","12",{"$f":"VLOOKUP(A365,Import!A:D,4,FALSE)","v":"Alimentaire Vrac"},false,0,0,0,0]
["Noix de Coco Râpée ","8€ / kg","8",{"$f":"VLOOKUP(A366,Import!A:D,4,FALSE)","v":"Alimentaire Vrac"},false,0,0,0,0]
["Noix de Pécan - Gros Morceaux ","29,00 € / kg","29",{"$f":"VLOOKUP(A367,Import!A:D,4,FALSE)","v":"Alimentaire Vrac"},false,0,0,0,0]
["Noix du brésil ","22,00 € / kg","22",{"$f":"VLOOKUP(A368,Import!A:D,4,FALSE)","v":"Alimentaire Vrac"},false,0,0,0,0]
["Oeufs frais bio (boîte de 6)",3,3,{"$f":"VLOOKUP(A369,Import!A:D,4,FALSE)","v":"Produits Frais"},false,0,0,0,0]
["Oriculi en bioplastique - Bleu","4,50 €","4,5",{"$f":"VLOOKUP(A370,Import!A:D,4,FALSE)","v":"Produits d'hygiène coporelle"},false,0,0,0,0]
["Oriculi en bioplastique - Jaune","4,50 €","4,5",{"$f":"VLOOKUP(A371,Import!A:D,4,FALSE)","v":"Produits d'hygiène coporelle"},false,0,0,0,0,{"$f":"VLOOKUP(A371,Import!A:N,14)","v":"🇫🇷 France"}]
["Oriculi en bioplastique - Vert","4,50 €","4,5",{"$f":"VLOOKUP(A372,Import!A:D,4,FALSE)","v":"Produits d'hygiène coporelle"},false,0,0,0,0,{"$f":"VLOOKUP(A372,Import!A:N,14)","v":"🇫🇷 France"}]
["Oriculi en bioplastique - Violet","4,50 €","4,5",{"$f":"VLOOKUP(A373,Import!A:D,4,FALSE)","v":"Produits d'hygiène coporelle"},false,0,0,0,0,{"$f":"VLOOKUP(A373,Import!A:N,14)","v":"🇫🇷 France"}]
["Paille Courte - 13cm Gravée","1,49 €",1.49,{"$f":"VLOOKUP(A374,Import!A:D,4,FALSE)","v":"Zéros déchets et Bocaux"},false,0,0,0,0,{"$f":"VLOOKUP(A374,Import!A:N,14)","v":"🇫🇷 France - Attignat (01)"}]
["Paille Longue - 20cm Gravée","1,69 €",1.69,{"$f":"VLOOKUP(A375,Import!A:D,4,FALSE)","v":"Zéros déchets et Bocaux"},false,0,0,0,0,{"$f":"VLOOKUP(A375,Import!A:N,14)","v":"🇫🇷 France - Attignat (01)"}]
["Panier de rangement (Panier seul)","9,50 €","9,5",{"$f":"VLOOKUP(A376,Import!A:D,4,FALSE)","v":"Zéros déchets et Bocaux"},false,0,0,0,0,{"$f":"VLOOKUP(A376,Import!A:N,14)","v":"🇫🇷 France - Annemasse (74)"}]
["Papier toilette 600 feuilles non blanchi","0,95 €",0.95,{"$f":"VLOOKUP(A377,Import!A:D,4,FALSE)","v":"Produits d'entretiens"},false,0,0,0,0,{"$f":"VLOOKUP(A377,Import!A:N,14)","v":"🇫🇷 France "}]
["Paprika Doux Poudre ","67,00 € / kg","67",{"$f":"VLOOKUP(A378,Import!A:D,4,FALSE)","v":"Alimentaire Vrac"},false,0,0,0,0,{"$f":"VLOOKUP(A378,Import!A:N,14)","v":"🇪🇸 Espagne"}]
["Paprika Fort moulu","88,00 € / kg","88",{"$f":"VLOOKUP(A379,Import!A:D,4,FALSE)","v":"Alimentaire Vrac"},false,0,0,0,0,{"$f":"VLOOKUP(A379,Import!A:N,14)","v":"🇪🇸 Espagne"}]
["Pâte à tartiner - Amande sésame miel","7,50€","7,5",{"$f":"VLOOKUP(A380,Import!A:D,4,FALSE)","v":"Alimentaire Conditionné"},false,0,0,0,0]
["Pâte à tartiner - Cajou coco miel bio","7,50€","7,5",{"$f":"VLOOKUP(A381,Import!A:D,4,FALSE)","v":"Alimentaire Conditionné"},false,0,0,0,0]
["Pâte à tartiner Amande Miel - 280g ","10,50€","10,50",{"$f":"VLOOKUP(A382,Import!A:D,4,FALSE)","v":"Alimentaire Conditionné"},false,0,0,0,0]
["Pâte à tartiner Choc-Noisettes - 265g ","9,90€","9,9",{"$f":"VLOOKUP(A383,Import!A:D,4,FALSE)","v":"Alimentaire Conditionné"},false,0,0,0,0]
["Pâtes - Coquillettes blanches","3,50€ / kg","3,5",{"$f":"VLOOKUP(A384,Import!A:D,4,FALSE)","v":"Alimentaire Vrac"},false,0,0,0,0]
["Pâtes - Coquillettes Semi Complètes ","3,50€ / kg","3,5",{"$f":"VLOOKUP(A385,Import!A:D,4,FALSE)","v":"Alimentaire Vrac"},false,0,0,0,0]
["Pâtes - Farfalles Blanches ","3,30€ / kg","3,3",{"$f":"VLOOKUP(A386,Import!A:D,4,FALSE)","v":"Alimentaire Vrac"},false,0,0,0,0]
["Pâtes - Lasagnes Blanches ","6,00€ / kg","6",{"$f":"VLOOKUP(A387,Import!A:D,4,FALSE)","v":"Alimentaire Vrac"},false,0,0,{"$f":"G387","v":0},0]
["Pâtes - Pennes Blancs ","3,50€ / kg","4,5",{"$f":"VLOOKUP(A388,Import!A:D,4,FALSE)","v":"Alimentaire Vrac"},false,0,0,0,0]
["Pâtes - Pennes Semi Complets","3,50€ / kg","4,5",{"$f":"VLOOKUP(A389,Import!A:D,4,FALSE)","v":"Alimentaire Vrac"},false,0,0,0,0]
["Pâtes - Spaghettis Blancs","3,30€/kg","3,3",{"$f":"VLOOKUP(A390,Import!A:D,4,FALSE)","v":"Alimentaire Vrac"},false,0,0,0,0]
["Pâtes - Spaghettis Complets","3,30€/kg","3,3",{"$f":"VLOOKUP(A391,Import!A:D,4,FALSE)","v":"Alimentaire Vrac"},false,0,0,0,0]
["Pâtes - Tagliatelles Nature sans oeufs","4,50€/kg","4,5",{"$f":"VLOOKUP(A392,Import!A:D,4,FALSE)","v":"Alimentaire Vrac"},false,0,0,0,0]
["Peigne Démeloir à manche","6,49 €",6.49,{"$f":"VLOOKUP(A393,Import!A:D,4,FALSE)","v":"Produits d'hygiène coporelle"},false,0,0,0,0]
["Peigne Démêloir sans manche","6,49 €",6.49,{"$f":"VLOOKUP(A394,Import!A:D,4,FALSE)","v":"Produits d'hygiène coporelle"},false,0,0,0,0]
["Pelle à thé Inox",10.9,10.9,{"$f":"VLOOKUP(A395,Import!A:D,4,FALSE)","v":0},false,0,0,0,0]
["Percarbonate Blanchissant Linge Vrac ","4,90 € / kg","4,9",{"$f":"VLOOKUP(A396,Import!A:D,4,FALSE)","v":"Produits d'entretiens"},false,0,0,0,0]
["Pesto Ail des Ours","4,20 €","4,20",{"$f":"VLOOKUP(A397,Import!A:D,4,FALSE)","v":"Alimentaire Conditionné"},false,0,0,0,0]
["Pesto Basilic classique - ","4,20 €","4,2",{"$f":"VLOOKUP(A398,Import!A:D,4,FALSE)","v":"Alimentaire Conditionné"},false,0,0,0,0]
["Pesto Rosso - 90g","4,20 €","4,2",{"$f":"VLOOKUP(A399,Import!A:D,4,FALSE)","v":"Alimentaire Conditionné"},false,0,0,0,0]
["Pesto Verde - 90g","4,20 €","4,2",{"$f":"VLOOKUP(A400,Import!A:D,4,FALSE)","v":"Alimentaire Conditionné"},false,0,0,0,0]
["Petit Epeautre ","7,50 € / kg","7,5",{"$f":"VLOOKUP(A401,Import!A:D,4,FALSE)","v":"Alimentaire Vrac"},false,0,0,0,0]
["Petit Sac à thé de Noël","2,50 €","2,5",{"$f":"VLOOKUP(A402,Import!A:D,4,FALSE)","v":"Zéros déchets et Bocaux"},false,0,0,0,0]
["Pignons de Pin","67,00 € / kg","67",{"$f":"VLOOKUP(A403,Import!A:D,4,FALSE)","v":"Alimentaire Vrac"},false,0,0,0,0]
["Pistaches Coques Grillées Salées","35,00 € / kg","35",{"$f":"VLOOKUP(A404,Import!A:D,4,FALSE)","v":"Alimentaire Vrac"},false,0,0,0,0]
["Pistaches vertes sans coque non salées ","46,00 € / kg","46",{"$f":"VLOOKUP(A405,Import!A:D,4,FALSE)","v":"Alimentaire Vrac"},false,0,0,0,0]
["Pochette à brosse à dent ou à paille","3,50 €","3,5",{"$f":"VLOOKUP(A406,Import!A:D,4,FALSE)","v":"Zéros déchets et Bocaux"},false,0,0,0,0]
["Pochette à Goûter ","9,50 €","9,5",{"$f":"VLOOKUP(A407,Import!A:D,4,FALSE)","v":"Zéros déchets et Bocaux"},false,0,0,0,0]
["Pochette à Savon","4,50 €","4,5",{"$f":"VLOOKUP(A408,Import!A:D,4,FALSE)","v":"Zéros déchets et Bocaux"},false,0,0,0,0]
["Pois chiches","5€ / kg","5",{"$f":"VLOOKUP(A409,Import!A:D,4,FALSE)","v":"Alimentaire Vrac"},false,0,0,0,0]
["Poivre Blanc Grains ","115,00 € / kg","115",{"$f":"VLOOKUP(A410,Import!A:D,4,FALSE)","v":"Alimentaire Vrac"},false,0,0,0,0]
["Poivre Noir en poudre","50€/kg",50,{"$f":"VLOOKUP(A411,Import!A:D,4,FALSE)","v":"Alimentaire Vrac"},false,0,0,0,0]
["Poivre Noir Grains ","85,00 € / kg","85",{"$f":"VLOOKUP(A412,Import!A:D,4,FALSE)","v":"Alimentaire Vrac"},false,0,0,0,0]
["Polenta instantanée ","3,50 € / kg","3,5",{"$f":"VLOOKUP(A413,Import!A:D,4,FALSE)","v":"Alimentaire Vrac"},false,0,0,0,0]
["Pommes séchées rondelles ","25,00 € / kg","25",{"$f":"VLOOKUP(A414,Import!A:D,4,FALSE)","v":0},false,0,0,0,0]
["Porte savon classic vrac","8,00 €","8",{"$f":"VLOOKUP(A415,Import!A:D,4,FALSE)","v":"Produits d'hygiène coporelle"},false,0,0,0,0]
["Potion Detoxifiante -  33cl","3,50 €","3,5",{"$f":"VLOOKUP(A416,Import!A:D,4,FALSE)","v":"Boissons conditionnées"},false,0,{"$f":"IF(F416=\"100G\",0.1,IF(F416=\"250G\",0.25,IF(F416=\"500G\",0.5,IF(F416=\"1 Kilo\",1,F416))))","v":0},0,0]
["Potion Detoxifiante - 75cl","5,50€","5,50",{"$f":"VLOOKUP(A417,Import!A:D,4,FALSE)","v":"Boissons conditionnées"},false,0,0,0,0]
["Potion Energisante - 33cl","3,50 €","3,5",{"$f":"VLOOKUP(A418,Import!A:D,4,FALSE)","v":"Boissons conditionnées"},false,0,0,0,0]
["Potion Energisante - 75cl","5,50€","5,50",{"$f":"VLOOKUP(A419,Import!A:D,4,FALSE)","v":"Boissons conditionnées"},false,0,0,0,0]
["Potion Relaxante -  33cl","3,50 €","3,50",{"$f":"VLOOKUP(A420,Import!A:D,4,FALSE)","v":"Boissons conditionnées"},false,0,0,0,0]
["Potion Relaxante - 75cl","5,50€","5,50",{"$f":"VLOOKUP(A421,Import!A:D,4,FALSE)","v":"Boissons conditionnées"},false,0,0,0,0]
["Poudre à Lever sans Gluten ","17,90 € / kg","7,9",{"$f":"VLOOKUP(A422,Import!A:D,4,FALSE)","v":"Alimentaire Vrac"},false,0,0,0,0]
["Poudre d’Amande Blanche ","25€ / kg",25,{"$f":"VLOOKUP(A423,Import!A:D,4,FALSE)","v":0},false,0,0,0,0]
["Poudre d’amande complète","25€ / kg","25",{"$f":"VLOOKUP(A424,Import!A:D,4,FALSE)","v":"Alimentaire Vrac"},false,0,0,0,0]
["Protège slip","6,00 €","6",{"$f":"VLOOKUP(A425,Import!A:D,4,FALSE)","v":{"$error":"#N/A"}},false,0,0,0,0]
["Pruneaux dénoyautés ","22€ / kg","22",{"$f":"VLOOKUP(A426,Import!A:D,4,FALSE)","v":"Alimentaire Vrac"},false,0,0,0,0]
["Purée Amande 270g - Go Nuts","8,90€","8,9",{"$f":"VLOOKUP(A427,Import!A:D,4,FALSE)","v":"Alimentaire Conditionné"},false,0,0,0,0]
["Purée de Sésame Blanc - France - 350g","6,50€","6,5",{"$f":"VLOOKUP(A428,Import!A:D,4,FALSE)","v":"Alimentaire Conditionné"},false,0,0,0,0]
["Purée Noisette - 270g","8,50€","8,50",{"$f":"VLOOKUP(A429,Import!A:D,4,FALSE)","v":"Alimentaire Conditionné"},false,0,0,0,0]
["Quinoa Complet ","9,50€/kg","9,5",{"$f":"VLOOKUP(A430,Import!A:D,4,FALSE)","v":"Alimentaire Vrac"},false,0,0,0,0]
["Raisins secs Sultanines","7,90€/kg","7,9",{"$f":"VLOOKUP(A431,Import!A:D,4,FALSE)","v":"Alimentaire Vrac"},false,0,0,0,0]
["Rasoir de sûreté à lame rechargeable","45€","45",{"$f":"VLOOKUP(A432,Import!A:D,4,FALSE)","v":"Produits d'hygiène coporelle"},false,0,0,0,0]
["Recharge de 10 lames pour rasoir de sûreté","7,50€","7,5",{"$f":"VLOOKUP(A433,Import!A:D,4,FALSE)","v":"Produits d'hygiène coporelle"},false,0,0,0,0]
["Recouvre bol en coton enduit - Taille à Cake","7€","7",{"$f":"VLOOKUP(A434,Import!A:D,4,FALSE)","v":"Zéros déchets et Bocaux"},false,0,0,0,0]
["Recouvre bol en coton enduit - Taille à Gratin","9€","9",{"$f":"VLOOKUP(A435,Import!A:D,4,FALSE)","v":"Zéros déchets et Bocaux"},false,0,0,0,0]
["Recouvre bol en coton enduit - Taille L","9€","9",{"$f":"VLOOKUP(A436,Import!A:D,4,FALSE)","v":"Zéros déchets et Bocaux"},false,0,0,0,0]
["Recouvre bol en coton enduit - Taille M","7€","7",{"$f":"VLOOKUP(A437,Import!A:D,4,FALSE)","v":"Zéros déchets et Bocaux"},false,0,0,0,0]
["Recouvre bol en coton enduit - Taille S","5€","5",{"$f":"VLOOKUP(A438,Import!A:D,4,FALSE)","v":"Zéros déchets et Bocaux"},false,0,0,0,0]
["Recouvre bol en coton enduit - Taille XS","4€","4",{"$f":"VLOOKUP(A439,Import!A:D,4,FALSE)","v":"Zéros déchets et Bocaux"},false,0,0,0,0]
["Riz - Trio de Camargue ","6€/kg","6",{"$f":"VLOOKUP(A440,Import!A:D,4,FALSE)","v":"Alimentaire Vrac"},false,0,0,0,0]
["Riz Arborio Blanc pour Risotto ","5,50€/kg","5,5",{"$f":"VLOOKUP(A441,Import!A:D,4,FALSE)","v":"Alimentaire Vrac"},false,0,0,0,0]
["Riz Blanc Basmati Blanc ","5,50€/kg",5.5,{"$f":"VLOOKUP(A442,Import!A:D,4,FALSE)","v":"Alimentaire Vrac"},false,0,0,0,0]
["Riz Blanc IGP Camargue","5,50€/kg",5.5,{"$f":"VLOOKUP(A443,Import!A:D,4,FALSE)","v":"Alimentaire Vrac"},false,0,0,0,0]
["Riz Long blanc étuvé de Camargue ","4,90€/kg",4.9000000000000004,{"$f":"VLOOKUP(A444,Import!A:D,4,FALSE)","v":0},false,0,0,0,0]
["Riz Long Complet ","4,25€/kg",4.25,{"$f":"VLOOKUP(A445,Import!A:D,4,FALSE)","v":"Alimentaire Vrac"},false,0,0,0,0]
["Riz Rond Blanc ",null,null,{"$f":"VLOOKUP(A446,Import!A:D,4,FALSE)","v":"/"},false,0,0,0,0]
["Riz Rond blanc IGP Camargue","5,50€",5.5,{"$f":"VLOOKUP(A447,Import!A:D,4,FALSE)","v":"Alimentaire Vrac"},false,0,0,0,0]
["Riz semi complet IGP Camargue","4,90€/kg","4,9",{"$f":"VLOOKUP(A448,Import!A:D,4,FALSE)","v":"Alimentaire Vrac"},false,0,0,0,0]
["Romarin feuille ","65€/kg","65",{"$f":"VLOOKUP(A449,Import!A:D,4,FALSE)","v":"Alimentaire Vrac"},false,0,0,0,0]
["Ronds démaquillants - Lot de 5","7€","7",{"$f":"VLOOKUP(A450,Import!A:D,4,FALSE)","v":{"$error":"#N/A"}},false,0,0,0,0]
["Rooibos - Earl Grey ","60€/kg","60",{"$f":"VLOOKUP(A451,Import!A:D,4,FALSE)","v":"Boisson en vrac"},false,0,0,{"$f":"G451","v":0},0]
["Rooibos Nature","50€/kg","50",{"$f":"VLOOKUP(A452,Import!A:D,4,FALSE)","v":"Boisson en vrac"},false,0,0,0,0]
["Sac à congélation - Taille L","8,50€","8,5",{"$f":"VLOOKUP(A453,Import!A:D,4,FALSE)","v":"Zéros déchets et Bocaux"},false,0,0,0,0]
["Sac à congélation - Taille M","7,50€","7,5",{"$f":"VLOOKUP(A454,Import!A:D,4,FALSE)","v":"Zéros déchets et Bocaux"},false,0,0,0,0]
["Sac à congélation - Taille S","6,50€","6,5",{"$f":"VLOOKUP(A455,Import!A:D,4,FALSE)","v":"Zéros déchets et Bocaux"},false,0,0,0,0]
["Sac à vrac en Coton - Taille L","8,50€","8,5",{"$f":"VLOOKUP(A456,Import!A:D,4,FALSE)","v":"Zéros déchets et Bocaux"},false,0,0,0,0]
["Sac à vrac en Coton - Taille M","7,50€","7,5",{"$f":"VLOOKUP(A457,Import!A:D,4,FALSE)","v":"Zéros déchets et Bocaux"},false,0,0,0,0]
["Sac à vrac en Coton - Taille S","7€","7",{"$f":"VLOOKUP(A458,Import!A:D,4,FALSE)","v":"Zéros déchets et Bocaux"},false,0,0,0,0]
["Sarrasin Décortiqué ","7€ / kg",7,{"$f":"VLOOKUP(A459,Import!A:D,4,FALSE)","v":"Alimentaire Vrac"},false,0,0,0,0]
["Savon à froid l’Emir - Clemence & Vivien ",4.5,4.5,{"$f":"VLOOKUP(A460,Import!A:D,4,FALSE)","v":"Produits d'hygiène coporelle"},false,0,0,0,0]
["Savon à froid le Chérubin - Clemence & Vivien ",4.2,4.2,{"$f":"VLOOKUP(A461,Import!A:D,4,FALSE)","v":"Produits d'hygiène coporelle"},false,0,0,0,0]
["Savon à froid le Gandhi - Clemence & Vivien ",4.5,4.5,{"$f":"VLOOKUP(A462,Import!A:D,4,FALSE)","v":"Produits d'hygiène coporelle"},false,0,0,0,0]
["Savon à froid le Gecko - Clemence & Vivien ",4.5,4.5,{"$f":"VLOOKUP(A463,Import!A:D,4,FALSE)","v":"Produits d'hygiène coporelle"},false,0,0,0,0]
["Savon à froid le Saint Bernard - Clemence & Vivien ",4.5,4.5,{"$f":"VLOOKUP(A464,Import!A:D,4,FALSE)","v":"Produits d'hygiène coporelle"},false,0,0,0,0]
["Savon à froid le Suisse - Clemence & Vivien ",4.2,4.2,{"$f":"VLOOKUP(A465,Import!A:D,4,FALSE)","v":"Produits d'hygiène coporelle"},false,0,0,0,0]
["Savon à froid le Vahiné - Clemence & Vivien ",4.5,4.5,{"$f":"VLOOKUP(A466,Import!A:D,4,FALSE)","v":"Produits d'hygiène coporelle"},false,0,0,0,0]
["Savon liquide de Marseille à l’huile d’olive & Lavande","6,90€ / kg","6,9",{"$f":"VLOOKUP(A467,Import!A:D,4,FALSE)","v":"Produits d'hygiène coporelle"},false,0,0,0,0]
["Savon Noir Tradition - Vrac ","5€ / kg","5",{"$f":"VLOOKUP(A468,Import!A:D,4,FALSE)","v":"Produits d'entretiens"},false,0,0,0,0]
["Savon Soin Lavant Purifiant - Endro","14,90€","14,9",{"$f":"VLOOKUP(A469,Import!A:D,4,FALSE)","v":"Produits d'hygiène coporelle"},false,0,0,0,0]
["Sel de Mer Gros - Guérande","3,90€ / kg","3,9",{"$f":"VLOOKUP(A470,Import!A:D,4,FALSE)","v":"Alimentaire Vrac"},false,0,0,0,0]
["Sel fin de méditerrannée","3€ / kg","3",{"$f":"VLOOKUP(A471,Import!A:D,4,FALSE)","v":"Alimentaire Vrac"},false,0,0,0,0]
["Sel régénérant vrac","2,10€ / kg","2,1",{"$f":"VLOOKUP(A472,Import!A:D,4,FALSE)","v":"Produits d'entretiens"},false,0,0,0,0]
["Sérum anti-imperfection - Endro","24,90€","24,9",{"$f":"VLOOKUP(A473,Import!A:D,4,FALSE)","v":"Produits d'hygiène coporelle"},false,0,0,0,0]
["Sérum désaltérant à l’acide hyaluronique - Clemence & Vivien ",9.1999999999999993,9.1999999999999993,{"$f":"VLOOKUP(A474,Import!A:D,4,FALSE)","v":"Produits d'hygiène coporelle"},false,0,0,0,0]
["Sérum Longueurs et pointes - Clemence & Vivien ","8,90€","8,9",{"$f":"VLOOKUP(A475,Import!A:D,4,FALSE)","v":"Produits d'hygiène coporelle"},false,0,0,0,0]
["Serviette de table","8,50€","8,5",{"$f":"VLOOKUP(A476,Import!A:D,4,FALSE)","v":"Zéros déchets et Bocaux"},false,0,0,0,0]
["Serviette hygiénique ","9€","9",{"$f":"VLOOKUP(A477,Import!A:D,4,FALSE)","v":{"$error":"#N/A"}},false,0,0,0,0]
["Serviette hygiénique Nuit","11€","11",{"$f":"VLOOKUP(A478,Import!A:D,4,FALSE)","v":{"$error":"#N/A"}},false,0,0,0,0]
["Set Assiette et cuillère enfant - Bordeaux ","25€","25",{"$f":"VLOOKUP(A479,Import!A:D,4,FALSE)","v":"Zéros déchets et Bocaux"},false,0,0,0,0]
["Set Assiette et cuillère enfant - Lilas ","25€","25",{"$f":"VLOOKUP(A480,Import!A:D,4,FALSE)","v":"Zéros déchets et Bocaux"},false,0,0,0,0]
["Set de 3 couverts réutilisables","5,49€",5.49,{"$f":"VLOOKUP(A481,Import!A:D,4,FALSE)","v":"Zéros déchets et Bocaux"},false,0,0,0,0]
["Set de Repas Bébé - Bleu","23,50€","23,5",{"$f":"VLOOKUP(A482,Import!A:D,4,FALSE)","v":"Zéros déchets et Bocaux"},false,0,0,0,0]
["Set de Repas Bébé - Jaune","23,50€","23,5",{"$f":"VLOOKUP(A483,Import!A:D,4,FALSE)","v":"Zéros déchets et Bocaux"},false,0,0,0,0]
["Set de Repas Bébé - Rose","23,50€","23,5",{"$f":"VLOOKUP(A484,Import!A:D,4,FALSE)","v":"Zéros déchets et Bocaux"},false,0,0,0,0]
["Set de Repas Bébé - Vert","23,50€","23,5",{"$f":"VLOOKUP(A485,Import!A:D,4,FALSE)","v":"Zéros déchets et Bocaux"},false,0,0,0,0]
["Set de repas enfants","25€","25",{"$f":"VLOOKUP(A486,Import!A:D,4,FALSE)","v":"Zéros déchets et Bocaux"},false,0,0,0,0]
["Set de Table à colorier ","7,50€","7,5",{"$f":"VLOOKUP(A487,Import!A:D,4,FALSE)","v":"Zéros déchets et Bocaux"},false,0,0,0,0]
["Shampoing Douche à l’huile d’argan - Vrac",14.5,14.5,{"$f":"VLOOKUP(A488,Import!A:D,4,FALSE)","v":"Produits d'hygiène coporelle"},false,0,0,0,0]
["Shampoing sec - sans HE - 35ml","8,50€","8,5",{"$f":"VLOOKUP(A489,Import!A:D,4,FALSE)","v":"Produits d'hygiène coporelle"},false,0,0,0,0]
["Shampoing sec - sans HE - Recharge ","6€","6",{"$f":"VLOOKUP(A490,Import!A:D,4,FALSE)","v":"Produits d'hygiène coporelle"},false,0,0,0,0]
["Shampoing solide - Antipelliculaire - 80g","10,60€","10,6",{"$f":"VLOOKUP(A491,Import!A:D,4,FALSE)","v":"Produits d'hygiène coporelle"},false,0,0,0,0]
["Shampoing solide - Bleu - 80g","10,60€","10,6",{"$f":"VLOOKUP(A492,Import!A:D,4,FALSE)","v":"Produits d'hygiène coporelle"},false,0,0,0,0]
["Shampoing solide - Cheveux abîmés & colorés - Sans HE - 80g","10,60€","10,6",{"$f":"VLOOKUP(A493,Import!A:D,4,FALSE)","v":"Produits d'hygiène coporelle"},false,0,0,0,0]
["Shampoing solide - Cheveux abîmés et colorés - 80g","10,60€","10,6",{"$f":"VLOOKUP(A494,Import!A:D,4,FALSE)","v":"Produits d'hygiène coporelle"},false,0,0,0,0]
["Shampoing solide - Cheveux frisés / crépus - 80g","10,60€","10,6",{"$f":"VLOOKUP(A495,Import!A:D,4,FALSE)","v":"Produits d'hygiène coporelle"},false,0,0,0,0]
["Shampoing solide - Cheveux gras - 80g","10,60€","10,6",{"$f":"VLOOKUP(A496,Import!A:D,4,FALSE)","v":"Produits d'hygiène coporelle"},false,0,0,0,0]
["Shampoing solide - Cheveux gras - Sans HE 80g","10,60€","10,6",{"$f":"VLOOKUP(A497,Import!A:D,4,FALSE)","v":"Produits d'hygiène coporelle"},false,0,0,0,0]
["Shampoing solide - Sensible - 80g","10,60€","10,6",{"$f":"VLOOKUP(A498,Import!A:D,4,FALSE)","v":"Produits d'hygiène coporelle"},false,0,0,0,0]
["Shampoing solide - Stimulant - 80g","10,60€","10,6",{"$f":"VLOOKUP(A499,Import!A:D,4,FALSE)","v":"Produits d'hygiène coporelle"},false,0,0,0,0]
["Shampoing solide - Tout type de cheveux - 80g","10,60€","10,6",{"$f":"VLOOKUP(A500,Import!A:D,4,FALSE)","v":"Produits d'hygiène coporelle"},false,0,0,0,0]
["Sirop d’Erable ","25€/kg","25",{"$f":"VLOOKUP(A501,Import!A:D,4,FALSE)","v":"Alimentaire Vrac"},false,0,0,0,0]
["Sirop de Cassis - 70cl","6,90€","6,9",{"$f":"VLOOKUP(A502,Import!A:D,4,FALSE)","v":"Alimentaire Conditionné"},false,0,0,0,0]
["Sirop de Citron ","9,50€/kg","9,5",{"$f":"VLOOKUP(A503,Import!A:D,4,FALSE)","v":"Boisson en vrac"},false,0,0,0,0]
["Sirop de Grenadine","9,50€/kg","9,5",{"$f":"VLOOKUP(A504,Import!A:D,4,FALSE)","v":"Boisson en vrac"},false,0,0,0,0]
["Sirop de Menthe","9,50€/kg","9,5",{"$f":"VLOOKUP(A505,Import!A:D,4,FALSE)","v":"Boisson en vrac"},false,0,0,0,0]
["Sirop de Pamplemousse - 70cl ","6,90€","6,9",{"$f":"VLOOKUP(A506,Import!A:D,4,FALSE)","v":"Alimentaire Conditionné"},false,0,0,0,0]
["Sirop de Pêche","9,50€/kg","9,5",{"$f":"VLOOKUP(A507,Import!A:D,4,FALSE)","v":"Boisson en vrac"},false,0,0,0,0]
["Solution hydroalcolique","7,50€/kg","7,5",{"$f":"VLOOKUP(A508,Import!A:D,4,FALSE)","v":"Produits d'entretiens"},false,0,0,0,0]
["Spirales Complètes ","3,30€/kg","3,3",{"$f":"VLOOKUP(A509,Import!A:D,4,FALSE)","v":"Alimentaire Vrac"},false,0,0,0,0]
["Sucre Blanc de Canne","2,95€/kg",2.95,{"$f":"VLOOKUP(A510,Import!A:D,4,FALSE)","v":"Alimentaire Vrac"},false,null,0,0,0]
["Sucre Blond - Paraguay","3,20€/kg","3,2",{"$f":"VLOOKUP(A511,Import!A:D,4,FALSE)","v":"Alimentaire Vrac"},false,null,0,0,0]
["Sucre Complet - Rapadura ","4,90€/kg","4,9",{"$f":"VLOOKUP(A512,Import!A:D,4,FALSE)","v":"Alimentaire Vrac"},false,null,{"$f":"IF(F512=\"100G\",0.1,IF(F512=\"250G\",0.25,IF(F512=\"500G\",0.5,IF(F512=\"1 Kilo\",1,F512))))","v":0},0,{"$f":"H512*C512","v":0}]
["Sucre de Canne Complet","4,90€/kg",4.9000000000000004,{"$f":"VLOOKUP(A513,Import!A:D,4,FALSE)","v":"Alimentaire Vrac"},false,null,0,0,0]
["Sucre de Coco","5,50€/kg",5.5,{"$f":"VLOOKUP(A514,Import!A:D,4,FALSE)","v":"Alimentaire Vrac"},false,null,0,0,0]
["Sucre Glace sans séparateur ","5,50€/kg","5,5",{"$f":"VLOOKUP(A515,Import!A:D,4,FALSE)","v":"Alimentaire Vrac"},false,null,0,{"$f":"G515","v":0},0]
["Sucre Roux Demérara (Cassonade) ","3,50€/kg","3,5",{"$f":"VLOOKUP(A516,Import!A:D,4,FALSE)","v":"Alimentaire Vrac"},false,null,0,0,0]
["Super bain d’huile avant-shampoing - - Clemence & Vivien ","9,90€","9,9",{"$f":"VLOOKUP(A517,Import!A:D,4,FALSE)","v":"Produits d'hygiène coporelle"},false,null,0,0,0]
["Tablettes Lave Vaisselle Vrac","13,60€/kg","13,6",{"$f":"VLOOKUP(A518,Import!A:D,4,FALSE)","v":"Produits d'entretiens"},false,null,0,0,0]
["Tamari - Vrac","10,80€/kg","10,8",{"$f":"VLOOKUP(A519,Import!A:D,4,FALSE)","v":"Alimentaire Vrac"},false,null,0,0,0]
["Tamari, less salt 25% - 250ml","6,50€","6,5",{"$f":"VLOOKUP(A520,Import!A:D,4,FALSE)","v":"Alimentaire Conditionné"},false,null,0,0,0]
["Tartinade - de Noël","6€","6",{"$f":"VLOOKUP(A521,Import!A:D,4,FALSE)","v":"/"},false,null,0,0,0]
["Tartinade Apéro - Aubergine Paprika fumé","5,50€","5,5",{"$f":"VLOOKUP(A522,Import!A:D,4,FALSE)","v":"Alimentaire Conditionné"},false,null,0,0,0]
["Tartinade Apéro - Betterave Grains moutarde","5,50€","5,5",{"$f":"VLOOKUP(A523,Import!A:D,4,FALSE)","v":"Alimentaire Conditionné"},false,null,0,0,0]
["Tartinade Apéro - Butternut verveine citron","5,50€","5,5",{"$f":"VLOOKUP(A524,Import!A:D,4,FALSE)","v":"Alimentaire Conditionné"},false,null,0,0,0]
["Tartinade Apéro - Carotte cumin","5,50€","5,5",{"$f":"VLOOKUP(A525,Import!A:D,4,FALSE)","v":"Alimentaire Conditionné"},false,null,0,0,0]
["Tartinade Apéro - Chou fleur Ail noir","5,50€","5,5",{"$f":"VLOOKUP(A526,Import!A:D,4,FALSE)","v":"Alimentaire Conditionné"},false,null,0,0,0]
["Tartinade Apéro - Courgette Thym","5,50€","5,5",{"$f":"VLOOKUP(A527,Import!A:D,4,FALSE)","v":"Alimentaire Conditionné"},false,null,0,0,0]
["Tartinade Apéro - Gwacamole 130g","4,50€","4,5",{"$f":"VLOOKUP(A528,Import!A:D,4,FALSE)","v":"Alimentaire Conditionné"},false,null,0,0,0]
["Tartinade Apéro - Poichichade au paprika - 100g","4,50 €","4,5",{"$f":"VLOOKUP(A529,Import!A:D,4,FALSE)","v":"Alimentaire Conditionné"},false,null,0,0,0]
["Tartinade Apéro - Poichichade traditionnelle - 100g","4,00 €","4",{"$f":"VLOOKUP(A530,Import!A:D,4,FALSE)","v":"Alimentaire Conditionné"},false,null,0,0,0]
["Tartinade Apéro - Pois chiches Graines de Nigelle","5,50€","5,5",{"$f":"VLOOKUP(A531,Import!A:D,4,FALSE)","v":"Alimentaire Conditionné"},false,null,0,0,0]
["Tartinade Apéro - Tomates Sarriette","5,50€",5.5,{"$f":"VLOOKUP(A532,Import!A:D,4,FALSE)","v":"/"},false,null,0,0,0]
["Tartine Craquante Sarrasin - 300g","5,50€",5.5,{"$f":"VLOOKUP(A533,Import!A:D,4,FALSE)","v":"Alimentaire Conditionné"},false,null,0,0,0]
["Tête rechargeable pour Brosse vaisselle","2,70€","2,7",{"$f":"VLOOKUP(A534,Import!A:D,4,FALSE)","v":"Produits d'entretiens"},false,null,0,0,0]
["Thé Noir - Darjeling ","50€/kg","50",{"$f":"VLOOKUP(A535,Import!A:D,4,FALSE)","v":"Boisson en vrac"},false,null,0,0,0]
["Thé Noir - Earl Grey ","60€/kg","60",{"$f":"VLOOKUP(A536,Import!A:D,4,FALSE)","v":"Boisson en vrac"},false,null,0,0,0]
["Thé Noir - Noël","69€/kg","60",{"$f":"VLOOKUP(A537,Import!A:D,4,FALSE)","v":"Boisson en vrac"},false,null,0,0,0]
["Thé Vert - Au chant des cigales ","60€/kg","60",{"$f":"VLOOKUP(A538,Import!A:D,4,FALSE)","v":"Boisson en vrac"},false,null,0,0,0]
["Thé Vert - Earl Grey Azur ","60€/kg","60",{"$f":"VLOOKUP(A539,Import!A:D,4,FALSE)","v":"Boisson en vrac"},false,null,0,0,0]
["Thé Vert - Fruité Tropical","60€/kg","60",{"$f":"VLOOKUP(A540,Import!A:D,4,FALSE)","v":"Boisson en vrac"},false,null,0,0,0]
["Thé Vert - Gunpowder ","50€/kg","50",{"$f":"VLOOKUP(A541,Import!A:D,4,FALSE)","v":"Boisson en vrac"},false,null,0,0,0]
["Thé Vert - Jasmin","65€/kg","65",{"$f":"VLOOKUP(A542,Import!A:D,4,FALSE)","v":"Boisson en vrac"},false,null,0,0,0]
["Thé Vert - Mandarine Pamplemousse","60€/kg","60",{"$f":"VLOOKUP(A543,Import!A:D,4,FALSE)","v":"Boisson en vrac"},false,null,0,0,0]
["Thé Vert - Menthe Marrakech","60€/kg","60",null,false]
["Thym Feuilles ","140€/kg","140",null,false]
["Tisane - Après Repas","50€/kg","50",null,false]
["Tisane - Camomille","60€/kg","60",null,false]
["Tisane - Des elfes","60€/kg","60",null,false]
["Tisane - Du soir ","50€/kg","50",null,false]
["Tisane - Hibiscus","50€/kg","50",null,false]
["Tisane - La mésange bleue ","50€/kg","50",null,false]
["Tisane - Verveine citronnée ","50€/kg","50",null,false]
["Vermicelles demi complets","2,95€/kg",2.95,null,false]
["Vinaigre Balsamique","8,50€/kg","8,5",null,false]
["Vinaigre balsamique de Modène - 50cl","5,50€/kg","5,5",null,false]
["Vinaigre Blanc Naturel 14° - Vrac","4,90€/kg","4,9",null,false]
["Vinaigre de Cidre ","4,50€/kg","4,5",null,false]
["Vinaigre de Vin Rouge","3,75€/kg",3.75,null,false]
[null,null,null,null,false]
[null,null,null,null,false]
[null,null,null,null,false]
[null,null,null,null,false]
[null,null,null,null,false]
[null,null,null,null,false]
[null,null,null,null,false]
[null,null,null,null,false]
[null,null,null,null,false]
[null,null,null,null,false]
[null,null,null,null,false]
[null,null,null,null,false]
[null,null,null,null,false]
[null,null,null,null,false]
[null,null,null,null,false]
[null,null,null,null,false]
[null,null,null,null,false]
[null,null,null,null,false]
[null,null,null,null,false]
[null,null,null,null,false]
[null,null,null,null,false]
[null,null,null,null,false]
[null,null,null,null,false]
[null,null,null,null,false]
[null,null,null,null,false]
[null,null,null,null,false]
[null,null,null,null,false]
[null,null,null,null,false]
[null,null,null,null,false]
[null,null,null,null,false]
[null,null,null,null,false]
[null,null,null,null,false]
[null,null,null,null,false]
[null,null,null,null,false]
[null,null,null,null,false]
[null,null,null,null,false]
[null,null,null,null,false]
[null,null,null,null,false]
[null,null,null,null,false]
[null,null,null,null,false]
[null,null,null,null,false]
[null,null,null,null,false]
[null,null,null,null,false]
[null,null,null,null,false]
[null,null,null,null,false]
[null,null,null,null,false]
[null,null,null,null,false]
[null,null,null,null,false]
[null,null,null,null,false]
[null,null,null,null,false]
[null,null,null,null,false]
[null,null,null,null,false]
[null,null,null,null,false]
[null,null,null,null,false]
[null,null,null,null,false]
[null,null,null,null,false]
[null,null,null,null,false]
[null,null,null,null,false]
[null,null,null,null,false]
[null,null,null,null,false]
[null,null,null,null,false]
[null,null,null,null,false]
[null,null,null,null,false]
[null,null,null,null,false]
[null,null,null,null,false]
[null,null,null,null,false]
[null,null,null,null,false]
[null,null,null,null,false]
[null,null,null,null,false]
[null,null,null,null,false]
[null,null,null,null,false]
[null,null,null,null,false]
[null,null,null,null,false]
[null,null,null,null,false]
[null,null,null,null,false]
[null,null,null,null,false]
[null,null,null,null,false]
[null,null,null,null,false]
[null,null,null,null,false]
[null,null,null,null,false]
[null,null,null,null,false]
[null,null,null,null,false]
[null,null,null,null,false]
[null,null,null,null,false]
[null,null,null,null,false]
[null,null,null,null,false]
[null,null,null,null,false]
[null,null,null,null,false]
[null,null,null,null,false]
[null,null,null,null,false]
[null,null,null,null,false]
[null,null,null,null,false]
[null,null,null,null,false]
[null,null,null,null,false]
[null,null,null,null,false]
[null,null,null,null,false]
[null,null,null,null,false]
[null,null,null,null,false]
[null,null,null,null,false]
[null,null,null,null,false]
[null,null,null,null,false]
[null,null,null,null,false]
[null,null,null,null,false]
[null,null,null,null,false]
[null,null,null,null,false]
[null,null,null,null,false]
[null,null,null,null,false]
[null,null,null,null,false]
[null,null,null,null,false]
[null,null,null,null,false]
[null,null,null,null,false]
[null,null,null,null,false]
[null,null,null,null,false]
[null,null,null,null,false]
[null,null,null,null,false]
[null,null,null,null,false]
[null,null,null,null,false]
[null,null,null,null,false]
[null,null,null,null,false]
[null,null,null,null,false]
[null,null,null,null,false]
[null,null,null,null,false]
[null,null,null,null,false]
[null,null,null,null,false]
[null,null,null,null,false]
[null,null,null,null,false]
[null,null,null,null,false]
[null,null,null,null,false]
[null,null,null,null,false]
[null,null,null,null,false]
[null,null,null,null,false]
[null,null,null,null,false]
[null,null,null,null,false]
[null,null,null,null,false]
[null,null,null,null,false]
[null,null,null,null,false]
[null,null,null,null,false]
[null,null,null,null,false]
[null,null,null,null,false]
[null,null,null,null,false]
[null,null,null,null,false]
[null,null,null,null,false]
[null,null,null,null,false]
[null,null,null,null,false]
[null,null,null,null,false]
[null,null,null,null,false]
[null,null,null,null,false]
[null,null,null,null,false]
[null,null,null,null,false]
[null,null,null,null,false]
[null,null,null,null,false]
[null,null,null,null,false]
[null,null,null,null,false]
[null,null,null,null,false]
[null,null,null,null,false]
[null,null,null,null,false]
[null,null,null,null,false]
[null,null,null,null,false]
[null,null,null,null,false]
[null,null,null,null,false]
[null,null,null,null,false]
[null,null,null,null,false]
[null,null,null,null,false]
[null,null,null,null,false]
[null,null,null,null,false]
[null,null,null,null,false]
[null,null,null,null,false]
[null,null,null,null,false]
[null,null,null,null,false]
[null,null,null,null,false]
[null,null,null,null,false]
[null,null,null,null,false]
[null,null,null,null,false]
[null,null,null,null,false]
[null,null,null,null,false]
[null,null,null,null,false]
[null,null,null,null,false]
[null,null,null,null,false]
[null,null,null,null,false]
[null,null,null,null,false]
[null,null,null,null,false]
[null,null,null,null,false]
[null,null,null,null,false]
[null,null,null,null,false]
[null,null,null,null,false]
[null,null,null,null,false]
[null,null,null,null,false]
[null,null,null,null,false]
[null,null,null,null,false]
[null,null,null,null,false]
[null,null,null,null,false]
[null,null,null,null,false]
[null,null,null,null,false]
[null,null,null,null,false]
[null,null,null,null,false]
[null,null,null,null,false]
[null,null,null,null,false]
[null,null,null,null,false]
[null,null,null,null,false]
[null,null,null,null,false]
[null,null,null,null,false]
[null,null,null,null,false]
[null,null,null,null,false]
[null,null,null,null,false]
[null,null,null,null,false]
[null,null,null,null,false]
[null,null,null,null,false]
[null,null,null,null,false]
[null,null,null,null,false]
[null,null,null,null,false]
[null,null,null,null,false]
[null,null,null,null,false]
[null,null,null,null,false]
[null,null,null,null,false]
[null,null,null,null,false]
[null,null,null,null,false]
[null,null,null,null,false]
[null,null,null,null,false]
[null,null,null,null,false]
[null,null,null,null,false]
[null,null,null,null,false]
[null,null,null,null,false]
[null,null,null,null,false]
[null,null,null,null,false]
[null,null,null,null,false]
[null,null,null,null,false]
[null,null,null,null,false]
[null,null,null,null,false]
[null,null,null,null,false]
[null,null,null,null,false]
[null,null,null,null,false]
[null,null,null,null,false]
[null,null,null,null,false]
[null,null,null,null,false]
[null,null,null,null,false]
[null,null,null,null,false]
[null,null,null,null,false]
[null,null,null,null,false]
[null,null,null,null,false]
[null,null,null,null,false]
[null,null,null,null,false]
[null,null,null,null,false]
[null,null,null,null,false]
[null,null,null,null,false]
[null,null,null,null,false]
[null,null,null,null,false]
[null,null,null,null,false]
[null,null,null,null,false]
[null,null,null,null,false]
[null,null,null,null,false]
[null,null,null,null,false]
[null,null,null,null,false]
[null,null,null,null,false]
[null,null,null,null,false]
[null,null,null,null,false]
[null,null,null,null,false]
[null,null,null,null,false]
[null,null,null,null,false]
[null,null,null,null,false]
[null,null,null,null,false]
[null,null,null,null,false]
[null,null,null,null,false]
[null,null,null,null,false]
[null,null,null,null,false]
[null,null,null,null,false]
[null,null,null,null,false]
[null,null,null,null,false]
[null,null,null,null,false]
[null,null,null,null,false]
[null,null,null,null,false]
[null,null,null,null,false]
[null,null,null,null,false]
[null,null,null,null,false]
[null,null,null,null,false]
[null,null,null,null,false]
[null,null,null,null,false]
[null,null,null,null,false]
[null,null,null,null,false]
[null,null,null,null,false]
[null,null,null,null,false]
[null,null,null,null,false]
[null,null,null,null,false]
[null,null,null,null,false]
[null,null,null,null,false]
[null,null,null,null,false]
[null,null,null,null,false]
[null,null,null,null,false]
[null,null,null,null,false]
[null,null,null,null,false]
[null,null,null,null,false]
[null,null,null,null,false]
[null,null,null,null,false]
[null,null,null,null,false]
[null,null,null,null,false]
[null,null,null,null,false]
[null,null,null,null,false]
[null,null,null,null,false]
[null,null,null,null,false]
[null,null,null,null,false]
[null,null,null,null,false]
[null,null,null,null,false]
[null,null,null,null,false]
[null,null,null,null,false]
[null,null,null,null,false]
[null,null,null,null,false]
[null,null,null,null,false]
[null,null,null,null,false]
[null,null,null,null,false]
[null,null,null,null,false]
[null,null,null,null,false]
[null,null,null,null,false]
[null,null,null,null,false]
[null,null,null,null,false]
[null,null,null,null,false]
[null,null,null,null,false]
[null,null,null,null,false]
[null,null,null,null,false]
[null,null,null,null,false]
[null,null,null,null,false]
[null,null,null,null,false]
[null,null,null,null,false]
[null,null,null,null,false]
[null,null,null,null,false]
[null,null,null,null,false]
[null,null,null,null,false]
[null,null,null,null,false]
[null,null,null,null,false]
[null,null,null,null,false]
[null,null,null,null,false]
[null,null,null,null,false]
[null,null,null,null,false]
[null,null,null,null,false]
[null,null,null,null,false]
[null,null,null,null,false]
[null,null,null,null,false]
[null,null,null,null,false]
[null,null,null,null,false]
[null,null,null,null,false]
[null,null,null,null,false]
[null,null,null,null,false]
[null,null,null,null,false]
[null,null,null,null,false]
[null,null,null,null,false]
[null,null,null,null,false]
[null,null,null,null,false]
[null,null,null,null,false]
[null,null,null,null,false]
[null,null,null,null,false]
[null,null,null,null,false]
[null,null,null,null,false]
[null,null,null,null,false]
[null,null,null,null,false]
[null,null,null,null,false]
[null,null,null,null,false]
[null,null,null,null,false]
[null,null,null,null,false]
[null,null,null,null,false]
[null,null,null,null,false]
[null,null,null,null,false]
[null,null,null,null,false]
[null,null,null,null,false]
[null,null,null,null,false]
[null,null,null,null,false]
[null,null,null,null,false]
[null,null,null,null,false]
[null,null,null,null,false]
[null,null,null,null,false]
[null,null,null,null,false]
[null,null,null,null,false]
[null,null,null,null,false]
[null,null,null,null,false]
[null,null,null,null,false]
[null,null,null,null,false]
[null,null,null,null,false]
[null,null,null,null,false]
[null,null,null,null,false]
[null,null,null,null,false]
[null,null,null,null,false]
[null,null,null,null,false]
[null,null,null,null,false]
[null,null,null,null,false]
[null,null,null,null,false]
[null,null,null,null,false]
[null,null,null,null,false]
[null,null,null,null,false]
[null,null,null,null,false]
[null,null,null,null,false]
[null,null,null,null,false]
[null,null,null,null,false]
[null,null,null,null,false]
[null,null,null,null,false]
[null,null,null,null,false]
[null,null,null,null,false]
[null,null,null,null,false]
[null,null,null,null,false]
[null,null,null,null,false]
[null,null,null,null,false]
[null,null,null,null,false]
[null,null,null,null,false]
[null,null,null,null,false]
[null,null,null,null,false]
[null,null,null,null,false]
[null,null,null,null,false]
[null,null,null,null,false]
[null,null,null,null,false]
[null,null,null,null,false]
[null,null,null,null,false]
[null,null,null,null,false]
[null,null,null,null,false]
[null,null,null,null,false]
[null,null,null,null,false]
[null,null,null,null,false]
[null,null,null,null,false]
[null,null,null,null,false]
[null,null,null,null,false]
[null,null,null,null,false]
[null,null,null,null,false]
[null,null,null,null,false]
[null,null,null,null,false]
[null,null,null,null,false]
[null,null,null,null,false]
[null,null,null,null,false]
[null,null,null,null,false]
[null,null,null,null,false]
[null,null,null,null,false]
[null,null,null,null,false]
[null,null,null,null,false]
[null,null,null,null,false]
[null,null,null,null,false]
[null,null,null,null,false]
[null,null,null,null,false]
[null,null,null,null,false]
[null,null,null,null,false]
[null,null,null,null,false]
[null,null,null,null,false]
[null,null,null,null,false]
[null,null,null,null,false]
[null,null,null,null,false]
[null,null,null,null,false]
[null,null,null,null,false]
[null,null,null,null,false]
[null,null,null,null,false]
[null,null,null,null,false]
[null,null,null,null,false]

{"sheet":"Hygiène","index":8,"n_rows":1002,"n_cols":10,"rows_kept":1002,"cut":false,"hidden":false,"merged":[]}
["       Produits\n  d'hygiène & Cosmétiques","💶\nPrix de vente","Prix au kilo","Grandes Catégories","😋 \n J'en veux!","⚖️ \nQuantité","Quantité format formule","Quantité en format nombre","💰 \nMontant","🇫🇷 \nProvenance"]
["Abricots secs","13,90€ / kg","13.9",{"$f":"VLOOKUP(A2,Import!A:D,4,FALSE)","v":"Alimentaire Vrac"},false,0,{"$f":"IF(F2=\"100G\",0.1,IF(F2=\"250G\",0.25,IF(F2=\"500G\",0.5,IF(F2=\"1 Kilo\",1,F2))))","v":0},{"$f":"IFERROR(__xludf.DUMMYFUNCTION(\"TO_PURE_NUMBER(G2)\"),0)","v":0},{"$f":"H2*C2","v":{"$error":"#VALUE!"}}]
["Ail des Ours ","135€ / kg","120",{"$f":"VLOOKUP(A3,Import!A:D,4,FALSE)","v":"Alimentaire Vrac"},false,0,0,{"$f":"IFERROR(__xludf.DUMMYFUNCTION(\"TO_PURE_NUMBER(G3)\"),0)","v":0},0]
["Ail en Granulé ","50€ / kg","50",{"$f":"VLOOKUP(A4,Import!A:D,4,FALSE)","v":"Alimentaire Vrac"},false,0,0,{"$f":"IFERROR(__xludf.DUMMYFUNCTION(\"TO_PURE_NUMBER(G4)\"),0)","v":0},0]
["Ail en Poudre ","50€ / kg","50",{"$f":"VLOOKUP(A5,Import!A:D,4,FALSE)","v":"Alimentaire Vrac"},false,0,0,{"$f":"IFERROR(__xludf.DUMMYFUNCTION(\"TO_PURE_NUMBER(G5)\"),0)","v":0},0]
["Amandes Blanches entières ","19,9€ / kg","19.9",{"$f":"VLOOKUP(A6,Import!A:D,4,FALSE)","v":0},false,0,0,{"$f":"IFERROR(__xludf.DUMMYFUNCTION(\"TO_PURE_NUMBER(G6)\"),0)","v":0},{"$error":"#VALUE!"}]
["Amandes Caramel Chocolat","35€ / kg","35",{"$f":"VLOOKUP(A7,Import!A:D,4,FALSE)","v":"Alimentaire Vrac"},false,0,0,{"$f":"IFERROR(__xludf.DUMMYFUNCTION(\"TO_PURE_NUMBER(G7)\"),0)","v":0},0]
["Amandes Coco Miel ","35€ / kg","35",{"$f":"VLOOKUP(A8,Import!A:D,4,FALSE)","v":"Alimentaire Vrac"},false,0,0,{"$f":"IFERROR(__xludf.DUMMYFUNCTION(\"TO_PURE_NUMBER(G8)\"),0)","v":0},0]
["Amandes Décortiquées entières ","19,9€ / kg","19.9",{"$f":"VLOOKUP(A9,Import!A:D,4,FALSE)","v":"Alimentaire Vrac"},false,0,0,{"$f":"IFERROR(__xludf.DUMMYFUNCTION(\"TO_PURE_NUMBER(G9)\"),0)","v":0},{"$error":"#VALUE!"},{"$f":"VLOOKUP(A9,Import!A:N,13)","v":"Actibio"}]
["Amandes Sésame Miel","35€/kg",35,{"$f":"VLOOKUP(A10,Import!A:D,4,FALSE)","v":"Alimentaire Vrac"},false,0,0,{"$f":"IFERROR(__xludf.DUMMYFUNCTION(\"TO_PURE_NUMBER(G10)\"),0)","v":0},0,{"$f":"VLOOKUP(A10,Import!A:N,13)","v":"Happy Hours"}]
["Amidon de maïs","5,50€ / kg","5.5",{"$f":"VLOOKUP(A11,Import!A:D,4,FALSE)","v":"Alimentaire Vrac"},false,0,0,{"$f":"IFERROR(__xludf.DUMMYFUNCTION(\"TO_PURE_NUMBER(G11)\"),0)","v":0},{"$error":"#VALUE!"},{"$f":"VLOOKUP(A11,Import!A:N,13)","v":"Actibio"}]
["Après shampoing Solide - Cheveux abimés & secs - 80g ",12.5,"12,5",{"$f":"VLOOKUP(A12,Import!A:D,4,FALSE)","v":"Produits d'hygiène coporelle"},false,0,0,{"$f":"G12","v":0},{"$f":"H12*C12","v":0},{"$f":"VLOOKUP(A12,Import!A:N,14)","v":"🇫🇷 France - Douvres-la-Délivrande (14)"}]
["Après shampoing Solide - Cheveux abîmés & secs - sans HE - 80g ",12.5,"12,5",{"$f":"VLOOKUP(A13,Import!A:D,4,FALSE)","v":"Produits d'hygiène coporelle"},false,0,{"$f":"IF(F13=\"100G\",0.1,IF(F13=\"250G\",0.25,IF(F13=\"500G\",0.5,IF(F13=\"1 Kilo\",1,F13))))","v":0},{"$f":"G13","v":0},0,{"$f":"VLOOKUP(A13,Import!A:N,14)","v":"🇫🇷 France - Douvres-la-Délivrande (14)"}]
["Après shampoing Solide - démélant - Lamazuna",12.5,"12.5",{"$f":"VLOOKUP(A14,Import!A:D,4,FALSE)","v":0},false,0,0,{"$f":"IFERROR(__xludf.DUMMYFUNCTION(\"TO_PURE_NUMBER(G14)\"),0)","v":0},{"$error":"#VALUE!"},{"$f":"VLOOKUP(A14,Import!A:N,14)","v":0}]
["Après shampoing Solide - Nourrissant & démêlant - 80g ",12.5,"12,5",{"$f":"VLOOKUP(A15,Import!A:D,4,FALSE)","v":"Produits d'hygiène coporelle"},false,0,{"$f":"IF(F15=\"100G\",0.1,IF(F15=\"250G\",0.25,IF(F15=\"500G\",0.5,IF(F15=\"1 Kilo\",1,F15))))","v":0},{"$f":"G15","v":0},0,{"$f":"VLOOKUP(A15,Import!A:N,14)","v":"🇫🇷 France - Douvres-la-Délivrande (14)"}]
["Après shampoing Vrac - Huile d’argan","29,00 € / kg","29",{"$f":"VLOOKUP(A16,Import!A:D,4,FALSE)","v":"Produits d'hygiène coporelle"},false,0,0,0,0]
["Arachides décortiquées grillées nature","12€ / kg","12",{"$f":"VLOOKUP(A17,Import!A:D,4,FALSE)","v":"Alimentaire Vrac"},false,0,0,{"$f":"IFERROR(__xludf.DUMMYFUNCTION(\"TO_PURE_NUMBER(G17)\"),0)","v":0},0]
["Assouplissant - Vrac","5,00€","5",{"$f":"VLOOKUP(A18,Import!A:D,4,FALSE)","v":"Produits d'entretiens"},false,0,0,{"$f":"IFERROR(__xludf.DUMMYFUNCTION(\"TO_PURE_NUMBER(G18)\"),0)","v":0},0,{"$f":"VLOOKUP(A18,Import!A:N,13)","v":"Relais Local"}]
["Baies de Goji","29,90€","29.90",{"$f":"VLOOKUP(A19,Import!A:D,4,FALSE)","v":"Alimentaire Vrac"},false,0,0,{"$f":"IFERROR(__xludf.DUMMYFUNCTION(\"TO_PURE_NUMBER(G19)\"),0)","v":0},{"$error":"#VALUE!"},{"$f":"VLOOKUP(A19,Import!A:N,13)","v":"Actibio"}]
["Basilic Feuilles","27,00€ / kg","27",{"$f":"VLOOKUP(A20,Import!A:D,4,FALSE)","v":"Alimentaire Vrac"},false,0,0,{"$f":"IFERROR(__xludf.DUMMYFUNCTION(\"TO_PURE_NUMBER(G20)\"),0)","v":0},0,{"$f":"VLOOKUP(A20,Import!A:N,13)","v":"Actibio"}]
["Baume à Barbe",13.9,"13,9",{"$f":"VLOOKUP(A21,Import!A:D,4,FALSE)","v":"Produits d'hygiène coporelle"},false,0,{"$f":"IF(F21=\"100G\",0.1,IF(F21=\"250G\",0.25,IF(F21=\"500G\",0.5,IF(F21=\"1 Kilo\",1,F21))))","v":0},{"$f":"G21","v":0},0,{"$f":"VLOOKUP(A21,Import!A:N,14)","v":"Comme avant"}]
["Baume à lèvre Agrumes - Endro","7,50€","7,5",{"$f":"VLOOKUP(A22,Import!A:D,4,FALSE)","v":"Produits d'hygiène coporelle"},false,0,0,0,0,{"$f":"VLOOKUP(A22,Import!A:N,14)","v":"🇫🇷 France - Lannion (22)"}]
["Baume à lèvre Fruits Rouges - Endro","7,50€","7,5",{"$f":"VLOOKUP(A23,Import!A:D,4,FALSE)","v":"Produits d'hygiène coporelle"},false,0,0,0,0,{"$f":"VLOOKUP(A23,Import!A:N,14)","v":"🇫🇷 France - Lannion (22)"}]
["Baume Mini  Multi-usages Fleurs d’été - Clemence & Vivien ","5,90€","5,9",{"$f":"VLOOKUP(A24,Import!A:D,4,FALSE)","v":"Produits d'hygiène coporelle"},false,0,0,0,0,{"$f":"VLOOKUP(A24,Import!A:N,14)","v":"🇫🇷 France - Chauray (79)"}]
["Baume Mini Multi-usages Lait d’amande - Clemence & Vivien ","5,90€","5,9",{"$f":"VLOOKUP(A25,Import!A:D,4,FALSE)","v":"Produits d'hygiène coporelle"},false,0,0,0,0,{"$f":"VLOOKUP(A25,Import!A:N,14)","v":"🇫🇷 France - Chauray (79)"}]
["Baume Multi-usages Fleurs d’été - Clemence & Vivien ",12.5,"12,5",{"$f":"VLOOKUP(A26,Import!A:D,4,FALSE)","v":"Produits d'hygiène coporelle"},false,0,0,0,0,{"$f":"VLOOKUP(A26,Import!A:N,14)","v":"🇫🇷 France - Chauray (79)"}]
["Baume Multi-usages Lait d’amande - Clemence & Vivien ",12.5,"11,9",{"$f":"VLOOKUP(A27,Import!A:D,4,FALSE)","v":"Produits d'hygiène coporelle"},false,0,0,0,0,{"$f":"VLOOKUP(A27,Import!A:N,14)","v":"🇫🇷 France - Chauray (79)"}]
["Bavoir - Petit","9,50€","9.5",{"$f":"VLOOKUP(A28,Import!A:D,4,FALSE)","v":"Zéros déchets et Bocaux"},false,0,0,{"$f":"IFERROR(__xludf.DUMMYFUNCTION(\"TO_PURE_NUMBER(G28)\"),0)","v":0},{"$error":"#VALUE!"},{"$f":"VLOOKUP(A28,Import!A:N,13)","v":"Alterosac"}]
["Beurre de cacahuètes - Chocolat Lait - Go Nuts - 270g","6,50€","6.50",{"$f":"VLOOKUP(A29,Import!A:D,4,FALSE)","v":"Alimentaire Conditionné"},false,0,0,{"$f":"IFERROR(__xludf.DUMMYFUNCTION(\"TO_PURE_NUMBER(G29)\"),0)","v":0},{"$error":"#VALUE!"}]
["Beurre de cacahuètes - Chocolat Noir - Go Nuts - 500g",8.9,"8.90",{"$f":"VLOOKUP(A30,Import!A:D,4,FALSE)","v":"Alimentaire Conditionné"},false,0,0,{"$f":"IFERROR(__xludf.DUMMYFUNCTION(\"TO_PURE_NUMBER(G30)\"),0)","v":0},{"$error":"#VALUE!"}]
["Beurre de cacahuètes - Go Nuts - 270g","4,95 €","4.95",{"$f":"VLOOKUP(A31,Import!A:D,4,FALSE)","v":"Alimentaire Conditionné"},false,0,0,{"$f":"IFERROR(__xludf.DUMMYFUNCTION(\"TO_PURE_NUMBER(G31)\"),0)","v":0},{"$error":"#VALUE!"}]
["Beurre de cacahuètes - Go Nuts - 500g","8,90 €","8.9",{"$f":"VLOOKUP(A32,Import!A:D,4,FALSE)","v":"Alimentaire Conditionné"},false,0,0,{"$f":"IFERROR(__xludf.DUMMYFUNCTION(\"TO_PURE_NUMBER(G32)\"),0)","v":0},{"$error":"#VALUE!"}]
["Beurre de cacahuètes Extra Crunchy - Go Nuts - 270g","4,90 €","4.9",{"$f":"VLOOKUP(A33,Import!A:D,4,FALSE)","v":"Alimentaire Conditionné"},false,0,0,{"$f":"IFERROR(__xludf.DUMMYFUNCTION(\"TO_PURE_NUMBER(G33)\"),0)","v":0},{"$error":"#VALUE!"}]
["Beurre de cacao Iris - pour le corps - Lamazuna","8,50 €","8,5",{"$f":"VLOOKUP(A34,Import!A:D,4,FALSE)","v":"Produits d'hygiène coporelle"},false,0,{"$f":"IF(F34=\"100G\",0.1,IF(F34=\"250G\",0.25,IF(F34=\"500G\",0.5,IF(F34=\"1 Kilo\",1,F34))))","v":0},{"$f":"G34","v":0},0,{"$f":"VLOOKUP(A34,Import!A:N,14)","v":"🇫🇷 France - Marche (26)"}]
["Bicarbonate de soude - Vrac","4,90 € / kg","4.9",{"$f":"VLOOKUP(A35,Import!A:D,4,FALSE)","v":"Produits d'entretiens"},false,0,0,{"$f":"IFERROR(__xludf.DUMMYFUNCTION(\"TO_PURE_NUMBER(G35)\"),0)","v":0},{"$error":"#VALUE!"}]
["Biere Blanche - La St Bonn’Beer - 33cl","3,00 €","3",{"$f":"VLOOKUP(A36,Import!A:D,4,FALSE)","v":"Boissons conditionnées"},false,0,0,{"$f":"IFERROR(__xludf.DUMMYFUNCTION(\"TO_PURE_NUMBER(G36)\"),0)","v":0},0]
["Biere Blanche - La St Bonn’Beer - 75cl","6,50 €","6.5",{"$f":"VLOOKUP(A37,Import!A:D,4,FALSE)","v":"Boissons conditionnées"},false,0,0,{"$f":"IFERROR(__xludf.DUMMYFUNCTION(\"TO_PURE_NUMBER(G37)\"),0)","v":0},{"$error":"#VALUE!"}]
["Biere Blonde - La Promesse - 33cl","3,00 €","3",{"$f":"VLOOKUP(A38,Import!A:D,4,FALSE)","v":"Boissons conditionnées"},false,0,0,{"$f":"IFERROR(__xludf.DUMMYFUNCTION(\"TO_PURE_NUMBER(G38)\"),0)","v":0},0]
["Biere Blonde - La Promesse - 75cl","6,50 €","6.5",{"$f":"VLOOKUP(A39,Import!A:D,4,FALSE)","v":"Boissons conditionnées"},false,0,0,{"$f":"IFERROR(__xludf.DUMMYFUNCTION(\"TO_PURE_NUMBER(G39)\"),0)","v":0},{"$error":"#VALUE!"}]
["Biere IPA - La Collector - 33cl","3,00 €","3",{"$f":"VLOOKUP(A40,Import!A:D,4,FALSE)","v":"Boissons conditionnées"},false,0,0,{"$f":"IFERROR(__xludf.DUMMYFUNCTION(\"TO_PURE_NUMBER(G40)\"),0)","v":0},0]
["Biere IPA - La Collector- 75cl","6,50 €","6.5",{"$f":"VLOOKUP(A41,Import!A:D,4,FALSE)","v":"Boissons conditionnées"},false,0,0,{"$f":"IFERROR(__xludf.DUMMYFUNCTION(\"TO_PURE_NUMBER(G41)\"),0)","v":0},{"$error":"#VALUE!"}]
["Biere IPA - La Gonette - 33cl","3,00 €","3",{"$f":"VLOOKUP(A42,Import!A:D,4,FALSE)","v":"Boissons conditionnées"},false,0,0,{"$f":"IFERROR(__xludf.DUMMYFUNCTION(\"TO_PURE_NUMBER(G42)\"),0)","v":0},0]
["Biere IPA - La Gonette - 75cl","6,50 €","6.5",{"$f":"VLOOKUP(A43,Import!A:D,4,FALSE)","v":"Boissons conditionnées"},false,0,0,{"$f":"IFERROR(__xludf.DUMMYFUNCTION(\"TO_PURE_NUMBER(G43)\"),0)","v":0},{"$error":"#VALUE!"}]
["Biscuits 1péro -Tortillas ","29€/kg","29",{"$f":"VLOOKUP(A44,Import!A:D,4,FALSE)","v":"Alimentaire Vrac"},false,0,0,{"$f":"IFERROR(__xludf.DUMMYFUNCTION(\"TO_PURE_NUMBER(G44)\"),0)","v":0},0]
["Biscuits Apéro - Cumin & pois chiches","30,00€ / kg","30",{"$f":"VLOOKUP(A45,Import!A:D,4,FALSE)","v":"Alimentaire Vrac"},false,0,0,{"$f":"IFERROR(__xludf.DUMMYFUNCTION(\"TO_PURE_NUMBER(G45)\"),0)","v":0},0]
["Biscuits Apéro - Gruyère","30,50€ / kg","30.5",{"$f":"VLOOKUP(A46,Import!A:D,4,FALSE)","v":"Alimentaire Vrac"},false,0,0,{"$f":"IFERROR(__xludf.DUMMYFUNCTION(\"TO_PURE_NUMBER(G46)\"),0)","v":0},{"$error":"#VALUE!"}]
["Biscuits Apéro - Noix de Cajou - Curry","34,50€ / kg","34.5",{"$f":"VLOOKUP(A47,Import!A:D,4,FALSE)","v":"Alimentaire Vrac"},false,0,0,{"$f":"IFERROR(__xludf.DUMMYFUNCTION(\"TO_PURE_NUMBER(G47)\"),0)","v":0},{"$error":"#VALUE!"}]
["Biscuits Apéro - Noix de Cajou - Herbes de Provence","34,50€ / kg","34.5",{"$f":"VLOOKUP(A48,Import!A:D,4,FALSE)","v":"Alimentaire Vrac"},false,0,0,{"$f":"IFERROR(__xludf.DUMMYFUNCTION(\"TO_PURE_NUMBER(G48)\"),0)","v":0},{"$error":"#VALUE!"}]
["Biscuits Apéro - Noix de Cajou - Parmesan","34,50€ / kg","34.5",{"$f":"VLOOKUP(A49,Import!A:D,4,FALSE)","v":"Alimentaire Vrac"},false,0,0,{"$f":"IFERROR(__xludf.DUMMYFUNCTION(\"TO_PURE_NUMBER(G49)\"),0)","v":0},{"$error":"#VALUE!"}]
["Biscuits Apéro - Noix de Cajou - Poivre de Kampot","34,50€ / kg","34.5",{"$f":"VLOOKUP(A50,Import!A:D,4,FALSE)","v":"Alimentaire Vrac"},false,0,0,{"$f":"IFERROR(__xludf.DUMMYFUNCTION(\"TO_PURE_NUMBER(G50)\"),0)","v":0},{"$error":"#VALUE!"}]
["Biscuits Apéro - Noix de Cajou - Sweet chili","34,50€ / kg","34.5",{"$f":"VLOOKUP(A51,Import!A:D,4,FALSE)","v":"Alimentaire Vrac"},false,0,0,{"$f":"IFERROR(__xludf.DUMMYFUNCTION(\"TO_PURE_NUMBER(G51)\"),0)","v":0},{"$error":"#VALUE!"}]
["Biscuits Apéro - Noix de Cajou - Tandoori","34,50€ / kg","34.5",{"$f":"VLOOKUP(A52,Import!A:D,4,FALSE)","v":"Alimentaire Vrac"},false,0,0,{"$f":"IFERROR(__xludf.DUMMYFUNCTION(\"TO_PURE_NUMBER(G52)\"),0)","v":0},{"$error":"#VALUE!"}]
["Biscuits Apéro - Oignon & Paprika","30,00€ / kg","30",{"$f":"VLOOKUP(A53,Import!A:D,4,FALSE)","v":"Alimentaire Vrac"},false,0,0,{"$f":"IFERROR(__xludf.DUMMYFUNCTION(\"TO_PURE_NUMBER(G53)\"),0)","v":0},0]
["Biscuits Apéro - Tomate & Oignons","30,00€ / kg","30",{"$f":"VLOOKUP(A54,Import!A:D,4,FALSE)","v":"Alimentaire Vrac"},false,0,0,{"$f":"IFERROR(__xludf.DUMMYFUNCTION(\"TO_PURE_NUMBER(G54)\"),0)","v":0},0]
["Biscuits P’tit Dej - Avoine Miel","18,00€ / kg","18",{"$f":"VLOOKUP(A55,Import!A:D,4,FALSE)","v":"Alimentaire Vrac"},false,0,0,{"$f":"IFERROR(__xludf.DUMMYFUNCTION(\"TO_PURE_NUMBER(G55)\"),0)","v":0},0]
["Biscuits P’tit Dej - Cacao & Pépites de Chocolat","18,00€ / kg","18",{"$f":"VLOOKUP(A56,Import!A:D,4,FALSE)","v":"Alimentaire Vrac"},false,0,0,{"$f":"IFERROR(__xludf.DUMMYFUNCTION(\"TO_PURE_NUMBER(G56)\"),0)","v":0},0]
["Biscuits salés - Moutarde à l’ancienne","30,50€ / kg","30.5",{"$f":"VLOOKUP(A57,Import!A:D,4,FALSE)","v":0},false,0,0,{"$f":"IFERROR(__xludf.DUMMYFUNCTION(\"TO_PURE_NUMBER(G57)\"),0)","v":0},{"$error":"#VALUE!"}]
["Biscuits Sucrés - Chocolat","25,00€ / kg","25",{"$f":"VLOOKUP(A58,Import!A:D,4,FALSE)","v":"Alimentaire Vrac"},false,0,0,{"$f":"IFERROR(__xludf.DUMMYFUNCTION(\"TO_PURE_NUMBER(G58)\"),0)","v":0},0]
["Biscuits sucrés - Cookies Vegan bio","23,00€ / kg","23",{"$f":"VLOOKUP(A59,Import!A:D,4,FALSE)","v":"Alimentaire Vrac"},false,0,0,{"$f":"IFERROR(__xludf.DUMMYFUNCTION(\"TO_PURE_NUMBER(G59)\"),0)","v":0},0]
["Biscuits Sucrés - Nature au Beurre","30,00€ / kg","30",{"$f":"VLOOKUP(A60,Import!A:D,4,FALSE)","v":"Alimentaire Vrac"},false,0,0,{"$f":"IFERROR(__xludf.DUMMYFUNCTION(\"TO_PURE_NUMBER(G60)\"),0)","v":0},0]
["Biscuits Sucrés - Pomme au beurre ","25,00€ / kg","25",{"$f":"VLOOKUP(A61,Import!A:D,4,FALSE)","v":"Alimentaire Vrac"},false,0,0,{"$f":"IFERROR(__xludf.DUMMYFUNCTION(\"TO_PURE_NUMBER(G61)\"),0)","v":0},0]
["Biscuits Sucrés - Sans Gluten - Choco Noisette","30,00€ / kg",30,{"$f":"VLOOKUP(A62,Import!A:D,4,FALSE)","v":"Alimentaire Vrac"},false,0,0,{"$f":"IFERROR(__xludf.DUMMYFUNCTION(\"TO_PURE_NUMBER(G62)\"),0)","v":0},0]
["Biscuits Sucrés - Sans Gluten - Figue","30,00€ / kg",30,{"$f":"VLOOKUP(A63,Import!A:D,4,FALSE)","v":"Alimentaire Vrac"},false,0,0,{"$f":"IFERROR(__xludf.DUMMYFUNCTION(\"TO_PURE_NUMBER(G63)\"),0)","v":0},0,{"$f":"VLOOKUP(A63,Import!A:N,14)","v":0}]
["Blanc de Blanc du Jura - Jacquier",9.5,"9.50",{"$f":"VLOOKUP(A64,Import!A:D,4,FALSE)","v":"Boissons conditionnées"},false,0,0,{"$f":"IFERROR(__xludf.DUMMYFUNCTION(\"TO_PURE_NUMBER(G64)\"),0)","v":0},{"$error":"#VALUE!"},{"$f":"VLOOKUP(A64,Import!A:N,14)","v":0}]
["Blé Pré cuit mondé","4,00€ / kg","4",{"$f":"VLOOKUP(A65,Import!A:D,4,FALSE)","v":"Alimentaire Vrac"},false,0,0,{"$f":"IFERROR(__xludf.DUMMYFUNCTION(\"TO_PURE_NUMBER(G65)\"),0)","v":0},0,{"$f":"VLOOKUP(A65,Import!A:N,14)","v":"🇮🇹 Italie"}]
["Bocal - Asperges vertes - 185g","4,90€","4.9",{"$f":"VLOOKUP(A66,Import!A:D,4,FALSE)","v":"Alimentaire Conditionné"},false,0,0,{"$f":"IFERROR(__xludf.DUMMYFUNCTION(\"TO_PURE_NUMBER(G66)\"),0)","v":0},{"$error":"#VALUE!"},{"$f":"VLOOKUP(A66,Import!A:N,14)","v":"🇫🇷 France"}]
["Bocal - Chili végétarien - 355g","4,50 €","4.5",{"$f":"VLOOKUP(A67,Import!A:D,4,FALSE)","v":"Alimentaire Conditionné"},false,0,0,{"$f":"IFERROR(__xludf.DUMMYFUNCTION(\"TO_PURE_NUMBER(G67)\"),0)","v":0},{"$error":"#VALUE!"},{"$f":"VLOOKUP(A67,Import!A:N,14)","v":"🇫🇷 France "}]
["Bocal - Chili végétarien - 670g","5,95 €","5.95",{"$f":"VLOOKUP(A68,Import!A:D,4,FALSE)","v":"Alimentaire Conditionné"},false,0,0,{"$f":"IFERROR(__xludf.DUMMYFUNCTION(\"TO_PURE_NUMBER(G68)\"),0)","v":0},{"$error":"#VALUE!"},{"$f":"VLOOKUP(A68,Import!A:N,14)","v":"🇫🇷 France "}]
["Bocal - Cocotte Indienne haricots blancs, riz complet, tofu - 360g","4,50 €","4.5",{"$f":"VLOOKUP(A69,Import!A:D,4,FALSE)","v":"Alimentaire Conditionné"},false,0,0,{"$f":"IFERROR(__xludf.DUMMYFUNCTION(\"TO_PURE_NUMBER(G69)\"),0)","v":0},{"$error":"#VALUE!"},{"$f":"VLOOKUP(A69,Import!A:N,13)","v":"Biodis"}]
["Bocal - Couscous aux 7 légumes - 1kg","6,95 €","6.95",{"$f":"VLOOKUP(A70,Import!A:D,4,FALSE)","v":"Alimentaire Conditionné"},false,0,0,{"$f":"IFERROR(__xludf.DUMMYFUNCTION(\"TO_PURE_NUMBER(G70)\"),0)","v":0},{"$error":"#VALUE!"},{"$f":"VLOOKUP(A70,Import!A:N,13)","v":"Biodis"}]
["Bocal - Curry d’aubergines - 345g",4.5,4.5,{"$f":"VLOOKUP(A71,Import!A:D,4,FALSE)","v":"Alimentaire Conditionné"},false,0,0,{"$f":"IFERROR(__xludf.DUMMYFUNCTION(\"TO_PURE_NUMBER(G71)\"),0)","v":0},0,{"$f":"VLOOKUP(A71,Import!A:N,14)","v":"🇫🇷 France"}]
["Bocal - Curry d’aubergines - 650g",6.5,6.5,{"$f":"VLOOKUP(A72,Import!A:D,4,FALSE)","v":"Alimentaire Conditionné"},false,0,0,{"$f":"IFERROR(__xludf.DUMMYFUNCTION(\"TO_PURE_NUMBER(G72)\"),0)","v":0},0,{"$f":"VLOOKUP(A72,Import!A:N,14)","v":"🇫🇷 France"}]
["Bocal - Curry de lentilles coco - 345g","4,50 €","4.5",{"$f":"VLOOKUP(A73,Import!A:D,4,FALSE)","v":"Alimentaire Conditionné"},false,0,0,{"$f":"IFERROR(__xludf.DUMMYFUNCTION(\"TO_PURE_NUMBER(G73)\"),0)","v":0},{"$error":"#VALUE!"},{"$f":"VLOOKUP(A73,Import!A:N,14)","v":"🇫🇷 France"}]
["Bocal - Epinards en branches - 445g","6,20 €","6.2",{"$f":"VLOOKUP(A74,Import!A:D,4,FALSE)","v":"Alimentaire Conditionné"},false,0,0,{"$f":"IFERROR(__xludf.DUMMYFUNCTION(\"TO_PURE_NUMBER(G74)\"),0)","v":0},{"$error":"#VALUE!"},{"$f":"VLOOKUP(A74,Import!A:N,13)","v":"Biodis"}]
["Bocal - Flageolets Demeter - 215g","3,30€","3.3",{"$f":"VLOOKUP(A75,Import!A:D,4,FALSE)","v":"Alimentaire Conditionné"},false,0,0,{"$f":"IFERROR(__xludf.DUMMYFUNCTION(\"TO_PURE_NUMBER(G75)\"),0)","v":0},{"$error":"#VALUE!"},{"$f":"VLOOKUP(A75,Import!A:N,13)","v":"Biodis"}]
["Bocal - Haricots Coco - 690g","4,50€","45",{"$f":"VLOOKUP(A76,Import!A:D,4,FALSE)","v":"Alimentaire Conditionné"},false,0,0,{"$f":"IFERROR(__xludf.DUMMYFUNCTION(\"TO_PURE_NUMBER(G76)\"),0)","v":0},0]
["Bocal - Haricots Rouges - 255g","3,20€","3.2",{"$f":"VLOOKUP(A77,Import!A:D,4,FALSE)","v":"Alimentaire Conditionné"},false,0,0,{"$f":"IFERROR(__xludf.DUMMYFUNCTION(\"TO_PURE_NUMBER(G77)\"),0)","v":0},{"$error":"#VALUE!"}]
["Bocal - Haricots verts extra fins - 345g","4,20€","4.2",{"$f":"VLOOKUP(A78,Import!A:D,4,FALSE)","v":"Alimentaire Conditionné"},false,0,0,{"$f":"IFERROR(__xludf.DUMMYFUNCTION(\"TO_PURE_NUMBER(G78)\"),0)","v":0},{"$error":"#VALUE!"}]
["Bocal - Korma de légumes 680g","6,50€","6.5",{"$f":"VLOOKUP(A79,Import!A:D,4,FALSE)","v":"Alimentaire Conditionné"},false,0,0,{"$f":"IFERROR(__xludf.DUMMYFUNCTION(\"TO_PURE_NUMBER(G79)\"),0)","v":0},{"$error":"#VALUE!"}]
["Bocal - Lentilles vertes aux petits légumes - 420g","4,50€","4.5",{"$f":"VLOOKUP(A80,Import!A:D,4,FALSE)","v":"Alimentaire Conditionné"},false,0,0,{"$f":"IFERROR(__xludf.DUMMYFUNCTION(\"TO_PURE_NUMBER(G80)\"),0)","v":0},{"$error":"#VALUE!"}]
["Bocal - Macédoine de légumes - 230g","2,90 €","2.9",{"$f":"VLOOKUP(A81,Import!A:D,4,FALSE)","v":"Alimentaire Conditionné"},false,0,0,{"$f":"IFERROR(__xludf.DUMMYFUNCTION(\"TO_PURE_NUMBER(G81)\"),0)","v":0},{"$error":"#VALUE!"}]
["Bocal - Mais doux - 240g","2,90€","2.9",{"$f":"VLOOKUP(A82,Import!A:D,4,FALSE)","v":"Alimentaire Conditionné"},false,0,0,{"$f":"IFERROR(__xludf.DUMMYFUNCTION(\"TO_PURE_NUMBER(G82)\"),0)","v":0},{"$error":"#VALUE!"}]
["Bocal - Moussaka vegan, Aubergines, soja, légumes - 345g","4,50 €","4.5",{"$f":"VLOOKUP(A83,Import!A:D,4,FALSE)","v":"Alimentaire Conditionné"},false,0,0,{"$f":"IFERROR(__xludf.DUMMYFUNCTION(\"TO_PURE_NUMBER(G83)\"),0)","v":0},{"$error":"#VALUE!"}]
["Bocal - Petits pois extra fins - 240g","3,50 €","3.5",{"$f":"VLOOKUP(A84,Import!A:D,4,FALSE)","v":"Alimentaire Conditionné"},false,0,0,{"$f":"IFERROR(__xludf.DUMMYFUNCTION(\"TO_PURE_NUMBER(G84)\"),0)","v":0},{"$error":"#VALUE!"}]
["Bocal - Petits pois extra fins - 445g","5,10 €","5.1",{"$f":"VLOOKUP(A85,Import!A:D,4,FALSE)","v":"Alimentaire Conditionné"},false,0,0,{"$f":"IFERROR(__xludf.DUMMYFUNCTION(\"TO_PURE_NUMBER(G85)\"),0)","v":0},{"$error":"#VALUE!"}]
["Bocal - Petits Pois très fins et carottes - 425g","5,50 €","5.5",{"$f":"VLOOKUP(A86,Import!A:D,4,FALSE)","v":"Alimentaire Conditionné"},false,0,0,{"$f":"IFERROR(__xludf.DUMMYFUNCTION(\"TO_PURE_NUMBER(G86)\"),0)","v":0},{"$error":"#VALUE!"}]
["Bocal - Pois Chiche - 230g","3,50 €","3.5",{"$f":"VLOOKUP(A87,Import!A:D,4,FALSE)","v":"Alimentaire Conditionné"},false,0,0,{"$f":"IFERROR(__xludf.DUMMYFUNCTION(\"TO_PURE_NUMBER(G87)\"),0)","v":0},{"$error":"#VALUE!"}]
["Bocal - Pois Chiches - 420g","5,00 €","5",{"$f":"VLOOKUP(A88,Import!A:D,4,FALSE)","v":"Alimentaire Conditionné"},false,0,0,{"$f":"IFERROR(__xludf.DUMMYFUNCTION(\"TO_PURE_NUMBER(G88)\"),0)","v":0},0]
["Bocal - Préparation  tarte aux oignons 345g","4,50€","4.5",{"$f":"VLOOKUP(A89,Import!A:D,4,FALSE)","v":"Alimentaire Conditionné"},false,0,0,{"$f":"IFERROR(__xludf.DUMMYFUNCTION(\"TO_PURE_NUMBER(G89)\"),0)","v":0},{"$error":"#VALUE!"}]
["Bocal - Préparation tarte aux poireaux 345g","4,50€","4.5",{"$f":"VLOOKUP(A90,Import!A:D,4,FALSE)","v":"Alimentaire Conditionné"},false,0,0,{"$f":"IFERROR(__xludf.DUMMYFUNCTION(\"TO_PURE_NUMBER(G90)\"),0)","v":0},{"$error":"#VALUE!"}]
["Bocal - Ratatouille à la provençale - 650g","5,10€","5.1",{"$f":"VLOOKUP(A91,Import!A:D,4,FALSE)","v":"Alimentaire Conditionné"},false,0,0,{"$f":"IFERROR(__xludf.DUMMYFUNCTION(\"TO_PURE_NUMBER(G91)\"),0)","v":0},{"$error":"#VALUE!"}]
["Bocal - Risotto d’automne -350g","4,90€","4.9",{"$f":"VLOOKUP(A92,Import!A:D,4,FALSE)","v":"Alimentaire Conditionné"},false,0,0,{"$f":"IFERROR(__xludf.DUMMYFUNCTION(\"TO_PURE_NUMBER(G92)\"),0)","v":0},{"$error":"#VALUE!"}]
["Bocal - Sauce bolognaise végétale au soja - 340g","3,30€","3.3",{"$f":"VLOOKUP(A93,Import!A:D,4,FALSE)","v":"Alimentaire Conditionné"},false,0,0,{"$f":"IFERROR(__xludf.DUMMYFUNCTION(\"TO_PURE_NUMBER(G93)\"),0)","v":0},{"$error":"#VALUE!"}]
["Bocal - Sauce Vegan - 185g","3,50€","3.5",{"$f":"VLOOKUP(A94,Import!A:D,4,FALSE)","v":"Alimentaire Conditionné"},false,0,0,{"$f":"IFERROR(__xludf.DUMMYFUNCTION(\"TO_PURE_NUMBER(G94)\"),0)","v":0},{"$error":"#VALUE!"}]
["Bocal - Tikka Masala aux légumes et pois chiches - 360g","4,50€","4.5",{"$f":"VLOOKUP(A95,Import!A:D,4,FALSE)","v":"Alimentaire Conditionné"},false,0,0,{"$f":"IFERROR(__xludf.DUMMYFUNCTION(\"TO_PURE_NUMBER(G95)\"),0)","v":0},{"$error":"#VALUE!"}]
["Bocal Haricots beurre extra fins - 180g","2,90 €","2.9",{"$f":"VLOOKUP(A96,Import!A:D,4,FALSE)","v":"Alimentaire Conditionné"},false,0,0,{"$f":"IFERROR(__xludf.DUMMYFUNCTION(\"TO_PURE_NUMBER(G96)\"),0)","v":0},{"$error":"#VALUE!"}]
["Boisson végétale - Avoine","2,10 €","2.1",{"$f":"VLOOKUP(A97,Import!A:D,4,FALSE)","v":"Boissons conditionnées"},false,0,0,{"$f":"IFERROR(__xludf.DUMMYFUNCTION(\"TO_PURE_NUMBER(G97)\"),0)","v":0},{"$error":"#VALUE!"}]
["Boisson végétale - So amande Nature UHT - 1L","2,60 €","2.6",{"$f":"VLOOKUP(A98,Import!A:D,4,FALSE)","v":"Boissons conditionnées"},false,0,0,{"$f":"IFERROR(__xludf.DUMMYFUNCTION(\"TO_PURE_NUMBER(G98)\"),0)","v":0},{"$error":"#VALUE!"}]
["Boisson végétale - Soja Nature - 1L","2,10 €","2.1",{"$f":"VLOOKUP(A99,Import!A:D,4,FALSE)","v":"Boissons conditionnées"},false,0,0,{"$f":"IFERROR(__xludf.DUMMYFUNCTION(\"TO_PURE_NUMBER(G99)\"),0)","v":0},{"$error":"#VALUE!"}]
["Boisson végétale - Sojade UHT Calcium - 1L","2,60€","2.6",{"$f":"VLOOKUP(A100,Import!A:D,4,FALSE)","v":"Boissons conditionnées"},false,0,0,{"$f":"IFERROR(__xludf.DUMMYFUNCTION(\"TO_PURE_NUMBER(G100)\"),0)","v":0},{"$error":"#VALUE!"}]
["Bol 15x7 Gravé Cap Bambou","14,90 €","14.9",{"$f":"VLOOKUP(A101,Import!A:D,4,FALSE)","v":"Zéros déchets et Bocaux"},false,0,0,{"$f":"IFERROR(__xludf.DUMMYFUNCTION(\"TO_PURE_NUMBER(G101)\"),0)","v":0},{"$error":"#VALUE!"}]
["Bougies de Léa - Brûle Parfum","15,50 €","15.5",{"$f":"VLOOKUP(A102,Import!A:D,4,FALSE)","v":"Zéros déchets et Bocaux"},false,0,0,{"$f":"IFERROR(__xludf.DUMMYFUNCTION(\"TO_PURE_NUMBER(G102)\"),0)","v":0},{"$error":"#VALUE!"}]
["Bougies de Léa - Grandes bougies Parfumées ","18,00 €","18",{"$f":"VLOOKUP(A103,Import!A:D,4,FALSE)","v":"Zéros déchets et Bocaux"},false,0,0,{"$f":"IFERROR(__xludf.DUMMYFUNCTION(\"TO_PURE_NUMBER(G103)\"),0)","v":0},0]
["Bougies de Léa - Petites bougies Parfumées ","11,00 €","11",{"$f":"VLOOKUP(A104,Import!A:D,4,FALSE)","v":"Zéros déchets et Bocaux"},false,0,0,{"$f":"IFERROR(__xludf.DUMMYFUNCTION(\"TO_PURE_NUMBER(G104)\"),0)","v":0},0]
["Bougies de Léa - Suspensions parfumées","6€","6",{"$f":"VLOOKUP(A105,Import!A:D,4,FALSE)","v":"Zéros déchets et Bocaux"},false,0,0,{"$f":"IFERROR(__xludf.DUMMYFUNCTION(\"TO_PURE_NUMBER(G105)\"),0)","v":0},0]
["Bouillon de légumes - Sans levure & huile de palme","24,00€ / kg","24",{"$f":"VLOOKUP(A106,Import!A:D,4,FALSE)","v":"Alimentaire Vrac"},false,0,0,{"$f":"IFERROR(__xludf.DUMMYFUNCTION(\"TO_PURE_NUMBER(G106)\"),0)","v":0},0]
["Boule à Thé diamètre 50mm",3.5,"3.5",{"$f":"VLOOKUP(A107,Import!A:D,4,FALSE)","v":"Zéros déchets et Bocaux"},false,0,0,{"$f":"IFERROR(__xludf.DUMMYFUNCTION(\"TO_PURE_NUMBER(G107)\"),0)","v":0},{"$error":"#VALUE!"}]
["Boulgour","3,10€ / kg","3.1",{"$f":"VLOOKUP(A108,Import!A:D,4,FALSE)","v":"Alimentaire Vrac"},false,0,0,{"$f":"IFERROR(__xludf.DUMMYFUNCTION(\"TO_PURE_NUMBER(G108)\"),0)","v":0},{"$error":"#VALUE!"}]
["Brosse à cheveux Bébé","9,50 €","9,5",{"$f":"VLOOKUP(A109,Import!A:D,4,FALSE)","v":"Produits d'hygiène coporelle"},false,0,{"$f":"IF(F109=\"100G\",0.1,IF(F109=\"250G\",0.25,IF(F109=\"500G\",0.5,IF(F109=\"1 Kilo\",1,F109))))","v":0},{"$f":"G109","v":0},0]
["Brosse à cheveux Démélante","14,90 €","14,9",{"$f":"VLOOKUP(A110,Import!A:D,4,FALSE)","v":"Produits d'hygiène coporelle"},false,0,0,0,0]
["Brosse à cheveux Démélante Enfants",9.5,9.5,{"$f":"VLOOKUP(A111,Import!A:D,4,FALSE)","v":"Produits d'hygiène coporelle"},false,0,0,0,0,{"$f":"VLOOKUP(A111,Import!A:N,13)","v":"Cap Bambou"}]
["Brosse à dent - Lot de 3 têtes extra souples",7.9,"7,90",{"$f":"VLOOKUP(A112,Import!A:D,4,FALSE)","v":"Produits d'hygiène coporelle"},false,0,0,0,0,{"$f":"VLOOKUP(A112,Import!A:N,14)","v":0}]
["Brosse à dent - Lot de 3 têtes medium",7.9,"7,90",{"$f":"VLOOKUP(A113,Import!A:D,4,FALSE)","v":"Produits d'hygiène coporelle"},false,0,0,0,0,{"$f":"VLOOKUP(A113,Import!A:N,14)","v":0}]
["Brosse à dent - Lot de 3 têtes souples",7.9,"7,90",{"$f":"VLOOKUP(A114,Import!A:D,4,FALSE)","v":"Produits d'hygiène coporelle"},false,0,0,0,0]
["Brosse à dent à tête rechargeable - manche bioplastic",3.5,"3,50",{"$f":"VLOOKUP(A115,Import!A:D,4,FALSE)","v":"Produits d'hygiène coporelle"},false,0,0,0,0]
["Brosse à dent à tête rechargeable - manche hêtre","8,50 €","8.5",{"$f":"VLOOKUP(A116,Import!A:D,4,FALSE)","v":0},false,0,0,{"$f":"IFERROR(__xludf.DUMMYFUNCTION(\"TO_PURE_NUMBER(G116)\"),0)","v":0},{"$error":"#VALUE!"}]
["Brosse à dents adultes","3,99 €","3.99",{"$f":"VLOOKUP(A117,Import!A:D,4,FALSE)","v":0},false,0,0,{"$f":"IFERROR(__xludf.DUMMYFUNCTION(\"TO_PURE_NUMBER(G117)\"),0)","v":0},{"$error":"#VALUE!"},{"$f":"VLOOKUP(A117,Import!A:N,13)","v":"Cap Bambou"}]
["Brosse à vaisselle - Recharges","5,50 €","5.5",{"$f":"VLOOKUP(A118,Import!A:D,4,FALSE)","v":{"$error":"#N/A"}},false,0,0,{"$f":"IFERROR(__xludf.DUMMYFUNCTION(\"TO_PURE_NUMBER(G118)\"),0)","v":0},{"$error":"#VALUE!"},{"$f":"VLOOKUP(A118,Import!A:N,13)","v":"Cap Bambou"}]
["Brosse à vaisselle à tête rechargeable ","24,90 €","24.9",{"$f":"VLOOKUP(A119,Import!A:D,4,FALSE)","v":{"$error":"#N/A"}},false,0,0,{"$f":"IFERROR(__xludf.DUMMYFUNCTION(\"TO_PURE_NUMBER(G119)\"),0)","v":0},{"$error":"#VALUE!"}]
["Brosse à vaisselle en bois avec manche","6,50 €","6.5",{"$f":"VLOOKUP(A120,Import!A:D,4,FALSE)","v":{"$error":"#N/A"}},false,0,0,{"$f":"IFERROR(__xludf.DUMMYFUNCTION(\"TO_PURE_NUMBER(G120)\"),0)","v":0},{"$error":"#VALUE!"},{"$f":"VLOOKUP(A120,Import!A:N,14)","v":"🇫🇷 France - Attignat (01)"}]
["Brosses à dents enfants - Jaune","3,50 €","3,5",{"$f":"VLOOKUP(A121,Import!A:D,4,FALSE)","v":"Produits d'hygiène coporelle"},false,0,{"$f":"IF(F121=\"100G\",0.1,IF(F121=\"250G\",0.25,IF(F121=\"500G\",0.5,IF(F121=\"1 Kilo\",1,F121))))","v":0},{"$f":"G121","v":0},0,{"$f":"VLOOKUP(A121,Import!A:N,14)","v":"🇫🇷 France - Attignat (01)"}]
["Brosses à dents enfants - Violet","3,50 €","3,5",{"$f":"VLOOKUP(A122,Import!A:D,4,FALSE)","v":"Produits d'hygiène coporelle"},false,0,0,0,0,{"$f":"VLOOKUP(A122,Import!A:N,13)","v":"Cap Bambou"}]
["Café - Dagosette colombie (capsule)","0,40€","0.4",{"$f":"VLOOKUP(A123,Import!A:D,4,FALSE)","v":"Boisson en vrac"},false,0,0,{"$f":"IFERROR(__xludf.DUMMYFUNCTION(\"TO_PURE_NUMBER(G123)\"),0)","v":0},{"$error":"#VALUE!"},{"$f":"VLOOKUP(A123,Import!A:N,14)","v":"🇨🇴 Colombie / 🇫🇷 Chatillon sur Chalaronne"}]
["Café - Dosette Americ’ain (senseo)","0,20€ / pièce","0.2",{"$f":"VLOOKUP(A124,Import!A:D,4,FALSE)","v":"Boisson en vrac"},false,0,0,{"$f":"IFERROR(__xludf.DUMMYFUNCTION(\"TO_PURE_NUMBER(G124)\"),0)","v":0},{"$error":"#VALUE!"},{"$f":"VLOOKUP(A124,Import!A:N,14)","v":"🇨🇴 Colombie / 🇫🇷 Chatillon sur Chalaronne"}]
["Café - Grains - Colombie","19,90€ / kg","19.5",{"$f":"VLOOKUP(A125,Import!A:D,4,FALSE)","v":"Boisson en vrac"},false,0,0,{"$f":"IFERROR(__xludf.DUMMYFUNCTION(\"TO_PURE_NUMBER(G125)\"),0)","v":0},{"$error":"#VALUE!"},{"$f":"VLOOKUP(A125,Import!A:N,14)","v":"🇪🇹 Ethiopie"}]
["Café - Grains - Moka Djimmah ","19,90€ / kg","19.5",{"$f":"VLOOKUP(A126,Import!A:D,4,FALSE)","v":"Boisson en vrac"},false,0,0,{"$f":"IFERROR(__xludf.DUMMYFUNCTION(\"TO_PURE_NUMBER(G126)\"),0)","v":0},{"$error":"#VALUE!"},{"$f":"VLOOKUP(A126,Import!A:N,14)","v":"🇪🇹 Ethiopie"}]
["Cannelle en Poudre","56,00€ / kg","56",{"$f":"VLOOKUP(A127,Import!A:D,4,FALSE)","v":"Alimentaire Vrac"},false,0,0,{"$f":"IFERROR(__xludf.DUMMYFUNCTION(\"TO_PURE_NUMBER(G127)\"),0)","v":0},0]
["Cannelle en Tuyau","62,00€ / kg","62",{"$f":"VLOOKUP(A128,Import!A:D,4,FALSE)","v":"Alimentaire Vrac"},false,0,0,{"$f":"IFERROR(__xludf.DUMMYFUNCTION(\"TO_PURE_NUMBER(G128)\"),0)","v":0},0]
["Carrés démaquillants - Lot de 5","7,50 €","7.5",{"$f":"VLOOKUP(A129,Import!A:D,4,FALSE)","v":{"$error":"#N/A"}},false,0,0,{"$f":"IFERROR(__xludf.DUMMYFUNCTION(\"TO_PURE_NUMBER(G129)\"),0)","v":0},{"$error":"#VALUE!"}]
["Céréales - Choco crisp ","9,50 € / kg","9.5",{"$f":"VLOOKUP(A130,Import!A:D,4,FALSE)","v":"Alimentaire Vrac"},false,0,0,{"$f":"IFERROR(__xludf.DUMMYFUNCTION(\"TO_PURE_NUMBER(G130)\"),0)","v":0},{"$error":"#VALUE!"}]
["Céréales - Corn Flakes ","8,50€ / kg","8.5",{"$f":"VLOOKUP(A131,Import!A:D,4,FALSE)","v":"Alimentaire Vrac"},false,0,0,{"$f":"IFERROR(__xludf.DUMMYFUNCTION(\"TO_PURE_NUMBER(G131)\"),0)","v":0},{"$error":"#VALUE!"}]
["Céréales - Crosti Choco Noisettes ",11,"11",{"$f":"VLOOKUP(A132,Import!A:D,4,FALSE)","v":"Alimentaire Vrac"},false,0,0,{"$f":"IFERROR(__xludf.DUMMYFUNCTION(\"TO_PURE_NUMBER(G132)\"),0)","v":0},0,{"$f":"VLOOKUP(A132,Import!A:N,14)","v":"🇫🇷 France "}]
["Céréales - Flocons Avoine Gros ","3,50€ / kg","3.5",{"$f":"VLOOKUP(A133,Import!A:D,4,FALSE)","v":"Alimentaire Vrac"},false,0,0,{"$f":"IFERROR(__xludf.DUMMYFUNCTION(\"TO_PURE_NUMBER(G133)\"),0)","v":0},{"$error":"#VALUE!"},{"$f":"VLOOKUP(A133,Import!A:N,13)","v":"Actibio"}]
["Céréales - Flocons Avoine Petit","2,90€ / kg","2.9",{"$f":"VLOOKUP(A134,Import!A:D,4,FALSE)","v":"Alimentaire Vrac"},false,0,0,{"$f":"IFERROR(__xludf.DUMMYFUNCTION(\"TO_PURE_NUMBER(G134)\"),0)","v":0},{"$error":"#VALUE!"},{"$f":"VLOOKUP(A134,Import!A:N,13)","v":"Actibio"}]
["Céréales - Krounchy 3 chocolats","10,00€ / kg","10",{"$f":"VLOOKUP(A135,Import!A:D,4,FALSE)","v":"Alimentaire Vrac"},false,0,0,{"$f":"IFERROR(__xludf.DUMMYFUNCTION(\"TO_PURE_NUMBER(G135)\"),0)","v":0},0,{"$f":"VLOOKUP(A135,Import!A:N,13)","v":"Scop Epice"}]
["Céréales - Krounchy aux fruits","11,50€ / kg","11.50",{"$f":"VLOOKUP(A136,Import!A:D,4,FALSE)","v":"Alimentaire Vrac"},false,0,0,{"$f":"IFERROR(__xludf.DUMMYFUNCTION(\"TO_PURE_NUMBER(G136)\"),0)","v":0},{"$error":"#VALUE!"},{"$f":"VLOOKUP(A136,Import!A:N,13)","v":0}]
["Céréales - Krounchy Nature","7,50€","7.50",{"$f":"VLOOKUP(A137,Import!A:D,4,FALSE)","v":"Alimentaire Vrac"},false,0,0,{"$f":"IFERROR(__xludf.DUMMYFUNCTION(\"TO_PURE_NUMBER(G137)\"),0)","v":0},{"$error":"#VALUE!"},{"$f":"VLOOKUP(A137,Import!A:N,13)","v":0}]
["Céréales - Mops Miel","9,80€ / kg","9.8",{"$f":"VLOOKUP(A138,Import!A:D,4,FALSE)","v":"Alimentaire Vrac"},false,0,0,{"$f":"IFERROR(__xludf.DUMMYFUNCTION(\"TO_PURE_NUMBER(G138)\"),0)","v":0},{"$error":"#VALUE!"},{"$f":"VLOOKUP(A138,Import!A:N,13)","v":"Scop Epice"}]
["Chicorée torréfiée soluble - 200g","7,20€ / pièce","6.5",{"$f":"VLOOKUP(A139,Import!A:D,4,FALSE)","v":"Boisson en vrac"},false,0,0,{"$f":"IFERROR(__xludf.DUMMYFUNCTION(\"TO_PURE_NUMBER(G139)\"),0)","v":0},{"$error":"#VALUE!"},{"$f":"VLOOKUP(A139,Import!A:N,14)","v":" 🇫🇷 Chatillon sur chalaronne"}]
["Chips de Banane au Miel ","15,00 € / kg","15",{"$f":"VLOOKUP(A140,Import!A:D,4,FALSE)","v":"Alimentaire Vrac"},false,0,0,{"$f":"IFERROR(__xludf.DUMMYFUNCTION(\"TO_PURE_NUMBER(G140)\"),0)","v":0},0,{"$f":"VLOOKUP(A140,Import!A:N,14)","v":"🇵🇭 Philippines"}]
["Chocolat Lait - Palets","20€/ kg","16",{"$f":"VLOOKUP(A141,Import!A:D,4,FALSE)","v":"Alimentaire Vrac"},false,0,0,{"$f":"IFERROR(__xludf.DUMMYFUNCTION(\"TO_PURE_NUMBER(G141)\"),0)","v":0},0,{"$f":"VLOOKUP(A141,Import!A:N,14)","v":"🇧🇪 Belgique"}]
["Chocolat Lait - Pépites ","20,00 € / kg","20",{"$f":"VLOOKUP(A142,Import!A:D,4,FALSE)","v":"Alimentaire Vrac"},false,0,0,{"$f":"IFERROR(__xludf.DUMMYFUNCTION(\"TO_PURE_NUMBER(G142)\"),0)","v":0},0,{"$f":"VLOOKUP(A142,Import!A:N,14)","v":"NON 🇪🇺 UE"}]
["Chocolat Noir - Palets","18,00 € / kg","18",{"$f":"VLOOKUP(A143,Import!A:D,4,FALSE)","v":"Alimentaire Vrac"},false,0,0,{"$f":"IFERROR(__xludf.DUMMYFUNCTION(\"TO_PURE_NUMBER(G143)\"),0)","v":0},0,{"$f":"VLOOKUP(A143,Import!A:N,14)","v":"🇩🇴 Republique Dominicaine"}]
["Chocolat Noir - Pépites ","20,00 € / kg","20",{"$f":"VLOOKUP(A144,Import!A:D,4,FALSE)","v":"Alimentaire Vrac"},false,0,0,{"$f":"IFERROR(__xludf.DUMMYFUNCTION(\"TO_PURE_NUMBER(G144)\"),0)","v":0},0,{"$f":"VLOOKUP(A144,Import!A:N,14)","v":"🇩🇴 Republique Dominicaine"}]
["Chocolat Noir Poudre Instantané - Cacao et Sucre","90,00 € / kg","90",{"$f":"VLOOKUP(A145,Import!A:D,4,FALSE)","v":"Alimentaire Vrac"},false,0,0,{"$f":"IFERROR(__xludf.DUMMYFUNCTION(\"TO_PURE_NUMBER(G145)\"),0)","v":0},0,{"$f":"VLOOKUP(A145,Import!A:N,14)","v":"NON 🇪🇺 UE"}]
["Chouchou","4,50 €","4.5",{"$f":"VLOOKUP(A146,Import!A:D,4,FALSE)","v":"Zéros déchets et Bocaux"},false,0,0,{"$f":"IFERROR(__xludf.DUMMYFUNCTION(\"TO_PURE_NUMBER(G146)\"),0)","v":0},{"$error":"#VALUE!"},{"$f":"VLOOKUP(A146,Import!A:N,14)","v":"🇫🇷 France - Annemasse (74)"}]
["Ciboulette Feuilles ","80,00 € / kg","80",{"$f":"VLOOKUP(A147,Import!A:D,4,FALSE)","v":"Alimentaire Vrac"},false,0,0,{"$f":"IFERROR(__xludf.DUMMYFUNCTION(\"TO_PURE_NUMBER(G147)\"),0)","v":0},0,{"$f":"VLOOKUP(A147,Import!A:N,14)","v":"🇩🇪 Allemagne"}]
["Cidre Brut 75cl","5,90 €","5.9",{"$f":"VLOOKUP(A148,Import!A:D,4,FALSE)","v":"Boissons conditionnées"},false,0,0,{"$f":"IFERROR(__xludf.DUMMYFUNCTION(\"TO_PURE_NUMBER(G148)\"),0)","v":0},{"$error":"#VALUE!"},{"$f":"VLOOKUP(A148,Import!A:N,14)","v":"🇫🇷 France - Tournon (73)"}]
["Cinq baies concassées","114,00 € / kg","114",{"$f":"VLOOKUP(A149,Import!A:D,4,FALSE)","v":"Alimentaire Vrac"},false,0,0,{"$f":"IFERROR(__xludf.DUMMYFUNCTION(\"TO_PURE_NUMBER(G149)\"),0)","v":0},0,{"$f":"VLOOKUP(A149,Import!A:N,14)","v":"🇪🇺 UE / NON UE"}]
["Citronnade pur jus de citron jaune - 75cl","3,50 €","3.5",{"$f":"VLOOKUP(A150,Import!A:D,4,FALSE)","v":"Boissons conditionnées"},false,0,0,{"$f":"IFERROR(__xludf.DUMMYFUNCTION(\"TO_PURE_NUMBER(G150)\"),0)","v":0},{"$error":"#VALUE!"},{"$f":"VLOOKUP(A150,Import!A:N,14)","v":"🇫🇷 France "}]
["Compote Allégée - Pomme Abricot - 660g","5 €","5.00",{"$f":"VLOOKUP(A151,Import!A:D,4,FALSE)","v":"Alimentaire Conditionné"},false,0,0,{"$f":"IFERROR(__xludf.DUMMYFUNCTION(\"TO_PURE_NUMBER(G151)\"),0)","v":0},{"$error":"#VALUE!"},{"$f":"VLOOKUP(A151,Import!A:N,14)","v":"🇫🇷 France - La chapemme sous Aubenas (07)"}]
["Compote Allégée - Pomme Chataigne - 660g","4,80 €","4.80 ",{"$f":"VLOOKUP(A152,Import!A:D,4,FALSE)","v":"Alimentaire Conditionné"},false,0,0,{"$f":"IFERROR(__xludf.DUMMYFUNCTION(\"TO_PURE_NUMBER(G152)\"),0)","v":0},{"$error":"#VALUE!"},{"$f":"VLOOKUP(A152,Import!A:N,14)","v":"🇫🇷 France - La chapemme sous Aubenas (07)"}]
["Compote Pomme - 480g - ","3,50 €","3.50",{"$f":"VLOOKUP(A153,Import!A:D,4,FALSE)","v":"Alimentaire Conditionné"},false,0,0,{"$f":"IFERROR(__xludf.DUMMYFUNCTION(\"TO_PURE_NUMBER(G153)\"),0)","v":0},{"$error":"#VALUE!"},{"$f":"VLOOKUP(A153,Import!A:N,14)","v":"🇫🇷 France - Tournon (73)"}]
["Compote Pomme Banane",5,"5.00",{"$f":"VLOOKUP(A154,Import!A:D,4,FALSE)","v":"Alimentaire Conditionné"},false,0,0,{"$f":"IFERROR(__xludf.DUMMYFUNCTION(\"TO_PURE_NUMBER(G154)\"),0)","v":0},{"$error":"#VALUE!"},{"$f":"VLOOKUP(A154,Import!A:N,14)","v":"🇫🇷 France - Lyon (69)"}]
["Compote Pomme Framboise - 480g ","4,50 €","4.5",{"$f":"VLOOKUP(A155,Import!A:D,4,FALSE)","v":"Alimentaire Conditionné"},false,0,0,{"$f":"IFERROR(__xludf.DUMMYFUNCTION(\"TO_PURE_NUMBER(G155)\"),0)","v":0},{"$error":"#VALUE!"},{"$f":"VLOOKUP(A155,Import!A:N,14)","v":"🇫🇷 France - Tournon (73)"}]
["Concentré de Tomate - 200g","2,30 €","2.3",{"$f":"VLOOKUP(A156,Import!A:D,4,FALSE)","v":"Alimentaire Conditionné"},false,0,0,{"$f":"IFERROR(__xludf.DUMMYFUNCTION(\"TO_PURE_NUMBER(G156)\"),0)","v":0},{"$error":"#VALUE!"},{"$f":"VLOOKUP(A156,Import!A:N,14)","v":"🇮🇹 Italie"}]
["Confiture Abricot - 340g ","4,90 €","4.9",{"$f":"VLOOKUP(A157,Import!A:D,4,FALSE)","v":"Alimentaire Conditionné"},false,0,0,{"$f":"IFERROR(__xludf.DUMMYFUNCTION(\"TO_PURE_NUMBER(G157)\"),0)","v":0},{"$error":"#VALUE!"},{"$f":"VLOOKUP(A157,Import!A:N,14)","v":"🇫🇷 France - Saint vaury (23)"}]
["Confiture de Figue 340g","4,90 €","4.9",{"$f":"VLOOKUP(A158,Import!A:D,4,FALSE)","v":"Alimentaire Conditionné"},false,0,0,{"$f":"IFERROR(__xludf.DUMMYFUNCTION(\"TO_PURE_NUMBER(G158)\"),0)","v":0},{"$error":"#VALUE!"},{"$f":"VLOOKUP(A158,Import!A:N,14)","v":"🇫🇷 France - Saint vaury (23)"}]
["Confiture de Fraise - 370g ","4,90 €","4.9",{"$f":"VLOOKUP(A159,Import!A:D,4,FALSE)","v":"Alimentaire Conditionné"},false,0,0,{"$f":"IFERROR(__xludf.DUMMYFUNCTION(\"TO_PURE_NUMBER(G159)\"),0)","v":0},{"$error":"#VALUE!"},{"$f":"VLOOKUP(A159,Import!A:N,14)","v":"🇫🇷 France - Tournon (73)"}]
["Confiture de Fruits des Bois 370g ","5,50 €","5.5",{"$f":"VLOOKUP(A160,Import!A:D,4,FALSE)","v":"Alimentaire Conditionné"},false,0,0,{"$f":"IFERROR(__xludf.DUMMYFUNCTION(\"TO_PURE_NUMBER(G160)\"),0)","v":0},{"$error":"#VALUE!"},{"$f":"VLOOKUP(A160,Import!A:N,14)","v":"🇫🇷 France - Tournon (73)"}]
["Confiture de Myrtille - 370g ","4,90 €","4.9",{"$f":"VLOOKUP(A161,Import!A:D,4,FALSE)","v":"Alimentaire Conditionné"},false,0,0,{"$f":"IFERROR(__xludf.DUMMYFUNCTION(\"TO_PURE_NUMBER(G161)\"),0)","v":0},{"$error":"#VALUE!"},{"$f":"VLOOKUP(A161,Import!A:N,14)","v":"🇫🇷 France - Tournon (73)"}]
["Confitures d'à côté - Abricot","6€","6",{"$f":"VLOOKUP(A162,Import!A:D,4,FALSE)","v":"Alimentaire Conditionné"},false,0,0,{"$f":"IFERROR(__xludf.DUMMYFUNCTION(\"TO_PURE_NUMBER(G162)\"),0)","v":0},0,{"$f":"VLOOKUP(A162,Import!A:N,14)","v":"🇫🇷 France - Chatillon sur Chalaronne (01)"}]
["Confitures d'à côté - Ananas Vanille","6€","6",{"$f":"VLOOKUP(A163,Import!A:D,4,FALSE)","v":0},false,0,0,{"$f":"IFERROR(__xludf.DUMMYFUNCTION(\"TO_PURE_NUMBER(G163)\"),0)","v":0},0,{"$f":"VLOOKUP(A163,Import!A:N,14)","v":"🇫🇷 France - Chatillon sur Chalaronne (01)"}]
["Confitures d'à côté - Cerise","6€","6",{"$f":"VLOOKUP(A164,Import!A:D,4,FALSE)","v":0},false,0,0,{"$f":"IFERROR(__xludf.DUMMYFUNCTION(\"TO_PURE_NUMBER(G164)\"),0)","v":0},0,{"$f":"VLOOKUP(A164,Import!A:N,14)","v":"🇫🇷 France - Chatillon sur Chalaronne (01)"}]
["Confitures d'à côté - Clémentine","6€","6",{"$f":"VLOOKUP(A165,Import!A:D,4,FALSE)","v":0},false,0,0,{"$f":"IFERROR(__xludf.DUMMYFUNCTION(\"TO_PURE_NUMBER(G165)\"),0)","v":0},0,{"$f":"VLOOKUP(A165,Import!A:N,14)","v":"🇫🇷 France - Chatillon sur Chalaronne (01)"}]
["Confitures d'à côté - Figue pointe de vanille","6€","6",{"$f":"VLOOKUP(A166,Import!A:D,4,FALSE)","v":"Alimentaire Conditionné"},false,0,0,{"$f":"IFERROR(__xludf.DUMMYFUNCTION(\"TO_PURE_NUMBER(G166)\"),0)","v":0},0,{"$f":"VLOOKUP(A166,Import!A:N,14)","v":"🇫🇷 France - Chatillon sur Chalaronne (01)"}]
["Confitures d'à côté - Kiwi Ananas","6€","6",{"$f":"VLOOKUP(A167,Import!A:D,4,FALSE)","v":"Alimentaire Conditionné"},false,0,0,{"$f":"IFERROR(__xludf.DUMMYFUNCTION(\"TO_PURE_NUMBER(G167)\"),0)","v":0},0,{"$f":"VLOOKUP(A167,Import!A:N,14)","v":"🇫🇷 France - Chatillon sur Chalaronne (01)"}]
["Confitures d'à côté - Mirabelle ","6€","6",{"$f":"VLOOKUP(A168,Import!A:D,4,FALSE)","v":0},false,0,0,{"$f":"IFERROR(__xludf.DUMMYFUNCTION(\"TO_PURE_NUMBER(G168)\"),0)","v":0},0,{"$f":"VLOOKUP(A168,Import!A:N,14)","v":"🇫🇷 France - Chatillon sur Chalaronne (01)"}]
["Confitures d'à côté - Nectarine Pêche","6€","6",{"$f":"VLOOKUP(A169,Import!A:D,4,FALSE)","v":0},false,0,0,{"$f":"IFERROR(__xludf.DUMMYFUNCTION(\"TO_PURE_NUMBER(G169)\"),0)","v":0},0,{"$f":"VLOOKUP(A169,Import!A:N,14)","v":"🇫🇷 France - Chatillon sur Chalaronne (01)"}]
["Confitures d'à côté - Nectarine Vanille","6€","6",{"$f":"VLOOKUP(A170,Import!A:D,4,FALSE)","v":"Alimentaire Conditionné"},false,0,0,{"$f":"IFERROR(__xludf.DUMMYFUNCTION(\"TO_PURE_NUMBER(G170)\"),0)","v":0},0,{"$f":"VLOOKUP(A170,Import!A:N,14)","v":"🇫🇷 France - Chatillon sur Chalaronne (01)"}]
["Confitures d'à côté - Pêche ","6€","6",{"$f":"VLOOKUP(A171,Import!A:D,4,FALSE)","v":0},false,0,0,{"$f":"IFERROR(__xludf.DUMMYFUNCTION(\"TO_PURE_NUMBER(G171)\"),0)","v":0},0,{"$f":"VLOOKUP(A171,Import!A:N,14)","v":"🇫🇷 France - Chatillon sur Chalaronne (01)"}]
["Confitures d'à côté - Poire Tonka","6€","6",{"$f":"VLOOKUP(A172,Import!A:D,4,FALSE)","v":"Alimentaire Conditionné"},false,0,0,{"$f":"IFERROR(__xludf.DUMMYFUNCTION(\"TO_PURE_NUMBER(G172)\"),0)","v":0},0,{"$f":"VLOOKUP(A172,Import!A:N,14)","v":"🇫🇷 France - Chatillon sur Chalaronne (01)"}]
["Confitures d'à côté - Pomme Cannelle","6€","6",{"$f":"VLOOKUP(A173,Import!A:D,4,FALSE)","v":"Alimentaire Conditionné"},false,0,0,{"$f":"IFERROR(__xludf.DUMMYFUNCTION(\"TO_PURE_NUMBER(G173)\"),0)","v":0},0]
["Confitures d'à côté - Pomme Caramel ","6€","6",{"$f":"VLOOKUP(A174,Import!A:D,4,FALSE)","v":"Alimentaire Conditionné"},false,0,0,{"$f":"IFERROR(__xludf.DUMMYFUNCTION(\"TO_PURE_NUMBER(G174)\"),0)","v":0},0]
["Confitures d'à côté - Questche","6€","6",{"$f":"VLOOKUP(A175,Import!A:D,4,FALSE)","v":0},false,0,0,{"$f":"IFERROR(__xludf.DUMMYFUNCTION(\"TO_PURE_NUMBER(G175)\"),0)","v":0},0]
["Confitures d'à côté - Tomate verte aux épices ","5€","5",{"$f":"VLOOKUP(A176,Import!A:D,4,FALSE)","v":{"$error":"#N/A"}},false,0,0,{"$f":"IFERROR(__xludf.DUMMYFUNCTION(\"TO_PURE_NUMBER(G176)\"),0)","v":0},0]
["Confitures d'à côté- Mûre sauvage","6€","6",{"$f":"VLOOKUP(A177,Import!A:D,4,FALSE)","v":"Alimentaire Conditionné"},false,0,0,{"$f":"IFERROR(__xludf.DUMMYFUNCTION(\"TO_PURE_NUMBER(G177)\"),0)","v":0},0]
["Cornichons au vinaigre 37cl - 185g","7,50 €","7.5",{"$f":"VLOOKUP(A178,Import!A:D,4,FALSE)","v":"Alimentaire Conditionné"},false,0,0,{"$f":"IFERROR(__xludf.DUMMYFUNCTION(\"TO_PURE_NUMBER(G178)\"),0)","v":0},{"$error":"#VALUE!"}]
["Cotons tiges x 100","1,95 €",1.95,{"$f":"VLOOKUP(A179,Import!A:D,4,FALSE)","v":"Produits d'hygiène coporelle"},false,0,{"$f":"IF(F179=\"100G\",0.1,IF(F179=\"250G\",0.25,IF(F179=\"500G\",0.5,IF(F179=\"1 Kilo\",1,F179))))","v":0},{"$f":"G179","v":0},0]
["Cotons tiges x 200","3,59 €",3.59,{"$f":"VLOOKUP(A180,Import!A:D,4,FALSE)","v":"Produits d'hygiène coporelle"},false,0,0,0,0]
["Coulis de Tomate  Nature - 680g","2,50 €","2.5",{"$f":"VLOOKUP(A181,Import!A:D,4,FALSE)","v":"Alimentaire Conditionné"},false,0,0,{"$f":"IFERROR(__xludf.DUMMYFUNCTION(\"TO_PURE_NUMBER(G181)\"),0)","v":0},{"$error":"#VALUE!"}]
["Coulis de Tomate Basilic - 680g","2,50 €","2.5",{"$f":"VLOOKUP(A182,Import!A:D,4,FALSE)","v":"Alimentaire Conditionné"},false,0,0,{"$f":"IFERROR(__xludf.DUMMYFUNCTION(\"TO_PURE_NUMBER(G182)\"),0)","v":0},{"$error":"#VALUE!"}]
["Couscous Complet ","3,50€","3.5",{"$f":"VLOOKUP(A183,Import!A:D,4,FALSE)","v":"Alimentaire Vrac"},false,0,0,{"$f":"IFERROR(__xludf.DUMMYFUNCTION(\"TO_PURE_NUMBER(G183)\"),0)","v":0},{"$error":"#VALUE!"}]
["Couteau Réutilisable en bambou","2€","2",{"$f":"VLOOKUP(A184,Import!A:D,4,FALSE)","v":"Zéros déchets et Bocaux"},false,0,0,{"$f":"IFERROR(__xludf.DUMMYFUNCTION(\"TO_PURE_NUMBER(G184)\"),0)","v":0},0]
["Cranberries Demi séchées au sucre de Canne","17,50€ / kg","17.5",{"$f":"VLOOKUP(A185,Import!A:D,4,FALSE)","v":"Alimentaire Vrac"},false,0,0,{"$f":"IFERROR(__xludf.DUMMYFUNCTION(\"TO_PURE_NUMBER(G185)\"),0)","v":0},{"$error":"#VALUE!"}]
["Crème corps hydratant - Fleur de coton - Endro","15,60 €","15,6",{"$f":"VLOOKUP(A186,Import!A:D,4,FALSE)","v":"Produits d'hygiène coporelle"},false,0,{"$f":"IF(F186=\"100G\",0.1,IF(F186=\"250G\",0.25,IF(F186=\"500G\",0.5,IF(F186=\"1 Kilo\",1,F186))))","v":0},{"$f":"G186","v":0},0]
["Crème corps nourrissante - douceur iodée - Endro","12,90 €","12,9",{"$f":"VLOOKUP(A187,Import!A:D,4,FALSE)","v":"Produits d'hygiène coporelle"},false,0,0,0,0]
["Crème de Marron - 320g ","5,90 €","5.9",{"$f":"VLOOKUP(A188,Import!A:D,4,FALSE)","v":"Alimentaire Conditionné"},false,0,0,{"$f":"IFERROR(__xludf.DUMMYFUNCTION(\"TO_PURE_NUMBER(G188)\"),0)","v":0},{"$error":"#VALUE!"}]
["Crème solaire SPF 30 - 50ml","18,90 €","18,9",{"$f":"VLOOKUP(A189,Import!A:D,4,FALSE)","v":"Produits d'hygiène coporelle"},false,0,{"$f":"IF(F189=\"100G\",0.1,IF(F189=\"250G\",0.25,IF(F189=\"500G\",0.5,IF(F189=\"1 Kilo\",1,F189))))","v":0},{"$f":"G189","v":0},0]
["Crème solaire SPF 50 - 100ml","24,90 €","24,9",{"$f":"VLOOKUP(A190,Import!A:D,4,FALSE)","v":"Produits d'hygiène coporelle"},false,0,0,0,0]
["Crème solaire SPF 50 - 50ml","19,90 €","19,9",{"$f":"VLOOKUP(A191,Import!A:D,4,FALSE)","v":"Produits d'hygiène coporelle"},false,0,0,0,0]
["Crème végétale - Soya cuisine briquette - 20cl","1,95€","1.95",{"$f":"VLOOKUP(A192,Import!A:D,4,FALSE)","v":"Alimentaire Conditionné"},false,0,0,{"$f":"IFERROR(__xludf.DUMMYFUNCTION(\"TO_PURE_NUMBER(G192)\"),0)","v":0},{"$error":"#VALUE!"}]
["Crème visage - bonne mine","13,60 €","13,6",{"$f":"VLOOKUP(A193,Import!A:D,4,FALSE)","v":"Produits d'hygiène coporelle"},false,0,{"$f":"IF(F193=\"100G\",0.1,IF(F193=\"250G\",0.25,IF(F193=\"500G\",0.5,IF(F193=\"1 Kilo\",1,F193))))","v":0},{"$f":"G193","v":0},0]
["Crozets Sarrasin","9€ / kg","9",{"$f":"VLOOKUP(A194,Import!A:D,4,FALSE)","v":"Alimentaire Vrac"},false,0,0,{"$f":"IFERROR(__xludf.DUMMYFUNCTION(\"TO_PURE_NUMBER(G194)\"),0)","v":0},0]
["Cuillère réutilisable en bambou","1,50 €","1.5",{"$f":"VLOOKUP(A195,Import!A:D,4,FALSE)","v":"Zéros déchets et Bocaux"},false,0,0,{"$f":"IFERROR(__xludf.DUMMYFUNCTION(\"TO_PURE_NUMBER(G195)\"),0)","v":0},{"$error":"#VALUE!"},{"$f":"VLOOKUP(A195,Import!A:N,13)","v":"Cap Bambou"}]
["Cumin moulu poudre","55,00€ / kg","55",{"$f":"VLOOKUP(A196,Import!A:D,4,FALSE)","v":"Alimentaire Vrac"},false,0,0,{"$f":"IFERROR(__xludf.DUMMYFUNCTION(\"TO_PURE_NUMBER(G196)\"),0)","v":0},0]
["Curcuma ","45,00€ / kg",45,{"$f":"VLOOKUP(A197,Import!A:D,4,FALSE)","v":"Alimentaire Vrac"},false,0,0,{"$f":"IFERROR(__xludf.DUMMYFUNCTION(\"TO_PURE_NUMBER(G197)\"),0)","v":0},0]
["Cure Oreilles - Bamb’ori",2.99,2.99,{"$f":"VLOOKUP(A198,Import!A:D,4,FALSE)","v":"Produits d'hygiène coporelle"},false,0,{"$f":"IF(F198=\"100G\",0.1,IF(F198=\"250G\",0.25,IF(F198=\"500G\",0.5,IF(F198=\"1 Kilo\",1,F198))))","v":0},{"$f":"G198","v":0},0]
["Curry Poudre","42,00€ / kg","42",{"$f":"VLOOKUP(A199,Import!A:D,4,FALSE)","v":"Alimentaire Vrac"},false,0,0,{"$f":"IFERROR(__xludf.DUMMYFUNCTION(\"TO_PURE_NUMBER(G199)\"),0)","v":0},0]
["Dattes Dénoyautées ","10,50€ / kg","10.5",{"$f":"VLOOKUP(A200,Import!A:D,4,FALSE)","v":"Alimentaire Vrac"},false,0,0,{"$f":"IFERROR(__xludf.DUMMYFUNCTION(\"TO_PURE_NUMBER(G200)\"),0)","v":0},{"$error":"#VALUE!"}]
["Dentifrice bio à croquer Menthe Fraîche","180,00€ / kg","180",{"$f":"VLOOKUP(A201,Import!A:D,4,FALSE)","v":"Produits d'hygiène coporelle"},false,0,{"$f":"IF(F201=\"100G\",0.1,IF(F201=\"250G\",0.25,IF(F201=\"500G\",0.5,IF(F201=\"1 Kilo\",1,F201))))","v":0},{"$f":"G201","v":0},0]
["Dentifrice Naturel - Fruits Rouges - Endro","10,60€","10,6",{"$f":"VLOOKUP(A202,Import!A:D,4,FALSE)","v":"Produits d'hygiène coporelle"},false,0,0,0,0]
["Dentifrice Naturel - Menthe Givrée - Endro","10,60€","10,6",{"$f":"VLOOKUP(A203,Import!A:D,4,FALSE)","v":"Produits d'hygiène coporelle"},false,0,0,0,0]
["Dentifrice Naturel - Zeste Citronné - Endro","10,60€","10,6",{"$f":"VLOOKUP(A204,Import!A:D,4,FALSE)","v":"Produits d'hygiène coporelle"},false,0,0,0,0]
["Dentifrice solide - Charbon - Recharge - Savon de Joya","8,90€","8,9",{"$f":"VLOOKUP(A205,Import!A:D,4,FALSE)","v":"Produits d'hygiène coporelle"},false,0,0,0,0]
["Dentifrice solide - Charbon - Savon de Joya","10,60€","10,6",{"$f":"VLOOKUP(A206,Import!A:D,4,FALSE)","v":"Produits d'hygiène coporelle"},false,0,0,0,0]
["Dentifrice solide - Citron & Romarin - Recharge - - Savon de Joya","8,90€","8,9",{"$f":"VLOOKUP(A207,Import!A:D,4,FALSE)","v":"Produits d'hygiène coporelle"},false,0,0,0,0]
["Dentifrice solide - Citron & Romarin Savon de Joya","10,60€","10,6",{"$f":"VLOOKUP(A208,Import!A:D,4,FALSE)","v":"Produits d'hygiène coporelle"},false,0,0,0,0]
["Dentifrice solide - Framboise - - Savon de Joya","10,60€","10,6",{"$f":"VLOOKUP(A209,Import!A:D,4,FALSE)","v":"Produits d'hygiène coporelle"},false,0,0,0,0]
["Dentifrice solide - Framboise - Recharge ","8,90€","8,9",{"$f":"VLOOKUP(A210,Import!A:D,4,FALSE)","v":"Produits d'hygiène coporelle"},false,0,0,0,0]
["Dentifrice solide - Menthe - - Savon de Joya","10,60€","10,6",{"$f":"VLOOKUP(A211,Import!A:D,4,FALSE)","v":"Produits d'hygiène coporelle"},false,0,0,0,0,{"$f":"VLOOKUP(A211,Import!A:N,14)","v":"🇫🇷 France - Douvres-la-Délivrande (14)"}]
["Dentifrice solide - Menthe - Recharge - - Savon de Joya","8,90€","8,9",{"$f":"VLOOKUP(A212,Import!A:D,4,FALSE)","v":"Produits d'hygiène coporelle"},false,0,0,0,0]
["Déodorant - Clémence & Vivien - Le Fleuri",8.5,"7,9",{"$f":"VLOOKUP(A213,Import!A:D,4,FALSE)","v":"Produits d'hygiène coporelle"},false,0,0,0,0]
["Déodorant - Clémence & Vivien - Le Poudré",8.5,"7,9",{"$f":"VLOOKUP(A214,Import!A:D,4,FALSE)","v":"Produits d'hygiène coporelle"},false,0,0,0,0]
["Déodorant - Clémence & Vivien - Le Sucré",8.5,"7,9",{"$f":"VLOOKUP(A215,Import!A:D,4,FALSE)","v":"Produits d'hygiène coporelle"},false,0,0,0,0]
["Déodorant - Clémence & Vivien - Sensible Mandarinne",8.5,"7,9",{"$f":"VLOOKUP(A216,Import!A:D,4,FALSE)","v":"Produits d'hygiène coporelle"},false,0,0,0,0]
["Déodorant - Clémence & Vivien - Sensible Vanille",8.5,"7,9",{"$f":"VLOOKUP(A217,Import!A:D,4,FALSE)","v":"Produits d'hygiène coporelle"},false,0,0,0,0]
["Déodorant - Clémence & Vivien- L’Herbacé",8.5,"7,9",{"$f":"VLOOKUP(A218,Import!A:D,4,FALSE)","v":"Produits d'hygiène coporelle"},false,0,0,0,0]
["Déodorant - Endro - Bergamote / Arbre à thé","9,80€","9,8",{"$f":"VLOOKUP(A219,Import!A:D,4,FALSE)","v":"Produits d'hygiène coporelle"},false,0,0,0,0,{"$f":"VLOOKUP(A219,Import!A:N,13)","v":"Endro"}]
["Déodorant - Endro - Coco","9,80€","9,8",{"$f":"VLOOKUP(A220,Import!A:D,4,FALSE)","v":"Produits d'hygiène coporelle"},false,0,0,0,0,{"$f":"VLOOKUP(A220,Import!A:N,13)","v":"Endro"}]
["Déodorant - Endro - Menthe Poivrée / Cèdre","9,80€","9,8",{"$f":"VLOOKUP(A221,Import!A:D,4,FALSE)","v":"Produits d'hygiène coporelle"},false,0,0,0,0,{"$f":"VLOOKUP(A221,Import!A:N,13)","v":"Endro"}]
["Déodorant - Endro - Palmarosa / Géranium","9,80€","9,8",{"$f":"VLOOKUP(A222,Import!A:D,4,FALSE)","v":"Produits d'hygiène coporelle"},false,0,0,0,0]
["Déodorant - Endro - Peaux sensilbles","9,80€","9,8",{"$f":"VLOOKUP(A223,Import!A:D,4,FALSE)","v":"Produits d'hygiène coporelle"},false,0,0,0,0]
["Déodorant - Savon de Joya - Recharge Stick - Cèdre Vétiver - 75g","8,90 €","8,9",{"$f":"VLOOKUP(A224,Import!A:D,4,FALSE)","v":"Produits d'hygiène coporelle"},false,0,0,0,0]
["Déodorant - Savon de Joya - Recharge Stick - Citron & Mandarine - 75g","8,90 €","8,9",{"$f":"VLOOKUP(A225,Import!A:D,4,FALSE)","v":"Produits d'hygiène coporelle"},false,0,0,0,0,{"$f":"VLOOKUP(A225,Import!A:N,13)","v":"Les Savons de Joya"}]
["Déodorant - Savon de Joya - Recharge Stick - Rose, 0 bicarbonate - 75g","8,90 €","8,9",{"$f":"VLOOKUP(A226,Import!A:D,4,FALSE)","v":"Produits d'hygiène coporelle"},false,0,0,0,0,{"$f":"VLOOKUP(A226,Import!A:N,13)","v":"Les Savons de Joya"}]
["Déodorant - Savon de Joya - Recharge Stick Mini  - Cèdre Vétivier - 25g","7,90 €","7,9",{"$f":"VLOOKUP(A227,Import!A:D,4,FALSE)","v":"Produits d'hygiène coporelle"},false,0,0,0,0,{"$f":"VLOOKUP(A227,Import!A:N,13)","v":"Les Savons de Joya"}]
["Déodorant - Savon de Joya - Recharge Stick Mini  - Citron & Mandarine 25g","7,90 €","7,9",{"$f":"VLOOKUP(A228,Import!A:D,4,FALSE)","v":"Produits d'hygiène coporelle"},false,0,0,0,0]
["Déodorant Stick - Savon de Joya - Cèdre Vétiver - 75g","12,50 €","12,5",{"$f":"VLOOKUP(A229,Import!A:D,4,FALSE)","v":"Produits d'hygiène coporelle"},false,0,0,0,0]
["Déodorant Stick - Savon de Joya - Citron & Mandarine - 75g","12,50 €","12,5",{"$f":"VLOOKUP(A230,Import!A:D,4,FALSE)","v":"Produits d'hygiène coporelle"},false,0,0,0,0]
["Déodorant Stick - Savon de Joya - Rose, 0 bicarbonate - 75g","12,50 €","12,5",{"$f":"VLOOKUP(A231,Import!A:D,4,FALSE)","v":"Produits d'hygiène coporelle"},false,0,0,0,0]
["Déodorant Stick Mini  - Savon de Joya -  Rose, 0 bicarbonate - 25g","7,90 €","7,9",{"$f":"VLOOKUP(A232,Import!A:D,4,FALSE)","v":"Produits d'hygiène coporelle"},false,0,0,0,0]
["Déodorant Stick Mini - Savon de Joya - Cèdre Vétiver - 25g","7,90 €","7,9",{"$f":"VLOOKUP(A233,Import!A:D,4,FALSE)","v":"Produits d'hygiène coporelle"},false,0,0,0,0]
["Déodorant Stick Mini - Savon de Joya - Citron & Mandarine - 25g","5,20 €","5,2",{"$f":"VLOOKUP(A234,Import!A:D,4,FALSE)","v":"Produits d'hygiène coporelle"},false,0,0,0,0]
["Désinfectant sans rinçage - Vrac","12,50 €","12.50",{"$f":"VLOOKUP(A235,Import!A:D,4,FALSE)","v":"Produits d'entretiens"},false,0,0,{"$f":"IFERROR(__xludf.DUMMYFUNCTION(\"TO_PURE_NUMBER(G235)\"),0)","v":0},{"$error":"#VALUE!"},{"$f":"VLOOKUP(A235,Import!A:N,14)","v":"🇫🇷 France - Malataverne (26)"}]
["Détachant - Vrac",9.9,"9;90",{"$f":"VLOOKUP(A236,Import!A:D,4,FALSE)","v":"Produits d'entretiens"},false,0,0,{"$f":"IFERROR(__xludf.DUMMYFUNCTION(\"TO_PURE_NUMBER(G236)\"),0)","v":0},{"$error":"#VALUE!"},{"$f":"VLOOKUP(A236,Import!A:N,14)","v":"🇫🇷 France - Malataverne (26)"}]
["Emballage 1L Plat + Bouchon ","2 €","2",{"$f":"VLOOKUP(A237,Import!A:D,4,FALSE)","v":"Produits d'entretiens"},false,0,0,{"$f":"IFERROR(__xludf.DUMMYFUNCTION(\"TO_PURE_NUMBER(G237)\"),0)","v":0},0,{"$f":"VLOOKUP(A237,Import!A:N,14)","v":"🇫🇷 France - Malataverne (26)"}]
["Emballage 3L + Bouchon","4 €","4",{"$f":"VLOOKUP(A238,Import!A:D,4,FALSE)","v":"Produits d'entretiens"},false,0,0,{"$f":"IFERROR(__xludf.DUMMYFUNCTION(\"TO_PURE_NUMBER(G238)\"),0)","v":0},0]
["Emballage WC 750ml + Bouchon","2,50 €","2.5",{"$f":"VLOOKUP(A239,Import!A:D,4,FALSE)","v":"Produits d'entretiens"},false,0,0,{"$f":"IFERROR(__xludf.DUMMYFUNCTION(\"TO_PURE_NUMBER(G239)\"),0)","v":0},{"$error":"#VALUE!"}]
["Essuie tout blanc, 100% recyclés, 200f x 12","2 €","2",{"$f":"VLOOKUP(A240,Import!A:D,4,FALSE)","v":"Produits d'entretiens"},false,0,0,{"$f":"IFERROR(__xludf.DUMMYFUNCTION(\"TO_PURE_NUMBER(G240)\"),0)","v":0},0]
["Essuie-tout - Lot de 5 Multicolore","10,00 €","10",{"$f":"VLOOKUP(A241,Import!A:D,4,FALSE)","v":"Zéros déchets et Bocaux"},false,0,0,{"$f":"IFERROR(__xludf.DUMMYFUNCTION(\"TO_PURE_NUMBER(G241)\"),0)","v":0},0,{"$f":"VLOOKUP(A241,Import!A:N,14)","v":"🇫🇷 France - Annemasse (74)"}]
["Farine de blé - T110","2,10€ / kg","2",{"$f":"VLOOKUP(A242,Import!A:D,4,FALSE)","v":"Alimentaire Vrac"},false,0,0,{"$f":"IFERROR(__xludf.DUMMYFUNCTION(\"TO_PURE_NUMBER(G242)\"),0)","v":0},0,{"$f":"VLOOKUP(A242,Import!A:N,14)","v":"🇫🇷 France - Fareins (01) "}]
["Farine de blé - T55 ","2,10€ / kg","2.1",{"$f":"VLOOKUP(A243,Import!A:D,4,FALSE)","v":"Alimentaire Vrac"},false,0,0,{"$f":"IFERROR(__xludf.DUMMYFUNCTION(\"TO_PURE_NUMBER(G243)\"),0)","v":0},{"$error":"#VALUE!"},{"$f":"VLOOKUP(A243,Import!A:N,14)","v":"🇫🇷 France"}]
["Farine de blé - T65 ","2,10€ / kg","2",{"$f":"VLOOKUP(A244,Import!A:D,4,FALSE)","v":"Alimentaire Vrac"},false,0,0,{"$f":"IFERROR(__xludf.DUMMYFUNCTION(\"TO_PURE_NUMBER(G244)\"),0)","v":0},0]
["Farine de Maïs ","2,95€ / kg","2.95",{"$f":"VLOOKUP(A245,Import!A:D,4,FALSE)","v":"Alimentaire Vrac"},false,0,0,{"$f":"IFERROR(__xludf.DUMMYFUNCTION(\"TO_PURE_NUMBER(G245)\"),0)","v":0},{"$error":"#VALUE!"}]
["Farine de Maïs - Paquet 500g",1.7,"1.70",{"$f":"VLOOKUP(A246,Import!A:D,4,FALSE)","v":"Alimentaire Conditionné"},false,0,0,{"$f":"IFERROR(__xludf.DUMMYFUNCTION(\"TO_PURE_NUMBER(G246)\"),0)","v":0},{"$error":"#VALUE!"}]
["Farine de Petit épeautre ","6,00€ / kg","6",{"$f":"VLOOKUP(A247,Import!A:D,4,FALSE)","v":"Alimentaire Vrac"},false,0,0,{"$f":"IFERROR(__xludf.DUMMYFUNCTION(\"TO_PURE_NUMBER(G247)\"),0)","v":0},0]
["Farine de Pois chiches ","5,40€ / kg","5.4",{"$f":"VLOOKUP(A248,Import!A:D,4,FALSE)","v":"Alimentaire Vrac"},false,0,0,{"$f":"IFERROR(__xludf.DUMMYFUNCTION(\"TO_PURE_NUMBER(G248)\"),0)","v":0},{"$error":"#VALUE!"}]
["Farine de Pos chiches - paquet 500g","2.70","2.70",{"$f":"VLOOKUP(A249,Import!A:D,4,FALSE)","v":"Alimentaire Conditionné"},false,0,0,{"$f":"IFERROR(__xludf.DUMMYFUNCTION(\"TO_PURE_NUMBER(G249)\"),0)","v":0},{"$error":"#VALUE!"}]
["Fécule de Pomme de Terre ","4,90€ / kg","4.9",{"$f":"VLOOKUP(A250,Import!A:D,4,FALSE)","v":"Alimentaire Vrac"},false,0,0,{"$f":"IFERROR(__xludf.DUMMYFUNCTION(\"TO_PURE_NUMBER(G250)\"),0)","v":0},{"$error":"#VALUE!"}]
["Figues Entières ","12,00€ / kg","12",{"$f":"VLOOKUP(A251,Import!A:D,4,FALSE)","v":"Alimentaire Vrac"},false,0,0,{"$f":"IFERROR(__xludf.DUMMYFUNCTION(\"TO_PURE_NUMBER(G251)\"),0)","v":0},0]
["Filet à fruits et légumes - Taille L","8,50€","8.5",{"$f":"VLOOKUP(A252,Import!A:D,4,FALSE)","v":"Zéros déchets et Bocaux"},false,0,0,{"$f":"IFERROR(__xludf.DUMMYFUNCTION(\"TO_PURE_NUMBER(G252)\"),0)","v":0},{"$error":"#VALUE!"}]
["Filet à fruits et légumes - Taille M","9,50€","9.5",{"$f":"VLOOKUP(A253,Import!A:D,4,FALSE)","v":"Zéros déchets et Bocaux"},false,0,0,{"$f":"IFERROR(__xludf.DUMMYFUNCTION(\"TO_PURE_NUMBER(G253)\"),0)","v":0},{"$error":"#VALUE!"}]
["Filtre à café","4,50€","4.5",{"$f":"VLOOKUP(A254,Import!A:D,4,FALSE)","v":"Zéros déchets et Bocaux"},false,0,0,{"$f":"IFERROR(__xludf.DUMMYFUNCTION(\"TO_PURE_NUMBER(G254)\"),0)","v":0},{"$error":"#VALUE!"}]
["Filtre à Infusion ","4,50€","4.5",{"$f":"VLOOKUP(A255,Import!A:D,4,FALSE)","v":"Zéros déchets et Bocaux"},false,0,0,{"$f":"IFERROR(__xludf.DUMMYFUNCTION(\"TO_PURE_NUMBER(G255)\"),0)","v":0},{"$error":"#VALUE!"}]
["Filtre à thé ","4,00€","4",{"$f":"VLOOKUP(A256,Import!A:D,4,FALSE)","v":"Zéros déchets et Bocaux"},false,0,0,{"$f":"IFERROR(__xludf.DUMMYFUNCTION(\"TO_PURE_NUMBER(G256)\"),0)","v":0},0,{"$f":"VLOOKUP(A256,Import!A:N,14)","v":"🇫🇷 France - Annemasse (74)"}]
["Filtre à théière inox forme théière","5,50€","5.5",{"$f":"VLOOKUP(A257,Import!A:D,4,FALSE)","v":"Zéros déchets et Bocaux"},false,0,{"$f":"IF(F257=\"100G\",0.1,IF(F257=\"250G\",0.25,IF(F257=\"500G\",0.5,IF(F257=\"1 Kilo\",1,F257))))","v":0},{"$f":"IFERROR(__xludf.DUMMYFUNCTION(\"TO_PURE_NUMBER(G257)\"),0)","v":0},{"$f":"H257*C257","v":{"$error":"#VALUE!"}},{"$f":"VLOOKUP(A257,Import!A:N,14)","v":"🇫🇷 France - Sud Est"}]
["Flageolets","6,50€ / kg","6.5",{"$f":"VLOOKUP(A258,Import!A:D,4,FALSE)","v":"Alimentaire Vrac"},false,0,0,{"$f":"IFERROR(__xludf.DUMMYFUNCTION(\"TO_PURE_NUMBER(G258)\"),0)","v":0},{"$error":"#VALUE!"},{"$f":"VLOOKUP(A258,Import!A:N,14)","v":"🇫🇷 France"}]
["Fondants Parfumés","3,50€","3.5",{"$f":"VLOOKUP(A259,Import!A:D,4,FALSE)","v":{"$error":"#N/A"}},false,0,0,{"$f":"IFERROR(__xludf.DUMMYFUNCTION(\"TO_PURE_NUMBER(G259)\"),0)","v":0},{"$error":"#VALUE!"},{"$f":"VLOOKUP(A259,Import!A:N,14)","v":"🇫🇷 France"}]
["Fourchette réutilisable","2,00€","2",{"$f":"VLOOKUP(A260,Import!A:D,4,FALSE)","v":"Zéros déchets et Bocaux"},false,0,0,{"$f":"IFERROR(__xludf.DUMMYFUNCTION(\"TO_PURE_NUMBER(G260)\"),0)","v":0},0,{"$f":"VLOOKUP(A260,Import!A:N,14)","v":"🇫🇷 France - Attignat (01)"}]
["Furoshikis - Taille M","6,50€","6.5",{"$f":"VLOOKUP(A261,Import!A:D,4,FALSE)","v":"Zéros déchets et Bocaux"},false,0,0,{"$f":"IFERROR(__xludf.DUMMYFUNCTION(\"TO_PURE_NUMBER(G261)\"),0)","v":0},{"$error":"#VALUE!"},{"$f":"VLOOKUP(A261,Import!A:N,14)","v":"🇫🇷 France - Annemasse (74)"}]
["Furoshikis - Taille S","5,00€","5",{"$f":"VLOOKUP(A262,Import!A:D,4,FALSE)","v":"Zéros déchets et Bocaux"},false,0,0,{"$f":"IFERROR(__xludf.DUMMYFUNCTION(\"TO_PURE_NUMBER(G262)\"),0)","v":0},0]
["Fusilli Riz Quinoa ","12,00€ / kg","12",{"$f":"VLOOKUP(A263,Import!A:D,4,FALSE)","v":"Alimentaire Vrac"},false,0,0,{"$f":"IFERROR(__xludf.DUMMYFUNCTION(\"TO_PURE_NUMBER(G263)\"),0)","v":0},0]
["Gamme anti âge - Contour des yeux - Endro ",9.9,9.9,{"$f":"VLOOKUP(A264,Import!A:D,4,FALSE)","v":"Produits d'hygiène coporelle"},false,0,{"$f":"IF(F264=\"100G\",0.1,IF(F264=\"250G\",0.25,IF(F264=\"500G\",0.5,IF(F264=\"1 Kilo\",1,F264))))","v":0},{"$f":"G264","v":0},0]
["Gamme anti âge - Crème - Endro ",19.899999999999999,19.899999999999999,{"$f":"VLOOKUP(A265,Import!A:D,4,FALSE)","v":"Produits d'hygiène coporelle"},false,0,0,0,0]
["Gamme anti âge - Sérum- Endro ",24.9,24.9,{"$f":"VLOOKUP(A266,Import!A:D,4,FALSE)","v":"Produits d'hygiène coporelle"},false,0,0,0,0]
["Gant de toilette","5,50€","5.5",{"$f":"VLOOKUP(A267,Import!A:D,4,FALSE)","v":"Zéros déchets et Bocaux"},false,0,0,{"$f":"IFERROR(__xludf.DUMMYFUNCTION(\"TO_PURE_NUMBER(G267)\"),0)","v":0},{"$error":"#VALUE!"}]
["Gel douche vrac - Karité verveine","8,30€ / kg","8.3",{"$f":"VLOOKUP(A268,Import!A:D,4,FALSE)","v":"Produits d'entretiens"},false,0,0,{"$f":"IFERROR(__xludf.DUMMYFUNCTION(\"TO_PURE_NUMBER(G268)\"),0)","v":0},{"$error":"#VALUE!"}]
["Gel WC - Vrac","5,90€ / kg","5.9",{"$f":"VLOOKUP(A269,Import!A:D,4,FALSE)","v":"Produits d'entretiens"},false,0,0,{"$f":"IFERROR(__xludf.DUMMYFUNCTION(\"TO_PURE_NUMBER(G269)\"),0)","v":0},{"$error":"#VALUE!"}]
["Gingembre Confit irréguliers ","14,50€ / kg","14.5",{"$f":"VLOOKUP(A270,Import!A:D,4,FALSE)","v":"Alimentaire Vrac"},false,0,0,{"$f":"IFERROR(__xludf.DUMMYFUNCTION(\"TO_PURE_NUMBER(G270)\"),0)","v":0},{"$error":"#VALUE!"}]
["Gingembre en Poudre ","50,00€ / kg","50",{"$f":"VLOOKUP(A271,Import!A:D,4,FALSE)","v":"Alimentaire Vrac"},false,0,0,{"$f":"IFERROR(__xludf.DUMMYFUNCTION(\"TO_PURE_NUMBER(G271)\"),0)","v":0},0]
["Gommage visage Douce Aloe","14,90€","14,9",{"$f":"VLOOKUP(A272,Import!A:D,4,FALSE)","v":"Produits d'hygiène coporelle"},false,0,{"$f":"IF(F272=\"100G\",0.1,IF(F272=\"250G\",0.25,IF(F272=\"500G\",0.5,IF(F272=\"1 Kilo\",1,F272))))","v":0},{"$f":"G272","v":0},0]
["Goupillon","1,15€","1.15",{"$f":"VLOOKUP(A273,Import!A:D,4,FALSE)","v":{"$error":"#N/A"}},false,0,0,{"$f":"IFERROR(__xludf.DUMMYFUNCTION(\"TO_PURE_NUMBER(G273)\"),0)","v":0},{"$error":"#VALUE!"}]
["Graines de Chia ","50€ / kg","5",{"$f":"VLOOKUP(A274,Import!A:D,4,FALSE)","v":"Alimentaire Vrac"},false,0,0,{"$f":"IFERROR(__xludf.DUMMYFUNCTION(\"TO_PURE_NUMBER(G274)\"),0)","v":0},0,{"$f":"VLOOKUP(A274,Import!A:N,14)","v":"🇵🇪 Pérou"}]
["Graines de Courges Foncées ","18,50€ / kg","18.5",{"$f":"VLOOKUP(A275,Import!A:D,4,FALSE)","v":"Alimentaire Vrac"},false,0,0,{"$f":"IFERROR(__xludf.DUMMYFUNCTION(\"TO_PURE_NUMBER(G275)\"),0)","v":0},{"$error":"#VALUE!"}]
["Graines de Lin Brun ","6,20€ / kg","6.2",{"$f":"VLOOKUP(A276,Import!A:D,4,FALSE)","v":"Alimentaire Vrac"},false,0,0,{"$f":"IFERROR(__xludf.DUMMYFUNCTION(\"TO_PURE_NUMBER(G276)\"),0)","v":0},{"$error":"#VALUE!"}]
["Graines de Pavot","135€ / kg","135",{"$f":"VLOOKUP(A277,Import!A:D,4,FALSE)","v":"Alimentaire Vrac"},false,0,0,{"$f":"IFERROR(__xludf.DUMMYFUNCTION(\"TO_PURE_NUMBER(G277)\"),0)","v":0},0,{"$f":"VLOOKUP(A277,Import!A:N,14)","v":"🇹🇷 Turquie"}]
["Graines de Sésame ","30€ / kg","30",{"$f":"VLOOKUP(A278,Import!A:D,4,FALSE)","v":"Alimentaire Vrac"},false,0,0,{"$f":"IFERROR(__xludf.DUMMYFUNCTION(\"TO_PURE_NUMBER(G278)\"),0)","v":0},0]
["Haricots Blancs ","6,00€ / kg","6",{"$f":"VLOOKUP(A279,Import!A:D,4,FALSE)","v":"Alimentaire Vrac"},false,0,0,{"$f":"IFERROR(__xludf.DUMMYFUNCTION(\"TO_PURE_NUMBER(G279)\"),0)","v":0},0]
["Haricots Noirs","7,50€ / kg","7.5",{"$f":"VLOOKUP(A280,Import!A:D,4,FALSE)","v":"Alimentaire Vrac"},false,0,0,{"$f":"IFERROR(__xludf.DUMMYFUNCTION(\"TO_PURE_NUMBER(G280)\"),0)","v":0},{"$error":"#VALUE!"}]
["Haricots Rouges ","7,50€ /kg","7.5",{"$f":"VLOOKUP(A281,Import!A:D,4,FALSE)","v":"Alimentaire Vrac"},false,0,0,{"$f":"IFERROR(__xludf.DUMMYFUNCTION(\"TO_PURE_NUMBER(G281)\"),0)","v":0},{"$error":"#VALUE!"}]
["Herbes de provence ","54,00€ / kg","54",{"$f":"VLOOKUP(A282,Import!A:D,4,FALSE)","v":"Alimentaire Vrac"},false,0,0,{"$f":"IFERROR(__xludf.DUMMYFUNCTION(\"TO_PURE_NUMBER(G282)\"),0)","v":0},0]
["Huile d’Olive extra vierge ","9€ / kg",9,{"$f":"VLOOKUP(A283,Import!A:D,4,FALSE)","v":"Alimentaire Vrac"},false,0,0,{"$f":"IFERROR(__xludf.DUMMYFUNCTION(\"TO_PURE_NUMBER(G283)\"),0)","v":0},0]
["Huile d’olive Luce - 1L",10.9,"9.5",{"$f":"VLOOKUP(A284,Import!A:D,4,FALSE)","v":"Alimentaire Conditionné"},false,0,0,{"$f":"IFERROR(__xludf.DUMMYFUNCTION(\"TO_PURE_NUMBER(G284)\"),0)","v":0},{"$error":"#VALUE!"}]
["Huile de Cameline - 25cl","10,50€","10.5",{"$f":"VLOOKUP(A285,Import!A:D,4,FALSE)","v":"Alimentaire Conditionné"},false,0,0,{"$f":"IFERROR(__xludf.DUMMYFUNCTION(\"TO_PURE_NUMBER(G285)\"),0)","v":0},{"$error":"#VALUE!"}]
["Huile de Chanvre - 25cl","11,50€","11.5",{"$f":"VLOOKUP(A286,Import!A:D,4,FALSE)","v":"Alimentaire Conditionné"},false,0,0,{"$f":"IFERROR(__xludf.DUMMYFUNCTION(\"TO_PURE_NUMBER(G286)\"),0)","v":0},{"$error":"#VALUE!"}]
["Huile de Coco vierge","12,00€ / kg","12",{"$f":"VLOOKUP(A287,Import!A:D,4,FALSE)","v":"Alimentaire Vrac"},false,0,0,{"$f":"IFERROR(__xludf.DUMMYFUNCTION(\"TO_PURE_NUMBER(G287)\"),0)","v":0},0]
["Huile de Colza - 1L","14,00€","14",{"$f":"VLOOKUP(A288,Import!A:D,4,FALSE)","v":"Alimentaire Conditionné"},false,0,0,{"$f":"IFERROR(__xludf.DUMMYFUNCTION(\"TO_PURE_NUMBER(G288)\"),0)","v":0},0]
["Huile de Colza - 50cl","7,00€","7",{"$f":"VLOOKUP(A289,Import!A:D,4,FALSE)","v":"Alimentaire Conditionné"},false,0,0,{"$f":"IFERROR(__xludf.DUMMYFUNCTION(\"TO_PURE_NUMBER(G289)\"),0)","v":0},0]
["Huile de Colza - en vrac ","11,00€","11",{"$f":"VLOOKUP(A290,Import!A:D,4,FALSE)","v":"Alimentaire Vrac"},false,0,0,{"$f":"IFERROR(__xludf.DUMMYFUNCTION(\"TO_PURE_NUMBER(G290)\"),0)","v":0},0]
["Huile de Lin - 25cl ","7,50€","7.5",{"$f":"VLOOKUP(A291,Import!A:D,4,FALSE)","v":"Alimentaire Conditionné"},false,0,0,{"$f":"IFERROR(__xludf.DUMMYFUNCTION(\"TO_PURE_NUMBER(G291)\"),0)","v":0},{"$error":"#VALUE!"}]
["Huile de soin Antixiodante - Clemence & Vivien ","11,90€","11,9",{"$f":"VLOOKUP(A292,Import!A:D,4,FALSE)","v":"Produits d'hygiène coporelle"},false,0,{"$f":"IF(F292=\"100G\",0.1,IF(F292=\"250G\",0.25,IF(F292=\"500G\",0.5,IF(F292=\"1 Kilo\",1,F292))))","v":0},{"$f":"G292","v":0},0]
["Huile de soin Peaux Mixtes - Clemence & Vivien ","11,90€","11,9",{"$f":"VLOOKUP(A293,Import!A:D,4,FALSE)","v":"Produits d'hygiène coporelle"},false,0,0,0,0,{"$f":"VLOOKUP(A293,Import!A:N,13)","v":"Clémence & Vivien"}]
["Huile de soin Peaux Sèches - Clemence & Vivien ","11,90€","11,9",{"$f":"VLOOKUP(A294,Import!A:D,4,FALSE)","v":"Produits d'hygiène coporelle"},false,0,0,0,0]
["Huile de Tournesol - 1L","12,00€","12",{"$f":"VLOOKUP(A295,Import!A:D,4,FALSE)","v":"Alimentaire Conditionné"},false,0,0,{"$f":"IFERROR(__xludf.DUMMYFUNCTION(\"TO_PURE_NUMBER(G295)\"),0)","v":0},0]
["Huile de Tournesol - 50cl","6,00€","6",{"$f":"VLOOKUP(A296,Import!A:D,4,FALSE)","v":"Alimentaire Conditionné"},false,0,0,{"$f":"IFERROR(__xludf.DUMMYFUNCTION(\"TO_PURE_NUMBER(G296)\"),0)","v":0},0]
["Huile de Tournesol - en vrac ","7,90€ / kg","7.9",{"$f":"VLOOKUP(A297,Import!A:D,4,FALSE)","v":"Alimentaire Vrac"},false,0,0,{"$f":"IFERROR(__xludf.DUMMYFUNCTION(\"TO_PURE_NUMBER(G297)\"),0)","v":0},{"$error":"#VALUE!"}]
["Huile démaquillante toute douce Amande - Clemence & Vivien ","11,90€","11,9",{"$f":"VLOOKUP(A298,Import!A:D,4,FALSE)","v":"Produits d'hygiène coporelle"},false,0,{"$f":"IF(F298=\"100G\",0.1,IF(F298=\"250G\",0.25,IF(F298=\"500G\",0.5,IF(F298=\"1 Kilo\",1,F298))))","v":0},{"$f":"G298","v":0},0]
["Huile démaquillante toute douce Rose-Muguet - Clemence & Vivien ","11,90€","11,9",{"$f":"VLOOKUP(A299,Import!A:D,4,FALSE)","v":"Produits d'hygiène coporelle"},false,0,0,0,0]
["Huile Sèche 3 en 1 - Endro","19,90€","19,9",{"$f":"VLOOKUP(A300,Import!A:D,4,FALSE)","v":"Produits d'hygiène coporelle"},false,0,0,0,0]
["Jus d’orange du Maroc - 75cl","4€","4",{"$f":"VLOOKUP(A301,Import!A:D,4,FALSE)","v":"Boissons conditionnées"},false,0,0,{"$f":"IFERROR(__xludf.DUMMYFUNCTION(\"TO_PURE_NUMBER(G301)\"),0)","v":0},0]
["Jus de citron Sicile - 1L","5,90€","5.9",{"$f":"VLOOKUP(A302,Import!A:D,4,FALSE)","v":"Boissons conditionnées"},false,0,0,{"$f":"IFERROR(__xludf.DUMMYFUNCTION(\"TO_PURE_NUMBER(G302)\"),0)","v":0},{"$error":"#VALUE!"}]
["Jus de citron Sicile - 50cl","3,50€","3.5",{"$f":"VLOOKUP(A303,Import!A:D,4,FALSE)","v":"Boissons conditionnées"},false,0,0,{"$f":"IFERROR(__xludf.DUMMYFUNCTION(\"TO_PURE_NUMBER(G303)\"),0)","v":0},{"$error":"#VALUE!"}]
["Jus de Pamplemousse rose Demeter - 75cl","4,50€","4.5",{"$f":"VLOOKUP(A304,Import!A:D,4,FALSE)","v":"Boissons conditionnées"},false,0,0,{"$f":"IFERROR(__xludf.DUMMYFUNCTION(\"TO_PURE_NUMBER(G304)\"),0)","v":0},{"$error":"#VALUE!"}]
["Jus de Pomme 1L ","4,50€","4.5",{"$f":"VLOOKUP(A305,Import!A:D,4,FALSE)","v":"Boissons conditionnées"},false,0,0,{"$f":"IFERROR(__xludf.DUMMYFUNCTION(\"TO_PURE_NUMBER(G305)\"),0)","v":0},{"$error":"#VALUE!"}]
["Jus de Pomme Cassis - 75cl","4€","4",{"$f":"VLOOKUP(A306,Import!A:D,4,FALSE)","v":"Boissons conditionnées"},false,0,0,{"$f":"IFERROR(__xludf.DUMMYFUNCTION(\"TO_PURE_NUMBER(G306)\"),0)","v":0},0]
["Jus de Raisin 1L","4,50€","4.5",{"$f":"VLOOKUP(A307,Import!A:D,4,FALSE)","v":"Boissons conditionnées"},false,0,0,{"$f":"IFERROR(__xludf.DUMMYFUNCTION(\"TO_PURE_NUMBER(G307)\"),0)","v":0},{"$error":"#VALUE!"}]
["Jus Pomme Cassis 1L ","4,50€","4.5",{"$f":"VLOOKUP(A308,Import!A:D,4,FALSE)","v":"Boissons conditionnées"},false,0,0,{"$f":"IFERROR(__xludf.DUMMYFUNCTION(\"TO_PURE_NUMBER(G308)\"),0)","v":0},{"$error":"#VALUE!"},{"$f":"VLOOKUP(A308,Import!A:N,13)","v":"Relais local"}]
["Jus Pomme Framboise - 1L","4,90€","4.9",{"$f":"VLOOKUP(A309,Import!A:D,4,FALSE)","v":"Boissons conditionnées"},false,0,0,{"$f":"IFERROR(__xludf.DUMMYFUNCTION(\"TO_PURE_NUMBER(G309)\"),0)","v":0},{"$error":"#VALUE!"},{"$f":"VLOOKUP(A309,Import!A:N,14)","v":"🇫🇷 France - Tournon (73)"}]
["Ketchup bouteille - 500g","3,50€","3.5",{"$f":"VLOOKUP(A310,Import!A:D,4,FALSE)","v":"Alimentaire Conditionné"},false,0,0,{"$f":"IFERROR(__xludf.DUMMYFUNCTION(\"TO_PURE_NUMBER(G310)\"),0)","v":0},{"$error":"#VALUE!"}]
["Kombucha - Citron Gingembre - 33cl","4,50€","4.5",{"$f":"VLOOKUP(A311,Import!A:D,4,FALSE)","v":"Boissons conditionnées"},false,0,0,{"$f":"IFERROR(__xludf.DUMMYFUNCTION(\"TO_PURE_NUMBER(G311)\"),0)","v":0},{"$error":"#VALUE!"}]
["Kombucha - Menthe - 33cl","4,50€","4.5",{"$f":"VLOOKUP(A312,Import!A:D,4,FALSE)","v":"Boissons conditionnées"},false,0,0,{"$f":"IFERROR(__xludf.DUMMYFUNCTION(\"TO_PURE_NUMBER(G312)\"),0)","v":0},{"$error":"#VALUE!"},{"$f":"VLOOKUP(A312,Import!A:N,14)","v":"🇫🇷 France - Decines (69)"}]
["Kombucha - Nature - 33cl","4,50€","4.5",{"$f":"VLOOKUP(A313,Import!A:D,4,FALSE)","v":"Boissons conditionnées"},false,0,0,{"$f":"IFERROR(__xludf.DUMMYFUNCTION(\"TO_PURE_NUMBER(G313)\"),0)","v":0},{"$error":"#VALUE!"}]
["Lait après-soleil - 100ml","14,90€","14,9",{"$f":"VLOOKUP(A314,Import!A:D,4,FALSE)","v":"Produits d'hygiène coporelle"},false,0,{"$f":"IF(F314=\"100G\",0.1,IF(F314=\"250G\",0.25,IF(F314=\"500G\",0.5,IF(F314=\"1 Kilo\",1,F314))))","v":0},{"$f":"G314","v":0},0]
["Lait après-soleil - 50ml","9,90€","9,9",{"$f":"VLOOKUP(A315,Import!A:D,4,FALSE)","v":"Produits d'hygiène coporelle"},false,0,0,0,0]
["Lait corps au beurre de Karité Vrac","31,00€","31",{"$f":"VLOOKUP(A316,Import!A:D,4,FALSE)","v":"Produits d'hygiène coporelle"},false,0,0,0,0]
["Lait UHT 1/2 écrémé - 1L","1,50€","1.5",{"$f":"VLOOKUP(A317,Import!A:D,4,FALSE)","v":"Boissons conditionnées"},false,0,0,{"$f":"IFERROR(__xludf.DUMMYFUNCTION(\"TO_PURE_NUMBER(G317)\"),0)","v":0},{"$error":"#VALUE!"}]
["Lait UHT entier - 1L","1,95€","1.95",{"$f":"VLOOKUP(A318,Import!A:D,4,FALSE)","v":"Boissons conditionnées"},false,0,0,{"$f":"IFERROR(__xludf.DUMMYFUNCTION(\"TO_PURE_NUMBER(G318)\"),0)","v":0},{"$error":"#VALUE!"}]
["Lentilles Corail"," 8,50€ / kg","8.5",{"$f":"VLOOKUP(A319,Import!A:D,4,FALSE)","v":"Alimentaire Vrac"},false,0,0,{"$f":"IFERROR(__xludf.DUMMYFUNCTION(\"TO_PURE_NUMBER(G319)\"),0)","v":0},{"$error":"#VALUE!"}]
["Lessive Fleur à Savon ","4,35€ / kg","4.35",{"$f":"VLOOKUP(A320,Import!A:D,4,FALSE)","v":"Produits d'entretiens"},false,0,0,{"$f":"IFERROR(__xludf.DUMMYFUNCTION(\"TO_PURE_NUMBER(G320)\"),0)","v":0},{"$error":"#VALUE!"}]
["Lessive Hypoallergénique","5,90€ / kg","5.9",{"$f":"VLOOKUP(A321,Import!A:D,4,FALSE)","v":"Produits d'entretiens"},false,0,0,{"$f":"IFERROR(__xludf.DUMMYFUNCTION(\"TO_PURE_NUMBER(G321)\"),0)","v":0},{"$error":"#VALUE!"}]
["Levure Paillettes Maltées","9,50€ / kg","9.5",{"$f":"VLOOKUP(A322,Import!A:D,4,FALSE)","v":"Alimentaire Vrac"},false,0,0,{"$f":"IFERROR(__xludf.DUMMYFUNCTION(\"TO_PURE_NUMBER(G322)\"),0)","v":0},{"$error":"#VALUE!"}]
["Limonade Bulles d’orange - 25cl","3,00 €","3",{"$f":"VLOOKUP(A323,Import!A:D,4,FALSE)","v":"Boissons conditionnées"},false,0,0,{"$f":"IFERROR(__xludf.DUMMYFUNCTION(\"TO_PURE_NUMBER(G323)\"),0)","v":0},0]
["Limonade Sucre de Canne 1L","4€","4",{"$f":"VLOOKUP(A324,Import!A:D,4,FALSE)","v":"Boissons conditionnées"},false,0,0,{"$f":"IFERROR(__xludf.DUMMYFUNCTION(\"TO_PURE_NUMBER(G324)\"),0)","v":0},0,{"$f":"VLOOKUP(A324,Import!A:N,14)","v":"🇫🇷 France - Belley (01)"}]
["Liquide Vaisselle Main - Vrac ","3,80€ / kg","3.8",{"$f":"VLOOKUP(A325,Import!A:D,4,FALSE)","v":"Produits d'entretiens"},false,0,0,{"$f":"IFERROR(__xludf.DUMMYFUNCTION(\"TO_PURE_NUMBER(G325)\"),0)","v":0},{"$error":"#VALUE!"},{"$f":"VLOOKUP(A325,Import!A:N,14)","v":"🇫🇷 France - Malataverne (26)"}]
["Maïs Popcorn ","4,50€ / kg","4.5",{"$f":"VLOOKUP(A326,Import!A:D,4,FALSE)","v":"Alimentaire Vrac"},false,0,0,{"$f":"IFERROR(__xludf.DUMMYFUNCTION(\"TO_PURE_NUMBER(G326)\"),0)","v":0},{"$error":"#VALUE!"},{"$f":"VLOOKUP(A326,Import!A:N,14)","v":"🇫🇷 France"}]
["Mangues séchées","27,50€ / kg","27.5",{"$f":"VLOOKUP(A327,Import!A:D,4,FALSE)","v":"Alimentaire Vrac"},false,0,0,{"$f":"IFERROR(__xludf.DUMMYFUNCTION(\"TO_PURE_NUMBER(G327)\"),0)","v":0},{"$error":"#VALUE!"},{"$f":"VLOOKUP(A327,Import!A:N,14)","v":"🇨🇲 Cameroun"}]
["Masque Visage Purifiant - Endro","24,90 €","24,9",{"$f":"VLOOKUP(A328,Import!A:D,4,FALSE)","v":"Produits d'hygiène coporelle"},false,0,{"$f":"IF(F328=\"100G\",0.1,IF(F328=\"250G\",0.25,IF(F328=\"500G\",0.5,IF(F328=\"1 Kilo\",1,F328))))","v":0},{"$f":"G328","v":0},0,{"$f":"VLOOKUP(A328,Import!A:N,14)","v":"🇫🇷 France - Lannion (22)"}]
["Maté Nature - Vrac","45€ / kg","45",{"$f":"VLOOKUP(A329,Import!A:D,4,FALSE)","v":"Boisson en Vrac"},false,0,0,{"$f":"IFERROR(__xludf.DUMMYFUNCTION(\"TO_PURE_NUMBER(G329)\"),0)","v":0},0,{"$f":"VLOOKUP(A329,Import!A:N,14)","v":"🇧🇷 Brésil"}]
["Mayonnaise dijonnaise - 185g","3,50 €","3.5",{"$f":"VLOOKUP(A330,Import!A:D,4,FALSE)","v":"Alimentaire Conditionné"},false,0,0,{"$f":"IFERROR(__xludf.DUMMYFUNCTION(\"TO_PURE_NUMBER(G330)\"),0)","v":0},{"$error":"#VALUE!"},{"$f":"VLOOKUP(A330,Import!A:N,14)","v":"🇫🇷 France - Isère (38)"}]
["Mayonnaise nature - 325g","5€","5",{"$f":"VLOOKUP(A331,Import!A:D,4,FALSE)","v":"Alimentaire Conditionné"},false,0,0,{"$f":"IFERROR(__xludf.DUMMYFUNCTION(\"TO_PURE_NUMBER(G331)\"),0)","v":0},0]
["Mélange Détox","20,50 € / kg","20.5",{"$f":"VLOOKUP(A332,Import!A:D,4,FALSE)","v":"Alimentaire Vrac"},false,0,0,{"$f":"IFERROR(__xludf.DUMMYFUNCTION(\"TO_PURE_NUMBER(G332)\"),0)","v":0},{"$error":"#VALUE!"}]
["Mélange Energie","18,50 € /kg","18.5",{"$f":"VLOOKUP(A333,Import!A:D,4,FALSE)","v":"Alimentaire Vrac"},false,0,0,{"$f":"IFERROR(__xludf.DUMMYFUNCTION(\"TO_PURE_NUMBER(G333)\"),0)","v":0},{"$error":"#VALUE!"}]
["Mélange Exotique","18,50 € / kg","18.5",{"$f":"VLOOKUP(A334,Import!A:D,4,FALSE)","v":"Alimentaire Vrac"},false,0,0,{"$f":"IFERROR(__xludf.DUMMYFUNCTION(\"TO_PURE_NUMBER(G334)\"),0)","v":0},{"$error":"#VALUE!"}]
["Mélange Rando ","18,50 € / kg","18.5",{"$f":"VLOOKUP(A335,Import!A:D,4,FALSE)","v":"Alimentaire Vrac"},false,0,0,{"$f":"IFERROR(__xludf.DUMMYFUNCTION(\"TO_PURE_NUMBER(G335)\"),0)","v":0},{"$error":"#VALUE!"}]
["Mélange Salade","15,50€/kg","15.5",{"$f":"VLOOKUP(A336,Import!A:D,4,FALSE)","v":"Alimentaire Vrac"},false,0,0,{"$f":"IFERROR(__xludf.DUMMYFUNCTION(\"TO_PURE_NUMBER(G336)\"),0)","v":0},{"$error":"#VALUE!"}]
["Miel d’Acacia - 250g","6,90 €","6.9",{"$f":"VLOOKUP(A337,Import!A:D,4,FALSE)","v":"Alimentaire Conditionné"},false,0,0,{"$f":"IFERROR(__xludf.DUMMYFUNCTION(\"TO_PURE_NUMBER(G337)\"),0)","v":0},{"$error":"#VALUE!"}]
["Miel d’Acacia - 500g","12,50 €","12.5",{"$f":"VLOOKUP(A338,Import!A:D,4,FALSE)","v":"Alimentaire Conditionné"},false,0,0,{"$f":"IFERROR(__xludf.DUMMYFUNCTION(\"TO_PURE_NUMBER(G338)\"),0)","v":0},{"$error":"#VALUE!"}]
["Miel de Lavande - 250g","8,50 €","8.5",{"$f":"VLOOKUP(A339,Import!A:D,4,FALSE)","v":"Alimentaire Conditionné"},false,0,0,{"$f":"IFERROR(__xludf.DUMMYFUNCTION(\"TO_PURE_NUMBER(G339)\"),0)","v":0},{"$error":"#VALUE!"},{"$f":"VLOOKUP(A339,Import!A:N,14)","v":"🇫🇷 France - Neuville les Dames (01)"}]
["Miel de Lavande - 500g","14,90 €","14.9",{"$f":"VLOOKUP(A340,Import!A:D,4,FALSE)","v":"Alimentaire Conditionné"},false,0,0,{"$f":"IFERROR(__xludf.DUMMYFUNCTION(\"TO_PURE_NUMBER(G340)\"),0)","v":0},{"$error":"#VALUE!"},{"$f":"VLOOKUP(A340,Import!A:N,14)","v":"🇫🇷 France - Neuville les Dames (01)"}]
["Miel de Printemps - 250g","6,90 €","6.9",{"$f":"VLOOKUP(A341,Import!A:D,4,FALSE)","v":"Alimentaire Conditionné"},false,0,0,{"$f":"IFERROR(__xludf.DUMMYFUNCTION(\"TO_PURE_NUMBER(G341)\"),0)","v":0},{"$error":"#VALUE!"}]
["Miel de Printemps - 500g","12€","12",{"$f":"VLOOKUP(A342,Import!A:D,4,FALSE)","v":"Alimentaire Conditionné"},false,0,0,{"$f":"IFERROR(__xludf.DUMMYFUNCTION(\"TO_PURE_NUMBER(G342)\"),0)","v":0},0,{"$f":"VLOOKUP(A342,Import!A:N,14)","v":"🇫🇷 France - Neuville les Dames (01)"}]
["Miel de Sapin - 250g","8,50 €","8.5",{"$f":"VLOOKUP(A343,Import!A:D,4,FALSE)","v":"Alimentaire Conditionné"},false,0,0,{"$f":"IFERROR(__xludf.DUMMYFUNCTION(\"TO_PURE_NUMBER(G343)\"),0)","v":0},{"$error":"#VALUE!"},{"$f":"VLOOKUP(A343,Import!A:N,14)","v":"🇫🇷 France - Neuville les Dames (01)"}]
["Miel de Sapin - 500g","15,00 €","15",{"$f":"VLOOKUP(A344,Import!A:D,4,FALSE)","v":"Alimentaire Conditionné"},false,0,0,{"$f":"IFERROR(__xludf.DUMMYFUNCTION(\"TO_PURE_NUMBER(G344)\"),0)","v":0},0]
["Miel de Tilleul - 250g","7,50 €","7.5",{"$f":"VLOOKUP(A345,Import!A:D,4,FALSE)","v":"Alimentaire Conditionné"},false,0,0,{"$f":"IFERROR(__xludf.DUMMYFUNCTION(\"TO_PURE_NUMBER(G345)\"),0)","v":0},{"$error":"#VALUE!"}]
["Miel de Tilleul - 500g","12,50 €","12.5",{"$f":"VLOOKUP(A346,Import!A:D,4,FALSE)","v":"Alimentaire Conditionné"},false,0,0,{"$f":"IFERROR(__xludf.DUMMYFUNCTION(\"TO_PURE_NUMBER(G346)\"),0)","v":0},{"$error":"#VALUE!"}]
["Miel Polyfloral - 250g","6,50 €","6.5",{"$f":"VLOOKUP(A347,Import!A:D,4,FALSE)","v":"Alimentaire Conditionné"},false,0,0,{"$f":"IFERROR(__xludf.DUMMYFUNCTION(\"TO_PURE_NUMBER(G347)\"),0)","v":0},{"$error":"#VALUE!"}]
["Miel Polyfloral - 500g","11,50 €","11.5",{"$f":"VLOOKUP(A348,Import!A:D,4,FALSE)","v":"Alimentaire Conditionné"},false,0,0,{"$f":"IFERROR(__xludf.DUMMYFUNCTION(\"TO_PURE_NUMBER(G348)\"),0)","v":0},{"$error":"#VALUE!"}]
["Mini Filet à chute de savon","3,50 €","3.5",{"$f":"VLOOKUP(A349,Import!A:D,4,FALSE)","v":"Zéros déchets et Bocaux"},false,0,0,{"$f":"IFERROR(__xludf.DUMMYFUNCTION(\"TO_PURE_NUMBER(G349)\"),0)","v":0},{"$error":"#VALUE!"}]
["Mouchoirs","9,50 €","9.5",{"$f":"VLOOKUP(A350,Import!A:D,4,FALSE)","v":"Zéros déchets et Bocaux"},false,0,0,{"$f":"IFERROR(__xludf.DUMMYFUNCTION(\"TO_PURE_NUMBER(G350)\"),0)","v":0},{"$error":"#VALUE!"}]
["Moutarde à l’ancienne - 350g","4,20€","4.20",{"$f":"VLOOKUP(A351,Import!A:D,4,FALSE)","v":"Alimentaire Conditionné"},false,0,0,{"$f":"IFERROR(__xludf.DUMMYFUNCTION(\"TO_PURE_NUMBER(G351)\"),0)","v":0},{"$error":"#VALUE!"}]
["Moutarde de Dijon - 350g","4,20€","4.2",{"$f":"VLOOKUP(A352,Import!A:D,4,FALSE)","v":"Alimentaire Conditionné"},false,0,0,{"$f":"IFERROR(__xludf.DUMMYFUNCTION(\"TO_PURE_NUMBER(G352)\"),0)","v":0},{"$error":"#VALUE!"},{"$f":"VLOOKUP(A352,Import!A:N,13)","v":"Scop Epice"}]
["Muesli aux fruits","5,90 € / kg","5.9",{"$f":"VLOOKUP(A353,Import!A:D,4,FALSE)","v":"Alimentaire Vrac"},false,0,0,{"$f":"IFERROR(__xludf.DUMMYFUNCTION(\"TO_PURE_NUMBER(G353)\"),0)","v":0},{"$error":"#VALUE!"}]
["Muesli croustillant chocolat ","10,50 € / kg","10.5",{"$f":"VLOOKUP(A354,Import!A:D,4,FALSE)","v":"Alimentaire Vrac"},false,0,0,{"$f":"IFERROR(__xludf.DUMMYFUNCTION(\"TO_PURE_NUMBER(G354)\"),0)","v":0},{"$error":"#VALUE!"}]
["Multi Usage - Vrac ",5.9,5.9,{"$f":"VLOOKUP(A355,Import!A:D,4,FALSE)","v":"Produits d'entretiens"},false,0,0,{"$f":"IFERROR(__xludf.DUMMYFUNCTION(\"TO_PURE_NUMBER(G355)\"),0)","v":0},0]
["Muscade Noix Poudre ","76€ / kg","76",{"$f":"VLOOKUP(A356,Import!A:D,4,FALSE)","v":"Alimentaire Vrac"},false,0,0,{"$f":"IFERROR(__xludf.DUMMYFUNCTION(\"TO_PURE_NUMBER(G356)\"),0)","v":0},0]
["Nectar d’abricot 75cl ","4,50 €","4.5",{"$f":"VLOOKUP(A357,Import!A:D,4,FALSE)","v":"Boissons conditionnées"},false,0,0,{"$f":"IFERROR(__xludf.DUMMYFUNCTION(\"TO_PURE_NUMBER(G357)\"),0)","v":0},{"$error":"#VALUE!"}]
["Nectar de Pêche - 75cl ","4,50 €","4.5",{"$f":"VLOOKUP(A358,Import!A:D,4,FALSE)","v":"Boissons conditionnées"},false,0,0,{"$f":"IFERROR(__xludf.DUMMYFUNCTION(\"TO_PURE_NUMBER(G358)\"),0)","v":0},{"$error":"#VALUE!"}]
["Nectar de Poire - 75cl ","4,50 €","4.5",{"$f":"VLOOKUP(A359,Import!A:D,4,FALSE)","v":"Boissons conditionnées"},false,0,0,{"$f":"IFERROR(__xludf.DUMMYFUNCTION(\"TO_PURE_NUMBER(G359)\"),0)","v":0},{"$error":"#VALUE!"}]
["Nettoyant visage - Peau sèche Hibiscus ","8,90 €","8,9",{"$f":"VLOOKUP(A360,Import!A:D,4,FALSE)","v":"Produits d'hygiène coporelle"},false,0,{"$f":"IF(F360=\"100G\",0.1,IF(F360=\"250G\",0.25,IF(F360=\"500G\",0.5,IF(F360=\"1 Kilo\",1,F360))))","v":0},{"$f":"G360","v":0},0]
["Nids de Pâtes de Riz Thai Complet ","17,50 € / kg","17.5",{"$f":"VLOOKUP(A361,Import!A:D,4,FALSE)","v":"Alimentaire Vrac"},false,0,0,{"$f":"IFERROR(__xludf.DUMMYFUNCTION(\"TO_PURE_NUMBER(G361)\"),0)","v":0},{"$error":"#VALUE!"}]
["Noisettes décortiquées","18,90 € / kg","18.9",{"$f":"VLOOKUP(A362,Import!A:D,4,FALSE)","v":"Alimentaire Vrac"},false,0,0,{"$f":"IFERROR(__xludf.DUMMYFUNCTION(\"TO_PURE_NUMBER(G362)\"),0)","v":0},{"$error":"#VALUE!"}]
["Noix Cerneaux Brisures 3-12m","28,50 € / kg","28.5",{"$f":"VLOOKUP(A363,Import!A:D,4,FALSE)","v":"Alimentaire Vrac"},false,0,0,{"$f":"IFERROR(__xludf.DUMMYFUNCTION(\"TO_PURE_NUMBER(G363)\"),0)","v":0},{"$error":"#VALUE!"}]
["Noix de Cajou Nature","23,50 € / kg","2.5",{"$f":"VLOOKUP(A364,Import!A:D,4,FALSE)","v":"Alimentaire Vrac"},false,0,0,{"$f":"IFERROR(__xludf.DUMMYFUNCTION(\"TO_PURE_NUMBER(G364)\"),0)","v":0},{"$error":"#VALUE!"}]
["Noix de coco Chips ","12,00 € / kg","12",{"$f":"VLOOKUP(A365,Import!A:D,4,FALSE)","v":"Alimentaire Vrac"},false,0,0,{"$f":"IFERROR(__xludf.DUMMYFUNCTION(\"TO_PURE_NUMBER(G365)\"),0)","v":0},0]
["Noix de Coco Râpée ","8€ / kg","8",{"$f":"VLOOKUP(A366,Import!A:D,4,FALSE)","v":"Alimentaire Vrac"},false,0,0,{"$f":"IFERROR(__xludf.DUMMYFUNCTION(\"TO_PURE_NUMBER(G366)\"),0)","v":0},0]
["Noix de Pécan - Gros Morceaux ","29,00 € / kg","29",{"$f":"VLOOKUP(A367,Import!A:D,4,FALSE)","v":"Alimentaire Vrac"},false,0,0,{"$f":"IFERROR(__xludf.DUMMYFUNCTION(\"TO_PURE_NUMBER(G367)\"),0)","v":0},0]
["Noix du brésil ","22,00 € / kg","22",{"$f":"VLOOKUP(A368,Import!A:D,4,FALSE)","v":"Alimentaire Vrac"},false,0,0,{"$f":"IFERROR(__xludf.DUMMYFUNCTION(\"TO_PURE_NUMBER(G368)\"),0)","v":0},0]
["Oeufs frais bio (boîte de 6)",3,3,{"$f":"VLOOKUP(A369,Import!A:D,4,FALSE)","v":"Produits Frais"},false,0,0,{"$f":"IFERROR(__xludf.DUMMYFUNCTION(\"TO_PURE_NUMBER(G369)\"),0)","v":0},0]
["Oriculi en bioplastique - Bleu","4,50 €","4,5",{"$f":"VLOOKUP(A370,Import!A:D,4,FALSE)","v":"Produits d'hygiène coporelle"},false,0,{"$f":"IF(F370=\"100G\",0.1,IF(F370=\"250G\",0.25,IF(F370=\"500G\",0.5,IF(F370=\"1 Kilo\",1,F370))))","v":0},{"$f":"G370","v":0},0,{"$f":"VLOOKUP(A370,Import!A:N,14)","v":"🇫🇷 France"}]
["Oriculi en bioplastique - Jaune","4,50 €","4,5",{"$f":"VLOOKUP(A371,Import!A:D,4,FALSE)","v":"Produits d'hygiène coporelle"},false,0,0,0,0]
["Oriculi en bioplastique - Vert","4,50 €","4,5",{"$f":"VLOOKUP(A372,Import!A:D,4,FALSE)","v":"Produits d'hygiène coporelle"},false,0,0,0,0,{"$f":"VLOOKUP(A372,Import!A:N,13)","v":0}]
["Oriculi en bioplastique - Violet","4,50 €","4,5",{"$f":"VLOOKUP(A373,Import!A:D,4,FALSE)","v":"Produits d'hygiène coporelle"},false,0,0,0,0,{"$f":"VLOOKUP(A373,Import!A:N,14)","v":"🇫🇷 France"}]
["Paille Courte - 13cm Gravée","1,49 €","1.49",{"$f":"VLOOKUP(A374,Import!A:D,4,FALSE)","v":"Zéros déchets et Bocaux"},false,0,0,{"$f":"IFERROR(__xludf.DUMMYFUNCTION(\"TO_PURE_NUMBER(G374)\"),0)","v":0},{"$error":"#VALUE!"}]
["Paille Longue - 20cm Gravée","1,69 €","1.69",{"$f":"VLOOKUP(A375,Import!A:D,4,FALSE)","v":"Zéros déchets et Bocaux"},false,0,0,{"$f":"IFERROR(__xludf.DUMMYFUNCTION(\"TO_PURE_NUMBER(G375)\"),0)","v":0},{"$error":"#VALUE!"}]
["Panier de rangement (Panier seul)","9,50 €","9.5",{"$f":"VLOOKUP(A376,Import!A:D,4,FALSE)","v":"Zéros déchets et Bocaux"},false,0,0,{"$f":"IFERROR(__xludf.DUMMYFUNCTION(\"TO_PURE_NUMBER(G376)\"),0)","v":0},{"$error":"#VALUE!"}]
["Papier toilette 600 feuilles non blanchi","0,95 €","0.95",{"$f":"VLOOKUP(A377,Import!A:D,4,FALSE)","v":"Produits d'entretiens"},false,0,0,{"$f":"IFERROR(__xludf.DUMMYFUNCTION(\"TO_PURE_NUMBER(G377)\"),0)","v":0},{"$error":"#VALUE!"}]
["Paprika Doux Poudre ","67,00 € / kg","67",{"$f":"VLOOKUP(A378,Import!A:D,4,FALSE)","v":"Alimentaire Vrac"},false,0,0,{"$f":"IFERROR(__xludf.DUMMYFUNCTION(\"TO_PURE_NUMBER(G378)\"),0)","v":0},0]
["Paprika Fort moulu","88,00 € / kg","88",{"$f":"VLOOKUP(A379,Import!A:D,4,FALSE)","v":"Alimentaire Vrac"},false,0,0,{"$f":"IFERROR(__xludf.DUMMYFUNCTION(\"TO_PURE_NUMBER(G379)\"),0)","v":0},0]
["Pâte à tartiner - Amande sésame miel","7,50€","7.5",{"$f":"VLOOKUP(A380,Import!A:D,4,FALSE)","v":"Alimentaire Conditionné"},false,0,0,{"$f":"IFERROR(__xludf.DUMMYFUNCTION(\"TO_PURE_NUMBER(G380)\"),0)","v":0},{"$error":"#VALUE!"}]
["Pâte à tartiner - Cajou coco miel bio","7,50€","7.5",{"$f":"VLOOKUP(A381,Import!A:D,4,FALSE)","v":"Alimentaire Conditionné"},false,0,0,{"$f":"IFERROR(__xludf.DUMMYFUNCTION(\"TO_PURE_NUMBER(G381)\"),0)","v":0},{"$error":"#VALUE!"}]
["Pâte à tartiner Amande Miel - 280g ","10,50€","10.50",{"$f":"VLOOKUP(A382,Import!A:D,4,FALSE)","v":"Alimentaire Conditionné"},false,0,0,{"$f":"IFERROR(__xludf.DUMMYFUNCTION(\"TO_PURE_NUMBER(G382)\"),0)","v":0},{"$error":"#VALUE!"}]
["Pâte à tartiner Choc-Noisettes - 265g ","9,90€","9.9",{"$f":"VLOOKUP(A383,Import!A:D,4,FALSE)","v":"Alimentaire Conditionné"},false,0,0,{"$f":"IFERROR(__xludf.DUMMYFUNCTION(\"TO_PURE_NUMBER(G383)\"),0)","v":0},{"$error":"#VALUE!"}]
["Pâtes - Coquillettes blanches","3,50€ / kg","3.5",{"$f":"VLOOKUP(A384,Import!A:D,4,FALSE)","v":"Alimentaire Vrac"},false,0,0,{"$f":"IFERROR(__xludf.DUMMYFUNCTION(\"TO_PURE_NUMBER(G384)\"),0)","v":0},{"$error":"#VALUE!"}]
["Pâtes - Coquillettes Semi Complètes ","3,50€ / kg","3.5",{"$f":"VLOOKUP(A385,Import!A:D,4,FALSE)","v":"Alimentaire Vrac"},false,0,0,{"$f":"IFERROR(__xludf.DUMMYFUNCTION(\"TO_PURE_NUMBER(G385)\"),0)","v":0},{"$error":"#VALUE!"}]
["Pâtes - Farfalles Blanches ","3,30€ / kg","3.3",{"$f":"VLOOKUP(A386,Import!A:D,4,FALSE)","v":"Alimentaire Vrac"},false,0,0,{"$f":"IFERROR(__xludf.DUMMYFUNCTION(\"TO_PURE_NUMBER(G386)\"),0)","v":0},{"$error":"#VALUE!"}]
["Pâtes - Lasagnes Blanches ","6,00€ / kg","6",{"$f":"VLOOKUP(A387,Import!A:D,4,FALSE)","v":"Alimentaire Vrac"},false,0,0,{"$f":"IFERROR(__xludf.DUMMYFUNCTION(\"TO_PURE_NUMBER(G387)\"),0)","v":0},0]
["Pâtes - Pennes Blancs ","3,50€ / kg","4.5",{"$f":"VLOOKUP(A388,Import!A:D,4,FALSE)","v":"Alimentaire Vrac"},false,0,0,{"$f":"IFERROR(__xludf.DUMMYFUNCTION(\"TO_PURE_NUMBER(G388)\"),0)","v":0},{"$error":"#VALUE!"}]
["Pâtes - Pennes Semi Complets","3,50€ / kg","4.5",{"$f":"VLOOKUP(A389,Import!A:D,4,FALSE)","v":"Alimentaire Vrac"},false,0,0,{"$f":"IFERROR(__xludf.DUMMYFUNCTION(\"TO_PURE_NUMBER(G389)\"),0)","v":0},{"$error":"#VALUE!"},{"$f":"VLOOKUP(A389,Import!A:N,14)","v":"🇫🇷 France - Provence "}]
["Pâtes - Spaghettis Blancs","3,30€/kg","3.3",{"$f":"VLOOKUP(A390,Import!A:D,4,FALSE)","v":"Alimentaire Vrac"},false,0,0,{"$f":"IFERROR(__xludf.DUMMYFUNCTION(\"TO_PURE_NUMBER(G390)\"),0)","v":0},{"$error":"#VALUE!"}]
["Pâtes - Spaghettis Complets","3,30€/kg","3.3",{"$f":"VLOOKUP(A391,Import!A:D,4,FALSE)","v":"Alimentaire Vrac"},false,0,0,{"$f":"IFERROR(__xludf.DUMMYFUNCTION(\"TO_PURE_NUMBER(G391)\"),0)","v":0},{"$error":"#VALUE!"},{"$f":"VLOOKUP(A391,Import!A:N,14)","v":"🇮🇹 Italie"}]
["Pâtes - Tagliatelles Nature sans oeufs","4,50€/kg","4.5",{"$f":"VLOOKUP(A392,Import!A:D,4,FALSE)","v":"Alimentaire Vrac"},false,0,0,{"$f":"IFERROR(__xludf.DUMMYFUNCTION(\"TO_PURE_NUMBER(G392)\"),0)","v":0},{"$error":"#VALUE!"},{"$f":"VLOOKUP(A392,Import!A:N,14)","v":"🇫🇷 France - Provence"}]
["Peigne Démeloir à manche","6,49 €",6.49,{"$f":"VLOOKUP(A393,Import!A:D,4,FALSE)","v":"Produits d'hygiène coporelle"},false,0,{"$f":"IF(F393=\"100G\",0.1,IF(F393=\"250G\",0.25,IF(F393=\"500G\",0.5,IF(F393=\"1 Kilo\",1,F393))))","v":0},{"$f":"G393","v":0},0]
["Peigne Démêloir sans manche","6,49 €",6.49,{"$f":"VLOOKUP(A394,Import!A:D,4,FALSE)","v":"Produits d'hygiène coporelle"},false,0,0,0,0,{"$f":"VLOOKUP(A394,Import!A:N,14)","v":"🇫🇷 France - Attignat (01)"}]
["Pelle à thé Inox",10.9,10.9,{"$f":"VLOOKUP(A395,Import!A:D,4,FALSE)","v":0},false,0,0,{"$f":"IFERROR(__xludf.DUMMYFUNCTION(\"TO_PURE_NUMBER(G395)\"),0)","v":0},0]
["Percarbonate Blanchissant Linge Vrac ","4,90 € / kg","4.9",{"$f":"VLOOKUP(A396,Import!A:D,4,FALSE)","v":"Produits d'entretiens"},false,0,0,{"$f":"IFERROR(__xludf.DUMMYFUNCTION(\"TO_PURE_NUMBER(G396)\"),0)","v":0},{"$error":"#VALUE!"}]
["Pesto Ail des Ours","4,20 €","4.20",{"$f":"VLOOKUP(A397,Import!A:D,4,FALSE)","v":"Alimentaire Conditionné"},false,0,0,{"$f":"IFERROR(__xludf.DUMMYFUNCTION(\"TO_PURE_NUMBER(G397)\"),0)","v":0},{"$error":"#VALUE!"}]
["Pesto Basilic classique - ","4,20 €","4.2",{"$f":"VLOOKUP(A398,Import!A:D,4,FALSE)","v":"Alimentaire Conditionné"},false,0,0,{"$f":"IFERROR(__xludf.DUMMYFUNCTION(\"TO_PURE_NUMBER(G398)\"),0)","v":0},{"$error":"#VALUE!"}]
["Pesto Rosso - 90g","4,20 €","4.2",{"$f":"VLOOKUP(A399,Import!A:D,4,FALSE)","v":"Alimentaire Conditionné"},false,0,0,{"$f":"IFERROR(__xludf.DUMMYFUNCTION(\"TO_PURE_NUMBER(G399)\"),0)","v":0},{"$error":"#VALUE!"},{"$f":"VLOOKUP(A399,Import!A:N,13)","v":"Biodis"}]
["Pesto Verde - 90g","4,20 €","4.2",{"$f":"VLOOKUP(A400,Import!A:D,4,FALSE)","v":"Alimentaire Conditionné"},false,0,0,{"$f":"IFERROR(__xludf.DUMMYFUNCTION(\"TO_PURE_NUMBER(G400)\"),0)","v":0},{"$error":"#VALUE!"},{"$f":"VLOOKUP(A400,Import!A:N,13)","v":"Biodis"}]
["Petit Epeautre ","7,50 € / kg","7.5",{"$f":"VLOOKUP(A401,Import!A:D,4,FALSE)","v":"Alimentaire Vrac"},false,0,0,{"$f":"IFERROR(__xludf.DUMMYFUNCTION(\"TO_PURE_NUMBER(G401)\"),0)","v":0},{"$error":"#VALUE!"},{"$f":"VLOOKUP(A401,Import!A:N,13)","v":"Scop Epice"}]
["Petit Sac à thé de Noël","2,50 €","2.5",{"$f":"VLOOKUP(A402,Import!A:D,4,FALSE)","v":"Zéros déchets et Bocaux"},false,0,0,{"$f":"IFERROR(__xludf.DUMMYFUNCTION(\"TO_PURE_NUMBER(G402)\"),0)","v":0},{"$error":"#VALUE!"},{"$f":"VLOOKUP(A402,Import!A:N,13)","v":"Alterosac"}]
["Pignons de Pin","67,00 € / kg","67",{"$f":"VLOOKUP(A403,Import!A:D,4,FALSE)","v":"Alimentaire Vrac"},false,0,0,{"$f":"IFERROR(__xludf.DUMMYFUNCTION(\"TO_PURE_NUMBER(G403)\"),0)","v":0},0,{"$f":"VLOOKUP(A403,Import!A:N,13)","v":"Actibio"}]
["Pistaches Coques Grillées Salées","35,00 € / kg","35",{"$f":"VLOOKUP(A404,Import!A:D,4,FALSE)","v":"Alimentaire Vrac"},false,0,0,{"$f":"IFERROR(__xludf.DUMMYFUNCTION(\"TO_PURE_NUMBER(G404)\"),0)","v":0},0,{"$f":"VLOOKUP(A404,Import!A:N,13)","v":"Actibio"}]
["Pistaches vertes sans coque non salées ","46,00 € / kg","46",{"$f":"VLOOKUP(A405,Import!A:D,4,FALSE)","v":"Alimentaire Vrac"},false,0,0,{"$f":"IFERROR(__xludf.DUMMYFUNCTION(\"TO_PURE_NUMBER(G405)\"),0)","v":0},0,{"$f":"VLOOKUP(A405,Import!A:N,13)","v":0}]
["Pochette à brosse à dent ou à paille","3,50 €","3.5",{"$f":"VLOOKUP(A406,Import!A:D,4,FALSE)","v":"Zéros déchets et Bocaux"},false,0,0,{"$f":"IFERROR(__xludf.DUMMYFUNCTION(\"TO_PURE_NUMBER(G406)\"),0)","v":0},{"$error":"#VALUE!"},{"$f":"VLOOKUP(A406,Import!A:N,13)","v":"Alterosac"}]
["Pochette à Goûter ","9,50 €","9.5",{"$f":"VLOOKUP(A407,Import!A:D,4,FALSE)","v":"Zéros déchets et Bocaux"},false,0,0,{"$f":"IFERROR(__xludf.DUMMYFUNCTION(\"TO_PURE_NUMBER(G407)\"),0)","v":0},{"$error":"#VALUE!"}]
["Pochette à Savon","4,50 €","4.5",{"$f":"VLOOKUP(A408,Import!A:D,4,FALSE)","v":"Zéros déchets et Bocaux"},false,0,0,{"$f":"IFERROR(__xludf.DUMMYFUNCTION(\"TO_PURE_NUMBER(G408)\"),0)","v":0},{"$error":"#VALUE!"}]
["Pois chiches","5€ / kg","5",{"$f":"VLOOKUP(A409,Import!A:D,4,FALSE)","v":"Alimentaire Vrac"},false,0,0,{"$f":"IFERROR(__xludf.DUMMYFUNCTION(\"TO_PURE_NUMBER(G409)\"),0)","v":0},0]
["Poivre Blanc Grains ","115,00 € / kg","115",{"$f":"VLOOKUP(A410,Import!A:D,4,FALSE)","v":"Alimentaire Vrac"},false,0,0,{"$f":"IFERROR(__xludf.DUMMYFUNCTION(\"TO_PURE_NUMBER(G410)\"),0)","v":0},0]
["Poivre Noir en poudre","50€/kg",50,{"$f":"VLOOKUP(A411,Import!A:D,4,FALSE)","v":"Alimentaire Vrac"},false,0,0,{"$f":"IFERROR(__xludf.DUMMYFUNCTION(\"TO_PURE_NUMBER(G411)\"),0)","v":0},0,{"$f":"VLOOKUP(A411,Import!A:N,13)","v":0}]
["Poivre Noir Grains ","85,00 € / kg","85",{"$f":"VLOOKUP(A412,Import!A:D,4,FALSE)","v":"Alimentaire Vrac"},false,0,0,{"$f":"IFERROR(__xludf.DUMMYFUNCTION(\"TO_PURE_NUMBER(G412)\"),0)","v":0},0,{"$f":"VLOOKUP(A412,Import!A:N,13)","v":"Actibio"}]
["Polenta instantanée ","3,50 € / kg","3.5",{"$f":"VLOOKUP(A413,Import!A:D,4,FALSE)","v":"Alimentaire Vrac"},false,0,0,{"$f":"IFERROR(__xludf.DUMMYFUNCTION(\"TO_PURE_NUMBER(G413)\"),0)","v":0},{"$error":"#VALUE!"},{"$f":"VLOOKUP(A413,Import!A:N,13)","v":"Scop Epice"}]
["Pommes séchées rondelles ","25,00 € / kg","25",{"$f":"VLOOKUP(A414,Import!A:D,4,FALSE)","v":0},false,0,0,{"$f":"IFERROR(__xludf.DUMMYFUNCTION(\"TO_PURE_NUMBER(G414)\"),0)","v":0},0]
["Porte savon classic vrac","8,00 €","8",{"$f":"VLOOKUP(A415,Import!A:D,4,FALSE)","v":"Produits d'hygiène coporelle"},false,0,{"$f":"IF(F415=\"100G\",0.1,IF(F415=\"250G\",0.25,IF(F415=\"500G\",0.5,IF(F415=\"1 Kilo\",1,F415))))","v":0},{"$f":"G415","v":0},0]
["Potion Detoxifiante -  33cl","3,50 €","3.5",{"$f":"VLOOKUP(A416,Import!A:D,4,FALSE)","v":"Boissons conditionnées"},false,0,0,{"$f":"IFERROR(__xludf.DUMMYFUNCTION(\"TO_PURE_NUMBER(G416)\"),0)","v":0},{"$error":"#VALUE!"}]
["Potion Detoxifiante - 75cl","5,50€","5.50",{"$f":"VLOOKUP(A417,Import!A:D,4,FALSE)","v":"Boissons conditionnées"},false,0,0,{"$f":"IFERROR(__xludf.DUMMYFUNCTION(\"TO_PURE_NUMBER(G417)\"),0)","v":0},{"$error":"#VALUE!"}]
["Potion Energisante - 33cl","3,50 €","3.5",{"$f":"VLOOKUP(A418,Import!A:D,4,FALSE)","v":"Boissons conditionnées"},false,0,0,{"$f":"IFERROR(__xludf.DUMMYFUNCTION(\"TO_PURE_NUMBER(G418)\"),0)","v":0},{"$error":"#VALUE!"}]
["Potion Energisante - 75cl","5,50€","5.50",{"$f":"VLOOKUP(A419,Import!A:D,4,FALSE)","v":"Boissons conditionnées"},false,0,0,{"$f":"IFERROR(__xludf.DUMMYFUNCTION(\"TO_PURE_NUMBER(G419)\"),0)","v":0},{"$error":"#VALUE!"}]
["Potion Relaxante -  33cl","3,50 €","3.50",{"$f":"VLOOKUP(A420,Import!A:D,4,FALSE)","v":"Boissons conditionnées"},false,0,0,{"$f":"IFERROR(__xludf.DUMMYFUNCTION(\"TO_PURE_NUMBER(G420)\"),0)","v":0},{"$error":"#VALUE!"},{"$f":"VLOOKUP(A420,Import!A:N,14)","v":"🇫🇷 France - (54)"}]
["Potion Relaxante - 75cl","5,50€","5.50",{"$f":"VLOOKUP(A421,Import!A:D,4,FALSE)","v":"Boissons conditionnées"},false,0,0,{"$f":"IFERROR(__xludf.DUMMYFUNCTION(\"TO_PURE_NUMBER(G421)\"),0)","v":0},{"$error":"#VALUE!"},{"$f":"VLOOKUP(A421,Import!A:N,14)","v":"🇫🇷 France - (54)"}]
["Poudre à Lever sans Gluten ","17,90 € / kg","7.9",{"$f":"VLOOKUP(A422,Import!A:D,4,FALSE)","v":"Alimentaire Vrac"},false,0,0,{"$f":"IFERROR(__xludf.DUMMYFUNCTION(\"TO_PURE_NUMBER(G422)\"),0)","v":0},{"$error":"#VALUE!"},{"$f":"VLOOKUP(A422,Import!A:N,14)","v":"🇩🇪 Allemagne"}]
["Poudre d’Amande Blanche ","25€ / kg",25,{"$f":"VLOOKUP(A423,Import!A:D,4,FALSE)","v":0},false,0,0,{"$f":"IFERROR(__xludf.DUMMYFUNCTION(\"TO_PURE_NUMBER(G423)\"),0)","v":0},0,{"$f":"VLOOKUP(A423,Import!A:N,14)","v":"🇮🇹 Italie"}]
["Poudre d’amande complète","25€ / kg","25",{"$f":"VLOOKUP(A424,Import!A:D,4,FALSE)","v":"Alimentaire Vrac"},false,0,0,{"$f":"IFERROR(__xludf.DUMMYFUNCTION(\"TO_PURE_NUMBER(G424)\"),0)","v":0},0,{"$f":"VLOOKUP(A424,Import!A:N,14)","v":"🇪🇸 Espagne"}]
["Protège slip","6,00 €","6",{"$f":"VLOOKUP(A425,Import!A:D,4,FALSE)","v":{"$error":"#N/A"}},false,0,0,{"$f":"IFERROR(__xludf.DUMMYFUNCTION(\"TO_PURE_NUMBER(G425)\"),0)","v":0},0,{"$f":"VLOOKUP(A425,Import!A:N,14)","v":"🇫🇷 France - Annemasse (74)"}]
["Pruneaux dénoyautés ","22€ / kg","22",{"$f":"VLOOKUP(A426,Import!A:D,4,FALSE)","v":"Alimentaire Vrac"},false,0,0,{"$f":"IFERROR(__xludf.DUMMYFUNCTION(\"TO_PURE_NUMBER(G426)\"),0)","v":0},0,{"$f":"VLOOKUP(A426,Import!A:N,14)","v":"🇫🇷 France"}]
["Purée Amande 270g - Go Nuts","8,90€","8.9",{"$f":"VLOOKUP(A427,Import!A:D,4,FALSE)","v":"Alimentaire Conditionné"},false,0,0,{"$f":"IFERROR(__xludf.DUMMYFUNCTION(\"TO_PURE_NUMBER(G427)\"),0)","v":0},{"$error":"#VALUE!"},{"$f":"VLOOKUP(A427,Import!A:N,14)","v":"🇫🇷 France - Saint Priest (69)"}]
["Purée de Sésame Blanc - France - 350g","6,50€","6.5",{"$f":"VLOOKUP(A428,Import!A:D,4,FALSE)","v":"Alimentaire Conditionné"},false,0,0,{"$f":"IFERROR(__xludf.DUMMYFUNCTION(\"TO_PURE_NUMBER(G428)\"),0)","v":0},{"$error":"#VALUE!"},{"$f":"VLOOKUP(A428,Import!A:N,14)","v":"🇫🇷 France "}]
["Purée Noisette - 270g","8,50€","8.50",{"$f":"VLOOKUP(A429,Import!A:D,4,FALSE)","v":"Alimentaire Conditionné"},false,0,0,{"$f":"IFERROR(__xludf.DUMMYFUNCTION(\"TO_PURE_NUMBER(G429)\"),0)","v":0},{"$error":"#VALUE!"},{"$f":"VLOOKUP(A429,Import!A:N,14)","v":"🇫🇷 France - Saint Priest (69)"}]
["Quinoa Complet ","9,50€/kg","9.5",{"$f":"VLOOKUP(A430,Import!A:D,4,FALSE)","v":"Alimentaire Vrac"},false,0,0,{"$f":"IFERROR(__xludf.DUMMYFUNCTION(\"TO_PURE_NUMBER(G430)\"),0)","v":0},{"$error":"#VALUE!"},{"$f":"VLOOKUP(A430,Import!A:N,14)","v":"🇫🇷 France"}]
["Raisins secs Sultanines","7,90€/kg","7.9",{"$f":"VLOOKUP(A431,Import!A:D,4,FALSE)","v":"Alimentaire Vrac"},false,0,0,{"$f":"IFERROR(__xludf.DUMMYFUNCTION(\"TO_PURE_NUMBER(G431)\"),0)","v":0},{"$error":"#VALUE!"},{"$f":"VLOOKUP(A431,Import!A:N,14)","v":"🇹🇷 Turquie"}]
["Rasoir de sûreté à lame rechargeable","45€","45",{"$f":"VLOOKUP(A432,Import!A:D,4,FALSE)","v":"Produits d'hygiène coporelle"},false,0,{"$f":"IF(F432=\"100G\",0.1,IF(F432=\"250G\",0.25,IF(F432=\"500G\",0.5,IF(F432=\"1 Kilo\",1,F432))))","v":0},{"$f":"G432","v":0},0,{"$f":"VLOOKUP(A432,Import!A:N,14)","v":"🇫🇷 France"}]
["Recharge de 10 lames pour rasoir de sûreté","7,50€","7,5",{"$f":"VLOOKUP(A433,Import!A:D,4,FALSE)","v":"Produits d'hygiène coporelle"},false,0,0,0,0,{"$f":"VLOOKUP(A433,Import!A:N,14)","v":"🇫🇷 France"}]
["Recouvre bol en coton enduit - Taille à Cake","7€","7",{"$f":"VLOOKUP(A434,Import!A:D,4,FALSE)","v":"Zéros déchets et Bocaux"},false,0,0,{"$f":"IFERROR(__xludf.DUMMYFUNCTION(\"TO_PURE_NUMBER(G434)\"),0)","v":0},0,{"$f":"VLOOKUP(A434,Import!A:N,14)","v":"🇫🇷 France - Annemasse (74)"}]
["Recouvre bol en coton enduit - Taille à Gratin","9€","9",{"$f":"VLOOKUP(A435,Import!A:D,4,FALSE)","v":"Zéros déchets et Bocaux"},false,0,0,{"$f":"IFERROR(__xludf.DUMMYFUNCTION(\"TO_PURE_NUMBER(G435)\"),0)","v":0},0,{"$f":"VLOOKUP(A435,Import!A:N,13)","v":"Alterosac"}]
["Recouvre bol en coton enduit - Taille L","9€","9",{"$f":"VLOOKUP(A436,Import!A:D,4,FALSE)","v":"Zéros déchets et Bocaux"},false,0,0,{"$f":"IFERROR(__xludf.DUMMYFUNCTION(\"TO_PURE_NUMBER(G436)\"),0)","v":0},0,{"$f":"VLOOKUP(A436,Import!A:N,14)","v":"🇫🇷 France - Annemasse (74)"}]
["Recouvre bol en coton enduit - Taille M","7€","7",{"$f":"VLOOKUP(A437,Import!A:D,4,FALSE)","v":"Zéros déchets et Bocaux"},false,0,0,{"$f":"IFERROR(__xludf.DUMMYFUNCTION(\"TO_PURE_NUMBER(G437)\"),0)","v":0},0,{"$f":"VLOOKUP(A437,Import!A:N,14)","v":"🇫🇷 France - Annemasse (74)"}]
["Recouvre bol en coton enduit - Taille S","5€","5",{"$f":"VLOOKUP(A438,Import!A:D,4,FALSE)","v":"Zéros déchets et Bocaux"},false,0,0,{"$f":"IFERROR(__xludf.DUMMYFUNCTION(\"TO_PURE_NUMBER(G438)\"),0)","v":0},0,{"$f":"VLOOKUP(A438,Import!A:N,14)","v":"🇫🇷 France - Annemasse (74)"}]
["Recouvre bol en coton enduit - Taille XS","4€","4",{"$f":"VLOOKUP(A439,Import!A:D,4,FALSE)","v":"Zéros déchets et Bocaux"},false,0,0,{"$f":"IFERROR(__xludf.DUMMYFUNCTION(\"TO_PURE_NUMBER(G439)\"),0)","v":0},0]
["Riz - Trio de Camargue ","6€/kg","6",{"$f":"VLOOKUP(A440,Import!A:D,4,FALSE)","v":"Alimentaire Vrac"},false,0,0,{"$f":"IFERROR(__xludf.DUMMYFUNCTION(\"TO_PURE_NUMBER(G440)\"),0)","v":0},0]
["Riz Arborio Blanc pour Risotto ","5,50€/kg","5.5",{"$f":"VLOOKUP(A441,Import!A:D,4,FALSE)","v":"Alimentaire Vrac"},false,0,0,{"$f":"IFERROR(__xludf.DUMMYFUNCTION(\"TO_PURE_NUMBER(G441)\"),0)","v":0},{"$error":"#VALUE!"}]
["Riz Blanc Basmati Blanc ","5,50€/kg","5.50",{"$f":"VLOOKUP(A442,Import!A:D,4,FALSE)","v":"Alimentaire Vrac"},false,0,0,{"$f":"IFERROR(__xludf.DUMMYFUNCTION(\"TO_PURE_NUMBER(G442)\"),0)","v":0},{"$error":"#VALUE!"}]
["Riz Blanc IGP Camargue","5,50€/kg","5.50",{"$f":"VLOOKUP(A443,Import!A:D,4,FALSE)","v":"Alimentaire Vrac"},false,0,0,{"$f":"IFERROR(__xludf.DUMMYFUNCTION(\"TO_PURE_NUMBER(G443)\"),0)","v":0},{"$error":"#VALUE!"}]
["Riz Long blanc étuvé de Camargue ","4,90€/kg","4.90",{"$f":"VLOOKUP(A444,Import!A:D,4,FALSE)","v":0},false,0,0,{"$f":"IFERROR(__xludf.DUMMYFUNCTION(\"TO_PURE_NUMBER(G444)\"),0)","v":0},{"$error":"#VALUE!"}]
["Riz Long Complet ","4,25€/kg","4.25",{"$f":"VLOOKUP(A445,Import!A:D,4,FALSE)","v":"Alimentaire Vrac"},false,0,0,{"$f":"IFERROR(__xludf.DUMMYFUNCTION(\"TO_PURE_NUMBER(G445)\"),0)","v":0},{"$error":"#VALUE!"},{"$f":"VLOOKUP(A445,Import!A:N,13)","v":"Actibio"}]
["Riz Rond Blanc ",null,null,{"$f":"VLOOKUP(A446,Import!A:D,4,FALSE)","v":"/"},false,0,0,{"$f":"IFERROR(__xludf.DUMMYFUNCTION(\"TO_PURE_NUMBER(G446)\"),0)","v":0},0]
["Riz Rond blanc IGP Camargue","5,50€","5.50",{"$f":"VLOOKUP(A447,Import!A:D,4,FALSE)","v":"Alimentaire Vrac"},false,0,0,{"$f":"IFERROR(__xludf.DUMMYFUNCTION(\"TO_PURE_NUMBER(G447)\"),0)","v":0},{"$error":"#VALUE!"},{"$f":"VLOOKUP(A447,Import!A:N,14)","v":"🇫🇷 France - Camargue"}]
["Riz semi complet IGP Camargue","4,90€/kg","4.9",{"$f":"VLOOKUP(A448,Import!A:D,4,FALSE)","v":"Alimentaire Vrac"},false,0,0,{"$f":"IFERROR(__xludf.DUMMYFUNCTION(\"TO_PURE_NUMBER(G448)\"),0)","v":0},{"$error":"#VALUE!"},{"$f":"VLOOKUP(A448,Import!A:N,14)","v":"🇫🇷 France - Camargue"}]
["Romarin feuille ","65€/kg","65",{"$f":"VLOOKUP(A449,Import!A:D,4,FALSE)","v":"Alimentaire Vrac"},false,0,0,{"$f":"IFERROR(__xludf.DUMMYFUNCTION(\"TO_PURE_NUMBER(G449)\"),0)","v":0},0,{"$f":"VLOOKUP(A449,Import!A:N,14)","v":"🇫🇷 France - Drôme"}]
["Ronds démaquillants - Lot de 5","7€","7",{"$f":"VLOOKUP(A450,Import!A:D,4,FALSE)","v":{"$error":"#N/A"}},false,0,0,{"$f":"IFERROR(__xludf.DUMMYFUNCTION(\"TO_PURE_NUMBER(G450)\"),0)","v":0},0,{"$f":"VLOOKUP(A450,Import!A:N,14)","v":"🇫🇷 France - Drôme"}]
["Rooibos - Earl Grey ","60€/kg","60",{"$f":"VLOOKUP(A451,Import!A:D,4,FALSE)","v":"Boisson en vrac"},false,0,0,{"$f":"IFERROR(__xludf.DUMMYFUNCTION(\"TO_PURE_NUMBER(G451)\"),0)","v":0},0,{"$f":"VLOOKUP(A451,Import!A:N,14)","v":"🇿🇦 Afrique du Sud - Vredendal"}]
["Rooibos Nature","50€/kg","50",{"$f":"VLOOKUP(A452,Import!A:D,4,FALSE)","v":"Boisson en vrac"},false,0,0,{"$f":"IFERROR(__xludf.DUMMYFUNCTION(\"TO_PURE_NUMBER(G452)\"),0)","v":0},0,{"$f":"VLOOKUP(A452,Import!A:N,14)","v":"🇿🇦 Afrique du Sud "}]
["Sac à congélation - Taille L","8,50€","8.5",{"$f":"VLOOKUP(A453,Import!A:D,4,FALSE)","v":"Zéros déchets et Bocaux"},false,0,0,{"$f":"IFERROR(__xludf.DUMMYFUNCTION(\"TO_PURE_NUMBER(G453)\"),0)","v":0},{"$error":"#VALUE!"},{"$f":"VLOOKUP(A453,Import!A:N,14)","v":"🇫🇷 France - Annemasse (74)"}]
["Sac à congélation - Taille M","7,50€","7.5",{"$f":"VLOOKUP(A454,Import!A:D,4,FALSE)","v":"Zéros déchets et Bocaux"},false,0,0,{"$f":"IFERROR(__xludf.DUMMYFUNCTION(\"TO_PURE_NUMBER(G454)\"),0)","v":0},{"$error":"#VALUE!"},{"$f":"VLOOKUP(A454,Import!A:N,14)","v":"🇫🇷 France - Annemasse (74)"}]
["Sac à congélation - Taille S","6,50€","6.5",{"$f":"VLOOKUP(A455,Import!A:D,4,FALSE)","v":"Zéros déchets et Bocaux"},false,0,0,{"$f":"IFERROR(__xludf.DUMMYFUNCTION(\"TO_PURE_NUMBER(G455)\"),0)","v":0},{"$error":"#VALUE!"},{"$f":"VLOOKUP(A455,Import!A:N,14)","v":"🇫🇷 France - Annemasse (74)"}]
["Sac à vrac en Coton - Taille L","8,50€","8.5",{"$f":"VLOOKUP(A456,Import!A:D,4,FALSE)","v":"Zéros déchets et Bocaux"},false,0,0,{"$f":"IFERROR(__xludf.DUMMYFUNCTION(\"TO_PURE_NUMBER(G456)\"),0)","v":0},{"$error":"#VALUE!"},{"$f":"VLOOKUP(A456,Import!A:N,14)","v":"🇫🇷 France - Annemasse (74)"}]
["Sac à vrac en Coton - Taille M","7,50€","7.5",{"$f":"VLOOKUP(A457,Import!A:D,4,FALSE)","v":"Zéros déchets et Bocaux"},false,0,0,{"$f":"IFERROR(__xludf.DUMMYFUNCTION(\"TO_PURE_NUMBER(G457)\"),0)","v":0},{"$error":"#VALUE!"},{"$f":"VLOOKUP(A457,Import!A:N,14)","v":"🇫🇷 France - Annemasse (74)"}]
["Sac à vrac en Coton - Taille S","7€","7",{"$f":"VLOOKUP(A458,Import!A:D,4,FALSE)","v":"Zéros déchets et Bocaux"},false,0,0,{"$f":"IFERROR(__xludf.DUMMYFUNCTION(\"TO_PURE_NUMBER(G458)\"),0)","v":0},0,{"$f":"VLOOKUP(A458,Import!A:N,14)","v":"🇫🇷 France - Annemasse (74)"}]
["Sarrasin Décortiqué ","7€ / kg",7,{"$f":"VLOOKUP(A459,Import!A:D,4,FALSE)","v":"Alimentaire Vrac"},false,0,0,{"$f":"IFERROR(__xludf.DUMMYFUNCTION(\"TO_PURE_NUMBER(G459)\"),0)","v":0},0,{"$f":"VLOOKUP(A459,Import!A:N,14)","v":"🇫🇷 France"}]
["Savon à froid l’Emir - Clemence & Vivien ",4.5,4.5,{"$f":"VLOOKUP(A460,Import!A:D,4,FALSE)","v":"Produits d'hygiène coporelle"},false,0,{"$f":"IF(F460=\"100G\",0.1,IF(F460=\"250G\",0.25,IF(F460=\"500G\",0.5,IF(F460=\"1 Kilo\",1,F460))))","v":0},{"$f":"G460","v":0},0,{"$f":"VLOOKUP(A460,Import!A:N,14)","v":"🇫🇷 France - Chauray (79)"}]
["Savon à froid le Chérubin - Clemence & Vivien ",4.2,4.2,{"$f":"VLOOKUP(A461,Import!A:D,4,FALSE)","v":"Produits d'hygiène coporelle"},false,0,0,0,0,{"$f":"VLOOKUP(A461,Import!A:N,14)","v":"🇫🇷 France - Chauray (79)"}]
["Savon à froid le Gandhi - Clemence & Vivien ",4.5,4.5,{"$f":"VLOOKUP(A462,Import!A:D,4,FALSE)","v":"Produits d'hygiène coporelle"},false,0,0,0,0,{"$f":"VLOOKUP(A462,Import!A:N,14)","v":"🇫🇷 France - Chauray (79)"}]
["Savon à froid le Gecko - Clemence & Vivien ",4.5,4.5,{"$f":"VLOOKUP(A463,Import!A:D,4,FALSE)","v":"Produits d'hygiène coporelle"},false,0,0,0,0,{"$f":"VLOOKUP(A463,Import!A:N,14)","v":"🇫🇷 France - Chauray (79)"}]
["Savon à froid le Saint Bernard - Clemence & Vivien ",4.5,4.5,{"$f":"VLOOKUP(A464,Import!A:D,4,FALSE)","v":"Produits d'hygiène coporelle"},false,0,0,0,0]
["Savon à froid le Suisse - Clemence & Vivien ",4.2,4.2,{"$f":"VLOOKUP(A465,Import!A:D,4,FALSE)","v":"Produits d'hygiène coporelle"},false,0,0,0,0]
["Savon à froid le Vahiné - Clemence & Vivien ",4.5,4.5,{"$f":"VLOOKUP(A466,Import!A:D,4,FALSE)","v":"Produits d'hygiène coporelle"},false,0,0,0,0]
["Savon liquide de Marseille à l’huile d’olive & Lavande","6,90€ / kg","6,9",{"$f":"VLOOKUP(A467,Import!A:D,4,FALSE)","v":"Produits d'hygiène coporelle"},false,0,0,0,0,{"$f":"VLOOKUP(A467,Import!A:N,14)","v":"🇫🇷 France - La Ciotat (13)"}]
["Savon Noir Tradition - Vrac ","5€ / kg","5",{"$f":"VLOOKUP(A468,Import!A:D,4,FALSE)","v":"Produits d'entretiens"},false,0,0,{"$f":"IFERROR(__xludf.DUMMYFUNCTION(\"TO_PURE_NUMBER(G468)\"),0)","v":0},0]
["Savon Soin Lavant Purifiant - Endro","14,90€","14,9",{"$f":"VLOOKUP(A469,Import!A:D,4,FALSE)","v":"Produits d'hygiène coporelle"},false,0,{"$f":"IF(F469=\"100G\",0.1,IF(F469=\"250G\",0.25,IF(F469=\"500G\",0.5,IF(F469=\"1 Kilo\",1,F469))))","v":0},{"$f":"G469","v":0},0]
["Sel de Mer Gros - Guérande","3,90€ / kg","3.9",{"$f":"VLOOKUP(A470,Import!A:D,4,FALSE)","v":"Alimentaire Vrac"},false,0,0,{"$f":"IFERROR(__xludf.DUMMYFUNCTION(\"TO_PURE_NUMBER(G470)\"),0)","v":0},{"$error":"#VALUE!"}]
["Sel fin de méditerrannée","3€ / kg","3",{"$f":"VLOOKUP(A471,Import!A:D,4,FALSE)","v":"Alimentaire Vrac"},false,0,0,{"$f":"IFERROR(__xludf.DUMMYFUNCTION(\"TO_PURE_NUMBER(G471)\"),0)","v":0},0,{"$f":"VLOOKUP(A471,Import!A:N,14)","v":"🇫🇷 France - Guérande (44)"}]
["Sel régénérant vrac","2,10€ / kg","2.1",{"$f":"VLOOKUP(A472,Import!A:D,4,FALSE)","v":"Produits d'entretiens"},false,0,0,{"$f":"IFERROR(__xludf.DUMMYFUNCTION(\"TO_PURE_NUMBER(G472)\"),0)","v":0},{"$error":"#VALUE!"}]
["Sérum anti-imperfection - Endro","24,90€","24,9",{"$f":"VLOOKUP(A473,Import!A:D,4,FALSE)","v":"Produits d'hygiène coporelle"},false,0,{"$f":"IF(F473=\"100G\",0.1,IF(F473=\"250G\",0.25,IF(F473=\"500G\",0.5,IF(F473=\"1 Kilo\",1,F473))))","v":0},{"$f":"G473","v":0},0]
["Sérum désaltérant à l’acide hyaluronique - Clemence & Vivien ",9.1999999999999993,9.1999999999999993,{"$f":"VLOOKUP(A474,Import!A:D,4,FALSE)","v":"Produits d'hygiène coporelle"},false,0,0,0,0]
["Sérum Longueurs et pointes - Clemence & Vivien ","8,90€","8,9",{"$f":"VLOOKUP(A475,Import!A:D,4,FALSE)","v":"Produits d'hygiène coporelle"},false,0,0,0,0]
["Serviette de table","8,50€","8.5",{"$f":"VLOOKUP(A476,Import!A:D,4,FALSE)","v":"Zéros déchets et Bocaux"},false,0,0,{"$f":"IFERROR(__xludf.DUMMYFUNCTION(\"TO_PURE_NUMBER(G476)\"),0)","v":0},{"$error":"#VALUE!"}]
["Serviette hygiénique ","9€","9",{"$f":"VLOOKUP(A477,Import!A:D,4,FALSE)","v":{"$error":"#N/A"}},false,0,0,{"$f":"IFERROR(__xludf.DUMMYFUNCTION(\"TO_PURE_NUMBER(G477)\"),0)","v":0},0]
["Serviette hygiénique Nuit","11€","11",{"$f":"VLOOKUP(A478,Import!A:D,4,FALSE)","v":{"$error":"#N/A"}},false,0,0,{"$f":"IFERROR(__xludf.DUMMYFUNCTION(\"TO_PURE_NUMBER(G478)\"),0)","v":0},0]
["Set Assiette et cuillère enfant - Bordeaux ","25€","25",{"$f":"VLOOKUP(A479,Import!A:D,4,FALSE)","v":"Zéros déchets et Bocaux"},false,0,0,{"$f":"IFERROR(__xludf.DUMMYFUNCTION(\"TO_PURE_NUMBER(G479)\"),0)","v":0},0]
["Set Assiette et cuillère enfant - Lilas ","25€","25",{"$f":"VLOOKUP(A480,Import!A:D,4,FALSE)","v":"Zéros déchets et Bocaux"},false,0,0,{"$f":"IFERROR(__xludf.DUMMYFUNCTION(\"TO_PURE_NUMBER(G480)\"),0)","v":0},0]
["Set de 3 couverts réutilisables","5,49€","5.49",{"$f":"VLOOKUP(A481,Import!A:D,4,FALSE)","v":"Zéros déchets et Bocaux"},false,0,0,{"$f":"IFERROR(__xludf.DUMMYFUNCTION(\"TO_PURE_NUMBER(G481)\"),0)","v":0},{"$error":"#VALUE!"},{"$f":"VLOOKUP(A481,Import!A:N,14)","v":"🇫🇷 France - Attignat (01)"}]
["Set de Repas Bébé - Bleu","23,50€","23.5",{"$f":"VLOOKUP(A482,Import!A:D,4,FALSE)","v":"Zéros déchets et Bocaux"},false,0,0,{"$f":"IFERROR(__xludf.DUMMYFUNCTION(\"TO_PURE_NUMBER(G482)\"),0)","v":0},{"$error":"#VALUE!"}]
["Set de Repas Bébé - Jaune","23,50€","23.5",{"$f":"VLOOKUP(A483,Import!A:D,4,FALSE)","v":"Zéros déchets et Bocaux"},false,0,0,{"$f":"IFERROR(__xludf.DUMMYFUNCTION(\"TO_PURE_NUMBER(G483)\"),0)","v":0},{"$error":"#VALUE!"}]
["Set de Repas Bébé - Rose","23,50€","23.5",{"$f":"VLOOKUP(A484,Import!A:D,4,FALSE)","v":"Zéros déchets et Bocaux"},false,0,0,{"$f":"IFERROR(__xludf.DUMMYFUNCTION(\"TO_PURE_NUMBER(G484)\"),0)","v":0},{"$error":"#VALUE!"}]
["Set de Repas Bébé - Vert","23,50€","23.5",{"$f":"VLOOKUP(A485,Import!A:D,4,FALSE)","v":"Zéros déchets et Bocaux"},false,0,0,{"$f":"IFERROR(__xludf.DUMMYFUNCTION(\"TO_PURE_NUMBER(G485)\"),0)","v":0},{"$error":"#VALUE!"},{"$f":"VLOOKUP(A485,Import!A:N,14)","v":"🇫🇷 France - Attignat (01)"}]
["Set de repas enfants","25€","25",{"$f":"VLOOKUP(A486,Import!A:D,4,FALSE)","v":"Zéros déchets et Bocaux"},false,0,0,{"$f":"IFERROR(__xludf.DUMMYFUNCTION(\"TO_PURE_NUMBER(G486)\"),0)","v":0},0]
["Set de Table à colorier ","7,50€","7.5",{"$f":"VLOOKUP(A487,Import!A:D,4,FALSE)","v":"Zéros déchets et Bocaux"},false,0,0,{"$f":"IFERROR(__xludf.DUMMYFUNCTION(\"TO_PURE_NUMBER(G487)\"),0)","v":0},{"$error":"#VALUE!"}]
["Shampoing Douche à l’huile d’argan - Vrac",14.5,14.5,{"$f":"VLOOKUP(A488,Import!A:D,4,FALSE)","v":"Produits d'hygiène coporelle"},false,0,{"$f":"IF(F488=\"100G\",0.1,IF(F488=\"250G\",0.25,IF(F488=\"500G\",0.5,IF(F488=\"1 Kilo\",1,F488))))","v":0},{"$f":"G488","v":0},0]
["Shampoing sec - sans HE - 35ml","8,50€","8,5",{"$f":"VLOOKUP(A489,Import!A:D,4,FALSE)","v":"Produits d'hygiène coporelle"},false,0,0,0,0]
["Shampoing sec - sans HE - Recharge ","6€","6",{"$f":"VLOOKUP(A490,Import!A:D,4,FALSE)","v":"Produits d'hygiène coporelle"},false,0,0,0,0]
["Shampoing solide - Antipelliculaire - 80g","10,60€","10,6",{"$f":"VLOOKUP(A491,Import!A:D,4,FALSE)","v":"Produits d'hygiène coporelle"},false,0,0,0,0]
["Shampoing solide - Bleu - 80g","10,60€","10,6",{"$f":"VLOOKUP(A492,Import!A:D,4,FALSE)","v":"Produits d'hygiène coporelle"},false,0,0,0,0]
["Shampoing solide - Cheveux abîmés & colorés - Sans HE - 80g","10,60€","10,6",{"$f":"VLOOKUP(A493,Import!A:D,4,FALSE)","v":"Produits d'hygiène coporelle"},false,0,0,0,0]
["Shampoing solide - Cheveux abîmés et colorés - 80g","10,60€","10,6",{"$f":"VLOOKUP(A494,Import!A:D,4,FALSE)","v":"Produits d'hygiène coporelle"},false,0,0,0,0]
["Shampoing solide - Cheveux frisés / crépus - 80g","10,60€","10,6",{"$f":"VLOOKUP(A495,Import!A:D,4,FALSE)","v":"Produits d'hygiène coporelle"},false,0,0,0,0]
["Shampoing solide - Cheveux gras - 80g","10,60€","10,6",{"$f":"VLOOKUP(A496,Import!A:D,4,FALSE)","v":"Produits d'hygiène coporelle"},false,0,0,0,0]
["Shampoing solide - Cheveux gras - Sans HE 80g","10,60€","10,6",{"$f":"VLOOKUP(A497,Import!A:D,4,FALSE)","v":"Produits d'hygiène coporelle"},false,0,0,0,0]
["Shampoing solide - Sensible - 80g","10,60€","10,6",{"$f":"VLOOKUP(A498,Import!A:D,4,FALSE)","v":"Produits d'hygiène coporelle"},false,0,0,0,0]
["Shampoing solide - Stimulant - 80g","10,60€","10,6",{"$f":"VLOOKUP(A499,Import!A:D,4,FALSE)","v":"Produits d'hygiène coporelle"},false,0,0,0,0]
["Shampoing solide - Tout type de cheveux - 80g","10,60€","10,6",{"$f":"VLOOKUP(A500,Import!A:D,4,FALSE)","v":"Produits d'hygiène coporelle"},false,0,0,0,0]
["Sirop d’Erable ","25€/kg","25",{"$f":"VLOOKUP(A501,Import!A:D,4,FALSE)","v":"Alimentaire Vrac"},false,0,0,{"$f":"IFERROR(__xludf.DUMMYFUNCTION(\"TO_PURE_NUMBER(G501)\"),0)","v":0},0]
["Sirop de Cassis - 70cl","6,90€","6.9",{"$f":"VLOOKUP(A502,Import!A:D,4,FALSE)","v":"Alimentaire Conditionné"},false,0,0,{"$f":"IFERROR(__xludf.DUMMYFUNCTION(\"TO_PURE_NUMBER(G502)\"),0)","v":0},{"$error":"#VALUE!"}]
["Sirop de Citron ","9,50€/kg","9.5",{"$f":"VLOOKUP(A503,Import!A:D,4,FALSE)","v":"Boisson en vrac"},false,0,0,{"$f":"IFERROR(__xludf.DUMMYFUNCTION(\"TO_PURE_NUMBER(G503)\"),0)","v":0},{"$error":"#VALUE!"}]
["Sirop de Grenadine","9,50€/kg","9.5",{"$f":"VLOOKUP(A504,Import!A:D,4,FALSE)","v":"Boisson en vrac"},false,0,0,{"$f":"IFERROR(__xludf.DUMMYFUNCTION(\"TO_PURE_NUMBER(G504)\"),0)","v":0},{"$error":"#VALUE!"}]
["Sirop de Menthe","9,50€/kg","9.5",{"$f":"VLOOKUP(A505,Import!A:D,4,FALSE)","v":"Boisson en vrac"},false,0,0,{"$f":"IFERROR(__xludf.DUMMYFUNCTION(\"TO_PURE_NUMBER(G505)\"),0)","v":0},{"$error":"#VALUE!"}]
["Sirop de Pamplemousse - 70cl ","6,90€","6.9",{"$f":"VLOOKUP(A506,Import!A:D,4,FALSE)","v":"Alimentaire Conditionné"},false,0,0,{"$f":"IFERROR(__xludf.DUMMYFUNCTION(\"TO_PURE_NUMBER(G506)\"),0)","v":0},{"$error":"#VALUE!"}]
["Sirop de Pêche","9,50€/kg","9.5",{"$f":"VLOOKUP(A507,Import!A:D,4,FALSE)","v":"Boisson en vrac"},false,null,0,{"$f":"IFERROR(__xludf.DUMMYFUNCTION(\"TO_PURE_NUMBER(G507)\"),\"\")","v":""},{"$error":"#VALUE!"}]
["Solution hydroalcolique","7,50€/kg","7.5",{"$f":"VLOOKUP(A508,Import!A:D,4,FALSE)","v":"Produits d'entretiens"},false,null,0,{"$f":"IFERROR(__xludf.DUMMYFUNCTION(\"TO_PURE_NUMBER(G508)\"),\"\")","v":""},{"$error":"#VALUE!"}]
["Spirales Complètes ","3,30€/kg","3.3",{"$f":"VLOOKUP(A509,Import!A:D,4,FALSE)","v":"Alimentaire Vrac"},false,null,0,{"$f":"IFERROR(__xludf.DUMMYFUNCTION(\"TO_PURE_NUMBER(G509)\"),\"\")","v":""},{"$error":"#VALUE!"}]
["Sucre Blanc de Canne","2,95€/kg","2.95",{"$f":"VLOOKUP(A510,Import!A:D,4,FALSE)","v":"Alimentaire Vrac"},false,null,0,{"$f":"IFERROR(__xludf.DUMMYFUNCTION(\"TO_PURE_NUMBER(G510)\"),\"\")","v":""},{"$error":"#VALUE!"}]
["Sucre Blond - Paraguay","3,20€/kg","3.2",{"$f":"VLOOKUP(A511,Import!A:D,4,FALSE)","v":"Alimentaire Vrac"},false,null,0,{"$f":"IFERROR(__xludf.DUMMYFUNCTION(\"TO_PURE_NUMBER(G511)\"),\"\")","v":""},{"$error":"#VALUE!"}]
["Sucre Complet - Rapadura ","4,90€/kg","4.9",{"$f":"VLOOKUP(A512,Import!A:D,4,FALSE)","v":"Alimentaire Vrac"},false,null,{"$f":"IF(F512=\"100G\",0.1,IF(F512=\"250G\",0.25,IF(F512=\"500G\",0.5,IF(F512=\"1 Kilo\",1,F512))))","v":0},{"$f":"IFERROR(__xludf.DUMMYFUNCTION(\"TO_PURE_NUMBER(G512)\"),\"\")","v":""},{"$f":"H512*C512","v":{"$error":"#VALUE!"}}]
["Sucre de Canne Complet","4,90€/kg","4.90",{"$f":"VLOOKUP(A513,Import!A:D,4,FALSE)","v":"Alimentaire Vrac"},false,null,0,{"$f":"IFERROR(__xludf.DUMMYFUNCTION(\"TO_PURE_NUMBER(G513)\"),\"\")","v":""},{"$error":"#VALUE!"}]
["Sucre de Coco","5,50€/kg","5.50",{"$f":"VLOOKUP(A514,Import!A:D,4,FALSE)","v":"Alimentaire Vrac"},false,null,0,{"$f":"IFERROR(__xludf.DUMMYFUNCTION(\"TO_PURE_NUMBER(G514)\"),\"\")","v":""},{"$error":"#VALUE!"}]
["Sucre Glace sans séparateur ","5,50€/kg","5.5",{"$f":"VLOOKUP(A515,Import!A:D,4,FALSE)","v":"Alimentaire Vrac"},false,null,0,{"$f":"IFERROR(__xludf.DUMMYFUNCTION(\"TO_PURE_NUMBER(G515)\"),\"\")","v":""},{"$error":"#VALUE!"}]
["Sucre Roux Demérara (Cassonade) ","3,50€/kg","3.5",{"$f":"VLOOKUP(A516,Import!A:D,4,FALSE)","v":"Alimentaire Vrac"},false,null,0,{"$f":"IFERROR(__xludf.DUMMYFUNCTION(\"TO_PURE_NUMBER(G516)\"),\"\")","v":""},{"$error":"#VALUE!"}]
["Super bain d’huile avant-shampoing - - Clemence & Vivien ","9,90€","9,9",{"$f":"VLOOKUP(A517,Import!A:D,4,FALSE)","v":"Produits d'hygiène coporelle"},false,0,0,{"$f":"G517","v":0},0]
["Tablettes Lave Vaisselle Vrac","13,60€/kg","13.6",{"$f":"VLOOKUP(A518,Import!A:D,4,FALSE)","v":"Produits d'entretiens"},false,null,0,{"$f":"IFERROR(__xludf.DUMMYFUNCTION(\"TO_PURE_NUMBER(G518)\"),\"\")","v":""},{"$error":"#VALUE!"}]
["Tamari - Vrac","10,80€/kg","10.8",{"$f":"VLOOKUP(A519,Import!A:D,4,FALSE)","v":"Alimentaire Vrac"},false,null,0,{"$f":"IFERROR(__xludf.DUMMYFUNCTION(\"TO_PURE_NUMBER(G519)\"),\"\")","v":""},{"$error":"#VALUE!"}]
["Tamari, less salt 25% - 250ml","6,50€","6.5",{"$f":"VLOOKUP(A520,Import!A:D,4,FALSE)","v":"Alimentaire Conditionné"},false,null,0,{"$f":"IFERROR(__xludf.DUMMYFUNCTION(\"TO_PURE_NUMBER(G520)\"),\"\")","v":""},{"$error":"#VALUE!"}]
["Tartinade - de Noël","6€","6",{"$f":"VLOOKUP(A521,Import!A:D,4,FALSE)","v":"/"},false,null,0,{"$f":"IFERROR(__xludf.DUMMYFUNCTION(\"TO_PURE_NUMBER(G521)\"),\"\")","v":""},{"$error":"#VALUE!"}]
["Tartinade Apéro - Aubergine Paprika fumé","5,50€","5.5",{"$f":"VLOOKUP(A522,Import!A:D,4,FALSE)","v":"Alimentaire Conditionné"},false,null,0,{"$f":"IFERROR(__xludf.DUMMYFUNCTION(\"TO_PURE_NUMBER(G522)\"),\"\")","v":""},{"$error":"#VALUE!"}]
["Tartinade Apéro - Betterave Grains moutarde","5,50€","5.5",{"$f":"VLOOKUP(A523,Import!A:D,4,FALSE)","v":"Alimentaire Conditionné"},false,null,0,{"$f":"IFERROR(__xludf.DUMMYFUNCTION(\"TO_PURE_NUMBER(G523)\"),\"\")","v":""},{"$error":"#VALUE!"}]
["Tartinade Apéro - Butternut verveine citron","5,50€","5.5",{"$f":"VLOOKUP(A524,Import!A:D,4,FALSE)","v":"Alimentaire Conditionné"},false,null,0,{"$f":"IFERROR(__xludf.DUMMYFUNCTION(\"TO_PURE_NUMBER(G524)\"),\"\")","v":""},{"$error":"#VALUE!"}]
["Tartinade Apéro - Carotte cumin","5,50€","5.5",{"$f":"VLOOKUP(A525,Import!A:D,4,FALSE)","v":"Alimentaire Conditionné"},false,null,0,{"$f":"IFERROR(__xludf.DUMMYFUNCTION(\"TO_PURE_NUMBER(G525)\"),\"\")","v":""},{"$error":"#VALUE!"}]
["Tartinade Apéro - Chou fleur Ail noir","5,50€","5.5",{"$f":"VLOOKUP(A526,Import!A:D,4,FALSE)","v":"Alimentaire Conditionné"},false,null,0,{"$f":"IFERROR(__xludf.DUMMYFUNCTION(\"TO_PURE_NUMBER(G526)\"),\"\")","v":""},{"$error":"#VALUE!"}]
["Tartinade Apéro - Courgette Thym","5,50€","5.5",{"$f":"VLOOKUP(A527,Import!A:D,4,FALSE)","v":"Alimentaire Conditionné"},false,null,0,{"$f":"IFERROR(__xludf.DUMMYFUNCTION(\"TO_PURE_NUMBER(G527)\"),\"\")","v":""},{"$error":"#VALUE!"}]
["Tartinade Apéro - Gwacamole 130g","4,50€","4.5",{"$f":"VLOOKUP(A528,Import!A:D,4,FALSE)","v":"Alimentaire Conditionné"},false,null,0,{"$f":"IFERROR(__xludf.DUMMYFUNCTION(\"TO_PURE_NUMBER(G528)\"),\"\")","v":""},{"$error":"#VALUE!"}]
["Tartinade Apéro - Poichichade au paprika - 100g","4,50 €","4.5",{"$f":"VLOOKUP(A529,Import!A:D,4,FALSE)","v":"Alimentaire Conditionné"},false,null,0,{"$f":"IFERROR(__xludf.DUMMYFUNCTION(\"TO_PURE_NUMBER(G529)\"),\"\")","v":""},{"$error":"#VALUE!"}]
["Tartinade Apéro - Poichichade traditionnelle - 100g","4,00 €","4",{"$f":"VLOOKUP(A530,Import!A:D,4,FALSE)","v":"Alimentaire Conditionné"},false,null,0,{"$f":"IFERROR(__xludf.DUMMYFUNCTION(\"TO_PURE_NUMBER(G530)\"),\"\")","v":""},{"$error":"#VALUE!"}]
["Tartinade Apéro - Pois chiches Graines de Nigelle","5,50€","5.5",{"$f":"VLOOKUP(A531,Import!A:D,4,FALSE)","v":"Alimentaire Conditionné"},false,null,0,{"$f":"IFERROR(__xludf.DUMMYFUNCTION(\"TO_PURE_NUMBER(G531)\"),\"\")","v":""},{"$error":"#VALUE!"}]
["Tartinade Apéro - Tomates Sarriette","5,50€","5.50",{"$f":"VLOOKUP(A532,Import!A:D,4,FALSE)","v":"/"},false,null,0,{"$f":"IFERROR(__xludf.DUMMYFUNCTION(\"TO_PURE_NUMBER(G532)\"),\"\")","v":""},{"$error":"#VALUE!"}]
["Tartine Craquante Sarrasin - 300g","5,50€","5.50",{"$f":"VLOOKUP(A533,Import!A:D,4,FALSE)","v":"Alimentaire Conditionné"},false,null,0,{"$f":"IFERROR(__xludf.DUMMYFUNCTION(\"TO_PURE_NUMBER(G533)\"),\"\")","v":""},{"$error":"#VALUE!"}]
["Tête rechargeable pour Brosse vaisselle","2,70€","2.7",{"$f":"VLOOKUP(A534,Import!A:D,4,FALSE)","v":"Produits d'entretiens"},false,null,0,{"$f":"IFERROR(__xludf.DUMMYFUNCTION(\"TO_PURE_NUMBER(G534)\"),\"\")","v":""},{"$error":"#VALUE!"}]
["Thé Noir - Darjeling ","50€/kg","50",{"$f":"VLOOKUP(A535,Import!A:D,4,FALSE)","v":"Boisson en vrac"},false,null,0,{"$f":"IFERROR(__xludf.DUMMYFUNCTION(\"TO_PURE_NUMBER(G535)\"),\"\")","v":""},{"$error":"#VALUE!"}]
["Thé Noir - Earl Grey ","60€/kg","60",{"$f":"VLOOKUP(A536,Import!A:D,4,FALSE)","v":"Boisson en vrac"},false,null,0,{"$f":"IFERROR(__xludf.DUMMYFUNCTION(\"TO_PURE_NUMBER(G536)\"),\"\")","v":""},{"$error":"#VALUE!"}]
["Thé Noir - Noël","69€/kg","60",{"$f":"VLOOKUP(A537,Import!A:D,4,FALSE)","v":"Boisson en vrac"},false,null,0,{"$f":"IFERROR(__xludf.DUMMYFUNCTION(\"TO_PURE_NUMBER(G537)\"),\"\")","v":""},{"$error":"#VALUE!"}]
["Thé Vert - Au chant des cigales ","60€/kg","60",{"$f":"VLOOKUP(A538,Import!A:D,4,FALSE)","v":"Boisson en vrac"},false,null,0,{"$f":"IFERROR(__xludf.DUMMYFUNCTION(\"TO_PURE_NUMBER(G538)\"),\"\")","v":""},{"$error":"#VALUE!"}]
["Thé Vert - Earl Grey Azur ","60€/kg","60",{"$f":"VLOOKUP(A539,Import!A:D,4,FALSE)","v":"Boisson en vrac"},false,null,0,{"$f":"IFERROR(__xludf.DUMMYFUNCTION(\"TO_PURE_NUMBER(G539)\"),\"\")","v":""},{"$error":"#VALUE!"}]
["Thé Vert - Fruité Tropical","60€/kg","60",{"$f":"VLOOKUP(A540,Import!A:D,4,FALSE)","v":"Boisson en vrac"},false,null,0,{"$f":"IFERROR(__xludf.DUMMYFUNCTION(\"TO_PURE_NUMBER(G540)\"),\"\")","v":""},{"$error":"#VALUE!"}]
["Thé Vert - Gunpowder ","50€/kg","50",{"$f":"VLOOKUP(A541,Import!A:D,4,FALSE)","v":"Boisson en vrac"},false,null,0,{"$f":"IFERROR(__xludf.DUMMYFUNCTION(\"TO_PURE_NUMBER(G541)\"),\"\")","v":""},{"$error":"#VALUE!"}]
["Thé Vert - Jasmin","65€/kg","65",{"$f":"VLOOKUP(A542,Import!A:D,4,FALSE)","v":"Boisson en vrac"},false,null,0,{"$f":"IFERROR(__xludf.DUMMYFUNCTION(\"TO_PURE_NUMBER(G542)\"),\"\")","v":""},{"$error":"#VALUE!"}]
["Thé Vert - Mandarine Pamplemousse","60€/kg","60",{"$f":"VLOOKUP(A543,Import!A:D,4,FALSE)","v":"Boisson en vrac"},false,null,0,{"$f":"IFERROR(__xludf.DUMMYFUNCTION(\"TO_PURE_NUMBER(G543)\"),\"\")","v":""},{"$error":"#VALUE!"}]
["Thé Vert - Menthe Marrakech","60€/kg","60",{"$f":"VLOOKUP(A544,Import!A:D,4,FALSE)","v":"Boisson en vrac"},false]
["Thym Feuilles ","140€/kg","140",{"$f":"VLOOKUP(A545,Import!A:D,4,FALSE)","v":"Alimentaire Vrac"},false]
["Tisane - Après Repas","50€/kg","50",{"$f":"VLOOKUP(A546,Import!A:D,4,FALSE)","v":"Boisson en vrac"},false]
["Tisane - Camomille","60€/kg","60",{"$f":"VLOOKUP(A547,Import!A:D,4,FALSE)","v":"Boisson en vrac"},false]
["Tisane - Des elfes","60€/kg","60",{"$f":"VLOOKUP(A548,Import!A:D,4,FALSE)","v":"Boisson en vrac"},false]
["Tisane - Du soir ","50€/kg","50",{"$f":"VLOOKUP(A549,Import!A:D,4,FALSE)","v":"Boisson en vrac"},false]
["Tisane - Hibiscus","50€/kg","50",{"$f":"VLOOKUP(A550,Import!A:D,4,FALSE)","v":"Boisson en vrac"},false]
["Tisane - La mésange bleue ","50€/kg","50",{"$f":"VLOOKUP(A551,Import!A:D,4,FALSE)","v":"Boisson en vrac"},false]
["Tisane - Verveine citronnée ","50€/kg","50",{"$f":"VLOOKUP(A552,Import!A:D,4,FALSE)","v":"Boisson en vrac"},false]
["Vermicelles demi complets","2,95€/kg","2.95",{"$f":"VLOOKUP(A553,Import!A:D,4,FALSE)","v":"Alimentaire Vrac"},false]
["Vinaigre Balsamique","8,50€/kg","8.5",{"$f":"VLOOKUP(A554,Import!A:D,4,FALSE)","v":"Alimentaire Vrac"},false]
["Vinaigre balsamique de Modène - 50cl","5,50€/kg","5.5",{"$f":"VLOOKUP(A555,Import!A:D,4,FALSE)","v":"Alimentaire Conditionné"},false]
["Vinaigre Blanc Naturel 14° - Vrac","4,90€/kg","4.9",{"$f":"VLOOKUP(A556,Import!A:D,4,FALSE)","v":"Produits d'entretiens"},false]
["Vinaigre de Cidre ","4,50€/kg","4.5",{"$f":"VLOOKUP(A557,Import!A:D,4,FALSE)","v":"Alimentaire Vrac"},false]
["Vinaigre de Vin Rouge","3,75€/kg","3.75",{"$f":"VLOOKUP(A558,Import!A:D,4,FALSE)","v":"Alimentaire Vrac"},false]
[null,null,null,{"$f":"VLOOKUP(A559,Import!A:D,4,FALSE)","v":{"$error":"#N/A"}},false]
[null,null,null,{"$f":"VLOOKUP(A560,Import!A:D,4,FALSE)","v":{"$error":"#N/A"}},false]
[null,null,null,{"$f":"VLOOKUP(A561,Import!A:D,4,FALSE)","v":{"$error":"#N/A"}},false]
[null,null,null,{"$f":"VLOOKUP(A562,Import!A:D,4,FALSE)","v":{"$error":"#N/A"}},false]
[null,null,null,{"$f":"VLOOKUP(A563,Import!A:D,4,FALSE)","v":{"$error":"#N/A"}},false]
[null,null,null,{"$f":"VLOOKUP(A564,Import!A:D,4,FALSE)","v":{"$error":"#N/A"}},false]
[null,null,null,{"$f":"VLOOKUP(A565,Import!A:D,4,FALSE)","v":{"$error":"#N/A"}},false]
[null,null,null,{"$f":"VLOOKUP(A566,Import!A:D,4,FALSE)","v":{"$error":"#N/A"}},false]
[null,null,null,{"$f":"VLOOKUP(A567,Import!A:D,4,FALSE)","v":{"$error":"#N/A"}},false]
[null,null,null,{"$f":"VLOOKUP(A568,Import!A:D,4,FALSE)","v":{"$error":"#N/A"}},false]
[null,null,null,{"$f":"VLOOKUP(A569,Import!A:D,4,FALSE)","v":{"$error":"#N/A"}},false]
[null,null,null,{"$f":"VLOOKUP(A570,Import!A:D,4,FALSE)","v":{"$error":"#N/A"}},false]
[null,null,null,{"$f":"VLOOKUP(A571,Import!A:D,4,FALSE)","v":{"$error":"#N/A"}},false]
[null,null,null,{"$f":"VLOOKUP(A572,Import!A:D,4,FALSE)","v":{"$error":"#N/A"}},false]
[null,null,null,{"$f":"VLOOKUP(A573,Import!A:D,4,FALSE)","v":{"$error":"#N/A"}},false]
[null,null,null,{"$f":"VLOOKUP(A574,Import!A:D,4,FALSE)","v":{"$error":"#N/A"}},false]
[null,null,null,{"$f":"VLOOKUP(A575,Import!A:D,4,FALSE)","v":{"$error":"#N/A"}},false]
[null,null,null,{"$f":"VLOOKUP(A576,Import!A:D,4,FALSE)","v":{"$error":"#N/A"}},false]
[null,null,null,{"$f":"VLOOKUP(A577,Import!A:D,4,FALSE)","v":{"$error":"#N/A"}},false]
[null,null,null,{"$f":"VLOOKUP(A578,Import!A:D,4,FALSE)","v":{"$error":"#N/A"}},false]
[null,null,null,{"$f":"VLOOKUP(A579,Import!A:D,4,FALSE)","v":{"$error":"#N/A"}},false]
[null,null,null,{"$f":"VLOOKUP(A580,Import!A:D,4,FALSE)","v":{"$error":"#N/A"}},false]
[null,null,null,{"$f":"VLOOKUP(A581,Import!A:D,4,FALSE)","v":{"$error":"#N/A"}},false]
[null,null,null,{"$f":"VLOOKUP(A582,Import!A:D,4,FALSE)","v":{"$error":"#N/A"}},false]
[null,null,null,{"$f":"VLOOKUP(A583,Import!A:D,4,FALSE)","v":{"$error":"#N/A"}},false]
[null,null,null,{"$f":"VLOOKUP(A584,Import!A:D,4,FALSE)","v":{"$error":"#N/A"}},false]
[null,null,null,{"$f":"VLOOKUP(A585,Import!A:D,4,FALSE)","v":{"$error":"#N/A"}},false]
[null,null,null,{"$f":"VLOOKUP(A586,Import!A:D,4,FALSE)","v":{"$error":"#N/A"}},false]
[null,null,null,{"$f":"VLOOKUP(A587,Import!A:D,4,FALSE)","v":{"$error":"#N/A"}},false]
[null,null,null,{"$f":"VLOOKUP(A588,Import!A:D,4,FALSE)","v":{"$error":"#N/A"}},false]
[null,null,null,{"$f":"VLOOKUP(A589,Import!A:D,4,FALSE)","v":{"$error":"#N/A"}},false]
[null,null,null,{"$f":"VLOOKUP(A590,Import!A:D,4,FALSE)","v":{"$error":"#N/A"}},false]
[null,null,null,{"$f":"VLOOKUP(A591,Import!A:D,4,FALSE)","v":{"$error":"#N/A"}},false]
[null,null,null,{"$f":"VLOOKUP(A592,Import!A:D,4,FALSE)","v":{"$error":"#N/A"}},false]
[null,null,null,{"$f":"VLOOKUP(A593,Import!A:D,4,FALSE)","v":{"$error":"#N/A"}},false]
[null,null,null,{"$f":"VLOOKUP(A594,Import!A:D,4,FALSE)","v":{"$error":"#N/A"}},false]
[null,null,null,{"$f":"VLOOKUP(A595,Import!A:D,4,FALSE)","v":{"$error":"#N/A"}},false]
[null,null,null,{"$f":"VLOOKUP(A596,Import!A:D,4,FALSE)","v":{"$error":"#N/A"}},false]
[null,null,null,{"$f":"VLOOKUP(A597,Import!A:D,4,FALSE)","v":{"$error":"#N/A"}},false]
[null,null,null,{"$f":"VLOOKUP(A598,Import!A:D,4,FALSE)","v":{"$error":"#N/A"}},false]
[null,null,null,{"$f":"VLOOKUP(A599,Import!A:D,4,FALSE)","v":{"$error":"#N/A"}},false]
[null,null,null,{"$f":"VLOOKUP(A600,Import!A:D,4,FALSE)","v":{"$error":"#N/A"}},false]
[null,null,null,{"$f":"VLOOKUP(A601,Import!A:D,4,FALSE)","v":{"$error":"#N/A"}},false]
[null,null,null,{"$f":"VLOOKUP(A602,Import!A:D,4,FALSE)","v":{"$error":"#N/A"}},false]
[null,null,null,{"$f":"VLOOKUP(A603,Import!A:D,4,FALSE)","v":{"$error":"#N/A"}},false]
[null,null,null,{"$f":"VLOOKUP(A604,Import!A:D,4,FALSE)","v":{"$error":"#N/A"}},false]
[null,null,null,{"$f":"VLOOKUP(A605,Import!A:D,4,FALSE)","v":{"$error":"#N/A"}},false]
[null,null,null,{"$f":"VLOOKUP(A606,Import!A:D,4,FALSE)","v":{"$error":"#N/A"}},false]
[null,null,null,{"$f":"VLOOKUP(A607,Import!A:D,4,FALSE)","v":{"$error":"#N/A"}},false]
[null,null,null,{"$f":"VLOOKUP(A608,Import!A:D,4,FALSE)","v":{"$error":"#N/A"}},false]
[null,null,null,{"$f":"VLOOKUP(A609,Import!A:D,4,FALSE)","v":{"$error":"#N/A"}},false]
[null,null,null,{"$f":"VLOOKUP(A610,Import!A:D,4,FALSE)","v":{"$error":"#N/A"}},false]
[null,null,null,{"$f":"VLOOKUP(A611,Import!A:D,4,FALSE)","v":{"$error":"#N/A"}},false]
[null,null,null,{"$f":"VLOOKUP(A612,Import!A:D,4,FALSE)","v":{"$error":"#N/A"}},false]
[null,null,null,{"$f":"VLOOKUP(A613,Import!A:D,4,FALSE)","v":{"$error":"#N/A"}},false]
[null,null,null,{"$f":"VLOOKUP(A614,Import!A:D,4,FALSE)","v":{"$error":"#N/A"}},false]
[null,null,null,{"$f":"VLOOKUP(A615,Import!A:D,4,FALSE)","v":{"$error":"#N/A"}},false]
[null,null,null,{"$f":"VLOOKUP(A616,Import!A:D,4,FALSE)","v":{"$error":"#N/A"}},false]
[null,null,null,{"$f":"VLOOKUP(A617,Import!A:D,4,FALSE)","v":{"$error":"#N/A"}},false]
[null,null,null,{"$f":"VLOOKUP(A618,Import!A:D,4,FALSE)","v":{"$error":"#N/A"}},false]
[null,null,null,{"$f":"VLOOKUP(A619,Import!A:D,4,FALSE)","v":{"$error":"#N/A"}},false]
[null,null,null,{"$f":"VLOOKUP(A620,Import!A:D,4,FALSE)","v":{"$error":"#N/A"}},false]
[null,null,null,{"$f":"VLOOKUP(A621,Import!A:D,4,FALSE)","v":{"$error":"#N/A"}},false]
[null,null,null,{"$f":"VLOOKUP(A622,Import!A:D,4,FALSE)","v":{"$error":"#N/A"}},false]
[null,null,null,{"$f":"VLOOKUP(A623,Import!A:D,4,FALSE)","v":{"$error":"#N/A"}},false]
[null,null,null,{"$f":"VLOOKUP(A624,Import!A:D,4,FALSE)","v":{"$error":"#N/A"}},false]
[null,null,null,{"$f":"VLOOKUP(A625,Import!A:D,4,FALSE)","v":{"$error":"#N/A"}},false]
[null,null,null,{"$f":"VLOOKUP(A626,Import!A:D,4,FALSE)","v":{"$error":"#N/A"}},false]
[null,null,null,{"$f":"VLOOKUP(A627,Import!A:D,4,FALSE)","v":{"$error":"#N/A"}},false]
[null,null,null,{"$f":"VLOOKUP(A628,Import!A:D,4,FALSE)","v":{"$error":"#N/A"}},false]
[null,null,null,{"$f":"VLOOKUP(A629,Import!A:D,4,FALSE)","v":{"$error":"#N/A"}},false]
[null,null,null,{"$f":"VLOOKUP(A630,Import!A:D,4,FALSE)","v":{"$error":"#N/A"}},false]
[null,null,null,{"$f":"VLOOKUP(A631,Import!A:D,4,FALSE)","v":{"$error":"#N/A"}},false]
[null,null,null,{"$f":"VLOOKUP(A632,Import!A:D,4,FALSE)","v":{"$error":"#N/A"}},false]
[null,null,null,{"$f":"VLOOKUP(A633,Import!A:D,4,FALSE)","v":{"$error":"#N/A"}},false]
[null,null,null,{"$f":"VLOOKUP(A634,Import!A:D,4,FALSE)","v":{"$error":"#N/A"}},false]
[null,null,null,{"$f":"VLOOKUP(A635,Import!A:D,4,FALSE)","v":{"$error":"#N/A"}},false]
[null,null,null,{"$f":"VLOOKUP(A636,Import!A:D,4,FALSE)","v":{"$error":"#N/A"}},false]
[null,null,null,{"$f":"VLOOKUP(A637,Import!A:D,4,FALSE)","v":{"$error":"#N/A"}},false]
[null,null,null,{"$f":"VLOOKUP(A638,Import!A:D,4,FALSE)","v":{"$error":"#N/A"}},false]
[null,null,null,{"$f":"VLOOKUP(A639,Import!A:D,4,FALSE)","v":{"$error":"#N/A"}},false]
[null,null,null,{"$f":"VLOOKUP(A640,Import!A:D,4,FALSE)","v":{"$error":"#N/A"}},false]
[null,null,null,{"$f":"VLOOKUP(A641,Import!A:D,4,FALSE)","v":{"$error":"#N/A"}},false]
[null,null,null,{"$f":"VLOOKUP(A642,Import!A:D,4,FALSE)","v":{"$error":"#N/A"}},false]
[null,null,null,{"$f":"VLOOKUP(A643,Import!A:D,4,FALSE)","v":{"$error":"#N/A"}},false]
[null,null,null,{"$f":"VLOOKUP(A644,Import!A:D,4,FALSE)","v":{"$error":"#N/A"}},false]
[null,null,null,{"$f":"VLOOKUP(A645,Import!A:D,4,FALSE)","v":{"$error":"#N/A"}},false]
[null,null,null,{"$f":"VLOOKUP(A646,Import!A:D,4,FALSE)","v":{"$error":"#N/A"}},false]
[null,null,null,{"$f":"VLOOKUP(A647,Import!A:D,4,FALSE)","v":{"$error":"#N/A"}},false]
[null,null,null,{"$f":"VLOOKUP(A648,Import!A:D,4,FALSE)","v":{"$error":"#N/A"}},false]
[null,null,null,{"$f":"VLOOKUP(A649,Import!A:D,4,FALSE)","v":{"$error":"#N/A"}},false]
[null,null,null,{"$f":"VLOOKUP(A650,Import!A:D,4,FALSE)","v":{"$error":"#N/A"}},false]
[null,null,null,{"$f":"VLOOKUP(A651,Import!A:D,4,FALSE)","v":{"$error":"#N/A"}},false]
[null,null,null,{"$f":"VLOOKUP(A652,Import!A:D,4,FALSE)","v":{"$error":"#N/A"}},false]
[null,null,null,{"$f":"VLOOKUP(A653,Import!A:D,4,FALSE)","v":{"$error":"#N/A"}},false]
[null,null,null,{"$f":"VLOOKUP(A654,Import!A:D,4,FALSE)","v":{"$error":"#N/A"}},false]
[null,null,null,{"$f":"VLOOKUP(A655,Import!A:D,4,FALSE)","v":{"$error":"#N/A"}},false]
[null,null,null,{"$f":"VLOOKUP(A656,Import!A:D,4,FALSE)","v":{"$error":"#N/A"}},false]
[null,null,null,{"$f":"VLOOKUP(A657,Import!A:D,4,FALSE)","v":{"$error":"#N/A"}},false]
[null,null,null,{"$f":"VLOOKUP(A658,Import!A:D,4,FALSE)","v":{"$error":"#N/A"}},false]
[null,null,null,{"$f":"VLOOKUP(A659,Import!A:D,4,FALSE)","v":{"$error":"#N/A"}},false]
[null,null,null,{"$f":"VLOOKUP(A660,Import!A:D,4,FALSE)","v":{"$error":"#N/A"}},false]
[null,null,null,{"$f":"VLOOKUP(A661,Import!A:D,4,FALSE)","v":{"$error":"#N/A"}},false]
[null,null,null,{"$f":"VLOOKUP(A662,Import!A:D,4,FALSE)","v":{"$error":"#N/A"}},false]
[null,null,null,{"$f":"VLOOKUP(A663,Import!A:D,4,FALSE)","v":{"$error":"#N/A"}},false]
[null,null,null,{"$f":"VLOOKUP(A664,Import!A:D,4,FALSE)","v":{"$error":"#N/A"}},false]
[null,null,null,{"$f":"VLOOKUP(A665,Import!A:D,4,FALSE)","v":{"$error":"#N/A"}},false]
[null,null,null,{"$f":"VLOOKUP(A666,Import!A:D,4,FALSE)","v":{"$error":"#N/A"}},false]
[null,null,null,{"$f":"VLOOKUP(A667,Import!A:D,4,FALSE)","v":{"$error":"#N/A"}},false]
[null,null,null,{"$f":"VLOOKUP(A668,Import!A:D,4,FALSE)","v":{"$error":"#N/A"}},false]
[null,null,null,{"$f":"VLOOKUP(A669,Import!A:D,4,FALSE)","v":{"$error":"#N/A"}},false]
[null,null,null,{"$f":"VLOOKUP(A670,Import!A:D,4,FALSE)","v":{"$error":"#N/A"}},false]
[null,null,null,{"$f":"VLOOKUP(A671,Import!A:D,4,FALSE)","v":{"$error":"#N/A"}},false]
[null,null,null,{"$f":"VLOOKUP(A672,Import!A:D,4,FALSE)","v":{"$error":"#N/A"}},false]
[null,null,null,{"$f":"VLOOKUP(A673,Import!A:D,4,FALSE)","v":{"$error":"#N/A"}},false]
[null,null,null,{"$f":"VLOOKUP(A674,Import!A:D,4,FALSE)","v":{"$error":"#N/A"}},false]
[null,null,null,{"$f":"VLOOKUP(A675,Import!A:D,4,FALSE)","v":{"$error":"#N/A"}},false]
[null,null,null,{"$f":"VLOOKUP(A676,Import!A:D,4,FALSE)","v":{"$error":"#N/A"}},false]
[null,null,null,{"$f":"VLOOKUP(A677,Import!A:D,4,FALSE)","v":{"$error":"#N/A"}},false]
[null,null,null,{"$f":"VLOOKUP(A678,Import!A:D,4,FALSE)","v":{"$error":"#N/A"}},false]
[null,null,null,{"$f":"VLOOKUP(A679,Import!A:D,4,FALSE)","v":{"$error":"#N/A"}},false]
[null,null,null,{"$f":"VLOOKUP(A680,Import!A:D,4,FALSE)","v":{"$error":"#N/A"}},false]
[null,null,null,{"$f":"VLOOKUP(A681,Import!A:D,4,FALSE)","v":{"$error":"#N/A"}},false]
[null,null,null,{"$f":"VLOOKUP(A682,Import!A:D,4,FALSE)","v":{"$error":"#N/A"}},false]
[null,null,null,{"$f":"VLOOKUP(A683,Import!A:D,4,FALSE)","v":{"$error":"#N/A"}},false]
[null,null,null,{"$f":"VLOOKUP(A684,Import!A:D,4,FALSE)","v":{"$error":"#N/A"}},false]
[null,null,null,{"$f":"VLOOKUP(A685,Import!A:D,4,FALSE)","v":{"$error":"#N/A"}},false]
[null,null,null,{"$f":"VLOOKUP(A686,Import!A:D,4,FALSE)","v":{"$error":"#N/A"}},false]
[null,null,null,{"$f":"VLOOKUP(A687,Import!A:D,4,FALSE)","v":{"$error":"#N/A"}},false]
[null,null,null,{"$f":"VLOOKUP(A688,Import!A:D,4,FALSE)","v":{"$error":"#N/A"}},false]
[null,null,null,{"$f":"VLOOKUP(A689,Import!A:D,4,FALSE)","v":{"$error":"#N/A"}},false]
[null,null,null,{"$f":"VLOOKUP(A690,Import!A:D,4,FALSE)","v":{"$error":"#N/A"}},false]
[null,null,null,{"$f":"VLOOKUP(A691,Import!A:D,4,FALSE)","v":{"$error":"#N/A"}},false]
[null,null,null,{"$f":"VLOOKUP(A692,Import!A:D,4,FALSE)","v":{"$error":"#N/A"}},false]
[null,null,null,{"$f":"VLOOKUP(A693,Import!A:D,4,FALSE)","v":{"$error":"#N/A"}},false]
[null,null,null,{"$f":"VLOOKUP(A694,Import!A:D,4,FALSE)","v":{"$error":"#N/A"}},false]
[null,null,null,{"$f":"VLOOKUP(A695,Import!A:D,4,FALSE)","v":{"$error":"#N/A"}},false]
[null,null,null,{"$f":"VLOOKUP(A696,Import!A:D,4,FALSE)","v":{"$error":"#N/A"}},false]
[null,null,null,{"$f":"VLOOKUP(A697,Import!A:D,4,FALSE)","v":{"$error":"#N/A"}},false]
[null,null,null,{"$f":"VLOOKUP(A698,Import!A:D,4,FALSE)","v":{"$error":"#N/A"}},false]
[null,null,null,{"$f":"VLOOKUP(A699,Import!A:D,4,FALSE)","v":{"$error":"#N/A"}},false]
[null,null,null,{"$f":"VLOOKUP(A700,Import!A:D,4,FALSE)","v":{"$error":"#N/A"}},false]
[null,null,null,{"$f":"VLOOKUP(A701,Import!A:D,4,FALSE)","v":{"$error":"#N/A"}},false]
[null,null,null,{"$f":"VLOOKUP(A702,Import!A:D,4,FALSE)","v":{"$error":"#N/A"}},false]
[null,null,null,{"$f":"VLOOKUP(A703,Import!A:D,4,FALSE)","v":{"$error":"#N/A"}},false]
[null,null,null,{"$f":"VLOOKUP(A704,Import!A:D,4,FALSE)","v":{"$error":"#N/A"}},false]
[null,null,null,{"$f":"VLOOKUP(A705,Import!A:D,4,FALSE)","v":{"$error":"#N/A"}},false]
[null,null,null,{"$f":"VLOOKUP(A706,Import!A:D,4,FALSE)","v":{"$error":"#N/A"}},false]
[null,null,null,{"$f":"VLOOKUP(A707,Import!A:D,4,FALSE)","v":{"$error":"#N/A"}},false]
[null,null,null,{"$f":"VLOOKUP(A708,Import!A:D,4,FALSE)","v":{"$error":"#N/A"}},false]
[null,null,null,{"$f":"VLOOKUP(A709,Import!A:D,4,FALSE)","v":{"$error":"#N/A"}},false]
[null,null,null,{"$f":"VLOOKUP(A710,Import!A:D,4,FALSE)","v":{"$error":"#N/A"}},false]
[null,null,null,{"$f":"VLOOKUP(A711,Import!A:D,4,FALSE)","v":{"$error":"#N/A"}},false]
[null,null,null,{"$f":"VLOOKUP(A712,Import!A:D,4,FALSE)","v":{"$error":"#N/A"}},false]
[null,null,null,{"$f":"VLOOKUP(A713,Import!A:D,4,FALSE)","v":{"$error":"#N/A"}},false]
[null,null,null,{"$f":"VLOOKUP(A714,Import!A:D,4,FALSE)","v":{"$error":"#N/A"}},false]
[null,null,null,{"$f":"VLOOKUP(A715,Import!A:D,4,FALSE)","v":{"$error":"#N/A"}},false]
[null,null,null,{"$f":"VLOOKUP(A716,Import!A:D,4,FALSE)","v":{"$error":"#N/A"}},false]
[null,null,null,{"$f":"VLOOKUP(A717,Import!A:D,4,FALSE)","v":{"$error":"#N/A"}},false]
[null,null,null,{"$f":"VLOOKUP(A718,Import!A:D,4,FALSE)","v":{"$error":"#N/A"}},false]
[null,null,null,{"$f":"VLOOKUP(A719,Import!A:D,4,FALSE)","v":{"$error":"#N/A"}},false]
[null,null,null,{"$f":"VLOOKUP(A720,Import!A:D,4,FALSE)","v":{"$error":"#N/A"}},false]
[null,null,null,{"$f":"VLOOKUP(A721,Import!A:D,4,FALSE)","v":{"$error":"#N/A"}},false]
[null,null,null,{"$f":"VLOOKUP(A722,Import!A:D,4,FALSE)","v":{"$error":"#N/A"}},false]
[null,null,null,{"$f":"VLOOKUP(A723,Import!A:D,4,FALSE)","v":{"$error":"#N/A"}},false]
[null,null,null,{"$f":"VLOOKUP(A724,Import!A:D,4,FALSE)","v":{"$error":"#N/A"}},false]
[null,null,null,{"$f":"VLOOKUP(A725,Import!A:D,4,FALSE)","v":{"$error":"#N/A"}},false]
[null,null,null,{"$f":"VLOOKUP(A726,Import!A:D,4,FALSE)","v":{"$error":"#N/A"}},false]
[null,null,null,{"$f":"VLOOKUP(A727,Import!A:D,4,FALSE)","v":{"$error":"#N/A"}},false]
[null,null,null,{"$f":"VLOOKUP(A728,Import!A:D,4,FALSE)","v":{"$error":"#N/A"}},false]
[null,null,null,{"$f":"VLOOKUP(A729,Import!A:D,4,FALSE)","v":{"$error":"#N/A"}},false]
[null,null,null,{"$f":"VLOOKUP(A730,Import!A:D,4,FALSE)","v":{"$error":"#N/A"}},false]
[null,null,null,{"$f":"VLOOKUP(A731,Import!A:D,4,FALSE)","v":{"$error":"#N/A"}},false]
[null,null,null,{"$f":"VLOOKUP(A732,Import!A:D,4,FALSE)","v":{"$error":"#N/A"}},false]
[null,null,null,{"$f":"VLOOKUP(A733,Import!A:D,4,FALSE)","v":{"$error":"#N/A"}},false]
[null,null,null,{"$f":"VLOOKUP(A734,Import!A:D,4,FALSE)","v":{"$error":"#N/A"}},false]
[null,null,null,{"$f":"VLOOKUP(A735,Import!A:D,4,FALSE)","v":{"$error":"#N/A"}},false]
[null,null,null,{"$f":"VLOOKUP(A736,Import!A:D,4,FALSE)","v":{"$error":"#N/A"}},false]
[null,null,null,{"$f":"VLOOKUP(A737,Import!A:D,4,FALSE)","v":{"$error":"#N/A"}},false]
[null,null,null,{"$f":"VLOOKUP(A738,Import!A:D,4,FALSE)","v":{"$error":"#N/A"}},false]
[null,null,null,{"$f":"VLOOKUP(A739,Import!A:D,4,FALSE)","v":{"$error":"#N/A"}},false]
[null,null,null,{"$f":"VLOOKUP(A740,Import!A:D,4,FALSE)","v":{"$error":"#N/A"}},false]
[null,null,null,{"$f":"VLOOKUP(A741,Import!A:D,4,FALSE)","v":{"$error":"#N/A"}},false]
[null,null,null,{"$f":"VLOOKUP(A742,Import!A:D,4,FALSE)","v":{"$error":"#N/A"}},false]
[null,null,null,{"$f":"VLOOKUP(A743,Import!A:D,4,FALSE)","v":{"$error":"#N/A"}},false]
[null,null,null,{"$f":"VLOOKUP(A744,Import!A:D,4,FALSE)","v":{"$error":"#N/A"}},false]
[null,null,null,{"$f":"VLOOKUP(A745,Import!A:D,4,FALSE)","v":{"$error":"#N/A"}},false]
[null,null,null,{"$f":"VLOOKUP(A746,Import!A:D,4,FALSE)","v":{"$error":"#N/A"}},false]
[null,null,null,{"$f":"VLOOKUP(A747,Import!A:D,4,FALSE)","v":{"$error":"#N/A"}},false]
[null,null,null,{"$f":"VLOOKUP(A748,Import!A:D,4,FALSE)","v":{"$error":"#N/A"}},false]
[null,null,null,{"$f":"VLOOKUP(A749,Import!A:D,4,FALSE)","v":{"$error":"#N/A"}},false]
[null,null,null,{"$f":"VLOOKUP(A750,Import!A:D,4,FALSE)","v":{"$error":"#N/A"}},false]
[null,null,null,{"$f":"VLOOKUP(A751,Import!A:D,4,FALSE)","v":{"$error":"#N/A"}},false]
[null,null,null,{"$f":"VLOOKUP(A752,Import!A:D,4,FALSE)","v":{"$error":"#N/A"}},false]
[null,null,null,{"$f":"VLOOKUP(A753,Import!A:D,4,FALSE)","v":{"$error":"#N/A"}},false]
[null,null,null,{"$f":"VLOOKUP(A754,Import!A:D,4,FALSE)","v":{"$error":"#N/A"}},false]
[null,null,null,{"$f":"VLOOKUP(A755,Import!A:D,4,FALSE)","v":{"$error":"#N/A"}},false]
[null,null,null,{"$f":"VLOOKUP(A756,Import!A:D,4,FALSE)","v":{"$error":"#N/A"}},false]
[null,null,null,{"$f":"VLOOKUP(A757,Import!A:D,4,FALSE)","v":{"$error":"#N/A"}},false]
[null,null,null,null,false]
[null,null,null,null,false]
[null,null,null,null,false]
[null,null,null,null,false]
[null,null,null,null,false]
[null,null,null,null,false]
[null,null,null,null,false]
[null,null,null,null,false]
[null,null,null,null,false]
[null,null,null,null,false]
[null,null,null,null,false]
[null,null,null,null,false]
[null,null,null,null,false]
[null,null,null,null,false]
[null,null,null,null,false]
[null,null,null,null,false]
[null,null,null,null,false]
[null,null,null,null,false]
[null,null,null,null,false]
[null,null,null,null,false]
[null,null,null,null,false]
[null,null,null,null,false]
[null,null,null,null,false]
[null,null,null,null,false]
[null,null,null,null,false]
[null,null,null,null,false]
[null,null,null,null,false]
[null,null,null,null,false]
[null,null,null,null,false]
[null,null,null,null,false]
[null,null,null,null,false]
[null,null,null,null,false]
[null,null,null,null,false]
[null,null,null,null,false]
[null,null,null,null,false]
[null,null,null,null,false]
[null,null,null,null,false]
[null,null,null,null,false]
[null,null,null,null,false]
[null,null,null,null,false]
[null,null,null,null,false]
[null,null,null,null,false]
[null,null,null,null,false]
[null,null,null,null,false]
[null,null,null,null,false]
[null,null,null,null,false]
[null,null,null,null,false]
[null,null,null,null,false]
[null,null,null,null,false]
[null,null,null,null,false]
[null,null,null,null,false]
[null,null,null,null,false]
[null,null,null,null,false]
[null,null,null,null,false]
[null,null,null,null,false]
[null,null,null,null,false]
[null,null,null,null,false]
[null,null,null,null,false]
[null,null,null,null,false]
[null,null,null,null,false]
[null,null,null,null,false]
[null,null,null,null,false]
[null,null,null,null,false]
[null,null,null,null,false]
[null,null,null,null,false]
[null,null,null,null,false]
[null,null,null,null,false]
[null,null,null,null,false]
[null,null,null,null,false]
[null,null,null,null,false]
[null,null,null,null,false]
[null,null,null,null,false]
[null,null,null,null,false]
[null,null,null,null,false]
[null,null,null,null,false]
[null,null,null,null,false]
[null,null,null,null,false]
[null,null,null,null,false]
[null,null,null,null,false]
[null,null,null,null,false]
[null,null,null,null,false]
[null,null,null,null,false]
[null,null,null,null,false]
[null,null,null,null,false]
[null,null,null,null,false]
[null,null,null,null,false]
[null,null,null,null,false]
[null,null,null,null,false]
[null,null,null,null,false]
[null,null,null,null,false]
[null,null,null,null,false]
[null,null,null,null,false]
[null,null,null,null,false]
[null,null,null,null,false]
[null,null,null,null,false]
[null,null,null,null,false]
[null,null,null,null,false]
[null,null,null,null,false]
[null,null,null,null,false]
[null,null,null,null,false]
[null,null,null,null,false]
[null,null,null,null,false]
[null,null,null,null,false]
[null,null,null,null,false]
[null,null,null,null,false]
[null,null,null,null,false]
[null,null,null,null,false]
[null,null,null,null,false]
[null,null,null,null,false]
[null,null,null,null,false]
[null,null,null,null,false]
[null,null,null,null,false]
[null,null,null,null,false]
[null,null,null,null,false]
[null,null,null,null,false]
[null,null,null,null,false]
[null,null,null,null,false]
[null,null,null,null,false]
[null,null,null,null,false]
[null,null,null,null,false]
[null,null,null,null,false]
[null,null,null,null,false]
[null,null,null,null,false]
[null,null,null,null,false]
[null,null,null,null,false]
[null,null,null,null,false]
[null,null,null,null,false]
[null,null,null,null,false]
[null,null,null,null,false]
[null,null,null,null,false]
[null,null,null,null,false]
[null,null,null,null,false]
[null,null,null,null,false]
[null,null,null,null,false]
[null,null,null,null,false]
[null,null,null,null,false]
[null,null,null,null,false]
[null,null,null,null,false]
[null,null,null,null,false]
[null,null,null,null,false]
[null,null,null,null,false]
[null,null,null,null,false]
[null,null,null,null,false]
[null,null,null,null,false]
[null,null,null,null,false]
[null,null,null,null,false]
[null,null,null,null,false]
[null,null,null,null,false]
[null,null,null,null,false]
[null,null,null,null,false]
[null,null,null,null,false]
[null,null,null,null,false]
[null,null,null,null,false]
[null,null,null,null,false]
[null,null,null,null,false]
[null,null,null,null,false]
[null,null,null,null,false]
[null,null,null,null,false]
[null,null,null,null,false]
[null,null,null,null,false]
[null,null,null,null,false]
[null,null,null,null,false]
[null,null,null,null,false]
[null,null,null,null,false]
[null,null,null,null,false]
[null,null,null,null,false]
[null,null,null,null,false]
[null,null,null,null,false]
[null,null,null,null,false]
[null,null,null,null,false]
[null,null,null,null,false]
[null,null,null,null,false]
[null,null,null,null,false]
[null,null,null,null,false]
[null,null,null,null,false]
[null,null,null,null,false]
[null,null,null,null,false]
[null,null,null,null,false]
[null,null,null,null,false]
[null,null,null,null,false]
[null,null,null,null,false]
[null,null,null,null,false]
[null,null,null,null,false]
[null,null,null,null,false]
[null,null,null,null,false]
[null,null,null,null,false]
[null,null,null,null,false]
[null,null,null,null,false]
[null,null,null,null,false]
[null,null,null,null,false]
[null,null,null,null,false]
[null,null,null,null,false]
[null,null,null,null,false]
[null,null,null,null,false]
[null,null,null,null,false]
[null,null,null,null,false]
[null,null,null,null,false]
[null,null,null,null,false]
[null,null,null,null,false]
[null,null,null,null,false]
[null,null,null,null,false]
[null,null,null,null,false]
[null,null,null,null,false]
[null,null,null,null,false]
[null,null,null,null,false]
[null,null,null,null,false]
[null,null,null,null,false]
[null,null,null,null,false]
[null,null,null,null,false]
[null,null,null,null,false]
[null,null,null,null,false]
[null,null,null,null,false]
[null,null,null,null,false]
[null,null,null,null,false]
[null,null,null,null,false]
[null,null,null,null,false]
[null,null,null,null,false]
[null,null,null,null,false]
[null,null,null,null,false]
[null,null,null,null,false]
[null,null,null,null,false]
[null,null,null,null,false]
[null,null,null,null,false]
[null,null,null,null,false]
[null,null,null,null,false]
[null,null,null,null,false]
[null,null,null,null,false]
[null,null,null,null,false]
[null,null,null,null,false]
[null,null,null,null,false]
[null,null,null,null,false]
[null,null,null,null,false]
[null,null,null,null,false]
[null,null,null,null,false]
[null,null,null,null,false]
[null,null,null,null,false]
[null,null,null,null,false]
[null,null,null,null,false]
[null,null,null,null,false]
[null,null,null,null,false]
[null,null,null,null,false]
[null,null,null,null,false]
[null,null,null,null,false]
[null,null,null,null,false]
[null,null,null,null,false]

{"sheet":"Entretien","index":9,"n_rows":1002,"n_cols":10,"rows_kept":1002,"cut":false,"hidden":false,"merged":[]}
["Produits\nEntretien","💶\nPrix de vente","Prix au kilo","Grandes Catégories","😋 \n J'en veux!","⚖️ \nQuantité","Quantité format formule","Quantité en format nombre","💰 \nMontant","🇫🇷 \nProvenance"]
["Abricots secs","13,90€ / kg","13,9",{"$f":"VLOOKUP(A2,Import!A:D,4,FALSE)","v":"Alimentaire Vrac"},false,0,{"$f":"IF(F2=\"100G\",0.1,IF(F2=\"250G\",0.25,IF(F2=\"500G\",0.5,IF(F2=\"1 Kilo\",1,F2))))","v":0},{"$f":"G2","v":0},{"$f":"H2*C2","v":0}]
["Ail des Ours ","135€ / kg","120",{"$f":"VLOOKUP(A3,Import!A:D,4,FALSE)","v":"Alimentaire Vrac"},false,0,0,{"$f":"G3","v":0},0]
["Ail en Granulé ","50€ / kg","50",{"$f":"VLOOKUP(A4,Import!A:D,4,FALSE)","v":"Alimentaire Vrac"},false,0,0,0,0]
["Ail en Poudre ","50€ / kg","50",{"$f":"VLOOKUP(A5,Import!A:D,4,FALSE)","v":"Alimentaire Vrac"},false,0,0,0,0]
["Amandes Blanches entières ","19,9€ / kg","19,9",{"$f":"VLOOKUP(A6,Import!A:D,4,FALSE)","v":0},false,0,0,0,0]
["Amandes Caramel Chocolat","35€ / kg","35",{"$f":"VLOOKUP(A7,Import!A:D,4,FALSE)","v":"Alimentaire Vrac"},false,0,0,0,0]
["Amandes Coco Miel ","35€ / kg","35",{"$f":"VLOOKUP(A8,Import!A:D,4,FALSE)","v":"Alimentaire Vrac"},false,0,0,0,0]
["Amandes Décortiquées entières ","19,9€ / kg","19,9",{"$f":"VLOOKUP(A9,Import!A:D,4,FALSE)","v":"Alimentaire Vrac"},false,0,0,0,0]
["Amandes Sésame Miel","35€/kg",35,{"$f":"VLOOKUP(A10,Import!A:D,4,FALSE)","v":"Alimentaire Vrac"},false,0,0,0,0]
["Amidon de maïs","5,50€ / kg","5,5",{"$f":"VLOOKUP(A11,Import!A:D,4,FALSE)","v":"Alimentaire Vrac"},false,0,0,0,0]
["Après shampoing Solide - Cheveux abimés & secs - 80g ",12.5,"12,5",{"$f":"VLOOKUP(A12,Import!A:D,4,FALSE)","v":"Produits d'hygiène coporelle"},false,0,0,0,0]
["Après shampoing Solide - Cheveux abîmés & secs - sans HE - 80g ",12.5,"12,5",{"$f":"VLOOKUP(A13,Import!A:D,4,FALSE)","v":"Produits d'hygiène coporelle"},false,0,0,0,0]
["Après shampoing Solide - démélant - Lamazuna",12.5,"12,5",{"$f":"VLOOKUP(A14,Import!A:D,4,FALSE)","v":0},false,0,0,0,0]
["Après shampoing Solide - Nourrissant & démêlant - 80g ",12.5,"12,5",{"$f":"VLOOKUP(A15,Import!A:D,4,FALSE)","v":"Produits d'hygiène coporelle"},false,0,0,0,0,{"$f":"VLOOKUP(A15,Import!A:N,13)","v":"Les Savons de Joya"}]
["Après shampoing Vrac - Huile d’argan","29,00 € / kg","29",{"$f":"VLOOKUP(A16,Import!A:D,4,FALSE)","v":"Produits d'hygiène coporelle"},false,0,0,0,0]
["Arachides décortiquées grillées nature","12€ / kg","12",{"$f":"VLOOKUP(A17,Import!A:D,4,FALSE)","v":"Alimentaire Vrac"},false,0,0,0,0]
["Accessoires - Brosse à vaisselle - Recharges","5,50 €","5,5",{"$f":"VLOOKUP(A18,Import!A:D,4,FALSE)","v":"Produits d'entretiens"},false,0,0,0,0,{"$f":"VLOOKUP(A18,Import!A:N,14)","v":"🇫🇷 France - Marseille (13)"}]
["Baies de Goji","29,90€","29,90",{"$f":"VLOOKUP(A19,Import!A:D,4,FALSE)","v":"Alimentaire Vrac"},false,0,0,0,0]
["Basilic Feuilles","27,00€ / kg","27",{"$f":"VLOOKUP(A20,Import!A:D,4,FALSE)","v":"Alimentaire Vrac"},false,0,0,0,0]
["Baume à Barbe",13.9,"13,9",{"$f":"VLOOKUP(A21,Import!A:D,4,FALSE)","v":"Produits d'hygiène coporelle"},false,0,0,0,0]
["Baume à lèvre Agrumes - Endro","7,50€","7,5",{"$f":"VLOOKUP(A22,Import!A:D,4,FALSE)","v":"Produits d'hygiène coporelle"},false,0,0,0,0]
["Baume à lèvre Fruits Rouges - Endro","7,50€","7,5",{"$f":"VLOOKUP(A23,Import!A:D,4,FALSE)","v":"Produits d'hygiène coporelle"},false,0,0,0,0]
["Baume Mini  Multi-usages Fleurs d’été - Clemence & Vivien ","5,90€","5,9",{"$f":"VLOOKUP(A24,Import!A:D,4,FALSE)","v":"Produits d'hygiène coporelle"},false,0,0,0,0]
["Baume Mini Multi-usages Lait d’amande - Clemence & Vivien ","5,90€","5,9",{"$f":"VLOOKUP(A25,Import!A:D,4,FALSE)","v":"Produits d'hygiène coporelle"},false,0,0,0,0]
["Baume Multi-usages Fleurs d’été - Clemence & Vivien ",12.5,"12,5",{"$f":"VLOOKUP(A26,Import!A:D,4,FALSE)","v":"Produits d'hygiène coporelle"},false,0,0,0,0]
["Baume Multi-usages Lait d’amande - Clemence & Vivien ",12.5,"11,9",{"$f":"VLOOKUP(A27,Import!A:D,4,FALSE)","v":"Produits d'hygiène coporelle"},false,0,0,0,0]
["Bavoir - Petit","9,50€","9,5",{"$f":"VLOOKUP(A28,Import!A:D,4,FALSE)","v":"Zéros déchets et Bocaux"},false,0,0,0,0]
["Beurre de cacahuètes - Chocolat Lait - Go Nuts - 270g","6,50€","6,50",{"$f":"VLOOKUP(A29,Import!A:D,4,FALSE)","v":"Alimentaire Conditionné"},false,0,0,0,0,{"$f":"VLOOKUP(A29,Import!A:N,13)","v":"Relais local"}]
["Beurre de cacahuètes - Chocolat Noir - Go Nuts - 500g",8.9,8.9,{"$f":"VLOOKUP(A30,Import!A:D,4,FALSE)","v":"Alimentaire Conditionné"},false,0,0,0,0]
["Beurre de cacahuètes - Go Nuts - 270g","4,95 €",4.95,{"$f":"VLOOKUP(A31,Import!A:D,4,FALSE)","v":"Alimentaire Conditionné"},false,0,0,0,0]
["Beurre de cacahuètes - Go Nuts - 500g","8,90 €","8,9",{"$f":"VLOOKUP(A32,Import!A:D,4,FALSE)","v":"Alimentaire Conditionné"},false,0,0,0,0]
["Beurre de cacahuètes Extra Crunchy - Go Nuts - 270g","4,90 €","4,9",{"$f":"VLOOKUP(A33,Import!A:D,4,FALSE)","v":"Alimentaire Conditionné"},false,0,0,0,0]
["Beurre de cacao Iris - pour le corps - Lamazuna","8,50 €","8,5",{"$f":"VLOOKUP(A34,Import!A:D,4,FALSE)","v":"Produits d'hygiène coporelle"},false,0,{"$f":"IF(F34=\"100G\",0.1,IF(F34=\"250G\",0.25,IF(F34=\"500G\",0.5,IF(F34=\"1 Kilo\",1,F34))))","v":0},0,{"$f":"H34*C34","v":0}]
["Accessoires - Brosse à vaisselle à tête rechargeable - Lamazuna","24,90 €","24,9",{"$f":"VLOOKUP(A35,Import!A:D,4,FALSE)","v":"Produits d'entretiens"},false,0,0,0,0,{"$f":"VLOOKUP(A35,Import!A:N,14)","v":"🇫🇷 France - Marseille (13)"}]
["Biere Blanche - La St Bonn’Beer - 33cl","3,00 €","3",{"$f":"VLOOKUP(A36,Import!A:D,4,FALSE)","v":"Boissons conditionnées"},false,0,0,0,0]
["Biere Blanche - La St Bonn’Beer - 75cl","6,50 €","6,5",{"$f":"VLOOKUP(A37,Import!A:D,4,FALSE)","v":"Boissons conditionnées"},false,0,0,0,0]
["Biere Blonde - La Promesse - 33cl","3,00 €","3",{"$f":"VLOOKUP(A38,Import!A:D,4,FALSE)","v":"Boissons conditionnées"},false,0,0,0,0]
["Biere Blonde - La Promesse - 75cl","6,50 €","6,5",{"$f":"VLOOKUP(A39,Import!A:D,4,FALSE)","v":"Boissons conditionnées"},false,0,0,0,0]
["Biere IPA - La Collector - 33cl","3,00 €","3",{"$f":"VLOOKUP(A40,Import!A:D,4,FALSE)","v":"Boissons conditionnées"},false,0,0,0,0]
["Biere IPA - La Collector- 75cl","6,50 €","6,5",{"$f":"VLOOKUP(A41,Import!A:D,4,FALSE)","v":"Boissons conditionnées"},false,0,0,0,0]
["Biere IPA - La Gonette - 33cl","3,00 €","3",{"$f":"VLOOKUP(A42,Import!A:D,4,FALSE)","v":"Boissons conditionnées"},false,0,0,0,0]
["Biere IPA - La Gonette - 75cl","6,50 €","6,5",{"$f":"VLOOKUP(A43,Import!A:D,4,FALSE)","v":"Boissons conditionnées"},false,0,0,0,0]
["Biscuits 1péro -Tortillas ","29€/kg","29",{"$f":"VLOOKUP(A44,Import!A:D,4,FALSE)","v":"Alimentaire Vrac"},false,0,0,0,0]
["Biscuits Apéro - Cumin & pois chiches","30,00€ / kg","30",{"$f":"VLOOKUP(A45,Import!A:D,4,FALSE)","v":"Alimentaire Vrac"},false,0,0,0,0]
["Biscuits Apéro - Gruyère","30,50€ / kg","30,5",{"$f":"VLOOKUP(A46,Import!A:D,4,FALSE)","v":"Alimentaire Vrac"},false,0,0,0,0]
["Biscuits Apéro - Noix de Cajou - Curry","34,50€ / kg",34.5,{"$f":"VLOOKUP(A47,Import!A:D,4,FALSE)","v":"Alimentaire Vrac"},false,0,0,0,0]
["Biscuits Apéro - Noix de Cajou - Herbes de Provence","34,50€ / kg",34.5,{"$f":"VLOOKUP(A48,Import!A:D,4,FALSE)","v":"Alimentaire Vrac"},false,0,0,0,0]
["Biscuits Apéro - Noix de Cajou - Parmesan","34,50€ / kg",34.5,{"$f":"VLOOKUP(A49,Import!A:D,4,FALSE)","v":"Alimentaire Vrac"},false,0,0,0,0]
["Biscuits Apéro - Noix de Cajou - Poivre de Kampot","34,50€ / kg",34.5,{"$f":"VLOOKUP(A50,Import!A:D,4,FALSE)","v":"Alimentaire Vrac"},false,0,0,0,0]
["Biscuits Apéro - Noix de Cajou - Sweet chili","34,50€ / kg",34.5,{"$f":"VLOOKUP(A51,Import!A:D,4,FALSE)","v":"Alimentaire Vrac"},false,0,0,0,0]
["Biscuits Apéro - Noix de Cajou - Tandoori","34,50€ / kg",34.5,{"$f":"VLOOKUP(A52,Import!A:D,4,FALSE)","v":"Alimentaire Vrac"},false,0,0,0,0]
["Biscuits Apéro - Oignon & Paprika","30,00€ / kg","30",{"$f":"VLOOKUP(A53,Import!A:D,4,FALSE)","v":"Alimentaire Vrac"},false,0,0,0,0]
["Biscuits Apéro - Tomate & Oignons","30,00€ / kg","30",{"$f":"VLOOKUP(A54,Import!A:D,4,FALSE)","v":"Alimentaire Vrac"},false,0,0,0,0]
["Biscuits P’tit Dej - Avoine Miel","18,00€ / kg","18",{"$f":"VLOOKUP(A55,Import!A:D,4,FALSE)","v":"Alimentaire Vrac"},false,0,0,0,0]
["Biscuits P’tit Dej - Cacao & Pépites de Chocolat","18,00€ / kg","18",{"$f":"VLOOKUP(A56,Import!A:D,4,FALSE)","v":"Alimentaire Vrac"},false,0,0,0,0]
["Biscuits salés - Moutarde à l’ancienne","30,50€ / kg","30,5",{"$f":"VLOOKUP(A57,Import!A:D,4,FALSE)","v":0},false,0,0,0,0]
["Biscuits Sucrés - Chocolat","25,00€ / kg","25",{"$f":"VLOOKUP(A58,Import!A:D,4,FALSE)","v":"Alimentaire Vrac"},false,0,0,0,0]
["Biscuits sucrés - Cookies Vegan bio","23,00€ / kg","23",{"$f":"VLOOKUP(A59,Import!A:D,4,FALSE)","v":"Alimentaire Vrac"},false,0,0,0,0]
["Biscuits Sucrés - Nature au Beurre","30,00€ / kg","30",{"$f":"VLOOKUP(A60,Import!A:D,4,FALSE)","v":"Alimentaire Vrac"},false,0,0,0,0]
["Biscuits Sucrés - Pomme au beurre ","25,00€ / kg","25",{"$f":"VLOOKUP(A61,Import!A:D,4,FALSE)","v":"Alimentaire Vrac"},false,0,0,0,0]
["Biscuits Sucrés - Sans Gluten - Choco Noisette","30,00€ / kg",30,{"$f":"VLOOKUP(A62,Import!A:D,4,FALSE)","v":"Alimentaire Vrac"},false,0,0,0,0]
["Biscuits Sucrés - Sans Gluten - Figue","30,00€ / kg",30,{"$f":"VLOOKUP(A63,Import!A:D,4,FALSE)","v":"Alimentaire Vrac"},false,0,0,0,0]
["Blanc de Blanc du Jura - Jacquier",9.5,9.5,{"$f":"VLOOKUP(A64,Import!A:D,4,FALSE)","v":"Boissons conditionnées"},false,0,0,0,0]
["Blé Pré cuit mondé","4,00€ / kg","4",{"$f":"VLOOKUP(A65,Import!A:D,4,FALSE)","v":"Alimentaire Vrac"},false,0,0,0,0]
["Bocal - Asperges vertes - 185g","4,90€","4,9",{"$f":"VLOOKUP(A66,Import!A:D,4,FALSE)","v":"Alimentaire Conditionné"},false,0,{"$f":"IF(F66=\"100G\",0.1,IF(F66=\"250G\",0.25,IF(F66=\"500G\",0.5,IF(F66=\"1 Kilo\",1,F66))))","v":0},0,{"$f":"H66*C66","v":0}]
["Bocal - Chili végétarien - 355g","4,50 €","4,5",{"$f":"VLOOKUP(A67,Import!A:D,4,FALSE)","v":"Alimentaire Conditionné"},false,0,0,{"$f":"G67","v":0},0]
["Bocal - Chili végétarien - 670g","5,95 €",5.95,{"$f":"VLOOKUP(A68,Import!A:D,4,FALSE)","v":"Alimentaire Conditionné"},false,0,0,0,0,{"$f":"VLOOKUP(A68,Import!A:N,14)","v":"🇫🇷 France "}]
["Bocal - Cocotte Indienne haricots blancs, riz complet, tofu - 360g","4,50 €","4,5",{"$f":"VLOOKUP(A69,Import!A:D,4,FALSE)","v":"Alimentaire Conditionné"},false,0,0,0,0]
["Bocal - Couscous aux 7 légumes - 1kg","6,95 €",6.95,{"$f":"VLOOKUP(A70,Import!A:D,4,FALSE)","v":"Alimentaire Conditionné"},false,0,0,0,0,{"$f":"VLOOKUP(A70,Import!A:N,14)","v":"🇫🇷 France "}]
["Bocal - Curry d’aubergines - 345g",4.5,4.5,{"$f":"VLOOKUP(A71,Import!A:D,4,FALSE)","v":"Alimentaire Conditionné"},false,0,0,0,0]
["Bocal - Curry d’aubergines - 650g",6.5,6.5,{"$f":"VLOOKUP(A72,Import!A:D,4,FALSE)","v":"Alimentaire Conditionné"},false,0,0,0,0,{"$f":"VLOOKUP(A72,Import!A:N,13)","v":"Biodis"}]
["Bocal - Curry de lentilles coco - 345g","4,50 €","4,5",{"$f":"VLOOKUP(A73,Import!A:D,4,FALSE)","v":"Alimentaire Conditionné"},false,1,1,1,4.5,{"$f":"VLOOKUP(A73,Import!A:N,13)","v":"Biodis"}]
["Bocal - Epinards en branches - 445g","6,20 €","6,2",{"$f":"VLOOKUP(A74,Import!A:D,4,FALSE)","v":"Alimentaire Conditionné"},false,0,0,0,0]
["Bocal - Flageolets Demeter - 215g","3,30€","3,3",{"$f":"VLOOKUP(A75,Import!A:D,4,FALSE)","v":"Alimentaire Conditionné"},false,0,0,0,0]
["Bocal - Haricots Coco - 690g","4,50€","45",{"$f":"VLOOKUP(A76,Import!A:D,4,FALSE)","v":"Alimentaire Conditionné"},false,0,0,0,0]
["Bocal - Haricots Rouges - 255g","3,20€","3,2",{"$f":"VLOOKUP(A77,Import!A:D,4,FALSE)","v":"Alimentaire Conditionné"},false,0,0,0,0]
["Bocal - Haricots verts extra fins - 345g","4,20€","4,2",{"$f":"VLOOKUP(A78,Import!A:D,4,FALSE)","v":"Alimentaire Conditionné"},false,0,0,0,0]
["Bocal - Korma de légumes 680g","6,50€","6,5",{"$f":"VLOOKUP(A79,Import!A:D,4,FALSE)","v":"Alimentaire Conditionné"},false,0,0,0,0]
["Bocal - Lentilles vertes aux petits légumes - 420g","4,50€","4,5",{"$f":"VLOOKUP(A80,Import!A:D,4,FALSE)","v":"Alimentaire Conditionné"},false,0,0,0,0]
["Bocal - Macédoine de légumes - 230g","2,90 €","2,9",{"$f":"VLOOKUP(A81,Import!A:D,4,FALSE)","v":"Alimentaire Conditionné"},false,0,0,0,0]
["Bocal - Mais doux - 240g","2,90€","2,9",{"$f":"VLOOKUP(A82,Import!A:D,4,FALSE)","v":"Alimentaire Conditionné"},false,0,0,0,0]
["Bocal - Moussaka vegan, Aubergines, soja, légumes - 345g","4,50 €","4,5",{"$f":"VLOOKUP(A83,Import!A:D,4,FALSE)","v":"Alimentaire Conditionné"},false,0,0,0,0]
["Bocal - Petits pois extra fins - 240g","3,50 €","3,5",{"$f":"VLOOKUP(A84,Import!A:D,4,FALSE)","v":"Alimentaire Conditionné"},false,0,0,0,0]
["Bocal - Petits pois extra fins - 445g","5,10 €","5,1",{"$f":"VLOOKUP(A85,Import!A:D,4,FALSE)","v":"Alimentaire Conditionné"},false,0,0,0,0]
["Bocal - Petits Pois très fins et carottes - 425g","5,50 €","5,5",{"$f":"VLOOKUP(A86,Import!A:D,4,FALSE)","v":"Alimentaire Conditionné"},false,0,0,0,0]
["Bocal - Pois Chiche - 230g","3,50 €","3,5",{"$f":"VLOOKUP(A87,Import!A:D,4,FALSE)","v":"Alimentaire Conditionné"},false,0,0,0,0]
["Bocal - Pois Chiches - 420g","5,00 €","5",{"$f":"VLOOKUP(A88,Import!A:D,4,FALSE)","v":"Alimentaire Conditionné"},false,0,0,0,0]
["Bocal - Préparation  tarte aux oignons 345g","4,50€","4,5",{"$f":"VLOOKUP(A89,Import!A:D,4,FALSE)","v":"Alimentaire Conditionné"},false,0,0,0,0]
["Bocal - Préparation tarte aux poireaux 345g","4,50€","4,5",{"$f":"VLOOKUP(A90,Import!A:D,4,FALSE)","v":"Alimentaire Conditionné"},false,0,0,0,0]
["Bocal - Ratatouille à la provençale - 650g","5,10€","5,1",{"$f":"VLOOKUP(A91,Import!A:D,4,FALSE)","v":"Alimentaire Conditionné"},false,0,0,0,0]
["Bocal - Risotto d’automne -350g","4,90€","4,9",{"$f":"VLOOKUP(A92,Import!A:D,4,FALSE)","v":"Alimentaire Conditionné"},false,0,0,0,0]
["Bocal - Sauce bolognaise végétale au soja - 340g","3,30€","3,3",{"$f":"VLOOKUP(A93,Import!A:D,4,FALSE)","v":"Alimentaire Conditionné"},false,0,0,0,0]
["Bocal - Sauce Vegan - 185g","3,50€","3,5",{"$f":"VLOOKUP(A94,Import!A:D,4,FALSE)","v":"Alimentaire Conditionné"},false,0,0,0,0]
["Bocal - Tikka Masala aux légumes et pois chiches - 360g","4,50€","4,5",{"$f":"VLOOKUP(A95,Import!A:D,4,FALSE)","v":"Alimentaire Conditionné"},false,0,0,0,0]
["Bocal Haricots beurre extra fins - 180g","2,90 €","2,9",{"$f":"VLOOKUP(A96,Import!A:D,4,FALSE)","v":"Alimentaire Conditionné"},false,0,0,0,0]
["Boisson végétale - Avoine","2,10 €","2,1",{"$f":"VLOOKUP(A97,Import!A:D,4,FALSE)","v":"Boissons conditionnées"},false,0,0,0,0]
["Boisson végétale - So amande Nature UHT - 1L","2,60 €","2,6",{"$f":"VLOOKUP(A98,Import!A:D,4,FALSE)","v":"Boissons conditionnées"},false,0,{"$f":"IF(F98=\"100G\",0.1,IF(F98=\"250G\",0.25,IF(F98=\"500G\",0.5,IF(F98=\"1 Kilo\",1,F98))))","v":0},0,{"$f":"H98*C98","v":0}]
["Boisson végétale - Soja Nature - 1L","2,10 €","2,1",{"$f":"VLOOKUP(A99,Import!A:D,4,FALSE)","v":"Boissons conditionnées"},false,0,0,0,0]
["Boisson végétale - Sojade UHT Calcium - 1L","2,60€","2,6",{"$f":"VLOOKUP(A100,Import!A:D,4,FALSE)","v":"Boissons conditionnées"},false,0,0,0,0]
["Bol 15x7 Gravé Cap Bambou","14,90 €","14,9",{"$f":"VLOOKUP(A101,Import!A:D,4,FALSE)","v":"Zéros déchets et Bocaux"},false,0,0,0,0]
["Bougies de Léa - Brûle Parfum","15,50 €","15,5",{"$f":"VLOOKUP(A102,Import!A:D,4,FALSE)","v":"Zéros déchets et Bocaux"},false,0,0,0,0]
["Bougies de Léa - Grandes bougies Parfumées ","18,00 €","18",{"$f":"VLOOKUP(A103,Import!A:D,4,FALSE)","v":"Zéros déchets et Bocaux"},false,0,0,0,0]
["Bougies de Léa - Petites bougies Parfumées ","11,00 €","11",{"$f":"VLOOKUP(A104,Import!A:D,4,FALSE)","v":"Zéros déchets et Bocaux"},false,0,0,0,0]
["Bougies de Léa - Suspensions parfumées","6€","6",{"$f":"VLOOKUP(A105,Import!A:D,4,FALSE)","v":"Zéros déchets et Bocaux"},false,0,0,0,0]
["Bouillon de légumes - Sans levure & huile de palme","24,00€ / kg","24",{"$f":"VLOOKUP(A106,Import!A:D,4,FALSE)","v":"Alimentaire Vrac"},false,0,0,0,0]
["Boule à Thé diamètre 50mm",3.5,3.5,{"$f":"VLOOKUP(A107,Import!A:D,4,FALSE)","v":"Zéros déchets et Bocaux"},false,0,0,0,0]
["Boulgour","3,10€ / kg","3,1",{"$f":"VLOOKUP(A108,Import!A:D,4,FALSE)","v":"Alimentaire Vrac"},false,0,0,0,0]
["Brosse à cheveux Bébé","9,50 €","9,5",{"$f":"VLOOKUP(A109,Import!A:D,4,FALSE)","v":"Produits d'hygiène coporelle"},false,0,0,0,0]
["Brosse à cheveux Démélante","14,90 €","14,9",{"$f":"VLOOKUP(A110,Import!A:D,4,FALSE)","v":"Produits d'hygiène coporelle"},false,0,0,0,0]
["Brosse à cheveux Démélante Enfants",9.5,9.5,{"$f":"VLOOKUP(A111,Import!A:D,4,FALSE)","v":"Produits d'hygiène coporelle"},false,0,0,0,0]
["Brosse à dent - Lot de 3 têtes extra souples",7.9,"7,90",{"$f":"VLOOKUP(A112,Import!A:D,4,FALSE)","v":"Produits d'hygiène coporelle"},false,0,0,0,0]
["Brosse à dent - Lot de 3 têtes medium",7.9,"7,90",{"$f":"VLOOKUP(A113,Import!A:D,4,FALSE)","v":"Produits d'hygiène coporelle"},false,0,0,0,0]
["Brosse à dent - Lot de 3 têtes souples",7.9,"7,90",{"$f":"VLOOKUP(A114,Import!A:D,4,FALSE)","v":"Produits d'hygiène coporelle"},false,0,0,0,0]
["Brosse à dent à tête rechargeable - manche bioplastic",3.5,"3,50",{"$f":"VLOOKUP(A115,Import!A:D,4,FALSE)","v":"Produits d'hygiène coporelle"},false,0,0,0,0]
["Brosse à dent à tête rechargeable - manche hêtre","8,50 €","8,5",{"$f":"VLOOKUP(A116,Import!A:D,4,FALSE)","v":0},false,0,0,0,0]
["Brosse à dents adultes","3,99 €",3.99,{"$f":"VLOOKUP(A117,Import!A:D,4,FALSE)","v":0},false,0,0,0,0]
["Accessoires - Brosse à vaisselle en bois avec manche","6,50 €","6,5",{"$f":"VLOOKUP(A118,Import!A:D,4,FALSE)","v":"Produits d'entretiens"},false,0,{"$f":"IF(F118=\"100G\",0.1,IF(F118=\"250G\",0.25,IF(F118=\"500G\",0.5,IF(F118=\"1 Kilo\",1,F118))))","v":0},0,{"$f":"H118*C118","v":0}]
["Assouplissant - Vrac","5,00€ / kg","5",{"$f":"VLOOKUP(A119,Import!A:D,4,FALSE)","v":"Produits d'entretiens"},false,0,0,0,0]
["Bicarbonate de soude - Vrac","4,90 € / kg","4,9",{"$f":"VLOOKUP(A120,Import!A:D,4,FALSE)","v":"Produits d'entretiens"},false,0,0,0,0]
["Brosses à dents enfants - Jaune","3,50 €","3,5",{"$f":"VLOOKUP(A121,Import!A:D,4,FALSE)","v":"Produits d'hygiène coporelle"},false,0,{"$f":"IF(F121=\"100G\",0.1,IF(F121=\"250G\",0.25,IF(F121=\"500G\",0.5,IF(F121=\"1 Kilo\",1,F121))))","v":0},0,{"$f":"H121*C121","v":0}]
["Brosses à dents enfants - Violet","3,50 €","3,5",{"$f":"VLOOKUP(A122,Import!A:D,4,FALSE)","v":"Produits d'hygiène coporelle"},false,0,0,0,0]
["Café - Dagosette colombie (capsule)","0,40€",0.4,{"$f":"VLOOKUP(A123,Import!A:D,4,FALSE)","v":"Boisson en vrac"},false,0,0,0,0]
["Café - Dosette Americ’ain (senseo)","0,20€ / pièce",0.2,{"$f":"VLOOKUP(A124,Import!A:D,4,FALSE)","v":"Boisson en vrac"},false,0,0,0,0]
["Café - Grains - Colombie","19,90€ / kg","19,5",{"$f":"VLOOKUP(A125,Import!A:D,4,FALSE)","v":"Boisson en vrac"},false,0,0,0,0]
["Café - Grains - Moka Djimmah ","19,90€ / kg","19,5",{"$f":"VLOOKUP(A126,Import!A:D,4,FALSE)","v":"Boisson en vrac"},false,0,0,0,0]
["Cannelle en Poudre","56,00€ / kg","56",{"$f":"VLOOKUP(A127,Import!A:D,4,FALSE)","v":"Alimentaire Vrac"},false,0,0,0,0]
["Cannelle en Tuyau","62,00€ / kg","62",{"$f":"VLOOKUP(A128,Import!A:D,4,FALSE)","v":"Alimentaire Vrac"},false,0,0,0,0]
["Lingettes démaquillantes - Lot de 5 Carrés","7,50 €","7,5",{"$f":"VLOOKUP(A129,Import!A:D,4,FALSE)","v":"Zéros déchets et Bocaux"},false,0,0,0,0]
["Céréales - Choco crisp ","9,50 € / kg","9,5",{"$f":"VLOOKUP(A130,Import!A:D,4,FALSE)","v":"Alimentaire Vrac"},false,0,0,0,0]
["Céréales - Corn Flakes ","8,50€ / kg","8,5",{"$f":"VLOOKUP(A131,Import!A:D,4,FALSE)","v":"Alimentaire Vrac"},false,0,0,{"$f":"G131","v":0},0]
["Céréales - Crosti Choco Noisettes ",11,"11",{"$f":"VLOOKUP(A132,Import!A:D,4,FALSE)","v":"Alimentaire Vrac"},false,0,0,0,0]
["Céréales - Flocons Avoine Gros ","3,50€ / kg","3,5",{"$f":"VLOOKUP(A133,Import!A:D,4,FALSE)","v":"Alimentaire Vrac"},false,0,0,0,0]
["Céréales - Flocons Avoine Petit","2,90€ / kg","2,9",{"$f":"VLOOKUP(A134,Import!A:D,4,FALSE)","v":"Alimentaire Vrac"},false,0,0,0,0]
["Céréales - Krounchy 3 chocolats","10,00€ / kg","10",{"$f":"VLOOKUP(A135,Import!A:D,4,FALSE)","v":"Alimentaire Vrac"},false,0,0,0,0]
["Céréales - Krounchy aux fruits","11,50€ / kg",11.5,{"$f":"VLOOKUP(A136,Import!A:D,4,FALSE)","v":"Alimentaire Vrac"},false,0,0,0,0]
["Céréales - Krounchy Nature","7,50€",7.5,{"$f":"VLOOKUP(A137,Import!A:D,4,FALSE)","v":"Alimentaire Vrac"},false,0,0,0,0]
["Céréales - Mops Miel","9,80€ / kg","9,8",{"$f":"VLOOKUP(A138,Import!A:D,4,FALSE)","v":"Alimentaire Vrac"},false,0,0,0,0]
["Chicorée torréfiée soluble - 200g","7,20€ / pièce","6,5",{"$f":"VLOOKUP(A139,Import!A:D,4,FALSE)","v":"Boisson en vrac"},false,0,0,0,0]
["Chips de Banane au Miel ","15,00 € / kg","15",{"$f":"VLOOKUP(A140,Import!A:D,4,FALSE)","v":"Alimentaire Vrac"},false,0,0,0,0]
["Chocolat Lait - Palets","20€/ kg","16",{"$f":"VLOOKUP(A141,Import!A:D,4,FALSE)","v":"Alimentaire Vrac"},false,0,0,0,0]
["Chocolat Lait - Pépites ","20,00 € / kg","20",{"$f":"VLOOKUP(A142,Import!A:D,4,FALSE)","v":"Alimentaire Vrac"},false,0,0,0,0]
["Chocolat Noir - Palets","18,00 € / kg","18",{"$f":"VLOOKUP(A143,Import!A:D,4,FALSE)","v":"Alimentaire Vrac"},false,0,0,0,0]
["Chocolat Noir - Pépites ","20,00 € / kg","20",{"$f":"VLOOKUP(A144,Import!A:D,4,FALSE)","v":"Alimentaire Vrac"},false,0,0,0,0]
["Chocolat Noir Poudre Instantané - Cacao et Sucre","90,00 € / kg","90",{"$f":"VLOOKUP(A145,Import!A:D,4,FALSE)","v":"Alimentaire Vrac"},false,0,0,0,0]
["Chouchou","4,50 €","4,5",{"$f":"VLOOKUP(A146,Import!A:D,4,FALSE)","v":"Zéros déchets et Bocaux"},false,0,0,0,0]
["Ciboulette Feuilles ","80,00 € / kg","80",{"$f":"VLOOKUP(A147,Import!A:D,4,FALSE)","v":"Alimentaire Vrac"},false,0,0,0,0]
["Cidre Brut 75cl","5,90 €","5,9",{"$f":"VLOOKUP(A148,Import!A:D,4,FALSE)","v":"Boissons conditionnées"},false,0,0,0,0]
["Cinq baies concassées","114,00 € / kg","114",{"$f":"VLOOKUP(A149,Import!A:D,4,FALSE)","v":"Alimentaire Vrac"},false,0,0,0,0]
["Citronnade pur jus de citron jaune - 75cl","3,50 €","3,5",{"$f":"VLOOKUP(A150,Import!A:D,4,FALSE)","v":"Boissons conditionnées"},false,0,0,0,0]
["Compote Allégée - Pomme Abricot - 660g","5 €","5,00",{"$f":"VLOOKUP(A151,Import!A:D,4,FALSE)","v":"Alimentaire Conditionné"},false,0,0,0,0]
["Compote Allégée - Pomme Chataigne - 660g","4,80 €","4,80 ",{"$f":"VLOOKUP(A152,Import!A:D,4,FALSE)","v":"Alimentaire Conditionné"},false,0,0,0,0]
["Compote Pomme - 480g - ","3,50 €","3,50",{"$f":"VLOOKUP(A153,Import!A:D,4,FALSE)","v":"Alimentaire Conditionné"},false,0,{"$f":"IF(F153=\"100G\",0.1,IF(F153=\"250G\",0.25,IF(F153=\"500G\",0.5,IF(F153=\"1 Kilo\",1,F153))))","v":0},0,{"$f":"H153*C153","v":0}]
["Compote Pomme Banane",5,"5,00",{"$f":"VLOOKUP(A154,Import!A:D,4,FALSE)","v":"Alimentaire Conditionné"},false,0,0,0,0]
["Compote Pomme Framboise - 480g ","4,50 €","4,5",{"$f":"VLOOKUP(A155,Import!A:D,4,FALSE)","v":"Alimentaire Conditionné"},false,0,0,0,0]
["Concentré de Tomate - 200g","2,30 €","2,3",{"$f":"VLOOKUP(A156,Import!A:D,4,FALSE)","v":"Alimentaire Conditionné"},false,0,0,0,0]
["Confiture Abricot - 340g ","4,90 €","4,9",{"$f":"VLOOKUP(A157,Import!A:D,4,FALSE)","v":"Alimentaire Conditionné"},false,0,0,0,0]
["Confiture de Figue 340g","4,90 €","4,9",{"$f":"VLOOKUP(A158,Import!A:D,4,FALSE)","v":"Alimentaire Conditionné"},false,0,0,0,0,{"$f":"VLOOKUP(A158,Import!A:N,13)","v":"Relais local"}]
["Confiture de Fraise - 370g ","4,90 €","4,9",{"$f":"VLOOKUP(A159,Import!A:D,4,FALSE)","v":"Alimentaire Conditionné"},false,0,0,0,0,{"$f":"VLOOKUP(A159,Import!A:N,13)","v":"Relais local"}]
["Confiture de Fruits des Bois 370g ","5,50 €","5,5",{"$f":"VLOOKUP(A160,Import!A:D,4,FALSE)","v":"Alimentaire Conditionné"},false,0,0,0,0,{"$f":"VLOOKUP(A160,Import!A:N,13)","v":"Relais local"}]
["Confiture de Myrtille - 370g ","4,90 €","4,9",{"$f":"VLOOKUP(A161,Import!A:D,4,FALSE)","v":"Alimentaire Conditionné"},false,0,0,0,0]
["Confitures d'à côté - Abricot","6€","6",{"$f":"VLOOKUP(A162,Import!A:D,4,FALSE)","v":"Alimentaire Conditionné"},false,0,0,0,0,{"$f":"VLOOKUP(A162,Import!A:N,13)","v":"Les confitures d'à côté"}]
["Confitures d'à côté - Ananas Vanille","6€","6",{"$f":"VLOOKUP(A163,Import!A:D,4,FALSE)","v":0},false,0,0,0,0]
["Confitures d'à côté - Cerise","6€","6",{"$f":"VLOOKUP(A164,Import!A:D,4,FALSE)","v":0},false,0,0,0,0]
["Confitures d'à côté - Clémentine","6€","6",{"$f":"VLOOKUP(A165,Import!A:D,4,FALSE)","v":0},false,0,0,0,0]
["Confitures d'à côté - Figue pointe de vanille","6€","6",{"$f":"VLOOKUP(A166,Import!A:D,4,FALSE)","v":"Alimentaire Conditionné"},false,0,0,0,0]
["Confitures d'à côté - Kiwi Ananas","6€","6",{"$f":"VLOOKUP(A167,Import!A:D,4,FALSE)","v":"Alimentaire Conditionné"},false,0,0,0,0]
["Confitures d'à côté - Mirabelle ","6€","6",{"$f":"VLOOKUP(A168,Import!A:D,4,FALSE)","v":0},false,0,0,0,0]
["Confitures d'à côté - Nectarine Pêche","6€","6",{"$f":"VLOOKUP(A169,Import!A:D,4,FALSE)","v":0},false,0,0,0,0]
["Confitures d'à côté - Nectarine Vanille","6€","6",{"$f":"VLOOKUP(A170,Import!A:D,4,FALSE)","v":"Alimentaire Conditionné"},false,0,0,0,0]
["Confitures d'à côté - Pêche ","6€","6",{"$f":"VLOOKUP(A171,Import!A:D,4,FALSE)","v":0},false,0,0,0,0]
["Confitures d'à côté - Poire Tonka","6€","6",{"$f":"VLOOKUP(A172,Import!A:D,4,FALSE)","v":"Alimentaire Conditionné"},false,0,0,0,0]
["Confitures d'à côté - Pomme Cannelle","6€","6",{"$f":"VLOOKUP(A173,Import!A:D,4,FALSE)","v":"Alimentaire Conditionné"},false,0,0,0,0,{"$f":"VLOOKUP(A173,Import!A:N,14)","v":"🇫🇷 France - Chatillon sur Chalaronne (01)"}]
["Confitures d'à côté - Pomme Caramel ","6€","6",{"$f":"VLOOKUP(A174,Import!A:D,4,FALSE)","v":"Alimentaire Conditionné"},false,0,0,0,0,{"$f":"VLOOKUP(A174,Import!A:N,14)","v":"🇫🇷 France - Chatillon sur Chalaronne (01)"}]
["Confitures d'à côté - Questche","6€","6",{"$f":"VLOOKUP(A175,Import!A:D,4,FALSE)","v":0},false,0,0,0,0]
["Confitures d'à côté - Tomate verte aux épices ","5€","5",{"$f":"VLOOKUP(A176,Import!A:D,4,FALSE)","v":{"$error":"#N/A"}},false,0,0,0,0,{"$f":"VLOOKUP(A176,Import!A:N,14)","v":"🇫🇷 France - Chatillon sur Chalaronne (01)"}]
["Confitures d'à côté- Mûre sauvage","6€","6",{"$f":"VLOOKUP(A177,Import!A:D,4,FALSE)","v":"Alimentaire Conditionné"},false,0,0,0,0,{"$f":"VLOOKUP(A177,Import!A:N,14)","v":"🇫🇷 France - Chatillon sur Chalaronne (01)"}]
["Cornichons au vinaigre 37cl - 185g","7,50 €","7,5",{"$f":"VLOOKUP(A178,Import!A:D,4,FALSE)","v":"Alimentaire Conditionné"},false,0,0,0,0,{"$f":"VLOOKUP(A178,Import!A:N,14)","v":"🇫🇷 France"}]
["Cotons tiges x 100","1,95 €",1.95,{"$f":"VLOOKUP(A179,Import!A:D,4,FALSE)","v":"Produits d'hygiène coporelle"},false,0,0,0,0]
["Cotons tiges x 200","3,59 €",3.59,{"$f":"VLOOKUP(A180,Import!A:D,4,FALSE)","v":"Produits d'hygiène coporelle"},false,0,0,0,0,{"$f":"VLOOKUP(A180,Import!A:N,14)","v":"🇫🇷 France - Attignat (01)"}]
["Coulis de Tomate  Nature - 680g","2,50 €","2,5",{"$f":"VLOOKUP(A181,Import!A:D,4,FALSE)","v":"Alimentaire Conditionné"},false,0,0,0,0]
["Coulis de Tomate Basilic - 680g","2,50 €","2,5",{"$f":"VLOOKUP(A182,Import!A:D,4,FALSE)","v":"Alimentaire Conditionné"},false,0,0,0,0]
["Couscous Complet ","3,50€","3,5",{"$f":"VLOOKUP(A183,Import!A:D,4,FALSE)","v":"Alimentaire Vrac"},false,0,0,0,0]
["Couteau Réutilisable en bambou","2€","2",{"$f":"VLOOKUP(A184,Import!A:D,4,FALSE)","v":"Zéros déchets et Bocaux"},false,0,0,0,0]
["Cranberries Demi séchées au sucre de Canne","17,50€ / kg","17,5",{"$f":"VLOOKUP(A185,Import!A:D,4,FALSE)","v":"Alimentaire Vrac"},false,0,{"$f":"IF(F185=\"100G\",0.1,IF(F185=\"250G\",0.25,IF(F185=\"500G\",0.5,IF(F185=\"1 Kilo\",1,F185))))","v":0},0,{"$f":"H185*C185","v":0}]
["Crème corps hydratant - Fleur de coton - Endro","15,60 €","15,6",{"$f":"VLOOKUP(A186,Import!A:D,4,FALSE)","v":"Produits d'hygiène coporelle"},false,0,0,0,0]
["Crème corps nourrissante - douceur iodée - Endro","12,90 €","12,9",{"$f":"VLOOKUP(A187,Import!A:D,4,FALSE)","v":"Produits d'hygiène coporelle"},false,0,0,0,0]
["Crème de Marron - 320g ","5,90 €","5,9",{"$f":"VLOOKUP(A188,Import!A:D,4,FALSE)","v":"Alimentaire Conditionné"},false,0,0,0,0]
["Crème solaire SPF 30 - 50ml","18,90 €","18,9",{"$f":"VLOOKUP(A189,Import!A:D,4,FALSE)","v":"Produits d'hygiène coporelle"},false,0,0,0,0]
["Crème solaire SPF 50 - 100ml","24,90 €","24,9",{"$f":"VLOOKUP(A190,Import!A:D,4,FALSE)","v":"Produits d'hygiène coporelle"},false,0,0,0,0,{"$f":"VLOOKUP(A190,Import!A:N,13)","v":"Endro"}]
["Crème solaire SPF 50 - 50ml","19,90 €","19,9",{"$f":"VLOOKUP(A191,Import!A:D,4,FALSE)","v":"Produits d'hygiène coporelle"},false,0,0,0,0,{"$f":"VLOOKUP(A191,Import!A:N,13)","v":"Endro"}]
["Crème végétale - Soya cuisine briquette - 20cl","1,95€",1.95,{"$f":"VLOOKUP(A192,Import!A:D,4,FALSE)","v":"Alimentaire Conditionné"},false,0,0,0,0]
["Crème visage - bonne mine","13,60 €","13,6",{"$f":"VLOOKUP(A193,Import!A:D,4,FALSE)","v":"Produits d'hygiène coporelle"},false,0,0,0,0]
["Crozets Sarrasin","9€ / kg","9",{"$f":"VLOOKUP(A194,Import!A:D,4,FALSE)","v":"Alimentaire Vrac"},false,0,0,0,0]
["Cuillère réutilisable en bambou","1,50 €","1,5",{"$f":"VLOOKUP(A195,Import!A:D,4,FALSE)","v":"Zéros déchets et Bocaux"},false,null,null,{"$f":"G195","v":0}]
["Cumin moulu poudre","55,00€ / kg","55",{"$f":"VLOOKUP(A196,Import!A:D,4,FALSE)","v":"Alimentaire Vrac"},false,0,{"$f":"IF(F196=\"100G\",0.1,IF(F196=\"250G\",0.25,IF(F196=\"500G\",0.5,IF(F196=\"1 Kilo\",1,F196))))","v":0},0,{"$f":"H196*C196","v":0}]
["Curcuma ","45,00€ / kg",45,{"$f":"VLOOKUP(A197,Import!A:D,4,FALSE)","v":"Alimentaire Vrac"},false,0,0,0,0]
["Cure Oreilles - Bamb’ori",2.99,2.99,{"$f":"VLOOKUP(A198,Import!A:D,4,FALSE)","v":"Produits d'hygiène coporelle"},false,0,0,0,0]
["Curry Poudre","42,00€ / kg","42",{"$f":"VLOOKUP(A199,Import!A:D,4,FALSE)","v":"Alimentaire Vrac"},false,0,0,0,0]
["Dattes Dénoyautées ","10,50€ / kg","10,5",{"$f":"VLOOKUP(A200,Import!A:D,4,FALSE)","v":"Alimentaire Vrac"},false,0,0,0,0]
["Dentifrice bio à croquer Menthe Fraîche","180,00€ / kg","180",{"$f":"VLOOKUP(A201,Import!A:D,4,FALSE)","v":"Produits d'hygiène coporelle"},false,0,0,0,0]
["Dentifrice Naturel - Fruits Rouges - Endro","10,60€","10,6",{"$f":"VLOOKUP(A202,Import!A:D,4,FALSE)","v":"Produits d'hygiène coporelle"},false,0,0,0,0]
["Dentifrice Naturel - Menthe Givrée - Endro","10,60€","10,6",{"$f":"VLOOKUP(A203,Import!A:D,4,FALSE)","v":"Produits d'hygiène coporelle"},false,0,0,0,0]
["Dentifrice Naturel - Zeste Citronné - Endro","10,60€","10,6",{"$f":"VLOOKUP(A204,Import!A:D,4,FALSE)","v":"Produits d'hygiène coporelle"},false,0,0,0,0]
["Dentifrice solide - Charbon - Recharge - Savon de Joya","8,90€","8,9",{"$f":"VLOOKUP(A205,Import!A:D,4,FALSE)","v":"Produits d'hygiène coporelle"},false,0,0,0,0]
["Dentifrice solide - Charbon - Savon de Joya","10,60€","10,6",{"$f":"VLOOKUP(A206,Import!A:D,4,FALSE)","v":"Produits d'hygiène coporelle"},false,0,0,0,0]
["Dentifrice solide - Citron & Romarin - Recharge - - Savon de Joya","8,90€","8,9",{"$f":"VLOOKUP(A207,Import!A:D,4,FALSE)","v":"Produits d'hygiène coporelle"},false,0,0,0,0,{"$f":"VLOOKUP(A207,Import!A:N,14)","v":"🇫🇷 France - Douvres-la-Délivrande (14)"}]
["Dentifrice solide - Citron & Romarin Savon de Joya","10,60€","10,6",{"$f":"VLOOKUP(A208,Import!A:D,4,FALSE)","v":"Produits d'hygiène coporelle"},false,0,0,0,0,{"$f":"VLOOKUP(A208,Import!A:N,14)","v":"🇫🇷 France - Douvres-la-Délivrande (14)"}]
["Dentifrice solide - Framboise - - Savon de Joya","10,60€","10,6",{"$f":"VLOOKUP(A209,Import!A:D,4,FALSE)","v":"Produits d'hygiène coporelle"},false,0,0,0,0]
["Dentifrice solide - Framboise - Recharge ","8,90€","8,9",{"$f":"VLOOKUP(A210,Import!A:D,4,FALSE)","v":"Produits d'hygiène coporelle"},false,0,0,0,0]
["Dentifrice solide - Menthe - - Savon de Joya","10,60€","10,6",{"$f":"VLOOKUP(A211,Import!A:D,4,FALSE)","v":"Produits d'hygiène coporelle"},false,0,0,0,0]
["Dentifrice solide - Menthe - Recharge - - Savon de Joya","8,90€","8,9",{"$f":"VLOOKUP(A212,Import!A:D,4,FALSE)","v":"Produits d'hygiène coporelle"},false,0,0,0,0]
["Déodorant - Clémence & Vivien - Le Fleuri",8.5,"7,9",{"$f":"VLOOKUP(A213,Import!A:D,4,FALSE)","v":"Produits d'hygiène coporelle"},false,0,0,0,0]
["Déodorant - Clémence & Vivien - Le Poudré",8.5,"7,9",{"$f":"VLOOKUP(A214,Import!A:D,4,FALSE)","v":"Produits d'hygiène coporelle"},false,0,0,0,0]
["Déodorant - Clémence & Vivien - Le Sucré",8.5,"7,9",{"$f":"VLOOKUP(A215,Import!A:D,4,FALSE)","v":"Produits d'hygiène coporelle"},false,0,0,0,0]
["Déodorant - Clémence & Vivien - Sensible Mandarinne",8.5,"7,9",{"$f":"VLOOKUP(A216,Import!A:D,4,FALSE)","v":"Produits d'hygiène coporelle"},false,0,0,0,0]
["Déodorant - Clémence & Vivien - Sensible Vanille",8.5,"7,9",{"$f":"VLOOKUP(A217,Import!A:D,4,FALSE)","v":"Produits d'hygiène coporelle"},false,0,0,0,0]
["Déodorant - Clémence & Vivien- L’Herbacé",8.5,"7,9",{"$f":"VLOOKUP(A218,Import!A:D,4,FALSE)","v":"Produits d'hygiène coporelle"},false,0,0,0,0]
["Déodorant - Endro - Bergamote / Arbre à thé","9,80€","9,8",{"$f":"VLOOKUP(A219,Import!A:D,4,FALSE)","v":"Produits d'hygiène coporelle"},false,0,0,0,0]
["Déodorant - Endro - Coco","9,80€","9,8",{"$f":"VLOOKUP(A220,Import!A:D,4,FALSE)","v":"Produits d'hygiène coporelle"},false,0,0,0,0]
["Déodorant - Endro - Menthe Poivrée / Cèdre","9,80€","9,8",{"$f":"VLOOKUP(A221,Import!A:D,4,FALSE)","v":"Produits d'hygiène coporelle"},false,0,0,0,0]
["Déodorant - Endro - Palmarosa / Géranium","9,80€","9,8",{"$f":"VLOOKUP(A222,Import!A:D,4,FALSE)","v":"Produits d'hygiène coporelle"},false,0,0,0,0]
["Déodorant - Endro - Peaux sensilbles","9,80€","9,8",{"$f":"VLOOKUP(A223,Import!A:D,4,FALSE)","v":"Produits d'hygiène coporelle"},false,0,0,0,0]
["Déodorant - Savon de Joya - Recharge Stick - Cèdre Vétiver - 75g","8,90 €","8,9",{"$f":"VLOOKUP(A224,Import!A:D,4,FALSE)","v":"Produits d'hygiène coporelle"},false,0,0,0,0]
["Déodorant - Savon de Joya - Recharge Stick - Citron & Mandarine - 75g","8,90 €","8,9",{"$f":"VLOOKUP(A225,Import!A:D,4,FALSE)","v":"Produits d'hygiène coporelle"},false,0,0,0,0]
["Déodorant - Savon de Joya - Recharge Stick - Rose, 0 bicarbonate - 75g","8,90 €","8,9",{"$f":"VLOOKUP(A226,Import!A:D,4,FALSE)","v":"Produits d'hygiène coporelle"},false,0,0,0,0]
["Déodorant - Savon de Joya - Recharge Stick Mini  - Cèdre Vétivier - 25g","7,90 €","7,9",{"$f":"VLOOKUP(A227,Import!A:D,4,FALSE)","v":"Produits d'hygiène coporelle"},false,0,0,0,0]
["Déodorant - Savon de Joya - Recharge Stick Mini  - Citron & Mandarine 25g","7,90 €","7,9",{"$f":"VLOOKUP(A228,Import!A:D,4,FALSE)","v":"Produits d'hygiène coporelle"},false,0,0,0,0]
["Déodorant Stick - Savon de Joya - Cèdre Vétiver - 75g","12,50 €","12,5",{"$f":"VLOOKUP(A229,Import!A:D,4,FALSE)","v":"Produits d'hygiène coporelle"},false,0,0,0,0]
["Déodorant Stick - Savon de Joya - Citron & Mandarine - 75g","12,50 €","12,5",{"$f":"VLOOKUP(A230,Import!A:D,4,FALSE)","v":"Produits d'hygiène coporelle"},false,0,0,0,0]
["Déodorant Stick - Savon de Joya - Rose, 0 bicarbonate - 75g","12,50 €","12,5",{"$f":"VLOOKUP(A231,Import!A:D,4,FALSE)","v":"Produits d'hygiène coporelle"},false,0,0,0,0]
["Déodorant Stick Mini  - Savon de Joya -  Rose, 0 bicarbonate - 25g","7,90 €","7,9",{"$f":"VLOOKUP(A232,Import!A:D,4,FALSE)","v":"Produits d'hygiène coporelle"},false,0,0,0,0]
["Déodorant Stick Mini - Savon de Joya - Cèdre Vétiver - 25g","7,90 €","7,9",{"$f":"VLOOKUP(A233,Import!A:D,4,FALSE)","v":"Produits d'hygiène coporelle"},false,0,0,0,0]
["Déodorant Stick Mini - Savon de Joya - Citron & Mandarine - 25g","5,20 €","5,2",{"$f":"VLOOKUP(A234,Import!A:D,4,FALSE)","v":"Produits d'hygiène coporelle"},false,0,0,0,0]
["Cube de Savon de Marseille - Fer à cheval - 300g",4,4,{"$f":"VLOOKUP(A235,Import!A:D,4,FALSE)","v":"Produits d'entretiens"},false,0,{"$f":"IF(F235=\"100G\",0.1,IF(F235=\"250G\",0.25,IF(F235=\"500G\",0.5,IF(F235=\"1 Kilo\",1,F235))))","v":0},0,{"$f":"H235*C235","v":0}]
["Désinfectant sans rinçage - Vrac","12,50 €","12,50",{"$f":"VLOOKUP(A236,Import!A:D,4,FALSE)","v":"Produits d'entretiens"},false,0,0,0,0]
["Détachant - Vrac",9.9,9.9,{"$f":"VLOOKUP(A237,Import!A:D,4,FALSE)","v":"Produits d'entretiens"},false,0,0,0,0]
["Emballage 1L Plat + Bouchon ","2 €","2",{"$f":"VLOOKUP(A238,Import!A:D,4,FALSE)","v":"Produits d'entretiens"},false,0,0,0,0]
["Emballage 3L + Bouchon","4 €","4",{"$f":"VLOOKUP(A239,Import!A:D,4,FALSE)","v":"Produits d'entretiens"},false,0,0,0,0]
["Emballage WC 750ml + Bouchon","2,50 €","2,5",{"$f":"VLOOKUP(A240,Import!A:D,4,FALSE)","v":"Produits d'entretiens"},false,0,0,0,0]
["Essuie-tout - Lot de 5 Multicolore","10,00 €","10",{"$f":"VLOOKUP(A241,Import!A:D,4,FALSE)","v":"Zéros déchets et Bocaux"},false,0,{"$f":"IF(F241=\"100G\",0.1,IF(F241=\"250G\",0.25,IF(F241=\"500G\",0.5,IF(F241=\"1 Kilo\",1,F241))))","v":0},0,{"$f":"H241*C241","v":0}]
["Farine de blé - T110","2,10€ / kg","2",{"$f":"VLOOKUP(A242,Import!A:D,4,FALSE)","v":"Alimentaire Vrac"},false,0,0,0,0]
["Farine de blé - T55 ","2,10€ / kg","2,1",{"$f":"VLOOKUP(A243,Import!A:D,4,FALSE)","v":"Alimentaire Vrac"},false,0,0,0,0]
["Farine de blé - T65 ","2,10€ / kg","2",{"$f":"VLOOKUP(A244,Import!A:D,4,FALSE)","v":"Alimentaire Vrac"},false,0,0,0,0]
["Farine de Maïs ","2,95€ / kg",2.95,{"$f":"VLOOKUP(A245,Import!A:D,4,FALSE)","v":"Alimentaire Vrac"},false,0,0,0,0]
["Farine de Maïs - Paquet 500g",1.7,1.7,{"$f":"VLOOKUP(A246,Import!A:D,4,FALSE)","v":"Alimentaire Conditionné"},false,0,0,0,0]
["Farine de Petit épeautre ","6,00€ / kg","6",{"$f":"VLOOKUP(A247,Import!A:D,4,FALSE)","v":"Alimentaire Vrac"},false,0,0,0,0]
["Farine de Pois chiches ","5,40€ / kg","5,4",{"$f":"VLOOKUP(A248,Import!A:D,4,FALSE)","v":"Alimentaire Vrac"},false,0,0,0,0]
["Farine de Pos chiches - paquet 500g","2.70","2,70",{"$f":"VLOOKUP(A249,Import!A:D,4,FALSE)","v":"Alimentaire Conditionné"},false,0,0,0,0,{"$f":"VLOOKUP(A249,Import!A:N,13)","v":0}]
["Fécule de Pomme de Terre ","4,90€ / kg","4,9",{"$f":"VLOOKUP(A250,Import!A:D,4,FALSE)","v":"Alimentaire Vrac"},false,0,0,0,0,{"$f":"VLOOKUP(A250,Import!A:N,13)","v":"Actibio"}]
["Figues Entières ","12,00€ / kg","12",{"$f":"VLOOKUP(A251,Import!A:D,4,FALSE)","v":"Alimentaire Vrac"},false,0,0,0,0]
["Filet à fruits et légumes - Taille L","8,50€","8,5",{"$f":"VLOOKUP(A252,Import!A:D,4,FALSE)","v":"Zéros déchets et Bocaux"},false,0,0,0,0]
["Filet à fruits et légumes - Taille M","9,50€","9,5",{"$f":"VLOOKUP(A253,Import!A:D,4,FALSE)","v":"Zéros déchets et Bocaux"},false,0,0,0,0,{"$f":"VLOOKUP(A253,Import!A:N,13)","v":"Alterosac"}]
["Filtre à café","4,50€","4,5",{"$f":"VLOOKUP(A254,Import!A:D,4,FALSE)","v":"Zéros déchets et Bocaux"},false,0,0,0,0]
["Filtre à Infusion ","4,50€","4,5",{"$f":"VLOOKUP(A255,Import!A:D,4,FALSE)","v":"Zéros déchets et Bocaux"},false,0,0,0,0]
["Filtre à thé ","4,00€","4",{"$f":"VLOOKUP(A256,Import!A:D,4,FALSE)","v":"Zéros déchets et Bocaux"},false,0,0,0,0]
["Filtre à théière inox forme théière","5,50€","5,5",{"$f":"VLOOKUP(A257,Import!A:D,4,FALSE)","v":"Zéros déchets et Bocaux"},false,0,0,0,0]
["Flageolets","6,50€ / kg","6,5",{"$f":"VLOOKUP(A258,Import!A:D,4,FALSE)","v":"Alimentaire Vrac"},false,0,0,0,0]
["Bougies de Léa - Fondants Parfumés","3,50€","3,5",{"$f":"VLOOKUP(A259,Import!A:D,4,FALSE)","v":"Zéros déchets et Bocaux"},false,0,0,{"$f":"G259","v":0},0]
["Fourchette réutilisable","2,00€","2",{"$f":"VLOOKUP(A260,Import!A:D,4,FALSE)","v":"Zéros déchets et Bocaux"},false,0,0,0,0]
["Furoshikis - Taille M","6,50€","6,5",{"$f":"VLOOKUP(A261,Import!A:D,4,FALSE)","v":"Zéros déchets et Bocaux"},false,0,0,0,0]
["Furoshikis - Taille S","5,00€","5",{"$f":"VLOOKUP(A262,Import!A:D,4,FALSE)","v":"Zéros déchets et Bocaux"},false,0,0,0,0]
["Fusilli Riz Quinoa ","12,00€ / kg","12",{"$f":"VLOOKUP(A263,Import!A:D,4,FALSE)","v":"Alimentaire Vrac"},false,0,0,0,0]
["Gamme anti âge - Contour des yeux - Endro ",9.9,9.9,{"$f":"VLOOKUP(A264,Import!A:D,4,FALSE)","v":"Produits d'hygiène coporelle"},false,0,0,0,0,{"$f":"VLOOKUP(A264,Import!A:N,14)","v":0}]
["Gamme anti âge - Crème - Endro ",19.899999999999999,19.899999999999999,{"$f":"VLOOKUP(A265,Import!A:D,4,FALSE)","v":"Produits d'hygiène coporelle"},false,0,0,0,0,{"$f":"VLOOKUP(A265,Import!A:N,14)","v":0}]
["Gamme anti âge - Sérum- Endro ",24.9,24.9,{"$f":"VLOOKUP(A266,Import!A:D,4,FALSE)","v":"Produits d'hygiène coporelle"},false,0,0,0,0]
["Gant de toilette","5,50€","5,5",{"$f":"VLOOKUP(A267,Import!A:D,4,FALSE)","v":"Zéros déchets et Bocaux"},false,0,0,0,0]
["Essuie tout blanc, 100% recyclés, 200f x 12","2 €","2",{"$f":"VLOOKUP(A268,Import!A:D,4,FALSE)","v":"Produits d'entretiens"},false,0,{"$f":"IF(F268=\"100G\",0.1,IF(F268=\"250G\",0.25,IF(F268=\"500G\",0.5,IF(F268=\"1 Kilo\",1,F268))))","v":0},0,{"$f":"H268*C268","v":0},{"$f":"VLOOKUP(A268,Import!A:N,14)","v":"🇫🇷 France"}]
["Gel douche vrac - Karité verveine","8,30€ / kg","8,3",{"$f":"VLOOKUP(A269,Import!A:D,4,FALSE)","v":"Produits d'entretiens"},false,0,0,0,0]
["Gingembre Confit irréguliers ","14,50€ / kg","14,5",{"$f":"VLOOKUP(A270,Import!A:D,4,FALSE)","v":"Alimentaire Vrac"},false,0,{"$f":"IF(F270=\"100G\",0.1,IF(F270=\"250G\",0.25,IF(F270=\"500G\",0.5,IF(F270=\"1 Kilo\",1,F270))))","v":0},0,{"$f":"H270*C270","v":0}]
["Gingembre en Poudre ","50,00€ / kg","50",{"$f":"VLOOKUP(A271,Import!A:D,4,FALSE)","v":"Alimentaire Vrac"},false,0,0,0,0]
["Gommage visage Douce Aloe","14,90€","14,9",{"$f":"VLOOKUP(A272,Import!A:D,4,FALSE)","v":"Produits d'hygiène coporelle"},false,0,0,0,0]
["Goupillon pour laver les pailles","1,15€",1.1499999999999999,{"$f":"VLOOKUP(A273,Import!A:D,4,FALSE)","v":"Zéros déchets et Bocaux"},false,0,0,0,0]
["Graines de Chia ","50€ / kg","5",{"$f":"VLOOKUP(A274,Import!A:D,4,FALSE)","v":"Alimentaire Vrac"},false,0,0,0,0]
["Graines de Courges Foncées ","18,50€ / kg","18,5",{"$f":"VLOOKUP(A275,Import!A:D,4,FALSE)","v":"Alimentaire Vrac"},false,0,0,0,0]
["Graines de Lin Brun ","6,20€ / kg","6,2",{"$f":"VLOOKUP(A276,Import!A:D,4,FALSE)","v":"Alimentaire Vrac"},false,0,0,0,0]
["Graines de Pavot","135€ / kg","135",{"$f":"VLOOKUP(A277,Import!A:D,4,FALSE)","v":"Alimentaire Vrac"},false,0,0,0,0]
["Graines de Sésame ","30€ / kg","30",{"$f":"VLOOKUP(A278,Import!A:D,4,FALSE)","v":"Alimentaire Vrac"},false,0,0,0,0]
["Haricots Blancs ","6,00€ / kg","6",{"$f":"VLOOKUP(A279,Import!A:D,4,FALSE)","v":"Alimentaire Vrac"},false,0,0,0,0]
["Haricots Noirs","7,50€ / kg","7,5",{"$f":"VLOOKUP(A280,Import!A:D,4,FALSE)","v":"Alimentaire Vrac"},false,0,0,0,0]
["Haricots Rouges ","7,50€ /kg","7,5",{"$f":"VLOOKUP(A281,Import!A:D,4,FALSE)","v":"Alimentaire Vrac"},false,0,0,0,0]
["Herbes de provence ","54,00€ / kg","54",{"$f":"VLOOKUP(A282,Import!A:D,4,FALSE)","v":"Alimentaire Vrac"},false,0,0,0,0]
["Huile d’Olive extra vierge ","9€ / kg",9,{"$f":"VLOOKUP(A283,Import!A:D,4,FALSE)","v":"Alimentaire Vrac"},false,0,0,0,0]
["Huile d’olive Luce - 1L",10.9,"9,5",{"$f":"VLOOKUP(A284,Import!A:D,4,FALSE)","v":"Alimentaire Conditionné"},false,0,0,0,0]
["Huile de Cameline - 25cl","10,50€","10,5",{"$f":"VLOOKUP(A285,Import!A:D,4,FALSE)","v":"Alimentaire Conditionné"},false,0,0,0,0]
["Huile de Chanvre - 25cl","11,50€","11,5",{"$f":"VLOOKUP(A286,Import!A:D,4,FALSE)","v":"Alimentaire Conditionné"},false,0,0,0,0]
["Huile de Coco vierge","12,00€ / kg","12",{"$f":"VLOOKUP(A287,Import!A:D,4,FALSE)","v":"Alimentaire Vrac"},false,0,0,0,0]
["Huile de Colza - 1L","14,00€","14",{"$f":"VLOOKUP(A288,Import!A:D,4,FALSE)","v":"Alimentaire Conditionné"},false,0,0,0,0]
["Huile de Colza - 50cl","7,00€","7",{"$f":"VLOOKUP(A289,Import!A:D,4,FALSE)","v":"Alimentaire Conditionné"},false,0,0,0,0]
["Huile de Colza - en vrac ","11,00€","11",{"$f":"VLOOKUP(A290,Import!A:D,4,FALSE)","v":"Alimentaire Vrac"},false,0,0,0,0]
["Huile de Lin - 25cl ","7,50€","7,5",{"$f":"VLOOKUP(A291,Import!A:D,4,FALSE)","v":"Alimentaire Conditionné"},false,0,0,0,0]
["Huile de soin Antixiodante - Clemence & Vivien ","11,90€","11,9",{"$f":"VLOOKUP(A292,Import!A:D,4,FALSE)","v":"Produits d'hygiène coporelle"},false,0,0,0,0]
["Huile de soin Peaux Mixtes - Clemence & Vivien ","11,90€","11,9",{"$f":"VLOOKUP(A293,Import!A:D,4,FALSE)","v":"Produits d'hygiène coporelle"},false,0,0,0,0]
["Huile de soin Peaux Sèches - Clemence & Vivien ","11,90€","11,9",{"$f":"VLOOKUP(A294,Import!A:D,4,FALSE)","v":"Produits d'hygiène coporelle"},false,0,0,0,0]
["Huile de Tournesol - 1L","12,00€","12",{"$f":"VLOOKUP(A295,Import!A:D,4,FALSE)","v":"Alimentaire Conditionné"},false,0,0,0,0]
["Huile de Tournesol - 50cl","6,00€","6",{"$f":"VLOOKUP(A296,Import!A:D,4,FALSE)","v":"Alimentaire Conditionné"},false,0,0,0,0]
["Huile de Tournesol - en vrac ","7,90€ / kg","7,9",{"$f":"VLOOKUP(A297,Import!A:D,4,FALSE)","v":"Alimentaire Vrac"},false,0,0,0,0]
["Huile démaquillante toute douce Amande - Clemence & Vivien ","11,90€","11,9",{"$f":"VLOOKUP(A298,Import!A:D,4,FALSE)","v":"Produits d'hygiène coporelle"},false,0,0,0,0]
["Huile démaquillante toute douce Rose-Muguet - Clemence & Vivien ","11,90€","11,9",{"$f":"VLOOKUP(A299,Import!A:D,4,FALSE)","v":"Produits d'hygiène coporelle"},false,0,0,0,0]
["Huile Sèche 3 en 1 - Endro","19,90€","19,9",{"$f":"VLOOKUP(A300,Import!A:D,4,FALSE)","v":"Produits d'hygiène coporelle"},false,0,0,0,0]
["Jus d’orange du Maroc - 75cl","4€","4",{"$f":"VLOOKUP(A301,Import!A:D,4,FALSE)","v":"Boissons conditionnées"},false,0,0,0,0]
["Jus de citron Sicile - 1L","5,90€","5,9",{"$f":"VLOOKUP(A302,Import!A:D,4,FALSE)","v":"Boissons conditionnées"},false,0,{"$f":"IF(F302=\"100G\",0.1,IF(F302=\"250G\",0.25,IF(F302=\"500G\",0.5,IF(F302=\"1 Kilo\",1,F302))))","v":0},0,{"$f":"H302*C302","v":0}]
["Jus de citron Sicile - 50cl","3,50€","3,5",{"$f":"VLOOKUP(A303,Import!A:D,4,FALSE)","v":"Boissons conditionnées"},false,0,0,0,0]
["Jus de Pamplemousse rose Demeter - 75cl","4,50€","4,5",{"$f":"VLOOKUP(A304,Import!A:D,4,FALSE)","v":"Boissons conditionnées"},false,0,0,0,0,{"$f":"VLOOKUP(A304,Import!A:N,14)","v":"🇫🇷 France "}]
["Jus de Pomme 1L ","4,50€","4,5",{"$f":"VLOOKUP(A305,Import!A:D,4,FALSE)","v":"Boissons conditionnées"},false,0,0,0,0]
["Jus de Pomme Cassis - 75cl","4€","4",{"$f":"VLOOKUP(A306,Import!A:D,4,FALSE)","v":"Boissons conditionnées"},false,0,0,0,0]
["Jus de Raisin 1L","4,50€","4,5",{"$f":"VLOOKUP(A307,Import!A:D,4,FALSE)","v":"Boissons conditionnées"},false,0,0,0,0]
["Jus Pomme Cassis 1L ","4,50€","4,5",{"$f":"VLOOKUP(A308,Import!A:D,4,FALSE)","v":"Boissons conditionnées"},false,0,0,0,0]
["Jus Pomme Framboise - 1L","4,90€","4,9",{"$f":"VLOOKUP(A309,Import!A:D,4,FALSE)","v":"Boissons conditionnées"},false,0,0,0,0]
["Ketchup bouteille - 500g","3,50€","3,5",{"$f":"VLOOKUP(A310,Import!A:D,4,FALSE)","v":"Alimentaire Conditionné"},false,0,0,0,0]
["Kombucha - Citron Gingembre - 33cl","4,50€","4,5",{"$f":"VLOOKUP(A311,Import!A:D,4,FALSE)","v":"Boissons conditionnées"},false,0,0,0,0]
["Kombucha - Menthe - 33cl","4,50€","4,5",{"$f":"VLOOKUP(A312,Import!A:D,4,FALSE)","v":"Boissons conditionnées"},false,0,0,0,0]
["Kombucha - Nature - 33cl","4,50€","4,5",{"$f":"VLOOKUP(A313,Import!A:D,4,FALSE)","v":"Boissons conditionnées"},false,0,0,0,0]
["Lait après-soleil - 100ml","14,90€","14,9",{"$f":"VLOOKUP(A314,Import!A:D,4,FALSE)","v":"Produits d'hygiène coporelle"},false,0,0,0,0,{"$f":"VLOOKUP(A314,Import!A:N,13)","v":"Endro"}]
["Lait après-soleil - 50ml","9,90€","9,9",{"$f":"VLOOKUP(A315,Import!A:D,4,FALSE)","v":"Produits d'hygiène coporelle"},false,0,0,0,0]
["Lait corps au beurre de Karité Vrac","31,00€","31",{"$f":"VLOOKUP(A316,Import!A:D,4,FALSE)","v":"Produits d'hygiène coporelle"},false,0,0,0,0]
["Lait UHT 1/2 écrémé - 1L","1,50€","1,5",{"$f":"VLOOKUP(A317,Import!A:D,4,FALSE)","v":"Boissons conditionnées"},false,0,0,0,0]
["Lait UHT entier - 1L","1,95€",1.95,{"$f":"VLOOKUP(A318,Import!A:D,4,FALSE)","v":"Boissons conditionnées"},false,0,0,0,0]
["Lentilles Corail"," 8,50€ / kg","8,5",{"$f":"VLOOKUP(A319,Import!A:D,4,FALSE)","v":"Alimentaire Vrac"},false,0,0,0,0]
["Gel WC - Vrac","5,90€ / kg","5,9",{"$f":"VLOOKUP(A320,Import!A:D,4,FALSE)","v":"Produits d'entretiens"},false,0,{"$f":"IF(F320=\"100G\",0.1,IF(F320=\"250G\",0.25,IF(F320=\"500G\",0.5,IF(F320=\"1 Kilo\",1,F320))))","v":0},0,{"$f":"H320*C320","v":0}]
["Lessive Fleur à Savon ","4,35€ / kg",4.3499999999999996,{"$f":"VLOOKUP(A321,Import!A:D,4,FALSE)","v":"Produits d'entretiens"},false,0,0,0,0]
["Levure Paillettes Maltées","9,50€ / kg","9,5",{"$f":"VLOOKUP(A322,Import!A:D,4,FALSE)","v":"Alimentaire Vrac"},false,0,{"$f":"IF(F322=\"100G\",0.1,IF(F322=\"250G\",0.25,IF(F322=\"500G\",0.5,IF(F322=\"1 Kilo\",1,F322))))","v":0},0,{"$f":"H322*C322","v":0}]
["Limonade Bulles d’orange - 25cl","3,00 €","3",{"$f":"VLOOKUP(A323,Import!A:D,4,FALSE)","v":"Boissons conditionnées"},false,0,0,{"$f":"G323","v":0},{"$f":"H323*C323","v":0}]
["Limonade Sucre de Canne 1L","4€","4",{"$f":"VLOOKUP(A324,Import!A:D,4,FALSE)","v":"Boissons conditionnées"},false,0,0,0,{"$f":"H324*C324","v":0}]
["Lessive Hypoallergénique","5,90€ / kg","5,9",{"$f":"VLOOKUP(A325,Import!A:D,4,FALSE)","v":"Produits d'entretiens"},false,0,0,0,{"$f":"H325*C325","v":0}]
["Maïs Popcorn ","4,50€ / kg","4,5",{"$f":"VLOOKUP(A326,Import!A:D,4,FALSE)","v":"Alimentaire Vrac"},false,0,0,0,{"$f":"H326*C326","v":0}]
["Mangues séchées","27,50€ / kg","27,5",{"$f":"VLOOKUP(A327,Import!A:D,4,FALSE)","v":"Alimentaire Vrac"},false,0,0,0,0]
["Masque Visage Purifiant - Endro","24,90 €","24,9",{"$f":"VLOOKUP(A328,Import!A:D,4,FALSE)","v":"Produits d'hygiène coporelle"},false,0,0,0,0]
["Maté Nature - Vrac","45€ / kg","45",{"$f":"VLOOKUP(A329,Import!A:D,4,FALSE)","v":"Boisson en Vrac"},false,0,0,0,0]
["Mayonnaise dijonnaise - 185g","3,50 €","3,5",{"$f":"VLOOKUP(A330,Import!A:D,4,FALSE)","v":"Alimentaire Conditionné"},false,0,0,0,0]
["Mayonnaise nature - 325g","5€","5",{"$f":"VLOOKUP(A331,Import!A:D,4,FALSE)","v":"Alimentaire Conditionné"},false,0,0,0,0,{"$f":"VLOOKUP(A331,Import!A:N,14)","v":"🇫🇷 France - Isère (38)"}]
["Mélange Détox","20,50 € / kg","20,5",{"$f":"VLOOKUP(A332,Import!A:D,4,FALSE)","v":"Alimentaire Vrac"},false,0,0,0,0]
["Mélange Energie","18,50 € /kg","18,5",{"$f":"VLOOKUP(A333,Import!A:D,4,FALSE)","v":"Alimentaire Vrac"},false,0,0,0,0]
["Mélange Exotique","18,50 € / kg","18,5",{"$f":"VLOOKUP(A334,Import!A:D,4,FALSE)","v":"Alimentaire Vrac"},false,0,0,0,0]
["Mélange Rando ","18,50 € / kg","18,5",{"$f":"VLOOKUP(A335,Import!A:D,4,FALSE)","v":"Alimentaire Vrac"},false,0,0,0,0]
["Mélange Salade","15,50€/kg","15,5",{"$f":"VLOOKUP(A336,Import!A:D,4,FALSE)","v":"Alimentaire Vrac"},false,0,0,0,0]
["Miel d’Acacia - 250g","6,90 €","6,9",{"$f":"VLOOKUP(A337,Import!A:D,4,FALSE)","v":"Alimentaire Conditionné"},false,0,0,0,0]
["Miel d’Acacia - 500g","12,50 €","12,5",{"$f":"VLOOKUP(A338,Import!A:D,4,FALSE)","v":"Alimentaire Conditionné"},false,0,0,0,0]
["Miel de Lavande - 250g","8,50 €","8,5",{"$f":"VLOOKUP(A339,Import!A:D,4,FALSE)","v":"Alimentaire Conditionné"},false,0,0,0,0]
["Miel de Lavande - 500g","14,90 €","14,9",{"$f":"VLOOKUP(A340,Import!A:D,4,FALSE)","v":"Alimentaire Conditionné"},false,0,0,0,0]
["Miel de Printemps - 250g","6,90 €","6,9",{"$f":"VLOOKUP(A341,Import!A:D,4,FALSE)","v":"Alimentaire Conditionné"},false,0,0,0,0]
["Miel de Printemps - 500g","12€","12",{"$f":"VLOOKUP(A342,Import!A:D,4,FALSE)","v":"Alimentaire Conditionné"},false,0,0,0,0]
["Miel de Sapin - 250g","8,50 €","8,5",{"$f":"VLOOKUP(A343,Import!A:D,4,FALSE)","v":"Alimentaire Conditionné"},false,0,0,0,0]
["Miel de Sapin - 500g","15,00 €","15",{"$f":"VLOOKUP(A344,Import!A:D,4,FALSE)","v":"Alimentaire Conditionné"},false,0,0,0,0,{"$f":"VLOOKUP(A344,Import!A:N,14)","v":"🇫🇷 France - Neuville les Dames (01)"}]
["Miel de Tilleul - 250g","7,50 €","7,5",{"$f":"VLOOKUP(A345,Import!A:D,4,FALSE)","v":"Alimentaire Conditionné"},false,0,0,0,0]
["Miel de Tilleul - 500g","12,50 €","12,5",{"$f":"VLOOKUP(A346,Import!A:D,4,FALSE)","v":"Alimentaire Conditionné"},false,0,0,0,0]
["Miel Polyfloral - 250g","6,50 €","6,5",{"$f":"VLOOKUP(A347,Import!A:D,4,FALSE)","v":"Alimentaire Conditionné"},false,0,0,0,0]
["Miel Polyfloral - 500g","11,50 €","11,5",{"$f":"VLOOKUP(A348,Import!A:D,4,FALSE)","v":"Alimentaire Conditionné"},false,0,0,0,0]
["Mini Filet à chute de savon","3,50 €","3,5",{"$f":"VLOOKUP(A349,Import!A:D,4,FALSE)","v":"Zéros déchets et Bocaux"},false,0,0,0,0]
["Mouchoirs","9,50 €","9,5",{"$f":"VLOOKUP(A350,Import!A:D,4,FALSE)","v":"Zéros déchets et Bocaux"},false,0,0,0,0]
["Moutarde à l’ancienne - 350g","4,20€","4,20",{"$f":"VLOOKUP(A351,Import!A:D,4,FALSE)","v":"Alimentaire Conditionné"},false,0,0,0,0]
["Moutarde de Dijon - 350g","4,20€","4,2",{"$f":"VLOOKUP(A352,Import!A:D,4,FALSE)","v":"Alimentaire Conditionné"},false,0,0,0,0]
["Muesli aux fruits","5,90 € / kg","5,9",{"$f":"VLOOKUP(A353,Import!A:D,4,FALSE)","v":"Alimentaire Vrac"},false,0,0,0,0]
["Muesli croustillant chocolat ","10,50 € / kg","10,5",{"$f":"VLOOKUP(A354,Import!A:D,4,FALSE)","v":"Alimentaire Vrac"},false,0,{"$f":"IF(F354=\"100G\",0.1,IF(F354=\"250G\",0.25,IF(F354=\"500G\",0.5,IF(F354=\"1 Kilo\",1,F354))))","v":0},0,0]
["Liquide Vaisselle Main - Vrac ","3,80€ / kg","3,8",{"$f":"VLOOKUP(A355,Import!A:D,4,FALSE)","v":"Produits d'entretiens"},false,0,0,0,{"$f":"H355*C355","v":0}]
["Muscade Noix Poudre ","76€ / kg","76",{"$f":"VLOOKUP(A356,Import!A:D,4,FALSE)","v":"Alimentaire Vrac"},false,0,0,0,{"$f":"H356*C356","v":0}]
["Nectar d’abricot 75cl ","4,50 €","4,5",{"$f":"VLOOKUP(A357,Import!A:D,4,FALSE)","v":"Boissons conditionnées"},false,0,0,0,0]
["Nectar de Pêche - 75cl ","4,50 €","4,5",{"$f":"VLOOKUP(A358,Import!A:D,4,FALSE)","v":"Boissons conditionnées"},false,0,0,0,0]
["Nectar de Poire - 75cl ","4,50 €","4,5",{"$f":"VLOOKUP(A359,Import!A:D,4,FALSE)","v":"Boissons conditionnées"},false,0,0,0,0]
["Nettoyant visage - Peau sèche Hibiscus ","8,90 €","8,9",{"$f":"VLOOKUP(A360,Import!A:D,4,FALSE)","v":"Produits d'hygiène coporelle"},false,0,0,0,0]
["Nids de Pâtes de Riz Thai Complet ","17,50 € / kg","17,5",{"$f":"VLOOKUP(A361,Import!A:D,4,FALSE)","v":"Alimentaire Vrac"},false,0,0,0,0]
["Noisettes décortiquées","18,90 € / kg","18,9",{"$f":"VLOOKUP(A362,Import!A:D,4,FALSE)","v":"Alimentaire Vrac"},false,0,0,0,0]
["Noix Cerneaux Brisures 3-12m","28,50 € / kg","28,5",{"$f":"VLOOKUP(A363,Import!A:D,4,FALSE)","v":"Alimentaire Vrac"},false,0,0,0,0]
["Noix de Cajou Nature","23,50 € / kg","2,5",{"$f":"VLOOKUP(A364,Import!A:D,4,FALSE)","v":"Alimentaire Vrac"},false,0,0,0,0]
["Noix de coco Chips ","12,00 € / kg","12",{"$f":"VLOOKUP(A365,Import!A:D,4,FALSE)","v":"Alimentaire Vrac"},false,0,0,0,0]
["Noix de Coco Râpée ","8€ / kg","8",{"$f":"VLOOKUP(A366,Import!A:D,4,FALSE)","v":"Alimentaire Vrac"},false,0,0,0,0]
["Noix de Pécan - Gros Morceaux ","29,00 € / kg","29",{"$f":"VLOOKUP(A367,Import!A:D,4,FALSE)","v":"Alimentaire Vrac"},false,0,0,0,0]
["Noix du brésil ","22,00 € / kg","22",{"$f":"VLOOKUP(A368,Import!A:D,4,FALSE)","v":"Alimentaire Vrac"},false,0,0,0,0]
["Oeufs frais bio (boîte de 6)",3,3,{"$f":"VLOOKUP(A369,Import!A:D,4,FALSE)","v":"Produits Frais"},false,0,0,0,0]
["Oriculi en bioplastique - Bleu","4,50 €","4,5",{"$f":"VLOOKUP(A370,Import!A:D,4,FALSE)","v":"Produits d'hygiène coporelle"},false,0,0,0,0]
["Oriculi en bioplastique - Jaune","4,50 €","4,5",{"$f":"VLOOKUP(A371,Import!A:D,4,FALSE)","v":"Produits d'hygiène coporelle"},false,0,0,0,0]
["Oriculi en bioplastique - Vert","4,50 €","4,5",{"$f":"VLOOKUP(A372,Import!A:D,4,FALSE)","v":"Produits d'hygiène coporelle"},false,0,0,0,0]
["Oriculi en bioplastique - Violet","4,50 €","4,5",{"$f":"VLOOKUP(A373,Import!A:D,4,FALSE)","v":"Produits d'hygiène coporelle"},false,0,0,0,0]
["Paille Courte - 13cm Gravée","1,49 €",1.49,{"$f":"VLOOKUP(A374,Import!A:D,4,FALSE)","v":"Zéros déchets et Bocaux"},false,0,0,0,0]
["Paille Longue - 20cm Gravée","1,69 €",1.69,{"$f":"VLOOKUP(A375,Import!A:D,4,FALSE)","v":"Zéros déchets et Bocaux"},false,0,0,0,0]
["Panier de rangement (Panier seul)","9,50 €","9,5",{"$f":"VLOOKUP(A376,Import!A:D,4,FALSE)","v":"Zéros déchets et Bocaux"},false,0,0,0,0]
["Multi Usage - Vrac ",5.9,5.9,{"$f":"VLOOKUP(A377,Import!A:D,4,FALSE)","v":"Produits d'entretiens"},false,0,0,0,{"$f":"H377*C377","v":0}]
["Paprika Doux Poudre ","67,00 € / kg","67",{"$f":"VLOOKUP(A378,Import!A:D,4,FALSE)","v":"Alimentaire Vrac"},false,0,0,0,{"$f":"H378*C378","v":0}]
["Paprika Fort moulu","88,00 € / kg","88",{"$f":"VLOOKUP(A379,Import!A:D,4,FALSE)","v":"Alimentaire Vrac"},false,0,0,0,0]
["Pâte à tartiner - Amande sésame miel","7,50€","7,5",{"$f":"VLOOKUP(A380,Import!A:D,4,FALSE)","v":"Alimentaire Conditionné"},false,0,0,0,0]
["Pâte à tartiner - Cajou coco miel bio","7,50€","7,5",{"$f":"VLOOKUP(A381,Import!A:D,4,FALSE)","v":"Alimentaire Conditionné"},false,0,0,0,0]
["Pâte à tartiner Amande Miel - 280g ","10,50€","10,50",{"$f":"VLOOKUP(A382,Import!A:D,4,FALSE)","v":"Alimentaire Conditionné"},false,0,0,0,0]
["Pâte à tartiner Choc-Noisettes - 265g ","9,90€","9,9",{"$f":"VLOOKUP(A383,Import!A:D,4,FALSE)","v":"Alimentaire Conditionné"},false,0,0,0,0]
["Pâtes - Coquillettes blanches","3,50€ / kg","3,5",{"$f":"VLOOKUP(A384,Import!A:D,4,FALSE)","v":"Alimentaire Vrac"},false,0,0,0,0]
["Pâtes - Coquillettes Semi Complètes ","3,50€ / kg","3,5",{"$f":"VLOOKUP(A385,Import!A:D,4,FALSE)","v":"Alimentaire Vrac"},false,0,0,0,0]
["Pâtes - Farfalles Blanches ","3,30€ / kg","3,3",{"$f":"VLOOKUP(A386,Import!A:D,4,FALSE)","v":"Alimentaire Vrac"},false,0,{"$f":"IF(F386=\"100G\",0.1,IF(F386=\"250G\",0.25,IF(F386=\"500G\",0.5,IF(F386=\"1 Kilo\",1,F386))))","v":0},0,0]
["Pâtes - Lasagnes Blanches ","6,00€ / kg","6",{"$f":"VLOOKUP(A387,Import!A:D,4,FALSE)","v":"Alimentaire Vrac"},false,0,0,{"$f":"G387","v":0},0]
["Pâtes - Pennes Blancs ","3,50€ / kg","4,5",{"$f":"VLOOKUP(A388,Import!A:D,4,FALSE)","v":"Alimentaire Vrac"},false,0,0,0,0]
["Pâtes - Pennes Semi Complets","3,50€ / kg","4,5",{"$f":"VLOOKUP(A389,Import!A:D,4,FALSE)","v":"Alimentaire Vrac"},false,0,0,0,0]
["Pâtes - Spaghettis Blancs","3,30€/kg","3,3",{"$f":"VLOOKUP(A390,Import!A:D,4,FALSE)","v":"Alimentaire Vrac"},false,0,0,0,0]
["Pâtes - Spaghettis Complets","3,30€/kg","3,3",{"$f":"VLOOKUP(A391,Import!A:D,4,FALSE)","v":"Alimentaire Vrac"},false,0,0,0,0]
["Pâtes - Tagliatelles Nature sans oeufs","4,50€/kg","4,5",{"$f":"VLOOKUP(A392,Import!A:D,4,FALSE)","v":"Alimentaire Vrac"},false,0,0,0,0]
["Peigne Démeloir à manche","6,49 €",6.49,{"$f":"VLOOKUP(A393,Import!A:D,4,FALSE)","v":"Produits d'hygiène coporelle"},false,0,0,0,0]
["Peigne Démêloir sans manche","6,49 €",6.49,{"$f":"VLOOKUP(A394,Import!A:D,4,FALSE)","v":"Produits d'hygiène coporelle"},false,0,0,0,0]
["Pelle à thé Inox",10.9,10.9,{"$f":"VLOOKUP(A395,Import!A:D,4,FALSE)","v":0},false,0,0,0,0]
["Paillettes de savon de Marseille - Fer à cheval ","17,50 € / kg",17.5,{"$f":"VLOOKUP(A396,Import!A:D,4,FALSE)","v":"Produits d'entretiens"},false,0,0,0,{"$f":"H396*C396","v":0}]
["Pesto Ail des Ours","4,20 €","4,20",{"$f":"VLOOKUP(A397,Import!A:D,4,FALSE)","v":"Alimentaire Conditionné"},false,0,0,0,{"$f":"H397*C397","v":0}]
["Pesto Basilic classique - ","4,20 €","4,2",{"$f":"VLOOKUP(A398,Import!A:D,4,FALSE)","v":"Alimentaire Conditionné"},false,0,0,0,0]
["Pesto Rosso - 90g","4,20 €","4,2",{"$f":"VLOOKUP(A399,Import!A:D,4,FALSE)","v":"Alimentaire Conditionné"},false,0,0,0,0]
["Pesto Verde - 90g","4,20 €","4,2",{"$f":"VLOOKUP(A400,Import!A:D,4,FALSE)","v":"Alimentaire Conditionné"},false,0,0,0,0]
["Petit Epeautre ","7,50 € / kg","7,5",{"$f":"VLOOKUP(A401,Import!A:D,4,FALSE)","v":"Alimentaire Vrac"},false,0,0,0,0]
["Petit Sac à thé de Noël","2,50 €","2,5",{"$f":"VLOOKUP(A402,Import!A:D,4,FALSE)","v":"Zéros déchets et Bocaux"},false,0,0,0,0]
["Pignons de Pin","67,00 € / kg","67",{"$f":"VLOOKUP(A403,Import!A:D,4,FALSE)","v":"Alimentaire Vrac"},false,0,0,0,0]
["Pistaches Coques Grillées Salées","35,00 € / kg","35",{"$f":"VLOOKUP(A404,Import!A:D,4,FALSE)","v":"Alimentaire Vrac"},false,0,0,0,0]
["Pistaches vertes sans coque non salées ","46,00 € / kg","46",{"$f":"VLOOKUP(A405,Import!A:D,4,FALSE)","v":"Alimentaire Vrac"},false,0,0,0,0]
["Pochette à brosse à dent ou à paille","3,50 €","3,5",{"$f":"VLOOKUP(A406,Import!A:D,4,FALSE)","v":"Zéros déchets et Bocaux"},false,0,0,0,0]
["Pochette à Goûter ","9,50 €","9,5",{"$f":"VLOOKUP(A407,Import!A:D,4,FALSE)","v":"Zéros déchets et Bocaux"},false,0,0,0,0,{"$f":"VLOOKUP(A407,Import!A:N,13)","v":"Alterosac"}]
["Pochette à Savon","4,50 €","4,5",{"$f":"VLOOKUP(A408,Import!A:D,4,FALSE)","v":"Zéros déchets et Bocaux"},false,0,0,0,0]
["Pois chiches","5€ / kg","5",{"$f":"VLOOKUP(A409,Import!A:D,4,FALSE)","v":"Alimentaire Vrac"},false,0,0,0,0]
["Poivre Blanc Grains ","115,00 € / kg","115",{"$f":"VLOOKUP(A410,Import!A:D,4,FALSE)","v":"Alimentaire Vrac"},false,0,0,0,0,{"$f":"VLOOKUP(A410,Import!A:N,13)","v":"Actibio"}]
["Poivre Noir en poudre","50€/kg",50,{"$f":"VLOOKUP(A411,Import!A:D,4,FALSE)","v":"Alimentaire Vrac"},false,0,0,0,0]
["Poivre Noir Grains ","85,00 € / kg","85",{"$f":"VLOOKUP(A412,Import!A:D,4,FALSE)","v":"Alimentaire Vrac"},false,0,0,0,0]
["Polenta instantanée ","3,50 € / kg","3,5",{"$f":"VLOOKUP(A413,Import!A:D,4,FALSE)","v":"Alimentaire Vrac"},false,0,0,0,0]
["Pommes séchées rondelles ","25,00 € / kg","25",{"$f":"VLOOKUP(A414,Import!A:D,4,FALSE)","v":0},false,0,0,0,0]
["Porte savon classic vrac","8,00 €","8",{"$f":"VLOOKUP(A415,Import!A:D,4,FALSE)","v":"Produits d'hygiène coporelle"},false,0,0,0,0]
["Potion Detoxifiante -  33cl","3,50 €","3,5",{"$f":"VLOOKUP(A416,Import!A:D,4,FALSE)","v":"Boissons conditionnées"},false,0,0,0,0]
["Potion Detoxifiante - 75cl","5,50€","5,50",{"$f":"VLOOKUP(A417,Import!A:D,4,FALSE)","v":"Boissons conditionnées"},false,0,0,0,0]
["Potion Energisante - 33cl","3,50 €","3,5",{"$f":"VLOOKUP(A418,Import!A:D,4,FALSE)","v":"Boissons conditionnées"},false,0,{"$f":"IF(F418=\"100G\",0.1,IF(F418=\"250G\",0.25,IF(F418=\"500G\",0.5,IF(F418=\"1 Kilo\",1,F418))))","v":0},0,0]
["Potion Energisante - 75cl","5,50€","5,50",{"$f":"VLOOKUP(A419,Import!A:D,4,FALSE)","v":"Boissons conditionnées"},false,0,0,0,0]
["Potion Relaxante -  33cl","3,50 €","3,50",{"$f":"VLOOKUP(A420,Import!A:D,4,FALSE)","v":"Boissons conditionnées"},false,0,0,0,0]
["Potion Relaxante - 75cl","5,50€","5,50",{"$f":"VLOOKUP(A421,Import!A:D,4,FALSE)","v":"Boissons conditionnées"},false,0,0,0,0]
["Poudre à Lever sans Gluten ","17,90 € / kg","7,9",{"$f":"VLOOKUP(A422,Import!A:D,4,FALSE)","v":"Alimentaire Vrac"},false,0,0,0,0]
["Poudre d’Amande Blanche ","25€ / kg",25,{"$f":"VLOOKUP(A423,Import!A:D,4,FALSE)","v":0},false,0,0,0,0]
["Poudre d’amande complète","25€ / kg","25",{"$f":"VLOOKUP(A424,Import!A:D,4,FALSE)","v":"Alimentaire Vrac"},false,0,0,0,0]
["Protection intime - Protège slip","6,00 €","6",{"$f":"VLOOKUP(A425,Import!A:D,4,FALSE)","v":"Zéros déchets et Bocaux"},false,0,0,0,0]
["Pruneaux dénoyautés ","22€ / kg","22",{"$f":"VLOOKUP(A426,Import!A:D,4,FALSE)","v":"Alimentaire Vrac"},false,0,0,0,0]
["Purée Amande 270g - Go Nuts","8,90€","8,9",{"$f":"VLOOKUP(A427,Import!A:D,4,FALSE)","v":"Alimentaire Conditionné"},false,0,0,0,0]
["Purée de Sésame Blanc - France - 350g","6,50€","6,5",{"$f":"VLOOKUP(A428,Import!A:D,4,FALSE)","v":"Alimentaire Conditionné"},false,0,0,0,0,{"$f":"VLOOKUP(A428,Import!A:N,14)","v":"🇫🇷 France "}]
["Purée Noisette - 270g","8,50€","8,50",{"$f":"VLOOKUP(A429,Import!A:D,4,FALSE)","v":"Alimentaire Conditionné"},false,0,0,0,{"$f":"H429*C429","v":0}]
["Quinoa Complet ","9,50€/kg","9,5",{"$f":"VLOOKUP(A430,Import!A:D,4,FALSE)","v":"Alimentaire Vrac"},false,0,0,0,0]
["Raisins secs Sultanines","7,90€/kg","7,9",{"$f":"VLOOKUP(A431,Import!A:D,4,FALSE)","v":"Alimentaire Vrac"},false,0,0,0,0,{"$f":"VLOOKUP(A431,Import!A:N,14)","v":"🇹🇷 Turquie"}]
["Rasoir de sûreté à lame rechargeable","45€","45",{"$f":"VLOOKUP(A432,Import!A:D,4,FALSE)","v":"Produits d'hygiène coporelle"},false,0,0,0,0]
["Recharge de 10 lames pour rasoir de sûreté","7,50€","7,5",{"$f":"VLOOKUP(A433,Import!A:D,4,FALSE)","v":"Produits d'hygiène coporelle"},false,0,0,0,0]
["Recouvre bol en coton enduit - Taille à Cake","7€","7",{"$f":"VLOOKUP(A434,Import!A:D,4,FALSE)","v":"Zéros déchets et Bocaux"},false,0,0,0,0]
["Recouvre bol en coton enduit - Taille à Gratin","9€","9",{"$f":"VLOOKUP(A435,Import!A:D,4,FALSE)","v":"Zéros déchets et Bocaux"},false,0,0,0,0]
["Recouvre bol en coton enduit - Taille L","9€","9",{"$f":"VLOOKUP(A436,Import!A:D,4,FALSE)","v":"Zéros déchets et Bocaux"},false,0,0,0,0]
["Recouvre bol en coton enduit - Taille M","7€","7",{"$f":"VLOOKUP(A437,Import!A:D,4,FALSE)","v":"Zéros déchets et Bocaux"},false,0,0,0,0]
["Recouvre bol en coton enduit - Taille S","5€","5",{"$f":"VLOOKUP(A438,Import!A:D,4,FALSE)","v":"Zéros déchets et Bocaux"},false,0,0,0,0]
["Recouvre bol en coton enduit - Taille XS","4€","4",{"$f":"VLOOKUP(A439,Import!A:D,4,FALSE)","v":"Zéros déchets et Bocaux"},false,0,0,0,0]
["Riz - Trio de Camargue ","6€/kg","6",{"$f":"VLOOKUP(A440,Import!A:D,4,FALSE)","v":"Alimentaire Vrac"},false,0,0,0,0]
["Riz Arborio Blanc pour Risotto ","5,50€/kg","5,5",{"$f":"VLOOKUP(A441,Import!A:D,4,FALSE)","v":"Alimentaire Vrac"},false,0,0,0,0]
["Riz Blanc Basmati Blanc ","5,50€/kg",5.5,{"$f":"VLOOKUP(A442,Import!A:D,4,FALSE)","v":"Alimentaire Vrac"},false,0,0,0,0]
["Riz Blanc IGP Camargue","5,50€/kg",5.5,{"$f":"VLOOKUP(A443,Import!A:D,4,FALSE)","v":"Alimentaire Vrac"},false,0,0,0,0]
["Riz Long blanc étuvé de Camargue ","4,90€/kg",4.9000000000000004,{"$f":"VLOOKUP(A444,Import!A:D,4,FALSE)","v":0},false,0,0,0,0]
["Riz Long Complet ","4,25€/kg",4.25,{"$f":"VLOOKUP(A445,Import!A:D,4,FALSE)","v":"Alimentaire Vrac"},false,0,0,0,0]
["Riz Rond Blanc ",null,null,{"$f":"VLOOKUP(A446,Import!A:D,4,FALSE)","v":"/"},false,0,0,0,0]
["Riz Rond blanc IGP Camargue","5,50€",5.5,{"$f":"VLOOKUP(A447,Import!A:D,4,FALSE)","v":"Alimentaire Vrac"},false,0,0,0,0,{"$f":"VLOOKUP(A447,Import!A:N,13)","v":0}]
["Riz semi complet IGP Camargue","4,90€/kg","4,9",{"$f":"VLOOKUP(A448,Import!A:D,4,FALSE)","v":"Alimentaire Vrac"},false,0,0,0,0]
["Romarin feuille ","65€/kg","65",{"$f":"VLOOKUP(A449,Import!A:D,4,FALSE)","v":"Alimentaire Vrac"},false,0,0,0,0]
["Lingettes démaquillantes - Lot de 5 Ronds","7€","7",{"$f":"VLOOKUP(A450,Import!A:D,4,FALSE)","v":"Zéros déchets et Bocaux"},false,0,{"$f":"IF(F450=\"100G\",0.1,IF(F450=\"250G\",0.25,IF(F450=\"500G\",0.5,IF(F450=\"1 Kilo\",1,F450))))","v":0},0,0]
["Rooibos - Earl Grey ","60€/kg","60",{"$f":"VLOOKUP(A451,Import!A:D,4,FALSE)","v":"Boisson en vrac"},false,0,0,{"$f":"G451","v":0},0]
["Rooibos Nature","50€/kg","50",{"$f":"VLOOKUP(A452,Import!A:D,4,FALSE)","v":"Boisson en vrac"},false,0,0,0,0]
["Sac à congélation - Taille L","8,50€","8,5",{"$f":"VLOOKUP(A453,Import!A:D,4,FALSE)","v":"Zéros déchets et Bocaux"},false,0,0,0,0]
["Sac à congélation - Taille M","7,50€","7,5",{"$f":"VLOOKUP(A454,Import!A:D,4,FALSE)","v":"Zéros déchets et Bocaux"},false,0,0,0,0]
["Sac à congélation - Taille S","6,50€","6,5",{"$f":"VLOOKUP(A455,Import!A:D,4,FALSE)","v":"Zéros déchets et Bocaux"},false,0,0,0,0]
["Sac à vrac en Coton - Taille L","8,50€","8,5",{"$f":"VLOOKUP(A456,Import!A:D,4,FALSE)","v":"Zéros déchets et Bocaux"},false,0,0,0,0]
["Sac à vrac en Coton - Taille M","7,50€","7,5",{"$f":"VLOOKUP(A457,Import!A:D,4,FALSE)","v":"Zéros déchets et Bocaux"},false,0,0,0,0]
["Sac à vrac en Coton - Taille S","7€","7",{"$f":"VLOOKUP(A458,Import!A:D,4,FALSE)","v":"Zéros déchets et Bocaux"},false,0,0,0,0,{"$f":"VLOOKUP(A458,Import!A:N,13)","v":"Alterosac"}]
["Sarrasin Décortiqué ","7€ / kg",7,{"$f":"VLOOKUP(A459,Import!A:D,4,FALSE)","v":"Alimentaire Vrac"},false,0,0,0,0]
["Savon à froid l’Emir - Clemence & Vivien ",4.5,4.5,{"$f":"VLOOKUP(A460,Import!A:D,4,FALSE)","v":"Produits d'hygiène coporelle"},false,0,0,0,0]
["Savon à froid le Chérubin - Clemence & Vivien ",4.2,4.2,{"$f":"VLOOKUP(A461,Import!A:D,4,FALSE)","v":"Produits d'hygiène coporelle"},false,0,0,0,{"$f":"H461*C461","v":0}]
["Savon à froid le Gandhi - Clemence & Vivien ",4.5,4.5,{"$f":"VLOOKUP(A462,Import!A:D,4,FALSE)","v":"Produits d'hygiène coporelle"},false,0,0,0,0]
["Savon à froid le Gecko - Clemence & Vivien ",4.5,4.5,{"$f":"VLOOKUP(A463,Import!A:D,4,FALSE)","v":"Produits d'hygiène coporelle"},false,0,0,0,0]
["Savon à froid le Saint Bernard - Clemence & Vivien ",4.5,4.5,{"$f":"VLOOKUP(A464,Import!A:D,4,FALSE)","v":"Produits d'hygiène coporelle"},false,0,0,0,0]
["Savon à froid le Suisse - Clemence & Vivien ",4.2,4.2,{"$f":"VLOOKUP(A465,Import!A:D,4,FALSE)","v":"Produits d'hygiène coporelle"},false,0,0,0,0]
["Savon à froid le Vahiné - Clemence & Vivien ",4.5,4.5,{"$f":"VLOOKUP(A466,Import!A:D,4,FALSE)","v":"Produits d'hygiène coporelle"},false,0,0,0,0]
["Savon liquide de Marseille à l’huile d’olive & Lavande","6,90€ / kg","6,9",{"$f":"VLOOKUP(A467,Import!A:D,4,FALSE)","v":"Produits d'hygiène coporelle"},false,0,0,0,0]
["Papier toilette 600 feuilles non blanchi","0,95 €",0.95,{"$f":"VLOOKUP(A468,Import!A:D,4,FALSE)","v":"Produits d'entretiens"},false,0,0,0,{"$f":"H468*C468","v":0}]
["Savon Soin Lavant Purifiant - Endro","14,90€","14,9",{"$f":"VLOOKUP(A469,Import!A:D,4,FALSE)","v":"Produits d'hygiène coporelle"},false,0,0,0,{"$f":"H469*C469","v":0},{"$f":"VLOOKUP(A469,Import!A:N,14)","v":"🇫🇷 France - Lannion (22)"}]
["Sel de Mer Gros - Guérande","3,90€ / kg","3,9",{"$f":"VLOOKUP(A470,Import!A:D,4,FALSE)","v":"Alimentaire Vrac"},false,0,0,0,{"$f":"H470*C470","v":0}]
["Sel fin de méditerrannée","3€ / kg","3",{"$f":"VLOOKUP(A471,Import!A:D,4,FALSE)","v":"Alimentaire Vrac"},false,0,0,0,{"$f":"H471*C471","v":0}]
["Percarbonate Blanchissant Linge Vrac ","4,90 € / kg","4,9",{"$f":"VLOOKUP(A472,Import!A:D,4,FALSE)","v":"Produits d'entretiens"},false,0,0,0,{"$f":"H472*C472","v":0}]
["Sérum anti-imperfection - Endro","24,90€","24,9",{"$f":"VLOOKUP(A473,Import!A:D,4,FALSE)","v":"Produits d'hygiène coporelle"},false,0,0,0,{"$f":"H473*C473","v":0}]
["Sérum désaltérant à l’acide hyaluronique - Clemence & Vivien ",9.1999999999999993,9.1999999999999993,{"$f":"VLOOKUP(A474,Import!A:D,4,FALSE)","v":"Produits d'hygiène coporelle"},false,0,0,0,0]
["Sérum Longueurs et pointes - Clemence & Vivien ","8,90€","8,9",{"$f":"VLOOKUP(A475,Import!A:D,4,FALSE)","v":"Produits d'hygiène coporelle"},false,0,0,0,0]
["Serviette de table","8,50€","8,5",{"$f":"VLOOKUP(A476,Import!A:D,4,FALSE)","v":"Zéros déchets et Bocaux"},false,0,0,0,0]
["Protection intime - Serviette hygiénique","9€","9",{"$f":"VLOOKUP(A477,Import!A:D,4,FALSE)","v":"Zéros déchets et Bocaux"},false,0,0,0,0]
["Protection intime - Serviette hygiénique Nuit","11€","11",{"$f":"VLOOKUP(A478,Import!A:D,4,FALSE)","v":"Zéros déchets et Bocaux"},false,0,0,0,0]
["Set Assiette et cuillère enfant - Bordeaux ","25€","25",{"$f":"VLOOKUP(A479,Import!A:D,4,FALSE)","v":"Zéros déchets et Bocaux"},false,0,0,0,0]
["Set Assiette et cuillère enfant - Lilas ","25€","25",{"$f":"VLOOKUP(A480,Import!A:D,4,FALSE)","v":"Zéros déchets et Bocaux"},false,0,0,0,0]
["Set de 3 couverts réutilisables","5,49€",5.49,{"$f":"VLOOKUP(A481,Import!A:D,4,FALSE)","v":"Zéros déchets et Bocaux"},false,0,0,0,0]
["Set de Repas Bébé - Bleu","23,50€","23,5",{"$f":"VLOOKUP(A482,Import!A:D,4,FALSE)","v":"Zéros déchets et Bocaux"},false,0,{"$f":"IF(F482=\"100G\",0.1,IF(F482=\"250G\",0.25,IF(F482=\"500G\",0.5,IF(F482=\"1 Kilo\",1,F482))))","v":0},0,0]
["Set de Repas Bébé - Jaune","23,50€","23,5",{"$f":"VLOOKUP(A483,Import!A:D,4,FALSE)","v":"Zéros déchets et Bocaux"},false,0,0,0,0,{"$f":"VLOOKUP(A483,Import!A:N,14)","v":"🇫🇷 France - Attignat (01)"}]
["Set de Repas Bébé - Rose","23,50€","23,5",{"$f":"VLOOKUP(A484,Import!A:D,4,FALSE)","v":"Zéros déchets et Bocaux"},false,0,0,0,0]
["Set de Repas Bébé - Vert","23,50€","23,5",{"$f":"VLOOKUP(A485,Import!A:D,4,FALSE)","v":"Zéros déchets et Bocaux"},false,0,0,0,0]
["Set de repas enfants","25€","25",{"$f":"VLOOKUP(A486,Import!A:D,4,FALSE)","v":"Zéros déchets et Bocaux"},false,0,0,0,0]
["Set de Table à colorier ","7,50€","7,5",{"$f":"VLOOKUP(A487,Import!A:D,4,FALSE)","v":"Zéros déchets et Bocaux"},false,0,0,0,0]
["Shampoing Douche à l’huile d’argan - Vrac",14.5,14.5,{"$f":"VLOOKUP(A488,Import!A:D,4,FALSE)","v":"Produits d'hygiène coporelle"},false,0,0,0,0]
["Shampoing sec - sans HE - 35ml","8,50€","8,5",{"$f":"VLOOKUP(A489,Import!A:D,4,FALSE)","v":"Produits d'hygiène coporelle"},false,0,0,0,0]
["Shampoing sec - sans HE - Recharge ","6€","6",{"$f":"VLOOKUP(A490,Import!A:D,4,FALSE)","v":"Produits d'hygiène coporelle"},false,0,0,0,0]
["Shampoing solide - Antipelliculaire - 80g","10,60€","10,6",{"$f":"VLOOKUP(A491,Import!A:D,4,FALSE)","v":"Produits d'hygiène coporelle"},false,0,0,0,0]
["Shampoing solide - Bleu - 80g","10,60€","10,6",{"$f":"VLOOKUP(A492,Import!A:D,4,FALSE)","v":"Produits d'hygiène coporelle"},false,0,0,0,0]
["Shampoing solide - Cheveux abîmés & colorés - Sans HE - 80g","10,60€","10,6",{"$f":"VLOOKUP(A493,Import!A:D,4,FALSE)","v":"Produits d'hygiène coporelle"},false,0,0,0,0]
["Shampoing solide - Cheveux abîmés et colorés - 80g","10,60€","10,6",{"$f":"VLOOKUP(A494,Import!A:D,4,FALSE)","v":"Produits d'hygiène coporelle"},false,0,0,0,0]
["Shampoing solide - Cheveux frisés / crépus - 80g","10,60€","10,6",{"$f":"VLOOKUP(A495,Import!A:D,4,FALSE)","v":"Produits d'hygiène coporelle"},false,0,0,0,0]
["Shampoing solide - Cheveux gras - 80g","10,60€","10,6",{"$f":"VLOOKUP(A496,Import!A:D,4,FALSE)","v":"Produits d'hygiène coporelle"},false,0,0,0,0]
["Shampoing solide - Cheveux gras - Sans HE 80g","10,60€","10,6",{"$f":"VLOOKUP(A497,Import!A:D,4,FALSE)","v":"Produits d'hygiène coporelle"},false,0,0,0,0]
["Shampoing solide - Sensible - 80g","10,60€","10,6",{"$f":"VLOOKUP(A498,Import!A:D,4,FALSE)","v":"Produits d'hygiène coporelle"},false,0,0,0,0]
["Shampoing solide - Stimulant - 80g","10,60€","10,6",{"$f":"VLOOKUP(A499,Import!A:D,4,FALSE)","v":"Produits d'hygiène coporelle"},false,0,0,0,0]
["Shampoing solide - Tout type de cheveux - 80g","10,60€","10,6",{"$f":"VLOOKUP(A500,Import!A:D,4,FALSE)","v":"Produits d'hygiène coporelle"},false,0,0,0,0]
["Sirop d’Erable ","25€/kg","25",{"$f":"VLOOKUP(A501,Import!A:D,4,FALSE)","v":"Alimentaire Vrac"},false,0,0,0,0]
["Sirop de Cassis - 70cl","6,90€","6,9",{"$f":"VLOOKUP(A502,Import!A:D,4,FALSE)","v":"Alimentaire Conditionné"},false,0,0,0,0]
["Sirop de Citron ","9,50€/kg","9,5",{"$f":"VLOOKUP(A503,Import!A:D,4,FALSE)","v":"Boisson en vrac"},false,0,0,0,0]
["Sirop de Grenadine","9,50€/kg","9,5",{"$f":"VLOOKUP(A504,Import!A:D,4,FALSE)","v":"Boisson en vrac"},false,0,0,0,0,{"$f":"VLOOKUP(A504,Import!A:N,13)","v":"Scop Epice"}]
["Sirop de Menthe","9,50€/kg","9,5",{"$f":"VLOOKUP(A505,Import!A:D,4,FALSE)","v":"Boisson en vrac"},false,0,0,0,0]
["Sirop de Pamplemousse - 70cl ","6,90€","6,9",{"$f":"VLOOKUP(A506,Import!A:D,4,FALSE)","v":"Alimentaire Conditionné"},false,0,0,0,0]
["Sirop de Pêche","9,50€/kg","9,5",{"$f":"VLOOKUP(A507,Import!A:D,4,FALSE)","v":"Boisson en vrac"},false,0,0,0,0]
["Savon Noir Tradition - Vrac ","5€ / kg","5",{"$f":"VLOOKUP(A508,Import!A:D,4,FALSE)","v":"Produits d'entretiens"},false,0,0,0,{"$f":"H508*C508","v":0}]
["Spirales Complètes ","3,30€/kg","3,3",{"$f":"VLOOKUP(A509,Import!A:D,4,FALSE)","v":"Alimentaire Vrac"},false,null,null,0]
["Sucre Blanc de Canne","2,95€/kg",2.95,{"$f":"VLOOKUP(A510,Import!A:D,4,FALSE)","v":"Alimentaire Vrac"},false,null,null,0]
["Sucre Blond - Paraguay","3,20€/kg","3,2",{"$f":"VLOOKUP(A511,Import!A:D,4,FALSE)","v":"Alimentaire Vrac"},false,null,null,0]
["Sucre Complet - Rapadura ","4,90€/kg","4,9",{"$f":"VLOOKUP(A512,Import!A:D,4,FALSE)","v":"Alimentaire Vrac"},false,null,null,0]
["Sucre de Canne Complet","4,90€/kg",4.9000000000000004,{"$f":"VLOOKUP(A513,Import!A:D,4,FALSE)","v":"Alimentaire Vrac"},false,null,null,0]
["Sucre de Coco","5,50€/kg",5.5,{"$f":"VLOOKUP(A514,Import!A:D,4,FALSE)","v":"Alimentaire Vrac"},false,null,null,0]
["Sucre Glace sans séparateur ","5,50€/kg","5,5",{"$f":"VLOOKUP(A515,Import!A:D,4,FALSE)","v":"Alimentaire Vrac"},false,null,null,{"$f":"G515","v":0}]
["Sucre Roux Demérara (Cassonade) ","3,50€/kg","3,5",{"$f":"VLOOKUP(A516,Import!A:D,4,FALSE)","v":"Alimentaire Vrac"},false,null,null,0]
["Super bain d’huile avant-shampoing - - Clemence & Vivien ","9,90€","9,9",{"$f":"VLOOKUP(A517,Import!A:D,4,FALSE)","v":"Produits d'hygiène coporelle"},false,null,null,0]
["Sel régénérant vrac","2,10€ / kg","2,1",{"$f":"VLOOKUP(A518,Import!A:D,4,FALSE)","v":"Produits d'entretiens"},false,0,{"$f":"IF(F518=\"100G\",0.1,IF(F518=\"250G\",0.25,IF(F518=\"500G\",0.5,IF(F518=\"1 Kilo\",1,F518))))","v":0},0,{"$f":"H518*C518","v":0}]
["Tamari - Vrac","10,80€/kg","10,8",{"$f":"VLOOKUP(A519,Import!A:D,4,FALSE)","v":"Alimentaire Vrac"},false,null,null,0]
["Tamari, less salt 25% - 250ml","6,50€","6,5",{"$f":"VLOOKUP(A520,Import!A:D,4,FALSE)","v":"Alimentaire Conditionné"},false,null,null,0]
["Tartinade - de Noël","6€","6",{"$f":"VLOOKUP(A521,Import!A:D,4,FALSE)","v":"/"},false,null,null,0]
["Tartinade Apéro - Aubergine Paprika fumé","5,50€","5,5",{"$f":"VLOOKUP(A522,Import!A:D,4,FALSE)","v":"Alimentaire Conditionné"},false,null,null,0]
["Tartinade Apéro - Betterave Grains moutarde","5,50€","5,5",{"$f":"VLOOKUP(A523,Import!A:D,4,FALSE)","v":"Alimentaire Conditionné"},false,null,null,0]
["Tartinade Apéro - Butternut verveine citron","5,50€","5,5",{"$f":"VLOOKUP(A524,Import!A:D,4,FALSE)","v":"Alimentaire Conditionné"},false,null,null,0]
["Tartinade Apéro - Carotte cumin","5,50€","5,5",{"$f":"VLOOKUP(A525,Import!A:D,4,FALSE)","v":"Alimentaire Conditionné"},false,null,null,0]
["Tartinade Apéro - Chou fleur Ail noir","5,50€","5,5",{"$f":"VLOOKUP(A526,Import!A:D,4,FALSE)","v":"Alimentaire Conditionné"},false,null,null,0]
["Tartinade Apéro - Courgette Thym","5,50€","5,5",{"$f":"VLOOKUP(A527,Import!A:D,4,FALSE)","v":"Alimentaire Conditionné"},false,null,null,0]
["Tartinade Apéro - Gwacamole 130g","4,50€","4,5",{"$f":"VLOOKUP(A528,Import!A:D,4,FALSE)","v":"Alimentaire Conditionné"},false,null,null,0]
["Tartinade Apéro - Poichichade au paprika - 100g","4,50 €","4,5",{"$f":"VLOOKUP(A529,Import!A:D,4,FALSE)","v":"Alimentaire Conditionné"},false,null,null,0]
["Tartinade Apéro - Poichichade traditionnelle - 100g","4,00 €","4",{"$f":"VLOOKUP(A530,Import!A:D,4,FALSE)","v":"Alimentaire Conditionné"},false,null,null,0]
["Tartinade Apéro - Pois chiches Graines de Nigelle","5,50€","5,5",{"$f":"VLOOKUP(A531,Import!A:D,4,FALSE)","v":"Alimentaire Conditionné"},false,null,null,0]
["Tartinade Apéro - Tomates Sarriette","5,50€",5.5,{"$f":"VLOOKUP(A532,Import!A:D,4,FALSE)","v":"/"},false,null,null,0]
["Tartine Craquante Sarrasin - 300g","5,50€",5.5,{"$f":"VLOOKUP(A533,Import!A:D,4,FALSE)","v":"Alimentaire Conditionné"},false,null,null,0]
["Solution hydroalcolique","7,50€/kg","7,5",{"$f":"VLOOKUP(A534,Import!A:D,4,FALSE)","v":"Produits d'entretiens"},false,0,{"$f":"IF(F534=\"100G\",0.1,IF(F534=\"250G\",0.25,IF(F534=\"500G\",0.5,IF(F534=\"1 Kilo\",1,F534))))","v":0},0,{"$f":"H534*C534","v":0}]
["Thé Noir - Darjeling ","50€/kg","50",{"$f":"VLOOKUP(A535,Import!A:D,4,FALSE)","v":"Boisson en vrac"},false,null,null,0]
["Thé Noir - Earl Grey ","60€/kg","60",{"$f":"VLOOKUP(A536,Import!A:D,4,FALSE)","v":"Boisson en vrac"},false,null,null,0]
["Thé Noir - Noël","69€/kg","60",{"$f":"VLOOKUP(A537,Import!A:D,4,FALSE)","v":"Boisson en vrac"},false,null,null,0]
["Thé Vert - Au chant des cigales ","60€/kg","60",{"$f":"VLOOKUP(A538,Import!A:D,4,FALSE)","v":"Boisson en vrac"},false,null,null,0,null,{"$f":"VLOOKUP(A538,Import!A:N,14)","v":"Asie"}]
["Thé Vert - Earl Grey Azur ","60€/kg","60",{"$f":"VLOOKUP(A539,Import!A:D,4,FALSE)","v":"Boisson en vrac"},false,null,null,0]
["Thé Vert - Fruité Tropical","60€/kg","60",{"$f":"VLOOKUP(A540,Import!A:D,4,FALSE)","v":"Boisson en vrac"},false,0,null,0,{"$f":"H540*C540","v":0}]
["Thé Vert - Gunpowder ","50€/kg","50",{"$f":"VLOOKUP(A541,Import!A:D,4,FALSE)","v":"Boisson en vrac"},false,null,null,0]
["Thé Vert - Jasmin","65€/kg","65",{"$f":"VLOOKUP(A542,Import!A:D,4,FALSE)","v":"Boisson en vrac"},false,null,null,0]
["Thé Vert - Mandarine Pamplemousse","60€/kg","60",{"$f":"VLOOKUP(A543,Import!A:D,4,FALSE)","v":"Boisson en vrac"},false,null,null,0]
["Thé Vert - Menthe Marrakech","60€/kg","60",{"$f":"VLOOKUP(A544,Import!A:D,4,FALSE)","v":"Boisson en vrac"},false,null,null,0]
["Thym Feuilles ","140€/kg","140",{"$f":"VLOOKUP(A545,Import!A:D,4,FALSE)","v":"Alimentaire Vrac"},false,null,null,0]
["Tisane - Après Repas","50€/kg","50",{"$f":"VLOOKUP(A546,Import!A:D,4,FALSE)","v":"Boisson en vrac"},false,null,null,0]
["Tisane - Camomille","60€/kg","60",{"$f":"VLOOKUP(A547,Import!A:D,4,FALSE)","v":"Boisson en vrac"},false,null,null,0]
["Tisane - Des elfes","60€/kg","60",{"$f":"VLOOKUP(A548,Import!A:D,4,FALSE)","v":"Boisson en vrac"},false,null,null,0]
["Tisane - Du soir ","50€/kg","50",{"$f":"VLOOKUP(A549,Import!A:D,4,FALSE)","v":"Boisson en vrac"},false,null,null,0]
["Tisane - Hibiscus","50€/kg","50",{"$f":"VLOOKUP(A550,Import!A:D,4,FALSE)","v":"Boisson en vrac"},false,null,null,0]
["Tisane - La mésange bleue ","50€/kg","50",{"$f":"VLOOKUP(A551,Import!A:D,4,FALSE)","v":"Boisson en vrac"},false,null,null,0]
["Tisane - Verveine citronnée ","50€/kg","50",{"$f":"VLOOKUP(A552,Import!A:D,4,FALSE)","v":"Boisson en vrac"},false,null,null,0]
["Vermicelles demi complets","2,95€/kg",2.95,{"$f":"VLOOKUP(A553,Import!A:D,4,FALSE)","v":"Alimentaire Vrac"},false,null,null,0]
["Vinaigre Balsamique","8,50€/kg","8,5",{"$f":"VLOOKUP(A554,Import!A:D,4,FALSE)","v":"Alimentaire Vrac"},false,null,null,0]
["Vinaigre balsamique de Modène - 50cl","5,50€/kg","5,5",{"$f":"VLOOKUP(A555,Import!A:D,4,FALSE)","v":"Alimentaire Conditionné"},false,null,null,0]
["Tablettes Lave Vaisselle Vrac","13,60€/kg","13,6",{"$f":"VLOOKUP(A556,Import!A:D,4,FALSE)","v":"Produits d'entretiens"},false,0,{"$f":"IF(F556=\"100G\",0.1,IF(F556=\"250G\",0.25,IF(F556=\"500G\",0.5,IF(F556=\"1 Kilo\",1,F556))))","v":0},0,{"$f":"H556*C556","v":0}]
["Vinaigre de Cidre ","4,50€/kg","4,5",{"$f":"VLOOKUP(A557,Import!A:D,4,FALSE)","v":"Alimentaire Vrac"},false,null,null,0]
["Vinaigre de Vin Rouge","3,75€/kg",3.75,{"$f":"VLOOKUP(A558,Import!A:D,4,FALSE)","v":"Alimentaire Vrac"},false,null,null,0]
["Tête rechargeable pour Brosse vaisselle","2,70€","2,7",{"$f":"VLOOKUP(A559,Import!A:D,4,FALSE)","v":"Produits d'entretiens"},false,0,{"$f":"IF(F559=\"100G\",0.1,IF(F559=\"250G\",0.25,IF(F559=\"500G\",0.5,IF(F559=\"1 Kilo\",1,F559))))","v":0},0,{"$f":"H559*C559","v":0}]
["Vinaigre Blanc Naturel 14° - Vrac","4,90€/kg","4,9",{"$f":"VLOOKUP(A560,Import!A:D,4,FALSE)","v":"Produits d'entretiens"},false,0,0,0,0]
[null,null,null,{"$f":"VLOOKUP(A561,Import!A:D,4,FALSE)","v":{"$error":"#N/A"}},false,null,null,0]
[null,null,null,{"$f":"VLOOKUP(A562,Import!A:D,4,FALSE)","v":{"$error":"#N/A"}},false,null,null,0]
[null,null,null,{"$f":"VLOOKUP(A563,Import!A:D,4,FALSE)","v":{"$error":"#N/A"}},false,null,null,0]
[null,null,null,{"$f":"VLOOKUP(A564,Import!A:D,4,FALSE)","v":{"$error":"#N/A"}},false,null,null,0]
[null,null,null,{"$f":"VLOOKUP(A565,Import!A:D,4,FALSE)","v":{"$error":"#N/A"}},false,null,null,0]
[null,null,null,{"$f":"VLOOKUP(A566,Import!A:D,4,FALSE)","v":{"$error":"#N/A"}},false,null,null,0]
[null,null,null,{"$f":"VLOOKUP(A567,Import!A:D,4,FALSE)","v":{"$error":"#N/A"}},false,null,null,0]
[null,null,null,{"$f":"VLOOKUP(A568,Import!A:D,4,FALSE)","v":{"$error":"#N/A"}},false,null,null,0]
[null,null,null,{"$f":"VLOOKUP(A569,Import!A:D,4,FALSE)","v":{"$error":"#N/A"}},false,null,null,0]
[null,null,null,{"$f":"VLOOKUP(A570,Import!A:D,4,FALSE)","v":{"$error":"#N/A"}},false,null,null,0]
[null,null,null,{"$f":"VLOOKUP(A571,Import!A:D,4,FALSE)","v":{"$error":"#N/A"}},false,null,null,0]
[null,null,null,{"$f":"VLOOKUP(A572,Import!A:D,4,FALSE)","v":{"$error":"#N/A"}},false,null,null,0]
[null,null,null,{"$f":"VLOOKUP(A573,Import!A:D,4,FALSE)","v":{"$error":"#N/A"}},false,null,null,0]
[null,null,null,{"$f":"VLOOKUP(A574,Import!A:D,4,FALSE)","v":{"$error":"#N/A"}},false,null,null,0]
[null,null,null,{"$f":"VLOOKUP(A575,Import!A:D,4,FALSE)","v":{"$error":"#N/A"}},false,null,null,0]
[null,null,null,{"$f":"VLOOKUP(A576,Import!A:D,4,FALSE)","v":{"$error":"#N/A"}},false,null,null,0]
[null,null,null,{"$f":"VLOOKUP(A577,Import!A:D,4,FALSE)","v":{"$error":"#N/A"}},false,null,null,0]
[null,null,null,{"$f":"VLOOKUP(A578,Import!A:D,4,FALSE)","v":{"$error":"#N/A"}},false,null,null,0]
[null,null,null,{"$f":"VLOOKUP(A579,Import!A:D,4,FALSE)","v":{"$error":"#N/A"}},false,null,null,{"$f":"G579","v":0}]
[null,null,null,{"$f":"VLOOKUP(A580,Import!A:D,4,FALSE)","v":{"$error":"#N/A"}},false,null,null,0]
[null,null,null,{"$f":"VLOOKUP(A581,Import!A:D,4,FALSE)","v":{"$error":"#N/A"}},false,null,null,0]
[null,null,null,{"$f":"VLOOKUP(A582,Import!A:D,4,FALSE)","v":{"$error":"#N/A"}},false,null,null,0]
[null,null,null,{"$f":"VLOOKUP(A583,Import!A:D,4,FALSE)","v":{"$error":"#N/A"}},false,null,null,0]
[null,null,null,{"$f":"VLOOKUP(A584,Import!A:D,4,FALSE)","v":{"$error":"#N/A"}},false,null,null,0]
[null,null,null,{"$f":"VLOOKUP(A585,Import!A:D,4,FALSE)","v":{"$error":"#N/A"}},false,null,null,0]
[null,null,null,{"$f":"VLOOKUP(A586,Import!A:D,4,FALSE)","v":{"$error":"#N/A"}},false,null,null,0]
[null,null,null,{"$f":"VLOOKUP(A587,Import!A:D,4,FALSE)","v":{"$error":"#N/A"}},false,null,null,0]
[null,null,null,{"$f":"VLOOKUP(A588,Import!A:D,4,FALSE)","v":{"$error":"#N/A"}},false,null,null,0]
[null,null,null,{"$f":"VLOOKUP(A589,Import!A:D,4,FALSE)","v":{"$error":"#N/A"}},false,null,null,0]
[null,null,null,{"$f":"VLOOKUP(A590,Import!A:D,4,FALSE)","v":{"$error":"#N/A"}},false,null,null,0]
[null,null,null,{"$f":"VLOOKUP(A591,Import!A:D,4,FALSE)","v":{"$error":"#N/A"}},false,null,null,0]
[null,null,null,{"$f":"VLOOKUP(A592,Import!A:D,4,FALSE)","v":{"$error":"#N/A"}},false,null,null,0]
[null,null,null,{"$f":"VLOOKUP(A593,Import!A:D,4,FALSE)","v":{"$error":"#N/A"}},false,null,null,0]
[null,null,null,{"$f":"VLOOKUP(A594,Import!A:D,4,FALSE)","v":{"$error":"#N/A"}},false,null,null,0]
[null,null,null,{"$f":"VLOOKUP(A595,Import!A:D,4,FALSE)","v":{"$error":"#N/A"}},false,null,null,0]
[null,null,null,{"$f":"VLOOKUP(A596,Import!A:D,4,FALSE)","v":{"$error":"#N/A"}},false,null,null,0]
[null,null,null,{"$f":"VLOOKUP(A597,Import!A:D,4,FALSE)","v":{"$error":"#N/A"}},false,null,null,0]
[null,null,null,{"$f":"VLOOKUP(A598,Import!A:D,4,FALSE)","v":{"$error":"#N/A"}},false,null,null,0]
[null,null,null,{"$f":"VLOOKUP(A599,Import!A:D,4,FALSE)","v":{"$error":"#N/A"}},false,null,null,0]
[null,null,null,{"$f":"VLOOKUP(A600,Import!A:D,4,FALSE)","v":{"$error":"#N/A"}},false,null,null,0]
[null,null,null,{"$f":"VLOOKUP(A601,Import!A:D,4,FALSE)","v":{"$error":"#N/A"}},false,null,null,0]
[null,null,null,{"$f":"VLOOKUP(A602,Import!A:D,4,FALSE)","v":{"$error":"#N/A"}},false,null,null,0]
[null,null,null,{"$f":"VLOOKUP(A603,Import!A:D,4,FALSE)","v":{"$error":"#N/A"}},false,null,null,0]
[null,null,null,{"$f":"VLOOKUP(A604,Import!A:D,4,FALSE)","v":{"$error":"#N/A"}},false,null,null,0]
[null,null,null,{"$f":"VLOOKUP(A605,Import!A:D,4,FALSE)","v":{"$error":"#N/A"}},false,null,null,0]
[null,null,null,{"$f":"VLOOKUP(A606,Import!A:D,4,FALSE)","v":{"$error":"#N/A"}},false,null,null,0]
[null,null,null,{"$f":"VLOOKUP(A607,Import!A:D,4,FALSE)","v":{"$error":"#N/A"}},false,null,null,0]
[null,null,null,{"$f":"VLOOKUP(A608,Import!A:D,4,FALSE)","v":{"$error":"#N/A"}},false,null,null,0]
[null,null,null,{"$f":"VLOOKUP(A609,Import!A:D,4,FALSE)","v":{"$error":"#N/A"}},false,null,null,0]
[null,null,null,{"$f":"VLOOKUP(A610,Import!A:D,4,FALSE)","v":{"$error":"#N/A"}},false,null,null,0]
[null,null,null,{"$f":"VLOOKUP(A611,Import!A:D,4,FALSE)","v":{"$error":"#N/A"}},false,null,null,0]
[null,null,null,{"$f":"VLOOKUP(A612,Import!A:D,4,FALSE)","v":{"$error":"#N/A"}},false,null,null,0]
[null,null,null,{"$f":"VLOOKUP(A613,Import!A:D,4,FALSE)","v":{"$error":"#N/A"}},false,null,null,0]
[null,null,null,{"$f":"VLOOKUP(A614,Import!A:D,4,FALSE)","v":{"$error":"#N/A"}},false,null,null,0]
[null,null,null,{"$f":"VLOOKUP(A615,Import!A:D,4,FALSE)","v":{"$error":"#N/A"}},false,null,null,0]
[null,null,null,{"$f":"VLOOKUP(A616,Import!A:D,4,FALSE)","v":{"$error":"#N/A"}},false,null,null,0]
[null,null,null,{"$f":"VLOOKUP(A617,Import!A:D,4,FALSE)","v":{"$error":"#N/A"}},false,null,null,0]
[null,null,null,{"$f":"VLOOKUP(A618,Import!A:D,4,FALSE)","v":{"$error":"#N/A"}},false,null,null,0]
[null,null,null,{"$f":"VLOOKUP(A619,Import!A:D,4,FALSE)","v":{"$error":"#N/A"}},false,null,null,0]
[null,null,null,{"$f":"VLOOKUP(A620,Import!A:D,4,FALSE)","v":{"$error":"#N/A"}},false,null,null,0]
[null,null,null,{"$f":"VLOOKUP(A621,Import!A:D,4,FALSE)","v":{"$error":"#N/A"}},false,null,null,0]
[null,null,null,{"$f":"VLOOKUP(A622,Import!A:D,4,FALSE)","v":{"$error":"#N/A"}},false,null,null,0]
[null,null,null,{"$f":"VLOOKUP(A623,Import!A:D,4,FALSE)","v":{"$error":"#N/A"}},false,null,null,0]
[null,null,null,{"$f":"VLOOKUP(A624,Import!A:D,4,FALSE)","v":{"$error":"#N/A"}},false,null,null,0]
[null,null,null,{"$f":"VLOOKUP(A625,Import!A:D,4,FALSE)","v":{"$error":"#N/A"}},false,null,null,0]
[null,null,null,{"$f":"VLOOKUP(A626,Import!A:D,4,FALSE)","v":{"$error":"#N/A"}},false,null,null,0]
[null,null,null,{"$f":"VLOOKUP(A627,Import!A:D,4,FALSE)","v":{"$error":"#N/A"}},false,null,null,0]
[null,null,null,{"$f":"VLOOKUP(A628,Import!A:D,4,FALSE)","v":{"$error":"#N/A"}},false,null,null,0]
[null,null,null,{"$f":"VLOOKUP(A629,Import!A:D,4,FALSE)","v":{"$error":"#N/A"}},false,null,null,0]
[null,null,null,{"$f":"VLOOKUP(A630,Import!A:D,4,FALSE)","v":{"$error":"#N/A"}},false,null,null,0]
[null,null,null,{"$f":"VLOOKUP(A631,Import!A:D,4,FALSE)","v":{"$error":"#N/A"}},false,null,null,0]
[null,null,null,{"$f":"VLOOKUP(A632,Import!A:D,4,FALSE)","v":{"$error":"#N/A"}},false,null,null,0]
[null,null,null,{"$f":"VLOOKUP(A633,Import!A:D,4,FALSE)","v":{"$error":"#N/A"}},false,null,null,0]
[null,null,null,{"$f":"VLOOKUP(A634,Import!A:D,4,FALSE)","v":{"$error":"#N/A"}},false,null,null,0]
[null,null,null,{"$f":"VLOOKUP(A635,Import!A:D,4,FALSE)","v":{"$error":"#N/A"}},false,null,null,0]
[null,null,null,{"$f":"VLOOKUP(A636,Import!A:D,4,FALSE)","v":{"$error":"#N/A"}},false,null,null,0]
[null,null,null,{"$f":"VLOOKUP(A637,Import!A:D,4,FALSE)","v":{"$error":"#N/A"}},false,null,null,0]
[null,null,null,{"$f":"VLOOKUP(A638,Import!A:D,4,FALSE)","v":{"$error":"#N/A"}},false,null,null,0]
[null,null,null,{"$f":"VLOOKUP(A639,Import!A:D,4,FALSE)","v":{"$error":"#N/A"}},false,null,null,0]
[null,null,null,{"$f":"VLOOKUP(A640,Import!A:D,4,FALSE)","v":{"$error":"#N/A"}},false,null,null,0]
[null,null,null,{"$f":"VLOOKUP(A641,Import!A:D,4,FALSE)","v":{"$error":"#N/A"}},false,null,null,0]
[null,null,null,{"$f":"VLOOKUP(A642,Import!A:D,4,FALSE)","v":{"$error":"#N/A"}},false,null,null,0]
[null,null,null,{"$f":"VLOOKUP(A643,Import!A:D,4,FALSE)","v":{"$error":"#N/A"}},false,null,null,{"$f":"G643","v":0}]
[null,null,null,{"$f":"VLOOKUP(A644,Import!A:D,4,FALSE)","v":{"$error":"#N/A"}},false,null,null,0]
[null,null,null,{"$f":"VLOOKUP(A645,Import!A:D,4,FALSE)","v":{"$error":"#N/A"}},false,null,null,0]
[null,null,null,{"$f":"VLOOKUP(A646,Import!A:D,4,FALSE)","v":{"$error":"#N/A"}},false,null,null,0]
[null,null,null,{"$f":"VLOOKUP(A647,Import!A:D,4,FALSE)","v":{"$error":"#N/A"}},false,null,null,0]
[null,null,null,{"$f":"VLOOKUP(A648,Import!A:D,4,FALSE)","v":{"$error":"#N/A"}},false,null,null,0]
[null,null,null,{"$f":"VLOOKUP(A649,Import!A:D,4,FALSE)","v":{"$error":"#N/A"}},false,null,null,0]
[null,null,null,{"$f":"VLOOKUP(A650,Import!A:D,4,FALSE)","v":{"$error":"#N/A"}},false,null,null,0]
[null,null,null,{"$f":"VLOOKUP(A651,Import!A:D,4,FALSE)","v":{"$error":"#N/A"}},false,null,null,0]
[null,null,null,{"$f":"VLOOKUP(A652,Import!A:D,4,FALSE)","v":{"$error":"#N/A"}},false,null,null,0]
[null,null,null,{"$f":"VLOOKUP(A653,Import!A:D,4,FALSE)","v":{"$error":"#N/A"}},false,null,null,0]
[null,null,null,{"$f":"VLOOKUP(A654,Import!A:D,4,FALSE)","v":{"$error":"#N/A"}},false,null,null,0]
[null,null,null,{"$f":"VLOOKUP(A655,Import!A:D,4,FALSE)","v":{"$error":"#N/A"}},false,null,null,0]
[null,null,null,{"$f":"VLOOKUP(A656,Import!A:D,4,FALSE)","v":{"$error":"#N/A"}},false,null,null,0]
[null,null,null,{"$f":"VLOOKUP(A657,Import!A:D,4,FALSE)","v":{"$error":"#N/A"}},false,null,null,0]
[null,null,null,{"$f":"VLOOKUP(A658,Import!A:D,4,FALSE)","v":{"$error":"#N/A"}},false,null,null,0]
[null,null,null,{"$f":"VLOOKUP(A659,Import!A:D,4,FALSE)","v":{"$error":"#N/A"}},false,null,null,0]
[null,null,null,{"$f":"VLOOKUP(A660,Import!A:D,4,FALSE)","v":{"$error":"#N/A"}},false,null,null,0]
[null,null,null,{"$f":"VLOOKUP(A661,Import!A:D,4,FALSE)","v":{"$error":"#N/A"}},false,null,null,0]
[null,null,null,{"$f":"VLOOKUP(A662,Import!A:D,4,FALSE)","v":{"$error":"#N/A"}},false,null,null,0]
[null,null,null,{"$f":"VLOOKUP(A663,Import!A:D,4,FALSE)","v":{"$error":"#N/A"}},false,null,null,0]
[null,null,null,{"$f":"VLOOKUP(A664,Import!A:D,4,FALSE)","v":{"$error":"#N/A"}},false,null,null,0]
[null,null,null,{"$f":"VLOOKUP(A665,Import!A:D,4,FALSE)","v":{"$error":"#N/A"}},false,null,null,0]
[null,null,null,{"$f":"VLOOKUP(A666,Import!A:D,4,FALSE)","v":{"$error":"#N/A"}},false,null,null,0]
[null,null,null,{"$f":"VLOOKUP(A667,Import!A:D,4,FALSE)","v":{"$error":"#N/A"}},false,null,null,0]
[null,null,null,{"$f":"VLOOKUP(A668,Import!A:D,4,FALSE)","v":{"$error":"#N/A"}},false,null,null,0]
[null,null,null,{"$f":"VLOOKUP(A669,Import!A:D,4,FALSE)","v":{"$error":"#N/A"}},false,null,null,0]
[null,null,null,{"$f":"VLOOKUP(A670,Import!A:D,4,FALSE)","v":{"$error":"#N/A"}},false,null,null,0]
[null,null,null,{"$f":"VLOOKUP(A671,Import!A:D,4,FALSE)","v":{"$error":"#N/A"}},false,null,null,0]
[null,null,null,{"$f":"VLOOKUP(A672,Import!A:D,4,FALSE)","v":{"$error":"#N/A"}},false,null,null,0]
[null,null,null,{"$f":"VLOOKUP(A673,Import!A:D,4,FALSE)","v":{"$error":"#N/A"}},false,null,null,0]
[null,null,null,{"$f":"VLOOKUP(A674,Import!A:D,4,FALSE)","v":{"$error":"#N/A"}},false,null,null,0]
[null,null,null,{"$f":"VLOOKUP(A675,Import!A:D,4,FALSE)","v":{"$error":"#N/A"}},false,null,null,0]
[null,null,null,{"$f":"VLOOKUP(A676,Import!A:D,4,FALSE)","v":{"$error":"#N/A"}},false,null,null,0]
[null,null,null,{"$f":"VLOOKUP(A677,Import!A:D,4,FALSE)","v":{"$error":"#N/A"}},false,null,null,0]
[null,null,null,{"$f":"VLOOKUP(A678,Import!A:D,4,FALSE)","v":{"$error":"#N/A"}},false,null,null,0]
[null,null,null,{"$f":"VLOOKUP(A679,Import!A:D,4,FALSE)","v":{"$error":"#N/A"}},false,null,null,0]
[null,null,null,{"$f":"VLOOKUP(A680,Import!A:D,4,FALSE)","v":{"$error":"#N/A"}},false,null,null,0]
[null,null,null,{"$f":"VLOOKUP(A681,Import!A:D,4,FALSE)","v":{"$error":"#N/A"}},false,null,null,0]
[null,null,null,{"$f":"VLOOKUP(A682,Import!A:D,4,FALSE)","v":{"$error":"#N/A"}},false,null,null,0]
[null,null,null,{"$f":"VLOOKUP(A683,Import!A:D,4,FALSE)","v":{"$error":"#N/A"}},false,null,null,0]
[null,null,null,{"$f":"VLOOKUP(A684,Import!A:D,4,FALSE)","v":{"$error":"#N/A"}},false,null,null,0]
[null,null,null,{"$f":"VLOOKUP(A685,Import!A:D,4,FALSE)","v":{"$error":"#N/A"}},false,null,null,0]
[null,null,null,{"$f":"VLOOKUP(A686,Import!A:D,4,FALSE)","v":{"$error":"#N/A"}},false,null,null,0]
[null,null,null,{"$f":"VLOOKUP(A687,Import!A:D,4,FALSE)","v":{"$error":"#N/A"}},false,null,null,0]
[null,null,null,{"$f":"VLOOKUP(A688,Import!A:D,4,FALSE)","v":{"$error":"#N/A"}},false,null,null,0]
[null,null,null,{"$f":"VLOOKUP(A689,Import!A:D,4,FALSE)","v":{"$error":"#N/A"}},false,null,null,0]
[null,null,null,{"$f":"VLOOKUP(A690,Import!A:D,4,FALSE)","v":{"$error":"#N/A"}},false,null,null,0]
[null,null,null,{"$f":"VLOOKUP(A691,Import!A:D,4,FALSE)","v":{"$error":"#N/A"}},false,null,null,0]
[null,null,null,{"$f":"VLOOKUP(A692,Import!A:D,4,FALSE)","v":{"$error":"#N/A"}},false,null,null,0]
[null,null,null,{"$f":"VLOOKUP(A693,Import!A:D,4,FALSE)","v":{"$error":"#N/A"}},false,null,null,0]
[null,null,null,{"$f":"VLOOKUP(A694,Import!A:D,4,FALSE)","v":{"$error":"#N/A"}},false,null,null,0]
[null,null,null,{"$f":"VLOOKUP(A695,Import!A:D,4,FALSE)","v":{"$error":"#N/A"}},false,null,null,0]
[null,null,null,{"$f":"VLOOKUP(A696,Import!A:D,4,FALSE)","v":{"$error":"#N/A"}},false,null,null,0]
[null,null,null,{"$f":"VLOOKUP(A697,Import!A:D,4,FALSE)","v":{"$error":"#N/A"}},false,null,null,0]
[null,null,null,{"$f":"VLOOKUP(A698,Import!A:D,4,FALSE)","v":{"$error":"#N/A"}},false,null,null,0]
[null,null,null,{"$f":"VLOOKUP(A699,Import!A:D,4,FALSE)","v":{"$error":"#N/A"}},false,null,null,0]
[null,null,null,{"$f":"VLOOKUP(A700,Import!A:D,4,FALSE)","v":{"$error":"#N/A"}},false,null,null,0]
[null,null,null,{"$f":"VLOOKUP(A701,Import!A:D,4,FALSE)","v":{"$error":"#N/A"}},false,null,null,0]
[null,null,null,{"$f":"VLOOKUP(A702,Import!A:D,4,FALSE)","v":{"$error":"#N/A"}},false,null,null,0]
[null,null,null,{"$f":"VLOOKUP(A703,Import!A:D,4,FALSE)","v":{"$error":"#N/A"}},false,null,null,0]
[null,null,null,{"$f":"VLOOKUP(A704,Import!A:D,4,FALSE)","v":{"$error":"#N/A"}},false,null,null,0]
[null,null,null,{"$f":"VLOOKUP(A705,Import!A:D,4,FALSE)","v":{"$error":"#N/A"}},false,null,null,0]
[null,null,null,{"$f":"VLOOKUP(A706,Import!A:D,4,FALSE)","v":{"$error":"#N/A"}},false,null,null,0]
[null,null,null,{"$f":"VLOOKUP(A707,Import!A:D,4,FALSE)","v":{"$error":"#N/A"}},false,null,null,{"$f":"G707","v":0}]
[null,null,null,{"$f":"VLOOKUP(A708,Import!A:D,4,FALSE)","v":{"$error":"#N/A"}},false,null,null,0]
[null,null,null,{"$f":"VLOOKUP(A709,Import!A:D,4,FALSE)","v":{"$error":"#N/A"}},false,null,null,0]
[null,null,null,{"$f":"VLOOKUP(A710,Import!A:D,4,FALSE)","v":{"$error":"#N/A"}},false,null,null,0]
[null,null,null,{"$f":"VLOOKUP(A711,Import!A:D,4,FALSE)","v":{"$error":"#N/A"}},false,null,null,0]
[null,null,null,{"$f":"VLOOKUP(A712,Import!A:D,4,FALSE)","v":{"$error":"#N/A"}},false,null,null,0]
[null,null,null,{"$f":"VLOOKUP(A713,Import!A:D,4,FALSE)","v":{"$error":"#N/A"}},false,null,null,0]
[null,null,null,{"$f":"VLOOKUP(A714,Import!A:D,4,FALSE)","v":{"$error":"#N/A"}},false,null,null,0]
[null,null,null,{"$f":"VLOOKUP(A715,Import!A:D,4,FALSE)","v":{"$error":"#N/A"}},false,null,null,0]
[null,null,null,{"$f":"VLOOKUP(A716,Import!A:D,4,FALSE)","v":{"$error":"#N/A"}},false,null,null,0]
[null,null,null,{"$f":"VLOOKUP(A717,Import!A:D,4,FALSE)","v":{"$error":"#N/A"}},false,null,null,0]
[null,null,null,{"$f":"VLOOKUP(A718,Import!A:D,4,FALSE)","v":{"$error":"#N/A"}},false,null,null,0]
[null,null,null,{"$f":"VLOOKUP(A719,Import!A:D,4,FALSE)","v":{"$error":"#N/A"}},false,null,null,0]
[null,null,null,{"$f":"VLOOKUP(A720,Import!A:D,4,FALSE)","v":{"$error":"#N/A"}},false,null,null,0]
[null,null,null,{"$f":"VLOOKUP(A721,Import!A:D,4,FALSE)","v":{"$error":"#N/A"}},false]
[null,null,null,{"$f":"VLOOKUP(A722,Import!A:D,4,FALSE)","v":{"$error":"#N/A"}},false]
[null,null,null,{"$f":"VLOOKUP(A723,Import!A:D,4,FALSE)","v":{"$error":"#N/A"}},false]
[null,null,null,{"$f":"VLOOKUP(A724,Import!A:D,4,FALSE)","v":{"$error":"#N/A"}},false]
[null,null,null,{"$f":"VLOOKUP(A725,Import!A:D,4,FALSE)","v":{"$error":"#N/A"}},false]
[null,null,null,{"$f":"VLOOKUP(A726,Import!A:D,4,FALSE)","v":{"$error":"#N/A"}},false]
[null,null,null,{"$f":"VLOOKUP(A727,Import!A:D,4,FALSE)","v":{"$error":"#N/A"}},false]
[null,null,null,{"$f":"VLOOKUP(A728,Import!A:D,4,FALSE)","v":{"$error":"#N/A"}},false]
[null,null,null,{"$f":"VLOOKUP(A729,Import!A:D,4,FALSE)","v":{"$error":"#N/A"}},false]
[null,null,null,{"$f":"VLOOKUP(A730,Import!A:D,4,FALSE)","v":{"$error":"#N/A"}},false]
[null,null,null,{"$f":"VLOOKUP(A731,Import!A:D,4,FALSE)","v":{"$error":"#N/A"}},false]
[null,null,null,{"$f":"VLOOKUP(A732,Import!A:D,4,FALSE)","v":{"$error":"#N/A"}},false]
[null,null,null,{"$f":"VLOOKUP(A733,Import!A:D,4,FALSE)","v":{"$error":"#N/A"}},false]
[null,null,null,{"$f":"VLOOKUP(A734,Import!A:D,4,FALSE)","v":{"$error":"#N/A"}},false]
[null,null,null,{"$f":"VLOOKUP(A735,Import!A:D,4,FALSE)","v":{"$error":"#N/A"}},false]
[null,null,null,{"$f":"VLOOKUP(A736,Import!A:D,4,FALSE)","v":{"$error":"#N/A"}},false]
[null,null,null,{"$f":"VLOOKUP(A737,Import!A:D,4,FALSE)","v":{"$error":"#N/A"}},false]
[null,null,null,{"$f":"VLOOKUP(A738,Import!A:D,4,FALSE)","v":{"$error":"#N/A"}},false]
[null,null,null,{"$f":"VLOOKUP(A739,Import!A:D,4,FALSE)","v":{"$error":"#N/A"}},false]
[null,null,null,{"$f":"VLOOKUP(A740,Import!A:D,4,FALSE)","v":{"$error":"#N/A"}},false]
[null,null,null,{"$f":"VLOOKUP(A741,Import!A:D,4,FALSE)","v":{"$error":"#N/A"}},false]
[null,null,null,{"$f":"VLOOKUP(A742,Import!A:D,4,FALSE)","v":{"$error":"#N/A"}},false]
[null,null,null,{"$f":"VLOOKUP(A743,Import!A:D,4,FALSE)","v":{"$error":"#N/A"}},false]
[null,null,null,{"$f":"VLOOKUP(A744,Import!A:D,4,FALSE)","v":{"$error":"#N/A"}},false]
[null,null,null,{"$f":"VLOOKUP(A745,Import!A:D,4,FALSE)","v":{"$error":"#N/A"}},false]
[null,null,null,{"$f":"VLOOKUP(A746,Import!A:D,4,FALSE)","v":{"$error":"#N/A"}},false]
[null,null,null,{"$f":"VLOOKUP(A747,Import!A:D,4,FALSE)","v":{"$error":"#N/A"}},false]
[null,null,null,{"$f":"VLOOKUP(A748,Import!A:D,4,FALSE)","v":{"$error":"#N/A"}},false]
[null,null,null,{"$f":"VLOOKUP(A749,Import!A:D,4,FALSE)","v":{"$error":"#N/A"}},false]
[null,null,null,{"$f":"VLOOKUP(A750,Import!A:D,4,FALSE)","v":{"$error":"#N/A"}},false]
[null,null,null,{"$f":"VLOOKUP(A751,Import!A:D,4,FALSE)","v":{"$error":"#N/A"}},false]
[null,null,null,{"$f":"VLOOKUP(A752,Import!A:D,4,FALSE)","v":{"$error":"#N/A"}},false]
[null,null,null,{"$f":"VLOOKUP(A753,Import!A:D,4,FALSE)","v":{"$error":"#N/A"}},false]
[null,null,null,{"$f":"VLOOKUP(A754,Import!A:D,4,FALSE)","v":{"$error":"#N/A"}},false]
[null,null,null,{"$f":"VLOOKUP(A755,Import!A:D,4,FALSE)","v":{"$error":"#N/A"}},false]
[null,null,null,{"$f":"VLOOKUP(A756,Import!A:D,4,FALSE)","v":{"$error":"#N/A"}},false]
[null,null,null,{"$f":"VLOOKUP(A757,Import!A:D,4,FALSE)","v":{"$error":"#N/A"}},false]
[null,null,null,{"$f":"VLOOKUP(A758,Import!A:D,4,FALSE)","v":{"$error":"#N/A"}},false]
[null,null,null,{"$f":"VLOOKUP(A759,Import!A:D,4,FALSE)","v":{"$error":"#N/A"}},false]
[null,null,null,{"$f":"VLOOKUP(A760,Import!A:D,4,FALSE)","v":{"$error":"#N/A"}},false]
[null,null,null,{"$f":"VLOOKUP(A761,Import!A:D,4,FALSE)","v":{"$error":"#N/A"}},false]
[null,null,null,{"$f":"VLOOKUP(A762,Import!A:D,4,FALSE)","v":{"$error":"#N/A"}},false]
[null,null,null,{"$f":"VLOOKUP(A763,Import!A:D,4,FALSE)","v":{"$error":"#N/A"}},false]
[null,null,null,{"$f":"VLOOKUP(A764,Import!A:D,4,FALSE)","v":{"$error":"#N/A"}},false]
[null,null,null,{"$f":"VLOOKUP(A765,Import!A:D,4,FALSE)","v":{"$error":"#N/A"}},false]
[null,null,null,{"$f":"VLOOKUP(A766,Import!A:D,4,FALSE)","v":{"$error":"#N/A"}},false]
[null,null,null,{"$f":"VLOOKUP(A767,Import!A:D,4,FALSE)","v":{"$error":"#N/A"}},false]
[null,null,null,{"$f":"VLOOKUP(A768,Import!A:D,4,FALSE)","v":{"$error":"#N/A"}},false]
[null,null,null,{"$f":"VLOOKUP(A769,Import!A:D,4,FALSE)","v":{"$error":"#N/A"}},false]
[null,null,null,{"$f":"VLOOKUP(A770,Import!A:D,4,FALSE)","v":{"$error":"#N/A"}},false]
[null,null,null,{"$f":"VLOOKUP(A771,Import!A:D,4,FALSE)","v":{"$error":"#N/A"}},false]
[null,null,null,{"$f":"VLOOKUP(A772,Import!A:D,4,FALSE)","v":{"$error":"#N/A"}},false]
[null,null,null,{"$f":"VLOOKUP(A773,Import!A:D,4,FALSE)","v":{"$error":"#N/A"}},false]
[null,null,null,{"$f":"VLOOKUP(A774,Import!A:D,4,FALSE)","v":{"$error":"#N/A"}},false]
[null,null,null,null,false]
[null,null,null,null,false]
[null,null,null,null,false]
[null,null,null,null,false]
[null,null,null,null,false]
[null,null,null,null,false]
[null,null,null,null,false]
[null,null,null,null,false]
[null,null,null,null,false]
[null,null,null,null,false]
[null,null,null,null,false]
[null,null,null,null,false]
[null,null,null,null,false]
[null,null,null,null,false]
[null,null,null,null,false]
[null,null,null,null,false]
[null,null,null,null,false]
[null,null,null,null,false]
[null,null,null,null,false]
[null,null,null,null,false]
[null,null,null,null,false]
[null,null,null,null,false]
[null,null,null,null,false]
[null,null,null,null,false]
[null,null,null,null,false]
[null,null,null,null,false]
[null,null,null,null,false]
[null,null,null,null,false]
[null,null,null,null,false]
[null,null,null,null,false]
[null,null,null,null,false]
[null,null,null,null,false]
[null,null,null,null,false]
[null,null,null,null,false]
[null,null,null,null,false]
[null,null,null,null,false]
[null,null,null,null,false]
[null,null,null,null,false]
[null,null,null,null,false]
[null,null,null,null,false]
[null,null,null,null,false]
[null,null,null,null,false]
[null,null,null,null,false]
[null,null,null,null,false]
[null,null,null,null,false]
[null,null,null,null,false]
[null,null,null,null,false]
[null,null,null,null,false]
[null,null,null,null,false]
[null,null,null,null,false]
[null,null,null,null,false]
[null,null,null,null,false]
[null,null,null,null,false]
[null,null,null,null,false]
[null,null,null,null,false]
[null,null,null,null,false]
[null,null,null,null,false]
[null,null,null,null,false]
[null,null,null,null,false]
[null,null,null,null,false]
[null,null,null,null,false]
[null,null,null,null,false]
[null,null,null,null,false]
[null,null,null,null,false]
[null,null,null,null,false]
[null,null,null,null,false]
[null,null,null,null,false]
[null,null,null,null,false]
[null,null,null,null,false]
[null,null,null,null,false]
[null,null,null,null,false]
[null,null,null,null,false]
[null,null,null,null,false]
[null,null,null,null,false]
[null,null,null,null,false]
[null,null,null,null,false]
[null,null,null,null,false]
[null,null,null,null,false]
[null,null,null,null,false]
[null,null,null,null,false]
[null,null,null,null,false]
[null,null,null,null,false]
[null,null,null,null,false]
[null,null,null,null,false]
[null,null,null,null,false]
[null,null,null,null,false]
[null,null,null,null,false]
[null,null,null,null,false]
[null,null,null,null,false]
[null,null,null,null,false]
[null,null,null,null,false]
[null,null,null,null,false]
[null,null,null,null,false]
[null,null,null,null,false]
[null,null,null,null,false]
[null,null,null,null,false]
[null,null,null,null,false]
[null,null,null,null,false]
[null,null,null,null,false]
[null,null,null,null,false]
[null,null,null,null,false]
[null,null,null,null,false]
[null,null,null,null,false]
[null,null,null,null,false]
[null,null,null,null,false]
[null,null,null,null,false]
[null,null,null,null,false]
[null,null,null,null,false]
[null,null,null,null,false]
[null,null,null,null,false]
[null,null,null,null,false]
[null,null,null,null,false]
[null,null,null,null,false]
[null,null,null,null,false]
[null,null,null,null,false]
[null,null,null,null,false]
[null,null,null,null,false]
[null,null,null,null,false]
[null,null,null,null,false]
[null,null,null,null,false]
[null,null,null,null,false]
[null,null,null,null,false]
[null,null,null,null,false]
[null,null,null,null,false]
[null,null,null,null,false]
[null,null,null,null,false]
[null,null,null,null,false]
[null,null,null,null,false]
[null,null,null,null,false]
[null,null,null,null,false]
[null,null,null,null,false]
[null,null,null,null,false]
[null,null,null,null,false]
[null,null,null,null,false]
[null,null,null,null,false]
[null,null,null,null,false]
[null,null,null,null,false]
[null,null,null,null,false]
[null,null,null,null,false]
[null,null,null,null,false]
[null,null,null,null,false]
[null,null,null,null,false]
[null,null,null,null,false]
[null,null,null,null,false]
[null,null,null,null,false]
[null,null,null,null,false]
[null,null,null,null,false]
[null,null,null,null,false]
[null,null,null,null,false]
[null,null,null,null,false]
[null,null,null,null,false]
[null,null,null,null,false]
[null,null,null,null,false]
[null,null,null,null,false]
[null,null,null,null,false]
[null,null,null,null,false]
[null,null,null,null,false]
[null,null,null,null,false]
[null,null,null,null,false]
[null,null,null,null,false]
[null,null,null,null,false]
[null,null,null,null,false]
[null,null,null,null,false]
[null,null,null,null,false]
[null,null,null,null,false]
[null,null,null,null,false]
[null,null,null,null,false]
[null,null,null,null,false]
[null,null,null,null,false]
[null,null,null,null,false]
[null,null,null,null,false]
[null,null,null,null,false]
[null,null,null,null,false]
[null,null,null,null,false]
[null,null,null,null,false]
[null,null,null,null,false]
[null,null,null,null,false]
[null,null,null,null,false]
[null,null,null,null,false]
[null,null,null,null,false]
[null,null,null,null,false]
[null,null,null,null,false]
[null,null,null,null,false]
[null,null,null,null,false]
[null,null,null,null,false]
[null,null,null,null,false]
[null,null,null,null,false]
[null,null,null,null,false]
[null,null,null,null,false]
[null,null,null,null,false]
[null,null,null,null,false]
[null,null,null,null,false]
[null,null,null,null,false]
[null,null,null,null,false]
[null,null,null,null,false]
[null,null,null,null,false]
[null,null,null,null,false]
[null,null,null,null,false]
[null,null,null,null,false]
[null,null,null,null,false]
[null,null,null,null,false]
[null,null,null,null,false]
[null,null,null,null,false]
[null,null,null,null,false]
[null,null,null,null,false]
[null,null,null,null,false]
[null,null,null,null,false]
[null,null,null,null,false]
[null,null,null,null,false]
[null,null,null,null,false]
[null,null,null,null,false]
[null,null,null,null,false]
[null,null,null,null,false]
[null,null,null,null,false]
[null,null,null,null,false]
[null,null,null,null,false]
[null,null,null,null,false]
[null,null,null,null,false]
[null,null,null,null,false]
[null,null,null,null,false]
[null,null,null,null,false]
[null,null,null,null,false]
[null,null,null,null,false]
[null,null,null,null,false]
[null,null,null,null,false]
[null,null,null,null,false]
[null,null,null,null,false]
[null,null,null,null,false]

{"sheet":"Zéro déchets","index":10,"n_rows":600,"n_cols":10,"rows_kept":600,"cut":false,"hidden":false,"merged":[]}
["Accessoires \nZéro déchet ","💶\nPrix de vente","⚖️ \nPrix au kilo","Grandes Catégories",null,"⚖️ \nQuantité","Quantité format formule","Quantité en format nombre","💰 \nMontant","🇫🇷 \nProvenance"]
["Abricots secs","13,90€ / kg","13.9",{"$f":"VLOOKUP(A2,Import!A:D,4,FALSE)","v":"Alimentaire Vrac"},null,0,1,{"$f":"IFERROR(__xludf.DUMMYFUNCTION(\"TO_PURE_NUMBER(G2)\"),0)","v":0},{"$f":"H2*C2","v":{"$error":"#VALUE!"}}]
["Ail des Ours ","135€ / kg","120",{"$f":"VLOOKUP(A3,Import!A:D,4,FALSE)","v":"Alimentaire Vrac"},null,0,1,{"$f":"IFERROR(__xludf.DUMMYFUNCTION(\"TO_PURE_NUMBER(G3)\"),0)","v":0},0]
["Ail en Granulé ","50€ / kg","50",{"$f":"VLOOKUP(A4,Import!A:D,4,FALSE)","v":"Alimentaire Vrac"},null,0,1,{"$f":"IFERROR(__xludf.DUMMYFUNCTION(\"TO_PURE_NUMBER(G4)\"),0)","v":0},0]
["Ail en Poudre ","50€ / kg","50",{"$f":"VLOOKUP(A5,Import!A:D,4,FALSE)","v":"Alimentaire Vrac"},null,0,1,{"$f":"IFERROR(__xludf.DUMMYFUNCTION(\"TO_PURE_NUMBER(G5)\"),0)","v":0},0]
["Amandes Blanches entières ","19,9€ / kg","19.9",{"$f":"VLOOKUP(A6,Import!A:D,4,FALSE)","v":0},null,0,1,{"$f":"IFERROR(__xludf.DUMMYFUNCTION(\"TO_PURE_NUMBER(G6)\"),0)","v":0},{"$error":"#VALUE!"}]
["Amandes Caramel Chocolat","35€ / kg","35",{"$f":"VLOOKUP(A7,Import!A:D,4,FALSE)","v":"Alimentaire Vrac"},null,0,1,{"$f":"IFERROR(__xludf.DUMMYFUNCTION(\"TO_PURE_NUMBER(G7)\"),0)","v":0},0]
["Amandes Coco Miel ","35€ / kg","35",{"$f":"VLOOKUP(A8,Import!A:D,4,FALSE)","v":"Alimentaire Vrac"},null,0,1,{"$f":"IFERROR(__xludf.DUMMYFUNCTION(\"TO_PURE_NUMBER(G8)\"),0)","v":0},0]
["Amandes Décortiquées entières ","19,9€ / kg","19.9",{"$f":"VLOOKUP(A9,Import!A:D,4,FALSE)","v":"Alimentaire Vrac"},null,0,1,{"$f":"IFERROR(__xludf.DUMMYFUNCTION(\"TO_PURE_NUMBER(G9)\"),0)","v":0},{"$error":"#VALUE!"}]
["Amandes Sésame Miel","35€/kg",35,{"$f":"VLOOKUP(A10,Import!A:D,4,FALSE)","v":"Alimentaire Vrac"},null,0,1,{"$f":"IFERROR(__xludf.DUMMYFUNCTION(\"TO_PURE_NUMBER(G10)\"),0)","v":0},0]
["Amidon de maïs","5,50€ / kg","5.5",{"$f":"VLOOKUP(A11,Import!A:D,4,FALSE)","v":"Alimentaire Vrac"},null,0,1,{"$f":"IFERROR(__xludf.DUMMYFUNCTION(\"TO_PURE_NUMBER(G11)\"),0)","v":0},{"$error":"#VALUE!"}]
["Après shampoing Solide - Cheveux abimés & secs - 80g ",12.5,"12.5",{"$f":"VLOOKUP(A12,Import!A:D,4,FALSE)","v":"Produits d'hygiène coporelle"},null,0,1,{"$f":"IFERROR(__xludf.DUMMYFUNCTION(\"TO_PURE_NUMBER(G12)\"),0)","v":0},{"$error":"#VALUE!"}]
["Après shampoing Solide - Cheveux abîmés & secs - sans HE - 80g ",12.5,"12.5",{"$f":"VLOOKUP(A13,Import!A:D,4,FALSE)","v":"Produits d'hygiène coporelle"},null,0,1,{"$f":"IFERROR(__xludf.DUMMYFUNCTION(\"TO_PURE_NUMBER(G13)\"),0)","v":0},{"$error":"#VALUE!"}]
["Après shampoing Solide - démélant - Lamazuna",12.5,"12.5",{"$f":"VLOOKUP(A14,Import!A:D,4,FALSE)","v":0},null,0,1,{"$f":"IFERROR(__xludf.DUMMYFUNCTION(\"TO_PURE_NUMBER(G14)\"),0)","v":0},{"$error":"#VALUE!"}]
["Après shampoing Solide - Nourrissant & démêlant - 80g ",12.5,"12.5",{"$f":"VLOOKUP(A15,Import!A:D,4,FALSE)","v":"Produits d'hygiène coporelle"},null,0,1,{"$f":"IFERROR(__xludf.DUMMYFUNCTION(\"TO_PURE_NUMBER(G15)\"),0)","v":0},{"$error":"#VALUE!"}]
["Après shampoing Vrac - Huile d’argan","29,00 € / kg","29",{"$f":"VLOOKUP(A16,Import!A:D,4,FALSE)","v":"Produits d'hygiène coporelle"},null,0,1,{"$f":"IFERROR(__xludf.DUMMYFUNCTION(\"TO_PURE_NUMBER(G16)\"),0)","v":0},0]
["Arachides décortiquées grillées nature","12€ / kg","12",{"$f":"VLOOKUP(A17,Import!A:D,4,FALSE)","v":"Alimentaire Vrac"},null,0,1,{"$f":"IFERROR(__xludf.DUMMYFUNCTION(\"TO_PURE_NUMBER(G17)\"),0)","v":0},0]
["Assouplissant - Vrac","5,00€","5",{"$f":"VLOOKUP(A18,Import!A:D,4,FALSE)","v":"Produits d'entretiens"},null,0,1,{"$f":"IFERROR(__xludf.DUMMYFUNCTION(\"TO_PURE_NUMBER(G18)\"),0)","v":0},0]
["Baies de Goji","29,90€","29.90",{"$f":"VLOOKUP(A19,Import!A:D,4,FALSE)","v":"Alimentaire Vrac"},null,0,1,{"$f":"IFERROR(__xludf.DUMMYFUNCTION(\"TO_PURE_NUMBER(G19)\"),0)","v":0},{"$error":"#VALUE!"}]
["Basilic Feuilles","27,00€ / kg","27",{"$f":"VLOOKUP(A20,Import!A:D,4,FALSE)","v":"Alimentaire Vrac"},null,0,1,{"$f":"IFERROR(__xludf.DUMMYFUNCTION(\"TO_PURE_NUMBER(G20)\"),0)","v":0},0]
["Baume à Barbe",13.9,"13.9",{"$f":"VLOOKUP(A21,Import!A:D,4,FALSE)","v":"Produits d'hygiène coporelle"},null,0,1,{"$f":"IFERROR(__xludf.DUMMYFUNCTION(\"TO_PURE_NUMBER(G21)\"),0)","v":0},{"$error":"#VALUE!"}]
["Baume à lèvre Agrumes - Endro","7,50€","7.5",{"$f":"VLOOKUP(A22,Import!A:D,4,FALSE)","v":"Produits d'hygiène coporelle"},null,0,1,{"$f":"IFERROR(__xludf.DUMMYFUNCTION(\"TO_PURE_NUMBER(G22)\"),0)","v":0},{"$error":"#VALUE!"}]
["Baume à lèvre Fruits Rouges - Endro","7,50€","7.5",{"$f":"VLOOKUP(A23,Import!A:D,4,FALSE)","v":"Produits d'hygiène coporelle"},null,0,1,{"$f":"IFERROR(__xludf.DUMMYFUNCTION(\"TO_PURE_NUMBER(G23)\"),0)","v":0},{"$error":"#VALUE!"}]
["Baume Mini  Multi-usages Fleurs d’été - Clemence & Vivien ","5,90€","5.9",{"$f":"VLOOKUP(A24,Import!A:D,4,FALSE)","v":"Produits d'hygiène coporelle"},null,0,1,{"$f":"IFERROR(__xludf.DUMMYFUNCTION(\"TO_PURE_NUMBER(G24)\"),0)","v":0},{"$error":"#VALUE!"},{"$f":"VLOOKUP(A24,Import!A:N,13)","v":"Clémence & Vivien"}]
["Baume Mini Multi-usages Lait d’amande - Clemence & Vivien ","5,90€","5.9",{"$f":"VLOOKUP(A25,Import!A:D,4,FALSE)","v":"Produits d'hygiène coporelle"},null,0,1,{"$f":"IFERROR(__xludf.DUMMYFUNCTION(\"TO_PURE_NUMBER(G25)\"),0)","v":0},{"$error":"#VALUE!"}]
["Baume Multi-usages Fleurs d’été - Clemence & Vivien ",12.5,"12.5",{"$f":"VLOOKUP(A26,Import!A:D,4,FALSE)","v":"Produits d'hygiène coporelle"},null,0,1,{"$f":"IFERROR(__xludf.DUMMYFUNCTION(\"TO_PURE_NUMBER(G26)\"),0)","v":0},{"$error":"#VALUE!"}]
["Baume Multi-usages Lait d’amande - Clemence & Vivien ",12.5,"11.9",{"$f":"VLOOKUP(A27,Import!A:D,4,FALSE)","v":"Produits d'hygiène coporelle"},null,0,1,{"$f":"IFERROR(__xludf.DUMMYFUNCTION(\"TO_PURE_NUMBER(G27)\"),0)","v":0},{"$error":"#VALUE!"}]
["Bavoir - Petit","9,50€","9,5",{"$f":"VLOOKUP(A28,Import!A:D,4,FALSE)","v":"Zéros déchets et Bocaux"},null,0,{"$f":"F28","v":0},{"$f":"G28","v":0},0,{"$f":"VLOOKUP(A28,Import!A:N,14)","v":"🇫🇷 France - Annemasse (74)"}]
["Beurre de cacahuètes - Chocolat Lait - Go Nuts - 270g","6,50€","6.50",{"$f":"VLOOKUP(A29,Import!A:D,4,FALSE)","v":"Alimentaire Conditionné"},null,0,1,{"$f":"IFERROR(__xludf.DUMMYFUNCTION(\"TO_PURE_NUMBER(G29)\"),0)","v":0},{"$error":"#VALUE!"}]
["Beurre de cacahuètes - Chocolat Noir - Go Nuts - 500g",8.9,"8.90",{"$f":"VLOOKUP(A30,Import!A:D,4,FALSE)","v":"Alimentaire Conditionné"},null,0,1,{"$f":"IFERROR(__xludf.DUMMYFUNCTION(\"TO_PURE_NUMBER(G30)\"),0)","v":0},{"$error":"#VALUE!"}]
["Beurre de cacahuètes - Go Nuts - 270g","4,95 €","4.95",{"$f":"VLOOKUP(A31,Import!A:D,4,FALSE)","v":"Alimentaire Conditionné"},null,0,1,{"$f":"IFERROR(__xludf.DUMMYFUNCTION(\"TO_PURE_NUMBER(G31)\"),0)","v":0},{"$error":"#VALUE!"}]
["Beurre de cacahuètes - Go Nuts - 500g","8,90 €","8.9",{"$f":"VLOOKUP(A32,Import!A:D,4,FALSE)","v":"Alimentaire Conditionné"},null,0,1,{"$f":"IFERROR(__xludf.DUMMYFUNCTION(\"TO_PURE_NUMBER(G32)\"),0)","v":0},{"$error":"#VALUE!"}]
["Beurre de cacahuètes Extra Crunchy - Go Nuts - 270g","4,90 €","4.9",{"$f":"VLOOKUP(A33,Import!A:D,4,FALSE)","v":"Alimentaire Conditionné"},null,0,1,{"$f":"IFERROR(__xludf.DUMMYFUNCTION(\"TO_PURE_NUMBER(G33)\"),0)","v":0},{"$error":"#VALUE!"}]
["Beurre de cacao Iris - pour le corps - Lamazuna","8,50 €","8.5",{"$f":"VLOOKUP(A34,Import!A:D,4,FALSE)","v":"Produits d'hygiène coporelle"},null,0,1,{"$f":"IFERROR(__xludf.DUMMYFUNCTION(\"TO_PURE_NUMBER(G34)\"),0)","v":0},{"$error":"#VALUE!"}]
["Bicarbonate de soude - Vrac","4,90 € / kg","4.9",{"$f":"VLOOKUP(A35,Import!A:D,4,FALSE)","v":"Produits d'entretiens"},null,0,1,{"$f":"IFERROR(__xludf.DUMMYFUNCTION(\"TO_PURE_NUMBER(G35)\"),0)","v":0},{"$error":"#VALUE!"}]
["Biere Blanche - La St Bonn’Beer - 33cl","3,00 €","3",{"$f":"VLOOKUP(A36,Import!A:D,4,FALSE)","v":"Boissons conditionnées"},null,0,1,{"$f":"IFERROR(__xludf.DUMMYFUNCTION(\"TO_PURE_NUMBER(G36)\"),0)","v":0},0]
["Biere Blanche - La St Bonn’Beer - 75cl","6,50 €","6.5",{"$f":"VLOOKUP(A37,Import!A:D,4,FALSE)","v":"Boissons conditionnées"},null,0,1,{"$f":"IFERROR(__xludf.DUMMYFUNCTION(\"TO_PURE_NUMBER(G37)\"),0)","v":0},{"$error":"#VALUE!"}]
["Biere Blonde - La Promesse - 33cl","3,00 €","3",{"$f":"VLOOKUP(A38,Import!A:D,4,FALSE)","v":"Boissons conditionnées"},null,0,1,{"$f":"IFERROR(__xludf.DUMMYFUNCTION(\"TO_PURE_NUMBER(G38)\"),0)","v":0},0]
["Biere Blonde - La Promesse - 75cl","6,50 €","6.5",{"$f":"VLOOKUP(A39,Import!A:D,4,FALSE)","v":"Boissons conditionnées"},null,0,1,{"$f":"IFERROR(__xludf.DUMMYFUNCTION(\"TO_PURE_NUMBER(G39)\"),0)","v":0},{"$error":"#VALUE!"}]
["Biere IPA - La Collector - 33cl","3,00 €","3",{"$f":"VLOOKUP(A40,Import!A:D,4,FALSE)","v":"Boissons conditionnées"},null,0,1,{"$f":"IFERROR(__xludf.DUMMYFUNCTION(\"TO_PURE_NUMBER(G40)\"),0)","v":0},0]
["Biere IPA - La Collector- 75cl","6,50 €","6.5",{"$f":"VLOOKUP(A41,Import!A:D,4,FALSE)","v":"Boissons conditionnées"},null,0,1,{"$f":"IFERROR(__xludf.DUMMYFUNCTION(\"TO_PURE_NUMBER(G41)\"),0)","v":0},{"$error":"#VALUE!"}]
["Biere IPA - La Gonette - 33cl","3,00 €","3",{"$f":"VLOOKUP(A42,Import!A:D,4,FALSE)","v":"Boissons conditionnées"},null,0,1,{"$f":"IFERROR(__xludf.DUMMYFUNCTION(\"TO_PURE_NUMBER(G42)\"),0)","v":0},0]
["Biere IPA - La Gonette - 75cl","6,50 €","6.5",{"$f":"VLOOKUP(A43,Import!A:D,4,FALSE)","v":"Boissons conditionnées"},null,0,1,{"$f":"IFERROR(__xludf.DUMMYFUNCTION(\"TO_PURE_NUMBER(G43)\"),0)","v":0},{"$error":"#VALUE!"}]
["Biscuits 1péro -Tortillas ","29€/kg","29",{"$f":"VLOOKUP(A44,Import!A:D,4,FALSE)","v":"Alimentaire Vrac"},null,0,1,{"$f":"IFERROR(__xludf.DUMMYFUNCTION(\"TO_PURE_NUMBER(G44)\"),0)","v":0},0]
["Biscuits Apéro - Cumin & pois chiches","30,00€ / kg","30",{"$f":"VLOOKUP(A45,Import!A:D,4,FALSE)","v":"Alimentaire Vrac"},null,0,1,{"$f":"IFERROR(__xludf.DUMMYFUNCTION(\"TO_PURE_NUMBER(G45)\"),0)","v":0},0]
["Biscuits Apéro - Gruyère","30,50€ / kg","30.5",{"$f":"VLOOKUP(A46,Import!A:D,4,FALSE)","v":"Alimentaire Vrac"},null,0,1,{"$f":"IFERROR(__xludf.DUMMYFUNCTION(\"TO_PURE_NUMBER(G46)\"),0)","v":0},{"$error":"#VALUE!"}]
["Biscuits Apéro - Noix de Cajou - Curry","34,50€ / kg","34.5",{"$f":"VLOOKUP(A47,Import!A:D,4,FALSE)","v":"Alimentaire Vrac"},null,0,1,{"$f":"IFERROR(__xludf.DUMMYFUNCTION(\"TO_PURE_NUMBER(G47)\"),0)","v":0},{"$error":"#VALUE!"}]
["Biscuits Apéro - Noix de Cajou - Herbes de Provence","34,50€ / kg","34.5",{"$f":"VLOOKUP(A48,Import!A:D,4,FALSE)","v":"Alimentaire Vrac"},null,0,1,{"$f":"IFERROR(__xludf.DUMMYFUNCTION(\"TO_PURE_NUMBER(G48)\"),0)","v":0},{"$error":"#VALUE!"}]
["Biscuits Apéro - Noix de Cajou - Parmesan","34,50€ / kg","34.5",{"$f":"VLOOKUP(A49,Import!A:D,4,FALSE)","v":"Alimentaire Vrac"},null,0,1,{"$f":"IFERROR(__xludf.DUMMYFUNCTION(\"TO_PURE_NUMBER(G49)\"),0)","v":0},{"$error":"#VALUE!"}]
["Biscuits Apéro - Noix de Cajou - Poivre de Kampot","34,50€ / kg","34.5",{"$f":"VLOOKUP(A50,Import!A:D,4,FALSE)","v":"Alimentaire Vrac"},null,0,1,{"$f":"IFERROR(__xludf.DUMMYFUNCTION(\"TO_PURE_NUMBER(G50)\"),0)","v":0},{"$error":"#VALUE!"}]
["Biscuits Apéro - Noix de Cajou - Sweet chili","34,50€ / kg","34.5",{"$f":"VLOOKUP(A51,Import!A:D,4,FALSE)","v":"Alimentaire Vrac"},null,0,1,{"$f":"IFERROR(__xludf.DUMMYFUNCTION(\"TO_PURE_NUMBER(G51)\"),0)","v":0},{"$error":"#VALUE!"}]
["Biscuits Apéro - Noix de Cajou - Tandoori","34,50€ / kg","34.5",{"$f":"VLOOKUP(A52,Import!A:D,4,FALSE)","v":"Alimentaire Vrac"},null,0,1,{"$f":"IFERROR(__xludf.DUMMYFUNCTION(\"TO_PURE_NUMBER(G52)\"),0)","v":0},{"$error":"#VALUE!"}]
["Biscuits Apéro - Oignon & Paprika","30,00€ / kg","30",{"$f":"VLOOKUP(A53,Import!A:D,4,FALSE)","v":"Alimentaire Vrac"},null,0,1,{"$f":"IFERROR(__xludf.DUMMYFUNCTION(\"TO_PURE_NUMBER(G53)\"),0)","v":0},0]
["Biscuits Apéro - Tomate & Oignons","30,00€ / kg","30",{"$f":"VLOOKUP(A54,Import!A:D,4,FALSE)","v":"Alimentaire Vrac"},null,0,1,{"$f":"IFERROR(__xludf.DUMMYFUNCTION(\"TO_PURE_NUMBER(G54)\"),0)","v":0},0]
["Biscuits P’tit Dej - Avoine Miel","18,00€ / kg","18",{"$f":"VLOOKUP(A55,Import!A:D,4,FALSE)","v":"Alimentaire Vrac"},null,0,1,{"$f":"IFERROR(__xludf.DUMMYFUNCTION(\"TO_PURE_NUMBER(G55)\"),0)","v":0},0]
["Biscuits P’tit Dej - Cacao & Pépites de Chocolat","18,00€ / kg","18",{"$f":"VLOOKUP(A56,Import!A:D,4,FALSE)","v":"Alimentaire Vrac"},null,0,1,{"$f":"IFERROR(__xludf.DUMMYFUNCTION(\"TO_PURE_NUMBER(G56)\"),0)","v":0},0]
["Biscuits salés - Moutarde à l’ancienne","30,50€ / kg","30.5",{"$f":"VLOOKUP(A57,Import!A:D,4,FALSE)","v":0},null,0,1,{"$f":"IFERROR(__xludf.DUMMYFUNCTION(\"TO_PURE_NUMBER(G57)\"),0)","v":0},{"$error":"#VALUE!"},{"$f":"VLOOKUP(A57,Import!A:N,14)","v":"🇫🇷 France - Hurigny (71)"}]
["Biscuits Sucrés - Chocolat","25,00€ / kg","25",{"$f":"VLOOKUP(A58,Import!A:D,4,FALSE)","v":"Alimentaire Vrac"},null,0,1,{"$f":"IFERROR(__xludf.DUMMYFUNCTION(\"TO_PURE_NUMBER(G58)\"),0)","v":0},0,{"$f":"VLOOKUP(A58,Import!A:N,14)","v":"🇫🇷 France - Hurigny (71)"}]
["Biscuits sucrés - Cookies Vegan bio","23,00€ / kg","23",{"$f":"VLOOKUP(A59,Import!A:D,4,FALSE)","v":"Alimentaire Vrac"},null,0,1,{"$f":"IFERROR(__xludf.DUMMYFUNCTION(\"TO_PURE_NUMBER(G59)\"),0)","v":0},0,{"$f":"VLOOKUP(A59,Import!A:N,14)","v":"🇫🇷 France"}]
["Biscuits Sucrés - Nature au Beurre","30,00€ / kg","30",{"$f":"VLOOKUP(A60,Import!A:D,4,FALSE)","v":"Alimentaire Vrac"},null,0,1,{"$f":"IFERROR(__xludf.DUMMYFUNCTION(\"TO_PURE_NUMBER(G60)\"),0)","v":0},0,{"$f":"VLOOKUP(A60,Import!A:N,13)","v":"Croquelicot"}]
["Biscuits Sucrés - Pomme au beurre ","25,00€ / kg","25",{"$f":"VLOOKUP(A61,Import!A:D,4,FALSE)","v":"Alimentaire Vrac"},null,0,1,{"$f":"IFERROR(__xludf.DUMMYFUNCTION(\"TO_PURE_NUMBER(G61)\"),0)","v":0},0,{"$f":"VLOOKUP(A61,Import!A:N,14)","v":"🇫🇷 France - Hurigny (71)"}]
["Biscuits Sucrés - Sans Gluten - Choco Noisette","30,00€ / kg",30,{"$f":"VLOOKUP(A62,Import!A:D,4,FALSE)","v":"Alimentaire Vrac"},null,0,1,{"$f":"IFERROR(__xludf.DUMMYFUNCTION(\"TO_PURE_NUMBER(G62)\"),0)","v":0},0,{"$f":"VLOOKUP(A62,Import!A:N,13)","v":0}]
["Biscuits Sucrés - Sans Gluten - Figue","30,00€ / kg",30,{"$f":"VLOOKUP(A63,Import!A:D,4,FALSE)","v":"Alimentaire Vrac"},null,0,1,{"$f":"IFERROR(__xludf.DUMMYFUNCTION(\"TO_PURE_NUMBER(G63)\"),0)","v":0},0,{"$f":"VLOOKUP(A63,Import!A:N,13)","v":0}]
["Blanc de Blanc du Jura - Jacquier",9.5,"9.50",{"$f":"VLOOKUP(A64,Import!A:D,4,FALSE)","v":"Boissons conditionnées"},null,0,1,{"$f":"IFERROR(__xludf.DUMMYFUNCTION(\"TO_PURE_NUMBER(G64)\"),0)","v":0},{"$error":"#VALUE!"}]
["Blé Pré cuit mondé","4,00€ / kg","4",{"$f":"VLOOKUP(A65,Import!A:D,4,FALSE)","v":"Alimentaire Vrac"},null,0,1,{"$f":"IFERROR(__xludf.DUMMYFUNCTION(\"TO_PURE_NUMBER(G65)\"),0)","v":0},0]
["Bocal - Asperges vertes - 185g","4,90€","4.9",{"$f":"VLOOKUP(A66,Import!A:D,4,FALSE)","v":"Alimentaire Conditionné"},null,0,1,{"$f":"IFERROR(__xludf.DUMMYFUNCTION(\"TO_PURE_NUMBER(G66)\"),0)","v":0},{"$f":"H66*C66","v":{"$error":"#VALUE!"}}]
["Bocal - Chili végétarien - 355g","4,50 €","4.5",{"$f":"VLOOKUP(A67,Import!A:D,4,FALSE)","v":"Alimentaire Conditionné"},null,0,1,{"$f":"IFERROR(__xludf.DUMMYFUNCTION(\"TO_PURE_NUMBER(G67)\"),0)","v":0},{"$error":"#VALUE!"}]
["Bocal - Chili végétarien - 670g","5,95 €","5.95",{"$f":"VLOOKUP(A68,Import!A:D,4,FALSE)","v":"Alimentaire Conditionné"},null,0,1,{"$f":"IFERROR(__xludf.DUMMYFUNCTION(\"TO_PURE_NUMBER(G68)\"),0)","v":0},{"$error":"#VALUE!"}]
["Bocal - Cocotte Indienne haricots blancs, riz complet, tofu - 360g","4,50 €","4.5",{"$f":"VLOOKUP(A69,Import!A:D,4,FALSE)","v":"Alimentaire Conditionné"},null,0,1,{"$f":"IFERROR(__xludf.DUMMYFUNCTION(\"TO_PURE_NUMBER(G69)\"),0)","v":0},{"$error":"#VALUE!"},{"$f":"VLOOKUP(A69,Import!A:N,14)","v":"🇫🇷 France "}]
["Bocal - Couscous aux 7 légumes - 1kg","6,95 €","6.95",{"$f":"VLOOKUP(A70,Import!A:D,4,FALSE)","v":"Alimentaire Conditionné"},null,0,1,{"$f":"IFERROR(__xludf.DUMMYFUNCTION(\"TO_PURE_NUMBER(G70)\"),0)","v":0},{"$error":"#VALUE!"}]
["Bocal - Curry d’aubergines - 345g",4.5,4.5,{"$f":"VLOOKUP(A71,Import!A:D,4,FALSE)","v":"Alimentaire Conditionné"},null,0,1,{"$f":"IFERROR(__xludf.DUMMYFUNCTION(\"TO_PURE_NUMBER(G71)\"),0)","v":0},0,{"$f":"VLOOKUP(A71,Import!A:N,13)","v":"Biodis"}]
["Bocal - Curry d’aubergines - 650g",6.5,6.5,{"$f":"VLOOKUP(A72,Import!A:D,4,FALSE)","v":"Alimentaire Conditionné"},null,0,1,{"$f":"IFERROR(__xludf.DUMMYFUNCTION(\"TO_PURE_NUMBER(G72)\"),0)","v":0},0]
["Bocal - Curry de lentilles coco - 345g","4,50 €","4.5",{"$f":"VLOOKUP(A73,Import!A:D,4,FALSE)","v":"Alimentaire Conditionné"},null,0,1,{"$f":"IFERROR(__xludf.DUMMYFUNCTION(\"TO_PURE_NUMBER(G73)\"),0)","v":0},{"$error":"#VALUE!"},{"$f":"VLOOKUP(A73,Import!A:N,14)","v":"🇫🇷 France"}]
["Bocal - Epinards en branches - 445g","6,20 €","6.2",{"$f":"VLOOKUP(A74,Import!A:D,4,FALSE)","v":"Alimentaire Conditionné"},null,0,1,{"$f":"IFERROR(__xludf.DUMMYFUNCTION(\"TO_PURE_NUMBER(G74)\"),0)","v":0},{"$error":"#VALUE!"}]
["Bocal - Flageolets Demeter - 215g","3,30€","3.3",{"$f":"VLOOKUP(A75,Import!A:D,4,FALSE)","v":"Alimentaire Conditionné"},null,0,1,{"$f":"IFERROR(__xludf.DUMMYFUNCTION(\"TO_PURE_NUMBER(G75)\"),0)","v":0},{"$error":"#VALUE!"}]
["Bocal - Haricots Coco - 690g","4,50€","45",{"$f":"VLOOKUP(A76,Import!A:D,4,FALSE)","v":"Alimentaire Conditionné"},null,0,1,{"$f":"IFERROR(__xludf.DUMMYFUNCTION(\"TO_PURE_NUMBER(G76)\"),0)","v":0},0,{"$f":"VLOOKUP(A76,Import!A:N,13)","v":"Biodis"}]
["Bocal - Haricots Rouges - 255g","3,20€","3.2",{"$f":"VLOOKUP(A77,Import!A:D,4,FALSE)","v":"Alimentaire Conditionné"},null,0,1,{"$f":"IFERROR(__xludf.DUMMYFUNCTION(\"TO_PURE_NUMBER(G77)\"),0)","v":0},{"$error":"#VALUE!"}]
["Bocal - Haricots verts extra fins - 345g","4,20€","4.2",{"$f":"VLOOKUP(A78,Import!A:D,4,FALSE)","v":"Alimentaire Conditionné"},null,0,1,{"$f":"IFERROR(__xludf.DUMMYFUNCTION(\"TO_PURE_NUMBER(G78)\"),0)","v":0},{"$error":"#VALUE!"},{"$f":"VLOOKUP(A78,Import!A:N,14)","v":"🇫🇷 France "}]
["Bocal - Korma de légumes 680g","6,50€","6.5",{"$f":"VLOOKUP(A79,Import!A:D,4,FALSE)","v":"Alimentaire Conditionné"},null,0,1,{"$f":"IFERROR(__xludf.DUMMYFUNCTION(\"TO_PURE_NUMBER(G79)\"),0)","v":0},{"$error":"#VALUE!"}]
["Bocal - Lentilles vertes aux petits légumes - 420g","4,50€","4.5",{"$f":"VLOOKUP(A80,Import!A:D,4,FALSE)","v":"Alimentaire Conditionné"},null,0,1,{"$f":"IFERROR(__xludf.DUMMYFUNCTION(\"TO_PURE_NUMBER(G80)\"),0)","v":0},{"$error":"#VALUE!"}]
["Bocal - Macédoine de légumes - 230g","2,90 €","2.9",{"$f":"VLOOKUP(A81,Import!A:D,4,FALSE)","v":"Alimentaire Conditionné"},null,0,1,{"$f":"IFERROR(__xludf.DUMMYFUNCTION(\"TO_PURE_NUMBER(G81)\"),0)","v":0},{"$error":"#VALUE!"},{"$f":"VLOOKUP(A81,Import!A:N,13)","v":"Biodis"}]
["Bocal - Mais doux - 240g","2,90€","2.9",{"$f":"VLOOKUP(A82,Import!A:D,4,FALSE)","v":"Alimentaire Conditionné"},null,0,1,{"$f":"IFERROR(__xludf.DUMMYFUNCTION(\"TO_PURE_NUMBER(G82)\"),0)","v":0},{"$error":"#VALUE!"}]
["Bocal - Moussaka vegan, Aubergines, soja, légumes - 345g","4,50 €","4.5",{"$f":"VLOOKUP(A83,Import!A:D,4,FALSE)","v":"Alimentaire Conditionné"},null,0,1,{"$f":"IFERROR(__xludf.DUMMYFUNCTION(\"TO_PURE_NUMBER(G83)\"),0)","v":0},{"$error":"#VALUE!"}]
["Bocal - Petits pois extra fins - 240g","3,50 €","3.5",{"$f":"VLOOKUP(A84,Import!A:D,4,FALSE)","v":"Alimentaire Conditionné"},null,0,1,{"$f":"IFERROR(__xludf.DUMMYFUNCTION(\"TO_PURE_NUMBER(G84)\"),0)","v":0},{"$error":"#VALUE!"}]
["Bocal - Petits pois extra fins - 445g","5,10 €","5.1",{"$f":"VLOOKUP(A85,Import!A:D,4,FALSE)","v":"Alimentaire Conditionné"},null,0,1,{"$f":"IFERROR(__xludf.DUMMYFUNCTION(\"TO_PURE_NUMBER(G85)\"),0)","v":0},{"$error":"#VALUE!"}]
["Bocal - Petits Pois très fins et carottes - 425g","5,50 €","5.5",{"$f":"VLOOKUP(A86,Import!A:D,4,FALSE)","v":"Alimentaire Conditionné"},null,0,1,{"$f":"IFERROR(__xludf.DUMMYFUNCTION(\"TO_PURE_NUMBER(G86)\"),0)","v":0},{"$error":"#VALUE!"}]
["Bocal - Pois Chiche - 230g","3,50 €","3.5",{"$f":"VLOOKUP(A87,Import!A:D,4,FALSE)","v":"Alimentaire Conditionné"},null,0,1,{"$f":"IFERROR(__xludf.DUMMYFUNCTION(\"TO_PURE_NUMBER(G87)\"),0)","v":0},{"$error":"#VALUE!"}]
["Bocal - Pois Chiches - 420g","5,00 €","5",{"$f":"VLOOKUP(A88,Import!A:D,4,FALSE)","v":"Alimentaire Conditionné"},null,0,1,{"$f":"IFERROR(__xludf.DUMMYFUNCTION(\"TO_PURE_NUMBER(G88)\"),0)","v":0},0]
["Bocal - Préparation  tarte aux oignons 345g","4,50€","4.5",{"$f":"VLOOKUP(A89,Import!A:D,4,FALSE)","v":"Alimentaire Conditionné"},null,0,1,{"$f":"IFERROR(__xludf.DUMMYFUNCTION(\"TO_PURE_NUMBER(G89)\"),0)","v":0},{"$error":"#VALUE!"},{"$f":"VLOOKUP(A89,Import!A:N,14)","v":"🇫🇷 France "}]
["Bocal - Préparation tarte aux poireaux 345g","4,50€","4.5",{"$f":"VLOOKUP(A90,Import!A:D,4,FALSE)","v":"Alimentaire Conditionné"},null,0,1,{"$f":"IFERROR(__xludf.DUMMYFUNCTION(\"TO_PURE_NUMBER(G90)\"),0)","v":0},{"$error":"#VALUE!"},{"$f":"VLOOKUP(A90,Import!A:N,13)","v":"Biodis"}]
["Bocal - Ratatouille à la provençale - 650g","5,10€","5.1",{"$f":"VLOOKUP(A91,Import!A:D,4,FALSE)","v":"Alimentaire Conditionné"},null,0,1,{"$f":"IFERROR(__xludf.DUMMYFUNCTION(\"TO_PURE_NUMBER(G91)\"),0)","v":0},{"$error":"#VALUE!"}]
["Bocal - Risotto d’automne -350g","4,90€","4.9",{"$f":"VLOOKUP(A92,Import!A:D,4,FALSE)","v":"Alimentaire Conditionné"},null,0,1,{"$f":"IFERROR(__xludf.DUMMYFUNCTION(\"TO_PURE_NUMBER(G92)\"),0)","v":0},{"$error":"#VALUE!"}]
["Bocal - Sauce bolognaise végétale au soja - 340g","3,30€","3.3",{"$f":"VLOOKUP(A93,Import!A:D,4,FALSE)","v":"Alimentaire Conditionné"},null,0,1,{"$f":"IFERROR(__xludf.DUMMYFUNCTION(\"TO_PURE_NUMBER(G93)\"),0)","v":0},{"$error":"#VALUE!"}]
["Bocal - Sauce Vegan - 185g","3,50€","3.5",{"$f":"VLOOKUP(A94,Import!A:D,4,FALSE)","v":"Alimentaire Conditionné"},null,0,1,{"$f":"IFERROR(__xludf.DUMMYFUNCTION(\"TO_PURE_NUMBER(G94)\"),0)","v":0},{"$error":"#VALUE!"}]
["Bocal - Tikka Masala aux légumes et pois chiches - 360g","4,50€","4.5",{"$f":"VLOOKUP(A95,Import!A:D,4,FALSE)","v":"Alimentaire Conditionné"},null,0,1,{"$f":"IFERROR(__xludf.DUMMYFUNCTION(\"TO_PURE_NUMBER(G95)\"),0)","v":0},{"$error":"#VALUE!"}]
["Bocal Haricots beurre extra fins - 180g","2,90 €","2.9",{"$f":"VLOOKUP(A96,Import!A:D,4,FALSE)","v":"Alimentaire Conditionné"},null,0,1,{"$f":"IFERROR(__xludf.DUMMYFUNCTION(\"TO_PURE_NUMBER(G96)\"),0)","v":0},{"$error":"#VALUE!"}]
["Boisson végétale - Avoine","2,10 €","2.1",{"$f":"VLOOKUP(A97,Import!A:D,4,FALSE)","v":"Boissons conditionnées"},null,0,1,{"$f":"IFERROR(__xludf.DUMMYFUNCTION(\"TO_PURE_NUMBER(G97)\"),0)","v":0},{"$error":"#VALUE!"}]
["Boisson végétale - So amande Nature UHT - 1L","2,60 €","2.6",{"$f":"VLOOKUP(A98,Import!A:D,4,FALSE)","v":"Boissons conditionnées"},null,0,1,{"$f":"IFERROR(__xludf.DUMMYFUNCTION(\"TO_PURE_NUMBER(G98)\"),0)","v":0},{"$error":"#VALUE!"}]
["Boisson végétale - Soja Nature - 1L","2,10 €","2.1",{"$f":"VLOOKUP(A99,Import!A:D,4,FALSE)","v":"Boissons conditionnées"},null,0,1,{"$f":"IFERROR(__xludf.DUMMYFUNCTION(\"TO_PURE_NUMBER(G99)\"),0)","v":0},{"$error":"#VALUE!"}]
["Boisson végétale - Sojade UHT Calcium - 1L","2,60€","2.6",{"$f":"VLOOKUP(A100,Import!A:D,4,FALSE)","v":"Boissons conditionnées"},null,0,1,{"$f":"IFERROR(__xludf.DUMMYFUNCTION(\"TO_PURE_NUMBER(G100)\"),0)","v":0},{"$error":"#VALUE!"}]
["Bol 15x7 Gravé Cap Bambou","14,90 €","14,9",{"$f":"VLOOKUP(A101,Import!A:D,4,FALSE)","v":"Zéros déchets et Bocaux"},null,0,{"$f":"F101","v":0},0,0]
["Bougies de Léa - Brûle Parfum","15,50 €","15,5",{"$f":"VLOOKUP(A102,Import!A:D,4,FALSE)","v":"Zéros déchets et Bocaux"},null,0,0,0,0]
["Bougies de Léa - Fondants Parfumés","3,50€","3,5",{"$f":"VLOOKUP(A103,Import!A:D,4,FALSE)","v":"Zéros déchets et Bocaux"},null,0,0,0,0]
["Bougies de Léa - Grandes bougies Parfumées ","18,00 €","18",{"$f":"VLOOKUP(A104,Import!A:D,4,FALSE)","v":"Zéros déchets et Bocaux"},null,0,0,0,0]
["Bougies de Léa - Petites bougies Parfumées ","11,00 €","11",{"$f":"VLOOKUP(A105,Import!A:D,4,FALSE)","v":"Zéros déchets et Bocaux"},null,0,0,0,0]
["Bougies de Léa - Suspensions parfumées","6€","6",{"$f":"VLOOKUP(A106,Import!A:D,4,FALSE)","v":"Zéros déchets et Bocaux"},null,0,0,0,0]
["Bouillon de légumes - Sans levure & huile de palme","24,00€ / kg","24",{"$f":"VLOOKUP(A107,Import!A:D,4,FALSE)","v":"Alimentaire Vrac"},null,0,1,{"$f":"IFERROR(__xludf.DUMMYFUNCTION(\"TO_PURE_NUMBER(G106)\"),0)","v":0},0]
["Boule à Thé diamètre 50mm",3.5,3.5,{"$f":"VLOOKUP(A108,Import!A:D,4,FALSE)","v":"Zéros déchets et Bocaux"},null,0,{"$f":"F108","v":0},{"$f":"G108","v":0},0]
["Boulgour","3,10€ / kg","3.1",{"$f":"VLOOKUP(A109,Import!A:D,4,FALSE)","v":"Alimentaire Vrac"},null,0,1,{"$f":"IFERROR(__xludf.DUMMYFUNCTION(\"TO_PURE_NUMBER(G108)\"),0)","v":0},{"$error":"#VALUE!"}]
["Brosse à cheveux Bébé","9,50 €","9.5",{"$f":"VLOOKUP(A110,Import!A:D,4,FALSE)","v":"Produits d'hygiène coporelle"},null,0,1,{"$f":"IFERROR(__xludf.DUMMYFUNCTION(\"TO_PURE_NUMBER(G109)\"),0)","v":0},{"$error":"#VALUE!"}]
["Brosse à cheveux Démélante","14,90 €","14.9",{"$f":"VLOOKUP(A111,Import!A:D,4,FALSE)","v":"Produits d'hygiène coporelle"},null,0,1,{"$f":"IFERROR(__xludf.DUMMYFUNCTION(\"TO_PURE_NUMBER(G110)\"),0)","v":0},{"$error":"#VALUE!"}]
["Brosse à cheveux Démélante Enfants",9.5,"9.50",{"$f":"VLOOKUP(A112,Import!A:D,4,FALSE)","v":"Produits d'hygiène coporelle"},null,0,1,{"$f":"IFERROR(__xludf.DUMMYFUNCTION(\"TO_PURE_NUMBER(G111)\"),0)","v":0},{"$error":"#VALUE!"}]
["Brosse à dent - Lot de 3 têtes extra souples",7.9,"7.90",{"$f":"VLOOKUP(A113,Import!A:D,4,FALSE)","v":"Produits d'hygiène coporelle"},null,0,1,{"$f":"IFERROR(__xludf.DUMMYFUNCTION(\"TO_PURE_NUMBER(G112)\"),0)","v":0},{"$error":"#VALUE!"}]
["Brosse à dent - Lot de 3 têtes medium",7.9,"7.90",{"$f":"VLOOKUP(A114,Import!A:D,4,FALSE)","v":"Produits d'hygiène coporelle"},null,0,1,{"$f":"IFERROR(__xludf.DUMMYFUNCTION(\"TO_PURE_NUMBER(G113)\"),0)","v":0},{"$error":"#VALUE!"}]
["Brosse à dent - Lot de 3 têtes souples",7.9,"7.90",{"$f":"VLOOKUP(A115,Import!A:D,4,FALSE)","v":"Produits d'hygiène coporelle"},null,0,1,{"$f":"IFERROR(__xludf.DUMMYFUNCTION(\"TO_PURE_NUMBER(G114)\"),0)","v":0},{"$error":"#VALUE!"},{"$f":"VLOOKUP(A115,Import!A:N,13)","v":0}]
["Brosse à dent à tête rechargeable - manche bioplastic",3.5,"3.50",{"$f":"VLOOKUP(A116,Import!A:D,4,FALSE)","v":"Produits d'hygiène coporelle"},null,0,1,{"$f":"IFERROR(__xludf.DUMMYFUNCTION(\"TO_PURE_NUMBER(G115)\"),0)","v":0},{"$error":"#VALUE!"}]
["Brosse à dent à tête rechargeable - manche hêtre","8,50 €","8.5",{"$f":"VLOOKUP(A117,Import!A:D,4,FALSE)","v":0},null,0,1,{"$f":"IFERROR(__xludf.DUMMYFUNCTION(\"TO_PURE_NUMBER(G116)\"),0)","v":0},{"$error":"#VALUE!"}]
["Brosse à dents adultes","3,99 €","3.99",{"$f":"VLOOKUP(A118,Import!A:D,4,FALSE)","v":0},null,0,1,{"$f":"IFERROR(__xludf.DUMMYFUNCTION(\"TO_PURE_NUMBER(G117)\"),0)","v":0},{"$error":"#VALUE!"},{"$f":"VLOOKUP(A118,Import!A:N,14)","v":"🇫🇷 France - Attignat (01)"}]
["Brosse à vaisselle - Recharges","5,50 €","5.5",{"$f":"VLOOKUP(A119,Import!A:D,4,FALSE)","v":{"$error":"#N/A"}},null,0,1,{"$f":"IFERROR(__xludf.DUMMYFUNCTION(\"TO_PURE_NUMBER(G118)\"),0)","v":0},{"$error":"#VALUE!"}]
["Brosse à vaisselle à tête rechargeable ","24,90 €","24.9",{"$f":"VLOOKUP(A120,Import!A:D,4,FALSE)","v":{"$error":"#N/A"}},null,0,1,{"$f":"IFERROR(__xludf.DUMMYFUNCTION(\"TO_PURE_NUMBER(G119)\"),0)","v":0},{"$error":"#VALUE!"}]
["Brosse à vaisselle en bois avec manche","6,50 €","6.5",{"$f":"VLOOKUP(A121,Import!A:D,4,FALSE)","v":{"$error":"#N/A"}},null,0,1,{"$f":"IFERROR(__xludf.DUMMYFUNCTION(\"TO_PURE_NUMBER(G120)\"),0)","v":0},{"$error":"#VALUE!"}]
["Brosses à dents enfants - Jaune","3,50 €","3.5",{"$f":"VLOOKUP(A122,Import!A:D,4,FALSE)","v":"Produits d'hygiène coporelle"},null,0,1,{"$f":"IFERROR(__xludf.DUMMYFUNCTION(\"TO_PURE_NUMBER(G121)\"),0)","v":0},{"$error":"#VALUE!"}]
["Brosses à dents enfants - Violet","3,50 €","3.5",{"$f":"VLOOKUP(A123,Import!A:D,4,FALSE)","v":"Produits d'hygiène coporelle"},null,0,1,{"$f":"IFERROR(__xludf.DUMMYFUNCTION(\"TO_PURE_NUMBER(G122)\"),0)","v":0},{"$error":"#VALUE!"}]
["Café - Dagosette colombie (capsule)","0,40€","0.4",{"$f":"VLOOKUP(A124,Import!A:D,4,FALSE)","v":"Boisson en vrac"},null,0,1,{"$f":"IFERROR(__xludf.DUMMYFUNCTION(\"TO_PURE_NUMBER(G123)\"),0)","v":0},{"$error":"#VALUE!"}]
["Café - Dosette Americ’ain (senseo)","0,20€ / pièce","0.2",{"$f":"VLOOKUP(A125,Import!A:D,4,FALSE)","v":"Boisson en vrac"},null,0,1,{"$f":"IFERROR(__xludf.DUMMYFUNCTION(\"TO_PURE_NUMBER(G124)\"),0)","v":0},{"$error":"#VALUE!"}]
["Café - Grains - Colombie","19,90€ / kg","19.5",{"$f":"VLOOKUP(A126,Import!A:D,4,FALSE)","v":"Boisson en vrac"},null,0,1,{"$f":"IFERROR(__xludf.DUMMYFUNCTION(\"TO_PURE_NUMBER(G125)\"),0)","v":0},{"$error":"#VALUE!"},{"$f":"VLOOKUP(A126,Import!A:N,13)","v":"Café Dagobert"}]
["Café - Grains - Moka Djimmah ","19,90€ / kg","19.5",{"$f":"VLOOKUP(A127,Import!A:D,4,FALSE)","v":"Boisson en vrac"},null,0,1,{"$f":"IFERROR(__xludf.DUMMYFUNCTION(\"TO_PURE_NUMBER(G126)\"),0)","v":0},{"$error":"#VALUE!"}]
["Cannelle en Poudre","56,00€ / kg","56",{"$f":"VLOOKUP(A128,Import!A:D,4,FALSE)","v":"Alimentaire Vrac"},null,0,1,{"$f":"IFERROR(__xludf.DUMMYFUNCTION(\"TO_PURE_NUMBER(G127)\"),0)","v":0},0]
["Cannelle en Tuyau","62,00€ / kg","62",{"$f":"VLOOKUP(A129,Import!A:D,4,FALSE)","v":"Alimentaire Vrac"},null,0,1,{"$f":"IFERROR(__xludf.DUMMYFUNCTION(\"TO_PURE_NUMBER(G128)\"),0)","v":0},0,{"$f":"VLOOKUP(A129,Import!A:N,14)","v":"🇮🇩 Indonésie "}]
["Céréales - Choco crisp ","9,50 € / kg","9.5",{"$f":"VLOOKUP(A130,Import!A:D,4,FALSE)","v":"Alimentaire Vrac"},null,0,1,{"$f":"IFERROR(__xludf.DUMMYFUNCTION(\"TO_PURE_NUMBER(G130)\"),0)","v":0},{"$f":"H130*C130","v":{"$error":"#VALUE!"}}]
["Céréales - Corn Flakes ","8,50€ / kg","8.5",{"$f":"VLOOKUP(A131,Import!A:D,4,FALSE)","v":"Alimentaire Vrac"},null,0,1,{"$f":"IFERROR(__xludf.DUMMYFUNCTION(\"TO_PURE_NUMBER(G131)\"),0)","v":0},{"$error":"#VALUE!"}]
["Céréales - Crosti Choco Noisettes ",11,"11",{"$f":"VLOOKUP(A132,Import!A:D,4,FALSE)","v":"Alimentaire Vrac"},null,0,1,{"$f":"IFERROR(__xludf.DUMMYFUNCTION(\"TO_PURE_NUMBER(G132)\"),0)","v":0},0]
["Céréales - Flocons Avoine Gros ","3,50€ / kg","3.5",{"$f":"VLOOKUP(A133,Import!A:D,4,FALSE)","v":"Alimentaire Vrac"},null,0,1,{"$f":"IFERROR(__xludf.DUMMYFUNCTION(\"TO_PURE_NUMBER(G133)\"),0)","v":0},{"$error":"#VALUE!"}]
["Céréales - Flocons Avoine Petit","2,90€ / kg","2.9",{"$f":"VLOOKUP(A134,Import!A:D,4,FALSE)","v":"Alimentaire Vrac"},null,0,1,{"$f":"IFERROR(__xludf.DUMMYFUNCTION(\"TO_PURE_NUMBER(G134)\"),0)","v":0},{"$error":"#VALUE!"}]
["Céréales - Krounchy 3 chocolats","10,00€ / kg","10",{"$f":"VLOOKUP(A135,Import!A:D,4,FALSE)","v":"Alimentaire Vrac"},null,0,1,{"$f":"IFERROR(__xludf.DUMMYFUNCTION(\"TO_PURE_NUMBER(G135)\"),0)","v":0},0]
["Céréales - Krounchy aux fruits","11,50€ / kg","11.50",{"$f":"VLOOKUP(A136,Import!A:D,4,FALSE)","v":"Alimentaire Vrac"},null,0,1,{"$f":"IFERROR(__xludf.DUMMYFUNCTION(\"TO_PURE_NUMBER(G136)\"),0)","v":0},{"$error":"#VALUE!"}]
["Céréales - Krounchy Nature","7,50€","7.50",{"$f":"VLOOKUP(A137,Import!A:D,4,FALSE)","v":"Alimentaire Vrac"},null,0,1,{"$f":"IFERROR(__xludf.DUMMYFUNCTION(\"TO_PURE_NUMBER(G137)\"),0)","v":0},{"$error":"#VALUE!"}]
["Céréales - Mops Miel","9,80€ / kg","9.8",{"$f":"VLOOKUP(A138,Import!A:D,4,FALSE)","v":"Alimentaire Vrac"},null,0,1,{"$f":"IFERROR(__xludf.DUMMYFUNCTION(\"TO_PURE_NUMBER(G138)\"),0)","v":0},{"$error":"#VALUE!"}]
["Chicorée torréfiée soluble - 200g","7,20€ / pièce","6.5",{"$f":"VLOOKUP(A139,Import!A:D,4,FALSE)","v":"Boisson en vrac"},null,0,1,{"$f":"IFERROR(__xludf.DUMMYFUNCTION(\"TO_PURE_NUMBER(G139)\"),0)","v":0},{"$error":"#VALUE!"}]
["Chips de Banane au Miel ","15,00 € / kg","15",{"$f":"VLOOKUP(A140,Import!A:D,4,FALSE)","v":"Alimentaire Vrac"},null,0,1,{"$f":"IFERROR(__xludf.DUMMYFUNCTION(\"TO_PURE_NUMBER(G140)\"),0)","v":0},0]
["Chocolat Lait - Palets","20€/ kg","16",{"$f":"VLOOKUP(A141,Import!A:D,4,FALSE)","v":"Alimentaire Vrac"},null,0,1,{"$f":"IFERROR(__xludf.DUMMYFUNCTION(\"TO_PURE_NUMBER(G141)\"),0)","v":0},0]
["Chocolat Lait - Pépites ","20,00 € / kg","20",{"$f":"VLOOKUP(A142,Import!A:D,4,FALSE)","v":"Alimentaire Vrac"},null,0,1,{"$f":"IFERROR(__xludf.DUMMYFUNCTION(\"TO_PURE_NUMBER(G142)\"),0)","v":0},0]
["Chocolat Noir - Palets","18,00 € / kg","18",{"$f":"VLOOKUP(A143,Import!A:D,4,FALSE)","v":"Alimentaire Vrac"},null,0,1,{"$f":"IFERROR(__xludf.DUMMYFUNCTION(\"TO_PURE_NUMBER(G143)\"),0)","v":0},0]
["Chocolat Noir - Pépites ","20,00 € / kg","20",{"$f":"VLOOKUP(A144,Import!A:D,4,FALSE)","v":"Alimentaire Vrac"},null,0,1,{"$f":"IFERROR(__xludf.DUMMYFUNCTION(\"TO_PURE_NUMBER(G144)\"),0)","v":0},0]
["Chocolat Noir Poudre Instantané - Cacao et Sucre","90,00 € / kg","90",{"$f":"VLOOKUP(A145,Import!A:D,4,FALSE)","v":"Alimentaire Vrac"},null,0,1,{"$f":"IFERROR(__xludf.DUMMYFUNCTION(\"TO_PURE_NUMBER(G145)\"),0)","v":0},0]
["Chouchou","4,50 €","4,5",{"$f":"VLOOKUP(A146,Import!A:D,4,FALSE)","v":"Zéros déchets et Bocaux"},null,0,{"$f":"F146","v":0},{"$f":"G146","v":0},0]
["Ciboulette Feuilles ","80,00 € / kg","80",{"$f":"VLOOKUP(A147,Import!A:D,4,FALSE)","v":"Alimentaire Vrac"},null,0,1,{"$f":"IFERROR(__xludf.DUMMYFUNCTION(\"TO_PURE_NUMBER(G147)\"),0)","v":0},0]
["Cidre Brut 75cl","5,90 €","5.9",{"$f":"VLOOKUP(A148,Import!A:D,4,FALSE)","v":"Boissons conditionnées"},null,0,1,{"$f":"IFERROR(__xludf.DUMMYFUNCTION(\"TO_PURE_NUMBER(G148)\"),0)","v":0},{"$error":"#VALUE!"}]
["Cinq baies concassées","114,00 € / kg","114",{"$f":"VLOOKUP(A149,Import!A:D,4,FALSE)","v":"Alimentaire Vrac"},null,0,1,{"$f":"IFERROR(__xludf.DUMMYFUNCTION(\"TO_PURE_NUMBER(G149)\"),0)","v":0},0]
["Citronnade pur jus de citron jaune - 75cl","3,50 €","3.5",{"$f":"VLOOKUP(A150,Import!A:D,4,FALSE)","v":"Boissons conditionnées"},null,0,1,{"$f":"IFERROR(__xludf.DUMMYFUNCTION(\"TO_PURE_NUMBER(G150)\"),0)","v":0},{"$error":"#VALUE!"}]
["Compote Allégée - Pomme Abricot - 660g","5 €","5.00",{"$f":"VLOOKUP(A151,Import!A:D,4,FALSE)","v":"Alimentaire Conditionné"},null,0,1,{"$f":"IFERROR(__xludf.DUMMYFUNCTION(\"TO_PURE_NUMBER(G151)\"),0)","v":0},{"$error":"#VALUE!"}]
["Compote Allégée - Pomme Chataigne - 660g","4,80 €","4.80 ",{"$f":"VLOOKUP(A152,Import!A:D,4,FALSE)","v":"Alimentaire Conditionné"},null,0,1,{"$f":"IFERROR(__xludf.DUMMYFUNCTION(\"TO_PURE_NUMBER(G152)\"),0)","v":0},{"$error":"#VALUE!"}]
["Compote Pomme - 480g - ","3,50 €","3.50",{"$f":"VLOOKUP(A153,Import!A:D,4,FALSE)","v":"Alimentaire Conditionné"},null,0,1,{"$f":"IFERROR(__xludf.DUMMYFUNCTION(\"TO_PURE_NUMBER(G153)\"),0)","v":0},{"$error":"#VALUE!"}]
["Compote Pomme Banane",5,"5.00",{"$f":"VLOOKUP(A154,Import!A:D,4,FALSE)","v":"Alimentaire Conditionné"},null,0,1,{"$f":"IFERROR(__xludf.DUMMYFUNCTION(\"TO_PURE_NUMBER(G154)\"),0)","v":0},{"$error":"#VALUE!"}]
["Compote Pomme Framboise - 480g ","4,50 €","4.5",{"$f":"VLOOKUP(A155,Import!A:D,4,FALSE)","v":"Alimentaire Conditionné"},null,0,1,{"$f":"IFERROR(__xludf.DUMMYFUNCTION(\"TO_PURE_NUMBER(G155)\"),0)","v":0},{"$error":"#VALUE!"}]
["Concentré de Tomate - 200g","2,30 €","2.3",{"$f":"VLOOKUP(A156,Import!A:D,4,FALSE)","v":"Alimentaire Conditionné"},null,0,1,{"$f":"IFERROR(__xludf.DUMMYFUNCTION(\"TO_PURE_NUMBER(G156)\"),0)","v":0},{"$error":"#VALUE!"}]
["Confiture Abricot - 340g ","4,90 €","4.9",{"$f":"VLOOKUP(A157,Import!A:D,4,FALSE)","v":"Alimentaire Conditionné"},null,0,1,{"$f":"IFERROR(__xludf.DUMMYFUNCTION(\"TO_PURE_NUMBER(G157)\"),0)","v":0},{"$error":"#VALUE!"}]
["Confiture de Figue 340g","4,90 €","4.9",{"$f":"VLOOKUP(A158,Import!A:D,4,FALSE)","v":"Alimentaire Conditionné"},null,0,1,{"$f":"IFERROR(__xludf.DUMMYFUNCTION(\"TO_PURE_NUMBER(G158)\"),0)","v":0},{"$error":"#VALUE!"}]
["Confiture de Fraise - 370g ","4,90 €","4.9",{"$f":"VLOOKUP(A159,Import!A:D,4,FALSE)","v":"Alimentaire Conditionné"},null,0,1,{"$f":"IFERROR(__xludf.DUMMYFUNCTION(\"TO_PURE_NUMBER(G159)\"),0)","v":0},{"$error":"#VALUE!"}]
["Confiture de Fruits des Bois 370g ","5,50 €","5.5",{"$f":"VLOOKUP(A160,Import!A:D,4,FALSE)","v":"Alimentaire Conditionné"},null,0,1,{"$f":"IFERROR(__xludf.DUMMYFUNCTION(\"TO_PURE_NUMBER(G160)\"),0)","v":0},{"$error":"#VALUE!"}]
["Confiture de Myrtille - 370g ","4,90 €","4.9",{"$f":"VLOOKUP(A161,Import!A:D,4,FALSE)","v":"Alimentaire Conditionné"},null,0,1,{"$f":"IFERROR(__xludf.DUMMYFUNCTION(\"TO_PURE_NUMBER(G161)\"),0)","v":0},{"$error":"#VALUE!"}]
["Confitures d'à côté - Abricot","6€","6",{"$f":"VLOOKUP(A162,Import!A:D,4,FALSE)","v":"Alimentaire Conditionné"},null,0,1,{"$f":"IFERROR(__xludf.DUMMYFUNCTION(\"TO_PURE_NUMBER(G162)\"),0)","v":0},0]
["Confitures d'à côté - Ananas Vanille","6€","6",{"$f":"VLOOKUP(A163,Import!A:D,4,FALSE)","v":0},null,0,1,{"$f":"IFERROR(__xludf.DUMMYFUNCTION(\"TO_PURE_NUMBER(G163)\"),0)","v":0},0,{"$f":"VLOOKUP(A163,Import!A:N,13)","v":"Les confitures d'à côté"}]
["Confitures d'à côté - Cerise","6€","6",{"$f":"VLOOKUP(A164,Import!A:D,4,FALSE)","v":0},null,0,1,{"$f":"IFERROR(__xludf.DUMMYFUNCTION(\"TO_PURE_NUMBER(G164)\"),0)","v":0},0]
["Confitures d'à côté - Clémentine","6€","6",{"$f":"VLOOKUP(A165,Import!A:D,4,FALSE)","v":0},null,0,1,{"$f":"IFERROR(__xludf.DUMMYFUNCTION(\"TO_PURE_NUMBER(G165)\"),0)","v":0},0]
["Confitures d'à côté - Figue pointe de vanille","6€","6",{"$f":"VLOOKUP(A166,Import!A:D,4,FALSE)","v":"Alimentaire Conditionné"},null,0,1,{"$f":"IFERROR(__xludf.DUMMYFUNCTION(\"TO_PURE_NUMBER(G166)\"),0)","v":0},0]
["Confitures d'à côté - Kiwi Ananas","6€","6",{"$f":"VLOOKUP(A167,Import!A:D,4,FALSE)","v":"Alimentaire Conditionné"},null,0,1,{"$f":"IFERROR(__xludf.DUMMYFUNCTION(\"TO_PURE_NUMBER(G167)\"),0)","v":0},0]
["Confitures d'à côté - Mirabelle ","6€","6",{"$f":"VLOOKUP(A168,Import!A:D,4,FALSE)","v":0},null,0,1,{"$f":"IFERROR(__xludf.DUMMYFUNCTION(\"TO_PURE_NUMBER(G168)\"),0)","v":0},0]
["Confitures d'à côté - Nectarine Pêche","6€","6",{"$f":"VLOOKUP(A169,Import!A:D,4,FALSE)","v":0},null,0,1,{"$f":"IFERROR(__xludf.DUMMYFUNCTION(\"TO_PURE_NUMBER(G169)\"),0)","v":0},0]
["Confitures d'à côté - Nectarine Vanille","6€","6",{"$f":"VLOOKUP(A170,Import!A:D,4,FALSE)","v":"Alimentaire Conditionné"},null,0,1,{"$f":"IFERROR(__xludf.DUMMYFUNCTION(\"TO_PURE_NUMBER(G170)\"),0)","v":0},0]
["Confitures d'à côté - Pêche ","6€","6",{"$f":"VLOOKUP(A171,Import!A:D,4,FALSE)","v":0},null,0,1,{"$f":"IFERROR(__xludf.DUMMYFUNCTION(\"TO_PURE_NUMBER(G171)\"),0)","v":0},0]
["Confitures d'à côté - Poire Tonka","6€","6",{"$f":"VLOOKUP(A172,Import!A:D,4,FALSE)","v":"Alimentaire Conditionné"},null,0,1,{"$f":"IFERROR(__xludf.DUMMYFUNCTION(\"TO_PURE_NUMBER(G172)\"),0)","v":0},0]
["Confitures d'à côté - Pomme Cannelle","6€","6",{"$f":"VLOOKUP(A173,Import!A:D,4,FALSE)","v":"Alimentaire Conditionné"},null,0,1,{"$f":"IFERROR(__xludf.DUMMYFUNCTION(\"TO_PURE_NUMBER(G173)\"),0)","v":0},0]
["Confitures d'à côté - Pomme Caramel ","6€","6",{"$f":"VLOOKUP(A174,Import!A:D,4,FALSE)","v":"Alimentaire Conditionné"},null,0,1,{"$f":"IFERROR(__xludf.DUMMYFUNCTION(\"TO_PURE_NUMBER(G174)\"),0)","v":0},0,{"$f":"VLOOKUP(A174,Import!A:N,13)","v":"Les confitures d'à côté"}]
["Confitures d'à côté - Questche","6€","6",{"$f":"VLOOKUP(A175,Import!A:D,4,FALSE)","v":0},null,0,1,{"$f":"IFERROR(__xludf.DUMMYFUNCTION(\"TO_PURE_NUMBER(G175)\"),0)","v":0},0,{"$f":"VLOOKUP(A175,Import!A:N,13)","v":"Les confitures d'à côté"}]
["Confitures d'à côté - Tomate verte aux épices ","5€","5",{"$f":"VLOOKUP(A176,Import!A:D,4,FALSE)","v":{"$error":"#N/A"}},null,0,1,{"$f":"IFERROR(__xludf.DUMMYFUNCTION(\"TO_PURE_NUMBER(G176)\"),0)","v":0},0,{"$f":"VLOOKUP(A176,Import!A:N,13)","v":"Les confitures d'à côté"}]
["Confitures d'à côté- Mûre sauvage","6€","6",{"$f":"VLOOKUP(A177,Import!A:D,4,FALSE)","v":"Alimentaire Conditionné"},null,0,1,{"$f":"IFERROR(__xludf.DUMMYFUNCTION(\"TO_PURE_NUMBER(G177)\"),0)","v":0},0,{"$f":"VLOOKUP(A177,Import!A:N,13)","v":"Les confitures d'à côté"}]
["Cornichons au vinaigre 37cl - 185g","7,50 €","7.5",{"$f":"VLOOKUP(A178,Import!A:D,4,FALSE)","v":"Alimentaire Conditionné"},null,0,1,{"$f":"IFERROR(__xludf.DUMMYFUNCTION(\"TO_PURE_NUMBER(G178)\"),0)","v":0},{"$error":"#VALUE!"},{"$f":"VLOOKUP(A178,Import!A:N,13)","v":"Scop Epice"}]
["Cotons tiges x 100","1,95 €","1.95",{"$f":"VLOOKUP(A179,Import!A:D,4,FALSE)","v":"Produits d'hygiène coporelle"},null,0,1,{"$f":"IFERROR(__xludf.DUMMYFUNCTION(\"TO_PURE_NUMBER(G179)\"),0)","v":0},{"$error":"#VALUE!"},{"$f":"VLOOKUP(A179,Import!A:N,13)","v":"Cap Bambou"}]
["Cotons tiges x 200","3,59 €","3.59",{"$f":"VLOOKUP(A180,Import!A:D,4,FALSE)","v":"Produits d'hygiène coporelle"},null,0,1,{"$f":"IFERROR(__xludf.DUMMYFUNCTION(\"TO_PURE_NUMBER(G180)\"),0)","v":0},{"$error":"#VALUE!"}]
["Coulis de Tomate  Nature - 680g","2,50 €","2.5",{"$f":"VLOOKUP(A181,Import!A:D,4,FALSE)","v":"Alimentaire Conditionné"},null,0,1,{"$f":"IFERROR(__xludf.DUMMYFUNCTION(\"TO_PURE_NUMBER(G181)\"),0)","v":0},{"$error":"#VALUE!"},{"$f":"VLOOKUP(A181,Import!A:N,14)","v":"🇮🇹 Italie"}]
["Coulis de Tomate Basilic - 680g","2,50 €","2.5",{"$f":"VLOOKUP(A182,Import!A:D,4,FALSE)","v":"Alimentaire Conditionné"},null,0,1,{"$f":"IFERROR(__xludf.DUMMYFUNCTION(\"TO_PURE_NUMBER(G182)\"),0)","v":0},{"$error":"#VALUE!"}]
["Couscous Complet ","3,50€","3.5",{"$f":"VLOOKUP(A183,Import!A:D,4,FALSE)","v":"Alimentaire Vrac"},null,0,1,{"$f":"IFERROR(__xludf.DUMMYFUNCTION(\"TO_PURE_NUMBER(G183)\"),0)","v":0},{"$error":"#VALUE!"}]
["Couteau Réutilisable en bambou","2€","2",{"$f":"VLOOKUP(A184,Import!A:D,4,FALSE)","v":"Zéros déchets et Bocaux"},null,0,{"$f":"F184","v":0},{"$f":"G184","v":0},0,{"$f":"VLOOKUP(A184,Import!A:N,13)","v":"Cap Bambou"}]
["Cranberries Demi séchées au sucre de Canne","17,50€ / kg","17.5",{"$f":"VLOOKUP(A185,Import!A:D,4,FALSE)","v":"Alimentaire Vrac"},null,0,1,{"$f":"IFERROR(__xludf.DUMMYFUNCTION(\"TO_PURE_NUMBER(G185)\"),0)","v":0},{"$error":"#VALUE!"},{"$f":"VLOOKUP(A185,Import!A:N,13)","v":"Actibio"}]
["Crème corps hydratant - Fleur de coton - Endro","15,60 €","15.6",{"$f":"VLOOKUP(A186,Import!A:D,4,FALSE)","v":"Produits d'hygiène coporelle"},null,0,1,{"$f":"IFERROR(__xludf.DUMMYFUNCTION(\"TO_PURE_NUMBER(G186)\"),0)","v":0},{"$error":"#VALUE!"},{"$f":"VLOOKUP(A186,Import!A:N,13)","v":"Endro"}]
["Crème corps nourrissante - douceur iodée - Endro","12,90 €","12.9",{"$f":"VLOOKUP(A187,Import!A:D,4,FALSE)","v":"Produits d'hygiène coporelle"},null,0,1,{"$f":"IFERROR(__xludf.DUMMYFUNCTION(\"TO_PURE_NUMBER(G187)\"),0)","v":0},{"$error":"#VALUE!"},{"$f":"VLOOKUP(A187,Import!A:N,13)","v":"Endro"}]
["Crème de Marron - 320g ","5,90 €","5.9",{"$f":"VLOOKUP(A188,Import!A:D,4,FALSE)","v":"Alimentaire Conditionné"},null,0,1,{"$f":"IFERROR(__xludf.DUMMYFUNCTION(\"TO_PURE_NUMBER(G188)\"),0)","v":0},{"$error":"#VALUE!"}]
["Crème solaire SPF 30 - 50ml","18,90 €","18.9",{"$f":"VLOOKUP(A189,Import!A:D,4,FALSE)","v":"Produits d'hygiène coporelle"},null,0,1,{"$f":"IFERROR(__xludf.DUMMYFUNCTION(\"TO_PURE_NUMBER(G189)\"),0)","v":0},{"$error":"#VALUE!"},{"$f":"VLOOKUP(A189,Import!A:N,13)","v":"Endro"}]
["Crème solaire SPF 50 - 100ml","24,90 €","24.9",{"$f":"VLOOKUP(A190,Import!A:D,4,FALSE)","v":"Produits d'hygiène coporelle"},null,0,1,{"$f":"IFERROR(__xludf.DUMMYFUNCTION(\"TO_PURE_NUMBER(G190)\"),0)","v":0},{"$error":"#VALUE!"}]
["Crème solaire SPF 50 - 50ml","19,90 €","19.9",{"$f":"VLOOKUP(A191,Import!A:D,4,FALSE)","v":"Produits d'hygiène coporelle"},null,0,1,{"$f":"IFERROR(__xludf.DUMMYFUNCTION(\"TO_PURE_NUMBER(G191)\"),0)","v":0},{"$error":"#VALUE!"},{"$f":"VLOOKUP(A191,Import!A:N,14)","v":"🇫🇷 France - Lannion (22)"}]
["Crème végétale - Soya cuisine briquette - 20cl","1,95€","1.95",{"$f":"VLOOKUP(A192,Import!A:D,4,FALSE)","v":"Alimentaire Conditionné"},null,0,1,{"$f":"IFERROR(__xludf.DUMMYFUNCTION(\"TO_PURE_NUMBER(G192)\"),0)","v":0},{"$error":"#VALUE!"},{"$f":"VLOOKUP(A192,Import!A:N,14)","v":"🇫🇷 France "}]
["Crème visage - bonne mine","13,60 €","13.6",{"$f":"VLOOKUP(A193,Import!A:D,4,FALSE)","v":"Produits d'hygiène coporelle"},null,0,1,{"$f":"IFERROR(__xludf.DUMMYFUNCTION(\"TO_PURE_NUMBER(G193)\"),0)","v":0},{"$error":"#VALUE!"},{"$f":"VLOOKUP(A193,Import!A:N,14)","v":"🇫🇷 France - Lannion (22)"}]
["Crozets Sarrasin","9€ / kg","9",{"$f":"VLOOKUP(A194,Import!A:D,4,FALSE)","v":"Alimentaire Vrac"},null,0,1,{"$f":"IFERROR(__xludf.DUMMYFUNCTION(\"TO_PURE_NUMBER(G194)\"),0)","v":0},{"$f":"H194*C194","v":0},{"$f":"VLOOKUP(A194,Import!A:N,14)","v":"🇫🇷 France"}]
["Cuillère réutilisable en bambou","1,50 €","1,5",{"$f":"VLOOKUP(A195,Import!A:D,4,FALSE)","v":"Zéros déchets et Bocaux"},null,0,{"$f":"F195","v":0},{"$f":"G195","v":0},0,{"$f":"VLOOKUP(A195,Import!A:N,14)","v":"🇫🇷 France - Attignat (01)"}]
["Cumin moulu poudre","55,00€ / kg","55",{"$f":"VLOOKUP(A196,Import!A:D,4,FALSE)","v":"Alimentaire Vrac"},null,0,1,{"$f":"IFERROR(__xludf.DUMMYFUNCTION(\"TO_PURE_NUMBER(G196)\"),0)","v":0},0,{"$f":"VLOOKUP(A196,Import!A:N,14)","v":"🇹🇷 Turquie"}]
["Curcuma ","45,00€ / kg",45,{"$f":"VLOOKUP(A197,Import!A:D,4,FALSE)","v":"Alimentaire Vrac"},null,0,1,{"$f":"IFERROR(__xludf.DUMMYFUNCTION(\"TO_PURE_NUMBER(G197)\"),0)","v":0},0]
["Cure Oreilles - Bamb’ori",2.99,2.99,{"$f":"VLOOKUP(A198,Import!A:D,4,FALSE)","v":"Produits d'hygiène coporelle"},null,0,1,{"$f":"IFERROR(__xludf.DUMMYFUNCTION(\"TO_PURE_NUMBER(G198)\"),0)","v":0},0]
["Curry Poudre","42,00€ / kg","42",{"$f":"VLOOKUP(A199,Import!A:D,4,FALSE)","v":"Alimentaire Vrac"},null,0,1,{"$f":"IFERROR(__xludf.DUMMYFUNCTION(\"TO_PURE_NUMBER(G199)\"),0)","v":0},0]
["Dattes Dénoyautées ","10,50€ / kg","10.5",{"$f":"VLOOKUP(A200,Import!A:D,4,FALSE)","v":"Alimentaire Vrac"},null,0,1,{"$f":"IFERROR(__xludf.DUMMYFUNCTION(\"TO_PURE_NUMBER(G200)\"),0)","v":0},{"$error":"#VALUE!"}]
["Dentifrice bio à croquer Menthe Fraîche","180,00€ / kg","180",{"$f":"VLOOKUP(A201,Import!A:D,4,FALSE)","v":"Produits d'hygiène coporelle"},null,0,1,{"$f":"IFERROR(__xludf.DUMMYFUNCTION(\"TO_PURE_NUMBER(G201)\"),0)","v":0},0,{"$f":"VLOOKUP(A201,Import!A:N,14)","v":"🇫🇷 France"}]
["Dentifrice Naturel - Fruits Rouges - Endro","10,60€","10.6",{"$f":"VLOOKUP(A202,Import!A:D,4,FALSE)","v":"Produits d'hygiène coporelle"},null,0,1,{"$f":"IFERROR(__xludf.DUMMYFUNCTION(\"TO_PURE_NUMBER(G202)\"),0)","v":0},{"$error":"#VALUE!"},{"$f":"VLOOKUP(A202,Import!A:N,14)","v":"🇫🇷 France - Lannion (22)"}]
["Dentifrice Naturel - Menthe Givrée - Endro","10,60€","10.6",{"$f":"VLOOKUP(A203,Import!A:D,4,FALSE)","v":"Produits d'hygiène coporelle"},null,0,1,{"$f":"IFERROR(__xludf.DUMMYFUNCTION(\"TO_PURE_NUMBER(G203)\"),0)","v":0},{"$error":"#VALUE!"},{"$f":"VLOOKUP(A203,Import!A:N,14)","v":"🇫🇷 France - Lannion (22)"}]
["Dentifrice Naturel - Zeste Citronné - Endro","10,60€","10.6",{"$f":"VLOOKUP(A204,Import!A:D,4,FALSE)","v":"Produits d'hygiène coporelle"},null,0,1,{"$f":"IFERROR(__xludf.DUMMYFUNCTION(\"TO_PURE_NUMBER(G204)\"),0)","v":0},{"$error":"#VALUE!"},{"$f":"VLOOKUP(A204,Import!A:N,14)","v":"🇫🇷 France - Lannion (22)"}]
["Dentifrice solide - Charbon - Recharge - Savon de Joya","8,90€","8.9",{"$f":"VLOOKUP(A205,Import!A:D,4,FALSE)","v":"Produits d'hygiène coporelle"},null,0,1,{"$f":"IFERROR(__xludf.DUMMYFUNCTION(\"TO_PURE_NUMBER(G205)\"),0)","v":0},{"$error":"#VALUE!"}]
["Dentifrice solide - Charbon - Savon de Joya","10,60€","10.6",{"$f":"VLOOKUP(A206,Import!A:D,4,FALSE)","v":"Produits d'hygiène coporelle"},null,0,1,{"$f":"IFERROR(__xludf.DUMMYFUNCTION(\"TO_PURE_NUMBER(G206)\"),0)","v":0},{"$error":"#VALUE!"},{"$f":"VLOOKUP(A206,Import!A:N,14)","v":"🇫🇷 France - Douvres-la-Délivrande (14)"}]
["Dentifrice solide - Citron & Romarin - Recharge - - Savon de Joya","8,90€","8.9",{"$f":"VLOOKUP(A207,Import!A:D,4,FALSE)","v":"Produits d'hygiène coporelle"},null,0,1,{"$f":"IFERROR(__xludf.DUMMYFUNCTION(\"TO_PURE_NUMBER(G207)\"),0)","v":0},{"$error":"#VALUE!"}]
["Dentifrice solide - Citron & Romarin Savon de Joya","10,60€","10.6",{"$f":"VLOOKUP(A208,Import!A:D,4,FALSE)","v":"Produits d'hygiène coporelle"},null,0,1,{"$f":"IFERROR(__xludf.DUMMYFUNCTION(\"TO_PURE_NUMBER(G208)\"),0)","v":0},{"$error":"#VALUE!"}]
["Dentifrice solide - Framboise - - Savon de Joya","10,60€","10.6",{"$f":"VLOOKUP(A209,Import!A:D,4,FALSE)","v":"Produits d'hygiène coporelle"},null,0,1,{"$f":"IFERROR(__xludf.DUMMYFUNCTION(\"TO_PURE_NUMBER(G209)\"),0)","v":0},{"$error":"#VALUE!"}]
["Dentifrice solide - Framboise - Recharge ","8,90€","8.9",{"$f":"VLOOKUP(A210,Import!A:D,4,FALSE)","v":"Produits d'hygiène coporelle"},null,0,1,{"$f":"IFERROR(__xludf.DUMMYFUNCTION(\"TO_PURE_NUMBER(G210)\"),0)","v":0},{"$error":"#VALUE!"}]
["Dentifrice solide - Menthe - - Savon de Joya","10,60€","10.6",{"$f":"VLOOKUP(A211,Import!A:D,4,FALSE)","v":"Produits d'hygiène coporelle"},null,0,1,{"$f":"IFERROR(__xludf.DUMMYFUNCTION(\"TO_PURE_NUMBER(G211)\"),0)","v":0},{"$error":"#VALUE!"}]
["Dentifrice solide - Menthe - Recharge - - Savon de Joya","8,90€","8.9",{"$f":"VLOOKUP(A212,Import!A:D,4,FALSE)","v":"Produits d'hygiène coporelle"},null,0,1,{"$f":"IFERROR(__xludf.DUMMYFUNCTION(\"TO_PURE_NUMBER(G212)\"),0)","v":0},{"$error":"#VALUE!"},{"$f":"VLOOKUP(A212,Import!A:N,14)","v":"🇫🇷 France - Douvres-la-Délivrande (14)"}]
["Déodorant - Clémence & Vivien - Le Fleuri",8.5,"7.9",{"$f":"VLOOKUP(A213,Import!A:D,4,FALSE)","v":"Produits d'hygiène coporelle"},null,0,1,{"$f":"IFERROR(__xludf.DUMMYFUNCTION(\"TO_PURE_NUMBER(G213)\"),0)","v":0},{"$error":"#VALUE!"}]
["Déodorant - Clémence & Vivien - Le Poudré",8.5,"7.9",{"$f":"VLOOKUP(A214,Import!A:D,4,FALSE)","v":"Produits d'hygiène coporelle"},null,0,1,{"$f":"IFERROR(__xludf.DUMMYFUNCTION(\"TO_PURE_NUMBER(G214)\"),0)","v":0},{"$error":"#VALUE!"}]
["Déodorant - Clémence & Vivien - Le Sucré",8.5,"7.9",{"$f":"VLOOKUP(A215,Import!A:D,4,FALSE)","v":"Produits d'hygiène coporelle"},null,0,1,{"$f":"IFERROR(__xludf.DUMMYFUNCTION(\"TO_PURE_NUMBER(G215)\"),0)","v":0},{"$error":"#VALUE!"}]
["Déodorant - Clémence & Vivien - Sensible Mandarinne",8.5,"7.9",{"$f":"VLOOKUP(A216,Import!A:D,4,FALSE)","v":"Produits d'hygiène coporelle"},null,0,1,{"$f":"IFERROR(__xludf.DUMMYFUNCTION(\"TO_PURE_NUMBER(G216)\"),0)","v":0},{"$error":"#VALUE!"}]
["Déodorant - Clémence & Vivien - Sensible Vanille",8.5,"7.9",{"$f":"VLOOKUP(A217,Import!A:D,4,FALSE)","v":"Produits d'hygiène coporelle"},null,0,1,{"$f":"IFERROR(__xludf.DUMMYFUNCTION(\"TO_PURE_NUMBER(G217)\"),0)","v":0},{"$error":"#VALUE!"}]
["Déodorant - Clémence & Vivien- L’Herbacé",8.5,"7.9",{"$f":"VLOOKUP(A218,Import!A:D,4,FALSE)","v":"Produits d'hygiène coporelle"},null,0,1,{"$f":"IFERROR(__xludf.DUMMYFUNCTION(\"TO_PURE_NUMBER(G218)\"),0)","v":0},{"$error":"#VALUE!"}]
["Déodorant - Endro - Bergamote / Arbre à thé","9,80€","9.8",{"$f":"VLOOKUP(A219,Import!A:D,4,FALSE)","v":"Produits d'hygiène coporelle"},null,0,1,{"$f":"IFERROR(__xludf.DUMMYFUNCTION(\"TO_PURE_NUMBER(G219)\"),0)","v":0},{"$error":"#VALUE!"}]
["Déodorant - Endro - Coco","9,80€","9.8",{"$f":"VLOOKUP(A220,Import!A:D,4,FALSE)","v":"Produits d'hygiène coporelle"},null,0,1,{"$f":"IFERROR(__xludf.DUMMYFUNCTION(\"TO_PURE_NUMBER(G220)\"),0)","v":0},{"$error":"#VALUE!"}]
["Déodorant - Endro - Menthe Poivrée / Cèdre","9,80€","9.8",{"$f":"VLOOKUP(A221,Import!A:D,4,FALSE)","v":"Produits d'hygiène coporelle"},null,0,1,{"$f":"IFERROR(__xludf.DUMMYFUNCTION(\"TO_PURE_NUMBER(G221)\"),0)","v":0},{"$error":"#VALUE!"}]
["Déodorant - Endro - Palmarosa / Géranium","9,80€","9.8",{"$f":"VLOOKUP(A222,Import!A:D,4,FALSE)","v":"Produits d'hygiène coporelle"},null,0,1,{"$f":"IFERROR(__xludf.DUMMYFUNCTION(\"TO_PURE_NUMBER(G222)\"),0)","v":0},{"$error":"#VALUE!"}]
["Déodorant - Endro - Peaux sensilbles","9,80€","9.8",{"$f":"VLOOKUP(A223,Import!A:D,4,FALSE)","v":"Produits d'hygiène coporelle"},null,0,1,{"$f":"IFERROR(__xludf.DUMMYFUNCTION(\"TO_PURE_NUMBER(G223)\"),0)","v":0},{"$error":"#VALUE!"}]
["Déodorant - Savon de Joya - Recharge Stick - Cèdre Vétiver - 75g","8,90 €","8.9",{"$f":"VLOOKUP(A224,Import!A:D,4,FALSE)","v":"Produits d'hygiène coporelle"},null,0,1,{"$f":"IFERROR(__xludf.DUMMYFUNCTION(\"TO_PURE_NUMBER(G224)\"),0)","v":0},{"$error":"#VALUE!"}]
["Déodorant - Savon de Joya - Recharge Stick - Citron & Mandarine - 75g","8,90 €","8.9",{"$f":"VLOOKUP(A225,Import!A:D,4,FALSE)","v":"Produits d'hygiène coporelle"},null,0,1,{"$f":"IFERROR(__xludf.DUMMYFUNCTION(\"TO_PURE_NUMBER(G225)\"),0)","v":0},{"$error":"#VALUE!"}]
["Déodorant - Savon de Joya - Recharge Stick - Rose, 0 bicarbonate - 75g","8,90 €","8.9",{"$f":"VLOOKUP(A226,Import!A:D,4,FALSE)","v":"Produits d'hygiène coporelle"},null,0,1,{"$f":"IFERROR(__xludf.DUMMYFUNCTION(\"TO_PURE_NUMBER(G226)\"),0)","v":0},{"$error":"#VALUE!"}]
["Déodorant - Savon de Joya - Recharge Stick Mini  - Cèdre Vétivier - 25g","7,90 €","7.9",{"$f":"VLOOKUP(A227,Import!A:D,4,FALSE)","v":"Produits d'hygiène coporelle"},null,0,1,{"$f":"IFERROR(__xludf.DUMMYFUNCTION(\"TO_PURE_NUMBER(G227)\"),0)","v":0},{"$error":"#VALUE!"}]
["Déodorant - Savon de Joya - Recharge Stick Mini  - Citron & Mandarine 25g","7,90 €","7.9",{"$f":"VLOOKUP(A228,Import!A:D,4,FALSE)","v":"Produits d'hygiène coporelle"},null,0,1,{"$f":"IFERROR(__xludf.DUMMYFUNCTION(\"TO_PURE_NUMBER(G228)\"),0)","v":0},{"$error":"#VALUE!"}]
["Déodorant Stick - Savon de Joya - Cèdre Vétiver - 75g","12,50 €","12.5",{"$f":"VLOOKUP(A229,Import!A:D,4,FALSE)","v":"Produits d'hygiène coporelle"},null,0,1,{"$f":"IFERROR(__xludf.DUMMYFUNCTION(\"TO_PURE_NUMBER(G229)\"),0)","v":0},{"$error":"#VALUE!"}]
["Déodorant Stick - Savon de Joya - Citron & Mandarine - 75g","12,50 €","12.5",{"$f":"VLOOKUP(A230,Import!A:D,4,FALSE)","v":"Produits d'hygiène coporelle"},null,0,1,{"$f":"IFERROR(__xludf.DUMMYFUNCTION(\"TO_PURE_NUMBER(G230)\"),0)","v":0},{"$error":"#VALUE!"}]
["Déodorant Stick - Savon de Joya - Rose, 0 bicarbonate - 75g","12,50 €","12.5",{"$f":"VLOOKUP(A231,Import!A:D,4,FALSE)","v":"Produits d'hygiène coporelle"},null,0,1,{"$f":"IFERROR(__xludf.DUMMYFUNCTION(\"TO_PURE_NUMBER(G231)\"),0)","v":0},{"$error":"#VALUE!"}]
["Déodorant Stick Mini  - Savon de Joya -  Rose, 0 bicarbonate - 25g","7,90 €","7.9",{"$f":"VLOOKUP(A232,Import!A:D,4,FALSE)","v":"Produits d'hygiène coporelle"},null,0,1,{"$f":"IFERROR(__xludf.DUMMYFUNCTION(\"TO_PURE_NUMBER(G232)\"),0)","v":0},{"$error":"#VALUE!"}]
["Déodorant Stick Mini - Savon de Joya - Cèdre Vétiver - 25g","7,90 €","7.9",{"$f":"VLOOKUP(A233,Import!A:D,4,FALSE)","v":"Produits d'hygiène coporelle"},null,0,1,{"$f":"IFERROR(__xludf.DUMMYFUNCTION(\"TO_PURE_NUMBER(G233)\"),0)","v":0},{"$error":"#VALUE!"}]
["Déodorant Stick Mini - Savon de Joya - Citron & Mandarine - 25g","5,20 €","5.2",{"$f":"VLOOKUP(A234,Import!A:D,4,FALSE)","v":"Produits d'hygiène coporelle"},null,0,1,{"$f":"IFERROR(__xludf.DUMMYFUNCTION(\"TO_PURE_NUMBER(G234)\"),0)","v":0},{"$error":"#VALUE!"}]
["Désinfectant sans rinçage - Vrac","12,50 €","12.50",{"$f":"VLOOKUP(A235,Import!A:D,4,FALSE)","v":"Produits d'entretiens"},null,0,1,{"$f":"IFERROR(__xludf.DUMMYFUNCTION(\"TO_PURE_NUMBER(G235)\"),0)","v":0},{"$error":"#VALUE!"}]
["Détachant - Vrac",9.9,"9;90",{"$f":"VLOOKUP(A236,Import!A:D,4,FALSE)","v":"Produits d'entretiens"},null,0,1,{"$f":"IFERROR(__xludf.DUMMYFUNCTION(\"TO_PURE_NUMBER(G236)\"),0)","v":0},{"$error":"#VALUE!"}]
["Emballage 1L Plat + Bouchon ","2 €","2",{"$f":"VLOOKUP(A237,Import!A:D,4,FALSE)","v":"Produits d'entretiens"},null,0,1,{"$f":"IFERROR(__xludf.DUMMYFUNCTION(\"TO_PURE_NUMBER(G237)\"),0)","v":0},0]
["Emballage 3L + Bouchon","4 €","4",{"$f":"VLOOKUP(A238,Import!A:D,4,FALSE)","v":"Produits d'entretiens"},null,0,1,{"$f":"IFERROR(__xludf.DUMMYFUNCTION(\"TO_PURE_NUMBER(G238)\"),0)","v":0},0]
["Emballage WC 750ml + Bouchon","2,50 €","2.5",{"$f":"VLOOKUP(A239,Import!A:D,4,FALSE)","v":"Produits d'entretiens"},null,0,1,{"$f":"IFERROR(__xludf.DUMMYFUNCTION(\"TO_PURE_NUMBER(G239)\"),0)","v":0},{"$error":"#VALUE!"}]
["Essuie tout blanc, 100% recyclés, 200f x 12","2 €","2",{"$f":"VLOOKUP(A240,Import!A:D,4,FALSE)","v":"Produits d'entretiens"},null,0,1,{"$f":"IFERROR(__xludf.DUMMYFUNCTION(\"TO_PURE_NUMBER(G240)\"),0)","v":0},0]
["Essuie-tout - Lot de 5 Multicolore","10,00 €","10",{"$f":"VLOOKUP(A241,Import!A:D,4,FALSE)","v":"Zéros déchets et Bocaux"},null,0,{"$f":"F241","v":0},{"$f":"G241","v":0},0]
["Farine de blé - T110","2,10€ / kg","2",{"$f":"VLOOKUP(A242,Import!A:D,4,FALSE)","v":"Alimentaire Vrac"},null,0,1,{"$f":"IFERROR(__xludf.DUMMYFUNCTION(\"TO_PURE_NUMBER(G242)\"),0)","v":0},0]
["Farine de blé - T55 ","2,10€ / kg","2.1",{"$f":"VLOOKUP(A243,Import!A:D,4,FALSE)","v":"Alimentaire Vrac"},null,0,1,{"$f":"IFERROR(__xludf.DUMMYFUNCTION(\"TO_PURE_NUMBER(G243)\"),0)","v":0},{"$error":"#VALUE!"}]
["Farine de blé - T65 ","2,10€ / kg","2",{"$f":"VLOOKUP(A244,Import!A:D,4,FALSE)","v":"Alimentaire Vrac"},null,0,1,{"$f":"IFERROR(__xludf.DUMMYFUNCTION(\"TO_PURE_NUMBER(G244)\"),0)","v":0},0]
["Farine de Maïs ","2,95€ / kg","2.95",{"$f":"VLOOKUP(A245,Import!A:D,4,FALSE)","v":"Alimentaire Vrac"},null,0,1,{"$f":"IFERROR(__xludf.DUMMYFUNCTION(\"TO_PURE_NUMBER(G245)\"),0)","v":0},{"$error":"#VALUE!"}]
["Farine de Maïs - Paquet 500g",1.7,"1.70",{"$f":"VLOOKUP(A246,Import!A:D,4,FALSE)","v":"Alimentaire Conditionné"},null,0,1,{"$f":"IFERROR(__xludf.DUMMYFUNCTION(\"TO_PURE_NUMBER(G246)\"),0)","v":0},{"$error":"#VALUE!"}]
["Farine de Petit épeautre ","6,00€ / kg","6",{"$f":"VLOOKUP(A247,Import!A:D,4,FALSE)","v":"Alimentaire Vrac"},null,0,1,{"$f":"IFERROR(__xludf.DUMMYFUNCTION(\"TO_PURE_NUMBER(G247)\"),0)","v":0},0]
["Farine de Pois chiches ","5,40€ / kg","5.4",{"$f":"VLOOKUP(A248,Import!A:D,4,FALSE)","v":"Alimentaire Vrac"},null,0,1,{"$f":"IFERROR(__xludf.DUMMYFUNCTION(\"TO_PURE_NUMBER(G248)\"),0)","v":0},{"$error":"#VALUE!"}]
["Farine de Pos chiches - paquet 500g","2.70","2.70",{"$f":"VLOOKUP(A249,Import!A:D,4,FALSE)","v":"Alimentaire Conditionné"},null,0,1,{"$f":"IFERROR(__xludf.DUMMYFUNCTION(\"TO_PURE_NUMBER(G249)\"),0)","v":0},{"$error":"#VALUE!"}]
["Fécule de Pomme de Terre ","4,90€ / kg","4.9",{"$f":"VLOOKUP(A250,Import!A:D,4,FALSE)","v":"Alimentaire Vrac"},null,0,1,{"$f":"IFERROR(__xludf.DUMMYFUNCTION(\"TO_PURE_NUMBER(G250)\"),0)","v":0},{"$error":"#VALUE!"}]
["Figues Entières ","12,00€ / kg","12",{"$f":"VLOOKUP(A251,Import!A:D,4,FALSE)","v":"Alimentaire Vrac"},null,0,1,{"$f":"IFERROR(__xludf.DUMMYFUNCTION(\"TO_PURE_NUMBER(G251)\"),0)","v":0},0]
["Filet à fruits et légumes - Taille L","8,50€","8,5",{"$f":"VLOOKUP(A252,Import!A:D,4,FALSE)","v":"Zéros déchets et Bocaux"},null,0,{"$f":"F252","v":0},0,0]
["Filet à fruits et légumes - Taille M","9,50€","9,5",{"$f":"VLOOKUP(A253,Import!A:D,4,FALSE)","v":"Zéros déchets et Bocaux"},null,0,0,0,0]
["Filtre à café","4,50€","4,5",{"$f":"VLOOKUP(A254,Import!A:D,4,FALSE)","v":"Zéros déchets et Bocaux"},null,0,0,0,0]
["Filtre à Infusion ","4,50€","4,5",{"$f":"VLOOKUP(A255,Import!A:D,4,FALSE)","v":"Zéros déchets et Bocaux"},null,0,0,0,0]
["Filtre à thé ","4,00€","4",{"$f":"VLOOKUP(A256,Import!A:D,4,FALSE)","v":"Zéros déchets et Bocaux"},null,0,0,0,0]
["Filtre à théière inox forme théière","5,50€","5,5",{"$f":"VLOOKUP(A257,Import!A:D,4,FALSE)","v":"Zéros déchets et Bocaux"},null,0,0,0,0]
["Flageolets","6,50€ / kg","6.5",{"$f":"VLOOKUP(A258,Import!A:D,4,FALSE)","v":"Alimentaire Vrac"},null,0,1,{"$f":"IFERROR(__xludf.DUMMYFUNCTION(\"TO_PURE_NUMBER(G258)\"),0)","v":0},{"$f":"H258*C258","v":{"$error":"#VALUE!"}}]
["Fourchette réutilisable","2,00€","2",{"$f":"VLOOKUP(A259,Import!A:D,4,FALSE)","v":"Zéros déchets et Bocaux"},null,0,{"$f":"F259","v":0},0,0]
["Furoshikis - Taille M","6,50€","6,5",{"$f":"VLOOKUP(A260,Import!A:D,4,FALSE)","v":"Zéros déchets et Bocaux"},null,0,0,0,0]
["Furoshikis - Taille S","5,00€","5",{"$f":"VLOOKUP(A261,Import!A:D,4,FALSE)","v":"Zéros déchets et Bocaux"},null,0,0,0,0]
["Fusilli Riz Quinoa ","12,00€ / kg","12",{"$f":"VLOOKUP(A262,Import!A:D,4,FALSE)","v":"Alimentaire Vrac"},null,0,1,{"$f":"IFERROR(__xludf.DUMMYFUNCTION(\"TO_PURE_NUMBER(G263)\"),0)","v":0},0]
["Gamme anti âge - Contour des yeux - Endro ",9.9,"9.90",{"$f":"VLOOKUP(A263,Import!A:D,4,FALSE)","v":"Produits d'hygiène coporelle"},null,0,1,{"$f":"IFERROR(__xludf.DUMMYFUNCTION(\"TO_PURE_NUMBER(G264)\"),0)","v":0},{"$error":"#VALUE!"}]
["Gamme anti âge - Crème - Endro ",19.899999999999999,"19.90",{"$f":"VLOOKUP(A264,Import!A:D,4,FALSE)","v":"Produits d'hygiène coporelle"},null,0,1,{"$f":"IFERROR(__xludf.DUMMYFUNCTION(\"TO_PURE_NUMBER(G265)\"),0)","v":0},{"$error":"#VALUE!"}]
["Gamme anti âge - Sérum- Endro ",24.9,"24.90",{"$f":"VLOOKUP(A265,Import!A:D,4,FALSE)","v":"Produits d'hygiène coporelle"},null,0,1,{"$f":"IFERROR(__xludf.DUMMYFUNCTION(\"TO_PURE_NUMBER(G266)\"),0)","v":0},{"$error":"#VALUE!"}]
["Gant de toilette","5,50€","5,5",{"$f":"VLOOKUP(A266,Import!A:D,4,FALSE)","v":"Zéros déchets et Bocaux"},null,0,{"$f":"F266","v":0},{"$f":"G266","v":0},0]
["Gel douche vrac - Karité verveine","8,30€ / kg","8.3",{"$f":"VLOOKUP(A267,Import!A:D,4,FALSE)","v":"Produits d'entretiens"},null,0,1,{"$f":"IFERROR(__xludf.DUMMYFUNCTION(\"TO_PURE_NUMBER(G268)\"),0)","v":0},{"$error":"#VALUE!"}]
["Gel WC - Vrac","5,90€ / kg","5.9",{"$f":"VLOOKUP(A268,Import!A:D,4,FALSE)","v":"Produits d'entretiens"},null,0,1,{"$f":"IFERROR(__xludf.DUMMYFUNCTION(\"TO_PURE_NUMBER(G269)\"),0)","v":0},{"$error":"#VALUE!"}]
["Gingembre Confit irréguliers ","14,50€ / kg","14.5",{"$f":"VLOOKUP(A269,Import!A:D,4,FALSE)","v":"Alimentaire Vrac"},null,0,1,{"$f":"IFERROR(__xludf.DUMMYFUNCTION(\"TO_PURE_NUMBER(G270)\"),0)","v":0},{"$error":"#VALUE!"}]
["Gingembre en Poudre ","50,00€ / kg","50",{"$f":"VLOOKUP(A270,Import!A:D,4,FALSE)","v":"Alimentaire Vrac"},null,0,1,{"$f":"IFERROR(__xludf.DUMMYFUNCTION(\"TO_PURE_NUMBER(G271)\"),0)","v":0},0]
["Gommage visage Douce Aloe","14,90€","14.9",{"$f":"VLOOKUP(A271,Import!A:D,4,FALSE)","v":"Produits d'hygiène coporelle"},null,0,1,{"$f":"IFERROR(__xludf.DUMMYFUNCTION(\"TO_PURE_NUMBER(G272)\"),0)","v":0},{"$error":"#VALUE!"}]
["Goupillon pour laver les pailles","1,15€",1.1499999999999999,{"$f":"VLOOKUP(A272,Import!A:D,4,FALSE)","v":"Zéros déchets et Bocaux"},null,0,{"$f":"F272","v":0},{"$f":"G272","v":0},0]
["Graines de Chia ","50€ / kg","5",{"$f":"VLOOKUP(A273,Import!A:D,4,FALSE)","v":"Alimentaire Vrac"},null,0,1,{"$f":"IFERROR(__xludf.DUMMYFUNCTION(\"TO_PURE_NUMBER(G274)\"),0)","v":0},0]
["Graines de Courges Foncées ","18,50€ / kg","18.5",{"$f":"VLOOKUP(A274,Import!A:D,4,FALSE)","v":"Alimentaire Vrac"},null,0,1,{"$f":"IFERROR(__xludf.DUMMYFUNCTION(\"TO_PURE_NUMBER(G275)\"),0)","v":0},{"$error":"#VALUE!"}]
["Graines de Lin Brun ","6,20€ / kg","6.2",{"$f":"VLOOKUP(A275,Import!A:D,4,FALSE)","v":"Alimentaire Vrac"},null,0,1,{"$f":"IFERROR(__xludf.DUMMYFUNCTION(\"TO_PURE_NUMBER(G276)\"),0)","v":0},{"$error":"#VALUE!"}]
["Graines de Pavot","135€ / kg","135",{"$f":"VLOOKUP(A276,Import!A:D,4,FALSE)","v":"Alimentaire Vrac"},null,0,1,{"$f":"IFERROR(__xludf.DUMMYFUNCTION(\"TO_PURE_NUMBER(G277)\"),0)","v":0},0]
["Graines de Sésame ","30€ / kg","30",{"$f":"VLOOKUP(A277,Import!A:D,4,FALSE)","v":"Alimentaire Vrac"},null,0,1,{"$f":"IFERROR(__xludf.DUMMYFUNCTION(\"TO_PURE_NUMBER(G278)\"),0)","v":0},0]
["Haricots Blancs ","6,00€ / kg","6",{"$f":"VLOOKUP(A278,Import!A:D,4,FALSE)","v":"Alimentaire Vrac"},null,0,1,{"$f":"IFERROR(__xludf.DUMMYFUNCTION(\"TO_PURE_NUMBER(G279)\"),0)","v":0},0]
["Haricots Noirs","7,50€ / kg","7.5",{"$f":"VLOOKUP(A279,Import!A:D,4,FALSE)","v":"Alimentaire Vrac"},null,0,1,{"$f":"IFERROR(__xludf.DUMMYFUNCTION(\"TO_PURE_NUMBER(G280)\"),0)","v":0},{"$error":"#VALUE!"}]
["Haricots Rouges ","7,50€ /kg","7.5",{"$f":"VLOOKUP(A280,Import!A:D,4,FALSE)","v":"Alimentaire Vrac"},null,0,1,{"$f":"IFERROR(__xludf.DUMMYFUNCTION(\"TO_PURE_NUMBER(G281)\"),0)","v":0},{"$error":"#VALUE!"}]
["Herbes de provence ","54,00€ / kg","54",{"$f":"VLOOKUP(A281,Import!A:D,4,FALSE)","v":"Alimentaire Vrac"},null,0,1,{"$f":"IFERROR(__xludf.DUMMYFUNCTION(\"TO_PURE_NUMBER(G282)\"),0)","v":0},0,{"$f":"VLOOKUP(A281,Import!A:N,13)","v":"Scop Epice"}]
["Huile d’Olive extra vierge ","9€ / kg",9,{"$f":"VLOOKUP(A282,Import!A:D,4,FALSE)","v":"Alimentaire Vrac"},null,0,1,{"$f":"IFERROR(__xludf.DUMMYFUNCTION(\"TO_PURE_NUMBER(G283)\"),0)","v":0},0]
["Huile d’olive Luce - 1L",10.9,"9.5",{"$f":"VLOOKUP(A283,Import!A:D,4,FALSE)","v":"Alimentaire Conditionné"},null,0,1,{"$f":"IFERROR(__xludf.DUMMYFUNCTION(\"TO_PURE_NUMBER(G284)\"),0)","v":0},{"$error":"#VALUE!"},{"$f":"VLOOKUP(A283,Import!A:N,13)","v":"Biodis"}]
["Huile de Cameline - 25cl","10,50€","10.5",{"$f":"VLOOKUP(A284,Import!A:D,4,FALSE)","v":"Alimentaire Conditionné"},null,0,1,{"$f":"IFERROR(__xludf.DUMMYFUNCTION(\"TO_PURE_NUMBER(G285)\"),0)","v":0},{"$error":"#VALUE!"}]
["Huile de Chanvre - 25cl","11,50€","11.5",{"$f":"VLOOKUP(A285,Import!A:D,4,FALSE)","v":"Alimentaire Conditionné"},null,0,1,{"$f":"IFERROR(__xludf.DUMMYFUNCTION(\"TO_PURE_NUMBER(G286)\"),0)","v":0},{"$error":"#VALUE!"}]
["Huile de Coco vierge","12,00€ / kg","12",{"$f":"VLOOKUP(A286,Import!A:D,4,FALSE)","v":"Alimentaire Vrac"},null,0,1,{"$f":"IFERROR(__xludf.DUMMYFUNCTION(\"TO_PURE_NUMBER(G287)\"),0)","v":0},0]
["Huile de Colza - 1L","14,00€","14",{"$f":"VLOOKUP(A287,Import!A:D,4,FALSE)","v":"Alimentaire Conditionné"},null,0,1,{"$f":"IFERROR(__xludf.DUMMYFUNCTION(\"TO_PURE_NUMBER(G288)\"),0)","v":0},0]
["Huile de Colza - 50cl","7,00€","7",{"$f":"VLOOKUP(A288,Import!A:D,4,FALSE)","v":"Alimentaire Conditionné"},null,0,1,{"$f":"IFERROR(__xludf.DUMMYFUNCTION(\"TO_PURE_NUMBER(G289)\"),0)","v":0},0]
["Huile de Colza - en vrac ","11,00€","11",{"$f":"VLOOKUP(A289,Import!A:D,4,FALSE)","v":"Alimentaire Vrac"},null,0,1,{"$f":"IFERROR(__xludf.DUMMYFUNCTION(\"TO_PURE_NUMBER(G290)\"),0)","v":0},0]
["Huile de Lin - 25cl ","7,50€","7.5",{"$f":"VLOOKUP(A290,Import!A:D,4,FALSE)","v":"Alimentaire Conditionné"},null,0,1,{"$f":"IFERROR(__xludf.DUMMYFUNCTION(\"TO_PURE_NUMBER(G291)\"),0)","v":0},{"$error":"#VALUE!"}]
["Huile de soin Antixiodante - Clemence & Vivien ","11,90€","11.9",{"$f":"VLOOKUP(A291,Import!A:D,4,FALSE)","v":"Produits d'hygiène coporelle"},null,0,1,{"$f":"IFERROR(__xludf.DUMMYFUNCTION(\"TO_PURE_NUMBER(G292)\"),0)","v":0},{"$error":"#VALUE!"}]
["Huile de soin Peaux Mixtes - Clemence & Vivien ","11,90€","11.9",{"$f":"VLOOKUP(A292,Import!A:D,4,FALSE)","v":"Produits d'hygiène coporelle"},null,0,1,{"$f":"IFERROR(__xludf.DUMMYFUNCTION(\"TO_PURE_NUMBER(G293)\"),0)","v":0},{"$error":"#VALUE!"}]
["Huile de soin Peaux Sèches - Clemence & Vivien ","11,90€","11.9",{"$f":"VLOOKUP(A293,Import!A:D,4,FALSE)","v":"Produits d'hygiène coporelle"},null,0,1,{"$f":"IFERROR(__xludf.DUMMYFUNCTION(\"TO_PURE_NUMBER(G294)\"),0)","v":0},{"$error":"#VALUE!"}]
["Huile de Tournesol - 1L","12,00€","12",{"$f":"VLOOKUP(A294,Import!A:D,4,FALSE)","v":"Alimentaire Conditionné"},null,0,1,{"$f":"IFERROR(__xludf.DUMMYFUNCTION(\"TO_PURE_NUMBER(G295)\"),0)","v":0},0]
["Huile de Tournesol - 50cl","6,00€","6",{"$f":"VLOOKUP(A295,Import!A:D,4,FALSE)","v":"Alimentaire Conditionné"},null,0,1,{"$f":"IFERROR(__xludf.DUMMYFUNCTION(\"TO_PURE_NUMBER(G296)\"),0)","v":0},0]
["Huile de Tournesol - en vrac ","7,90€ / kg","7.9",{"$f":"VLOOKUP(A296,Import!A:D,4,FALSE)","v":"Alimentaire Vrac"},null,0,1,{"$f":"IFERROR(__xludf.DUMMYFUNCTION(\"TO_PURE_NUMBER(G297)\"),0)","v":0},{"$error":"#VALUE!"},{"$f":"VLOOKUP(A296,Import!A:N,14)","v":"🇫🇷 France - Sandrans (01)"}]
["Huile démaquillante toute douce Amande - Clemence & Vivien ","11,90€","11.9",{"$f":"VLOOKUP(A297,Import!A:D,4,FALSE)","v":"Produits d'hygiène coporelle"},null,0,1,{"$f":"IFERROR(__xludf.DUMMYFUNCTION(\"TO_PURE_NUMBER(G298)\"),0)","v":0},{"$error":"#VALUE!"}]
["Huile démaquillante toute douce Rose-Muguet - Clemence & Vivien ","11,90€","11.9",{"$f":"VLOOKUP(A298,Import!A:D,4,FALSE)","v":"Produits d'hygiène coporelle"},null,0,1,{"$f":"IFERROR(__xludf.DUMMYFUNCTION(\"TO_PURE_NUMBER(G299)\"),0)","v":0},{"$error":"#VALUE!"},{"$f":"VLOOKUP(A298,Import!A:N,14)","v":"🇫🇷 France - Chauray (79)"}]
["Huile Sèche 3 en 1 - Endro","19,90€","19.9",{"$f":"VLOOKUP(A299,Import!A:D,4,FALSE)","v":"Produits d'hygiène coporelle"},null,0,1,{"$f":"IFERROR(__xludf.DUMMYFUNCTION(\"TO_PURE_NUMBER(G300)\"),0)","v":0},{"$error":"#VALUE!"}]
["Jus d’orange du Maroc - 75cl","4€","4",{"$f":"VLOOKUP(A300,Import!A:D,4,FALSE)","v":"Boissons conditionnées"},null,0,1,{"$f":"IFERROR(__xludf.DUMMYFUNCTION(\"TO_PURE_NUMBER(G301)\"),0)","v":0},0]
["Jus de citron Sicile - 1L","5,90€","5.9",{"$f":"VLOOKUP(A301,Import!A:D,4,FALSE)","v":"Boissons conditionnées"},null,0,1,{"$f":"IFERROR(__xludf.DUMMYFUNCTION(\"TO_PURE_NUMBER(G302)\"),0)","v":0},{"$error":"#VALUE!"}]
["Jus de citron Sicile - 50cl","3,50€","3.5",{"$f":"VLOOKUP(A302,Import!A:D,4,FALSE)","v":"Boissons conditionnées"},null,0,1,{"$f":"IFERROR(__xludf.DUMMYFUNCTION(\"TO_PURE_NUMBER(G303)\"),0)","v":0},{"$error":"#VALUE!"}]
["Jus de Pamplemousse rose Demeter - 75cl","4,50€","4.5",{"$f":"VLOOKUP(A303,Import!A:D,4,FALSE)","v":"Boissons conditionnées"},null,0,1,{"$f":"IFERROR(__xludf.DUMMYFUNCTION(\"TO_PURE_NUMBER(G304)\"),0)","v":0},{"$error":"#VALUE!"}]
["Jus de Pomme 1L ","4,50€","4.5",{"$f":"VLOOKUP(A304,Import!A:D,4,FALSE)","v":"Boissons conditionnées"},null,0,1,{"$f":"IFERROR(__xludf.DUMMYFUNCTION(\"TO_PURE_NUMBER(G305)\"),0)","v":0},{"$error":"#VALUE!"}]
["Jus de Pomme Cassis - 75cl","4€","4",{"$f":"VLOOKUP(A305,Import!A:D,4,FALSE)","v":"Boissons conditionnées"},null,0,1,{"$f":"IFERROR(__xludf.DUMMYFUNCTION(\"TO_PURE_NUMBER(G306)\"),0)","v":0},0]
["Jus de Raisin 1L","4,50€","4.5",{"$f":"VLOOKUP(A306,Import!A:D,4,FALSE)","v":"Boissons conditionnées"},null,0,1,{"$f":"IFERROR(__xludf.DUMMYFUNCTION(\"TO_PURE_NUMBER(G307)\"),0)","v":0},{"$error":"#VALUE!"}]
["Jus Pomme Cassis 1L ","4,50€","4.5",{"$f":"VLOOKUP(A307,Import!A:D,4,FALSE)","v":"Boissons conditionnées"},null,0,1,{"$f":"IFERROR(__xludf.DUMMYFUNCTION(\"TO_PURE_NUMBER(G308)\"),0)","v":0},{"$error":"#VALUE!"}]
["Jus Pomme Framboise - 1L","4,90€","4.9",{"$f":"VLOOKUP(A308,Import!A:D,4,FALSE)","v":"Boissons conditionnées"},null,0,1,{"$f":"IFERROR(__xludf.DUMMYFUNCTION(\"TO_PURE_NUMBER(G309)\"),0)","v":0},{"$error":"#VALUE!"}]
["Ketchup bouteille - 500g","3,50€","3.5",{"$f":"VLOOKUP(A309,Import!A:D,4,FALSE)","v":"Alimentaire Conditionné"},null,0,1,{"$f":"IFERROR(__xludf.DUMMYFUNCTION(\"TO_PURE_NUMBER(G310)\"),0)","v":0},{"$error":"#VALUE!"},{"$f":"VLOOKUP(A309,Import!A:N,13)","v":"Biodis"}]
["Kombucha - Citron Gingembre - 33cl","4,50€","4.5",{"$f":"VLOOKUP(A310,Import!A:D,4,FALSE)","v":"Boissons conditionnées"},null,0,1,{"$f":"IFERROR(__xludf.DUMMYFUNCTION(\"TO_PURE_NUMBER(G311)\"),0)","v":0},{"$error":"#VALUE!"},{"$f":"VLOOKUP(A310,Import!A:N,13)","v":"Relais local"}]
["Kombucha - Menthe - 33cl","4,50€","4.5",{"$f":"VLOOKUP(A311,Import!A:D,4,FALSE)","v":"Boissons conditionnées"},null,0,1,{"$f":"IFERROR(__xludf.DUMMYFUNCTION(\"TO_PURE_NUMBER(G312)\"),0)","v":0},{"$error":"#VALUE!"}]
["Kombucha - Nature - 33cl","4,50€","4.5",{"$f":"VLOOKUP(A312,Import!A:D,4,FALSE)","v":"Boissons conditionnées"},null,0,1,{"$f":"IFERROR(__xludf.DUMMYFUNCTION(\"TO_PURE_NUMBER(G313)\"),0)","v":0},{"$error":"#VALUE!"}]
["Lait après-soleil - 100ml","14,90€","14.9",{"$f":"VLOOKUP(A313,Import!A:D,4,FALSE)","v":"Produits d'hygiène coporelle"},null,0,1,{"$f":"IFERROR(__xludf.DUMMYFUNCTION(\"TO_PURE_NUMBER(G314)\"),0)","v":0},{"$error":"#VALUE!"},{"$f":"VLOOKUP(A313,Import!A:N,13)","v":"Endro"}]
["Lait après-soleil - 50ml","9,90€","9.9",{"$f":"VLOOKUP(A314,Import!A:D,4,FALSE)","v":"Produits d'hygiène coporelle"},null,0,1,{"$f":"IFERROR(__xludf.DUMMYFUNCTION(\"TO_PURE_NUMBER(G315)\"),0)","v":0},{"$error":"#VALUE!"}]
["Lait corps au beurre de Karité Vrac","31,00€","31",{"$f":"VLOOKUP(A315,Import!A:D,4,FALSE)","v":"Produits d'hygiène coporelle"},null,0,1,{"$f":"IFERROR(__xludf.DUMMYFUNCTION(\"TO_PURE_NUMBER(G316)\"),0)","v":0},0]
["Lait UHT 1/2 écrémé - 1L","1,50€","1.5",{"$f":"VLOOKUP(A316,Import!A:D,4,FALSE)","v":"Boissons conditionnées"},null,0,1,{"$f":"IFERROR(__xludf.DUMMYFUNCTION(\"TO_PURE_NUMBER(G317)\"),0)","v":0},{"$error":"#VALUE!"}]
["Lait UHT entier - 1L","1,95€","1.95",{"$f":"VLOOKUP(A317,Import!A:D,4,FALSE)","v":"Boissons conditionnées"},null,0,1,{"$f":"IFERROR(__xludf.DUMMYFUNCTION(\"TO_PURE_NUMBER(G318)\"),0)","v":0},{"$error":"#VALUE!"}]
["Lentilles Corail"," 8,50€ / kg","8.5",{"$f":"VLOOKUP(A318,Import!A:D,4,FALSE)","v":"Alimentaire Vrac"},null,0,1,{"$f":"IFERROR(__xludf.DUMMYFUNCTION(\"TO_PURE_NUMBER(G319)\"),0)","v":0},{"$error":"#VALUE!"}]
["Lessive Fleur à Savon ","4,35€ / kg","4.35",{"$f":"VLOOKUP(A319,Import!A:D,4,FALSE)","v":"Produits d'entretiens"},null,0,1,{"$f":"IFERROR(__xludf.DUMMYFUNCTION(\"TO_PURE_NUMBER(G320)\"),0)","v":0},{"$error":"#VALUE!"}]
["Lessive Hypoallergénique","5,90€ / kg","5.9",{"$f":"VLOOKUP(A320,Import!A:D,4,FALSE)","v":"Produits d'entretiens"},null,0,1,{"$f":"IFERROR(__xludf.DUMMYFUNCTION(\"TO_PURE_NUMBER(G321)\"),0)","v":0},{"$error":"#VALUE!"}]
["Levure Paillettes Maltées","9,50€ / kg","9.5",{"$f":"VLOOKUP(A321,Import!A:D,4,FALSE)","v":"Alimentaire Vrac"},null,0,1,{"$f":"IFERROR(__xludf.DUMMYFUNCTION(\"TO_PURE_NUMBER(G322)\"),0)","v":0},{"$error":"#VALUE!"}]
["Limonade Bulles d’orange - 25cl","3,00 €","3",{"$f":"VLOOKUP(A322,Import!A:D,4,FALSE)","v":"Boissons conditionnées"},null,0,1,{"$f":"IFERROR(__xludf.DUMMYFUNCTION(\"TO_PURE_NUMBER(G323)\"),0)","v":0},{"$f":"H322*C322","v":0}]
["Limonade Sucre de Canne 1L","4€","4",{"$f":"VLOOKUP(A323,Import!A:D,4,FALSE)","v":"Boissons conditionnées"},null,0,1,{"$f":"IFERROR(__xludf.DUMMYFUNCTION(\"TO_PURE_NUMBER(G324)\"),0)","v":0},0]
["Lingettes démaquillantes - Lot de 5 Carrés","7,50 €","7,5",{"$f":"VLOOKUP(A324,Import!A:D,4,FALSE)","v":"Zéros déchets et Bocaux"},null,0,{"$f":"F324","v":0},{"$f":"G324","v":0},0]
["Lingettes démaquillantes - Lot de 5 Ronds","7€","7",{"$f":"VLOOKUP(A325,Import!A:D,4,FALSE)","v":"Zéros déchets et Bocaux"},null,0,{"$f":"F325","v":0},{"$f":"G325","v":0},0]
["Liquide Vaisselle Main - Vrac ","3,80€ / kg","3.8",{"$f":"VLOOKUP(A326,Import!A:D,4,FALSE)","v":"Produits d'entretiens"},null,0,1,{"$f":"IFERROR(__xludf.DUMMYFUNCTION(\"TO_PURE_NUMBER(G325)\"),0)","v":0},{"$error":"#VALUE!"}]
["Maïs Popcorn ","4,50€ / kg","4.5",{"$f":"VLOOKUP(A327,Import!A:D,4,FALSE)","v":"Alimentaire Vrac"},null,0,1,{"$f":"IFERROR(__xludf.DUMMYFUNCTION(\"TO_PURE_NUMBER(G326)\"),0)","v":0},{"$error":"#VALUE!"}]
["Mangues séchées","27,50€ / kg","27.5",{"$f":"VLOOKUP(A328,Import!A:D,4,FALSE)","v":"Alimentaire Vrac"},null,0,1,{"$f":"IFERROR(__xludf.DUMMYFUNCTION(\"TO_PURE_NUMBER(G327)\"),0)","v":0},{"$error":"#VALUE!"},{"$f":"VLOOKUP(A328,Import!A:N,14)","v":"🇨🇲 Cameroun"}]
["Masque Visage Purifiant - Endro","24,90 €","24.9",{"$f":"VLOOKUP(A329,Import!A:D,4,FALSE)","v":"Produits d'hygiène coporelle"},null,0,1,{"$f":"IFERROR(__xludf.DUMMYFUNCTION(\"TO_PURE_NUMBER(G328)\"),0)","v":0},{"$error":"#VALUE!"},{"$f":"VLOOKUP(A329,Import!A:N,14)","v":"🇫🇷 France - Lannion (22)"}]
["Maté Nature - Vrac","45€ / kg","45",{"$f":"VLOOKUP(A330,Import!A:D,4,FALSE)","v":"Boisson en Vrac"},null,0,1,{"$f":"IFERROR(__xludf.DUMMYFUNCTION(\"TO_PURE_NUMBER(G329)\"),0)","v":0},0,{"$f":"VLOOKUP(A330,Import!A:N,14)","v":"🇧🇷 Brésil"}]
["Mayonnaise dijonnaise - 185g","3,50 €","3.5",{"$f":"VLOOKUP(A331,Import!A:D,4,FALSE)","v":"Alimentaire Conditionné"},null,0,1,{"$f":"IFERROR(__xludf.DUMMYFUNCTION(\"TO_PURE_NUMBER(G330)\"),0)","v":0},{"$error":"#VALUE!"}]
["Mayonnaise nature - 325g","5€","5",{"$f":"VLOOKUP(A332,Import!A:D,4,FALSE)","v":"Alimentaire Conditionné"},null,0,1,{"$f":"IFERROR(__xludf.DUMMYFUNCTION(\"TO_PURE_NUMBER(G331)\"),0)","v":0},0,{"$f":"VLOOKUP(A332,Import!A:N,13)","v":"Scop Epice"}]
["Mélange Détox","20,50 € / kg","20.5",{"$f":"VLOOKUP(A333,Import!A:D,4,FALSE)","v":"Alimentaire Vrac"},null,0,1,{"$f":"IFERROR(__xludf.DUMMYFUNCTION(\"TO_PURE_NUMBER(G332)\"),0)","v":0},{"$error":"#VALUE!"}]
["Mélange Energie","18,50 € /kg","18.5",{"$f":"VLOOKUP(A334,Import!A:D,4,FALSE)","v":"Alimentaire Vrac"},null,0,1,{"$f":"IFERROR(__xludf.DUMMYFUNCTION(\"TO_PURE_NUMBER(G333)\"),0)","v":0},{"$error":"#VALUE!"}]
["Mélange Exotique","18,50 € / kg","18.5",{"$f":"VLOOKUP(A335,Import!A:D,4,FALSE)","v":"Alimentaire Vrac"},null,0,1,{"$f":"IFERROR(__xludf.DUMMYFUNCTION(\"TO_PURE_NUMBER(G334)\"),0)","v":0},{"$error":"#VALUE!"}]
["Mélange Rando ","18,50 € / kg","18.5",{"$f":"VLOOKUP(A336,Import!A:D,4,FALSE)","v":"Alimentaire Vrac"},null,0,1,{"$f":"IFERROR(__xludf.DUMMYFUNCTION(\"TO_PURE_NUMBER(G335)\"),0)","v":0},{"$error":"#VALUE!"}]
["Mélange Salade","15,50€/kg","15.5",{"$f":"VLOOKUP(A337,Import!A:D,4,FALSE)","v":"Alimentaire Vrac"},null,0,1,{"$f":"IFERROR(__xludf.DUMMYFUNCTION(\"TO_PURE_NUMBER(G336)\"),0)","v":0},{"$error":"#VALUE!"}]
["Miel d’Acacia - 250g","6,90 €","6.9",{"$f":"VLOOKUP(A338,Import!A:D,4,FALSE)","v":"Alimentaire Conditionné"},null,0,1,{"$f":"IFERROR(__xludf.DUMMYFUNCTION(\"TO_PURE_NUMBER(G337)\"),0)","v":0},{"$error":"#VALUE!"}]
["Miel d’Acacia - 500g","12,50 €","12.5",{"$f":"VLOOKUP(A339,Import!A:D,4,FALSE)","v":"Alimentaire Conditionné"},null,0,1,{"$f":"IFERROR(__xludf.DUMMYFUNCTION(\"TO_PURE_NUMBER(G338)\"),0)","v":0},{"$error":"#VALUE!"},{"$f":"VLOOKUP(A339,Import!A:N,13)","v":"Olivier Dutang"}]
["Miel de Lavande - 250g","8,50 €","8.5",{"$f":"VLOOKUP(A340,Import!A:D,4,FALSE)","v":"Alimentaire Conditionné"},null,0,1,{"$f":"IFERROR(__xludf.DUMMYFUNCTION(\"TO_PURE_NUMBER(G339)\"),0)","v":0},{"$error":"#VALUE!"},{"$f":"VLOOKUP(A340,Import!A:N,13)","v":"Olivier Dutang"}]
["Miel de Lavande - 500g","14,90 €","14.9",{"$f":"VLOOKUP(A341,Import!A:D,4,FALSE)","v":"Alimentaire Conditionné"},null,0,1,{"$f":"IFERROR(__xludf.DUMMYFUNCTION(\"TO_PURE_NUMBER(G340)\"),0)","v":0},{"$error":"#VALUE!"},{"$f":"VLOOKUP(A341,Import!A:N,14)","v":"🇫🇷 France - Neuville les Dames (01)"}]
["Miel de Printemps - 250g","6,90 €","6.9",{"$f":"VLOOKUP(A342,Import!A:D,4,FALSE)","v":"Alimentaire Conditionné"},null,0,1,{"$f":"IFERROR(__xludf.DUMMYFUNCTION(\"TO_PURE_NUMBER(G341)\"),0)","v":0},{"$error":"#VALUE!"}]
["Miel de Printemps - 500g","12€","12",{"$f":"VLOOKUP(A343,Import!A:D,4,FALSE)","v":"Alimentaire Conditionné"},null,0,1,{"$f":"IFERROR(__xludf.DUMMYFUNCTION(\"TO_PURE_NUMBER(G342)\"),0)","v":0},0]
["Miel de Sapin - 250g","8,50 €","8.5",{"$f":"VLOOKUP(A344,Import!A:D,4,FALSE)","v":"Alimentaire Conditionné"},null,0,1,{"$f":"IFERROR(__xludf.DUMMYFUNCTION(\"TO_PURE_NUMBER(G343)\"),0)","v":0},{"$error":"#VALUE!"}]
["Miel de Sapin - 500g","15,00 €","15",{"$f":"VLOOKUP(A345,Import!A:D,4,FALSE)","v":"Alimentaire Conditionné"},null,0,1,{"$f":"IFERROR(__xludf.DUMMYFUNCTION(\"TO_PURE_NUMBER(G344)\"),0)","v":0},0]
["Miel de Tilleul - 250g","7,50 €","7.5",{"$f":"VLOOKUP(A346,Import!A:D,4,FALSE)","v":"Alimentaire Conditionné"},null,0,1,{"$f":"IFERROR(__xludf.DUMMYFUNCTION(\"TO_PURE_NUMBER(G345)\"),0)","v":0},{"$error":"#VALUE!"}]
["Miel de Tilleul - 500g","12,50 €","12.5",{"$f":"VLOOKUP(A347,Import!A:D,4,FALSE)","v":"Alimentaire Conditionné"},null,0,1,{"$f":"IFERROR(__xludf.DUMMYFUNCTION(\"TO_PURE_NUMBER(G346)\"),0)","v":0},{"$error":"#VALUE!"}]
["Miel Polyfloral - 250g","6,50 €","6.5",{"$f":"VLOOKUP(A348,Import!A:D,4,FALSE)","v":"Alimentaire Conditionné"},null,0,1,{"$f":"IFERROR(__xludf.DUMMYFUNCTION(\"TO_PURE_NUMBER(G347)\"),0)","v":0},{"$error":"#VALUE!"}]
["Miel Polyfloral - 500g","11,50 €","11.5",{"$f":"VLOOKUP(A349,Import!A:D,4,FALSE)","v":"Alimentaire Conditionné"},null,0,1,{"$f":"IFERROR(__xludf.DUMMYFUNCTION(\"TO_PURE_NUMBER(G348)\"),0)","v":0},{"$error":"#VALUE!"}]
["Mini Filet à chute de savon","3,50 €","3,5",{"$f":"VLOOKUP(A350,Import!A:D,4,FALSE)","v":"Zéros déchets et Bocaux"},null,0,{"$f":"F350","v":0},{"$f":"G350","v":0},0,{"$f":"VLOOKUP(A350,Import!A:N,14)","v":"🇫🇷 France - Annemasse (74)"}]
["Mouchoirs","9,50 €","9,5",{"$f":"VLOOKUP(A351,Import!A:D,4,FALSE)","v":"Zéros déchets et Bocaux"},null,0,{"$f":"F351","v":0},{"$f":"G351","v":0},0]
["Moutarde à l’ancienne - 350g","4,20€","4.20",{"$f":"VLOOKUP(A352,Import!A:D,4,FALSE)","v":"Alimentaire Conditionné"},null,0,1,{"$f":"IFERROR(__xludf.DUMMYFUNCTION(\"TO_PURE_NUMBER(G351)\"),0)","v":0},{"$error":"#VALUE!"}]
["Moutarde de Dijon - 350g","4,20€","4.2",{"$f":"VLOOKUP(A353,Import!A:D,4,FALSE)","v":"Alimentaire Conditionné"},null,0,1,{"$f":"IFERROR(__xludf.DUMMYFUNCTION(\"TO_PURE_NUMBER(G352)\"),0)","v":0},{"$error":"#VALUE!"}]
["Muesli aux fruits","5,90 € / kg","5.9",{"$f":"VLOOKUP(A354,Import!A:D,4,FALSE)","v":"Alimentaire Vrac"},null,0,1,{"$f":"IFERROR(__xludf.DUMMYFUNCTION(\"TO_PURE_NUMBER(G353)\"),0)","v":0},{"$error":"#VALUE!"}]
["Muesli croustillant chocolat ","10,50 € / kg","10.5",{"$f":"VLOOKUP(A355,Import!A:D,4,FALSE)","v":"Alimentaire Vrac"},null,0,1,{"$f":"IFERROR(__xludf.DUMMYFUNCTION(\"TO_PURE_NUMBER(G354)\"),0)","v":0},{"$error":"#VALUE!"}]
["Multi Usage - Vrac ",5.9,5.9,{"$f":"VLOOKUP(A356,Import!A:D,4,FALSE)","v":"Produits d'entretiens"},null,0,1,{"$f":"IFERROR(__xludf.DUMMYFUNCTION(\"TO_PURE_NUMBER(G355)\"),0)","v":0},0]
["Muscade Noix Poudre ","76€ / kg","76",{"$f":"VLOOKUP(A357,Import!A:D,4,FALSE)","v":"Alimentaire Vrac"},null,0,1,{"$f":"IFERROR(__xludf.DUMMYFUNCTION(\"TO_PURE_NUMBER(G356)\"),0)","v":0},0,{"$f":"VLOOKUP(A357,Import!A:N,14)","v":"🇮🇳 Inde"}]
["Nectar d’abricot 75cl ","4,50 €","4.5",{"$f":"VLOOKUP(A358,Import!A:D,4,FALSE)","v":"Boissons conditionnées"},null,0,1,{"$f":"IFERROR(__xludf.DUMMYFUNCTION(\"TO_PURE_NUMBER(G357)\"),0)","v":0},{"$error":"#VALUE!"},{"$f":"VLOOKUP(A358,Import!A:N,14)","v":"🇫🇷 France - Tournon (73)"}]
["Nectar de Pêche - 75cl ","4,50 €","4.5",{"$f":"VLOOKUP(A359,Import!A:D,4,FALSE)","v":"Boissons conditionnées"},null,0,1,{"$f":"IFERROR(__xludf.DUMMYFUNCTION(\"TO_PURE_NUMBER(G358)\"),0)","v":0},{"$error":"#VALUE!"},{"$f":"VLOOKUP(A359,Import!A:N,14)","v":"🇫🇷 France - Tournon (73)"}]
["Nectar de Poire - 75cl ","4,50 €","4.5",{"$f":"VLOOKUP(A360,Import!A:D,4,FALSE)","v":"Boissons conditionnées"},null,0,1,{"$f":"IFERROR(__xludf.DUMMYFUNCTION(\"TO_PURE_NUMBER(G359)\"),0)","v":0},{"$error":"#VALUE!"}]
["Nettoyant visage - Peau sèche Hibiscus ","8,90 €","8.9",{"$f":"VLOOKUP(A361,Import!A:D,4,FALSE)","v":"Produits d'hygiène coporelle"},null,0,1,{"$f":"IFERROR(__xludf.DUMMYFUNCTION(\"TO_PURE_NUMBER(G360)\"),0)","v":0},{"$error":"#VALUE!"}]
["Nids de Pâtes de Riz Thai Complet ","17,50 € / kg","17.5",{"$f":"VLOOKUP(A362,Import!A:D,4,FALSE)","v":"Alimentaire Vrac"},null,0,1,{"$f":"IFERROR(__xludf.DUMMYFUNCTION(\"TO_PURE_NUMBER(G361)\"),0)","v":0},{"$error":"#VALUE!"}]
["Noisettes décortiquées","18,90 € / kg","18.9",{"$f":"VLOOKUP(A363,Import!A:D,4,FALSE)","v":"Alimentaire Vrac"},null,0,1,{"$f":"IFERROR(__xludf.DUMMYFUNCTION(\"TO_PURE_NUMBER(G362)\"),0)","v":0},{"$error":"#VALUE!"},{"$f":"VLOOKUP(A363,Import!A:N,13)","v":0}]
["Noix Cerneaux Brisures 3-12m","28,50 € / kg","28.5",{"$f":"VLOOKUP(A364,Import!A:D,4,FALSE)","v":"Alimentaire Vrac"},null,0,1,{"$f":"IFERROR(__xludf.DUMMYFUNCTION(\"TO_PURE_NUMBER(G363)\"),0)","v":0},{"$error":"#VALUE!"}]
["Noix de Cajou Nature","23,50 € / kg","2.5",{"$f":"VLOOKUP(A365,Import!A:D,4,FALSE)","v":"Alimentaire Vrac"},null,0,1,{"$f":"IFERROR(__xludf.DUMMYFUNCTION(\"TO_PURE_NUMBER(G364)\"),0)","v":0},{"$error":"#VALUE!"}]
["Noix de coco Chips ","12,00 € / kg","12",{"$f":"VLOOKUP(A366,Import!A:D,4,FALSE)","v":"Alimentaire Vrac"},null,0,1,{"$f":"IFERROR(__xludf.DUMMYFUNCTION(\"TO_PURE_NUMBER(G365)\"),0)","v":0},0]
["Noix de Coco Râpée ","8€ / kg","8",{"$f":"VLOOKUP(A367,Import!A:D,4,FALSE)","v":"Alimentaire Vrac"},null,0,1,{"$f":"IFERROR(__xludf.DUMMYFUNCTION(\"TO_PURE_NUMBER(G366)\"),0)","v":0},0]
["Noix de Pécan - Gros Morceaux ","29,00 € / kg","29",{"$f":"VLOOKUP(A368,Import!A:D,4,FALSE)","v":"Alimentaire Vrac"},null,0,1,{"$f":"IFERROR(__xludf.DUMMYFUNCTION(\"TO_PURE_NUMBER(G367)\"),0)","v":0},0]
["Noix du brésil ","22,00 € / kg","22",{"$f":"VLOOKUP(A369,Import!A:D,4,FALSE)","v":"Alimentaire Vrac"},null,0,1,{"$f":"IFERROR(__xludf.DUMMYFUNCTION(\"TO_PURE_NUMBER(G368)\"),0)","v":0},0]
["Oeufs frais bio (boîte de 6)",3,3,{"$f":"VLOOKUP(A370,Import!A:D,4,FALSE)","v":"Produits Frais"},null,0,1,{"$f":"IFERROR(__xludf.DUMMYFUNCTION(\"TO_PURE_NUMBER(G369)\"),0)","v":0},0]
["Oriculi en bioplastique - Bleu","4,50 €","4.5",{"$f":"VLOOKUP(A371,Import!A:D,4,FALSE)","v":"Produits d'hygiène coporelle"},null,0,1,{"$f":"IFERROR(__xludf.DUMMYFUNCTION(\"TO_PURE_NUMBER(G370)\"),0)","v":0},{"$error":"#VALUE!"}]
["Oriculi en bioplastique - Jaune","4,50 €","4.5",{"$f":"VLOOKUP(A372,Import!A:D,4,FALSE)","v":"Produits d'hygiène coporelle"},null,0,1,{"$f":"IFERROR(__xludf.DUMMYFUNCTION(\"TO_PURE_NUMBER(G371)\"),0)","v":0},{"$error":"#VALUE!"}]
["Oriculi en bioplastique - Vert","4,50 €","4.5",{"$f":"VLOOKUP(A373,Import!A:D,4,FALSE)","v":"Produits d'hygiène coporelle"},null,0,1,{"$f":"IFERROR(__xludf.DUMMYFUNCTION(\"TO_PURE_NUMBER(G372)\"),0)","v":0},{"$error":"#VALUE!"},{"$f":"VLOOKUP(A373,Import!A:N,13)","v":0}]
["Oriculi en bioplastique - Violet","4,50 €","4.5",{"$f":"VLOOKUP(A374,Import!A:D,4,FALSE)","v":"Produits d'hygiène coporelle"},null,0,1,{"$f":"IFERROR(__xludf.DUMMYFUNCTION(\"TO_PURE_NUMBER(G373)\"),0)","v":0},{"$error":"#VALUE!"},{"$f":"VLOOKUP(A374,Import!A:N,13)","v":0}]
["Paille Courte - 13cm Gravée","1,49 €",1.49,{"$f":"VLOOKUP(A375,Import!A:D,4,FALSE)","v":"Zéros déchets et Bocaux"},null,0,{"$f":"F375","v":0},0,0,{"$f":"VLOOKUP(A375,Import!A:N,13)","v":"Cap Bambou"}]
["Paille Longue - 20cm Gravée","1,69 €",1.69,{"$f":"VLOOKUP(A376,Import!A:D,4,FALSE)","v":"Zéros déchets et Bocaux"},null,0,0,0,0,{"$f":"VLOOKUP(A376,Import!A:N,13)","v":"Cap Bambou"}]
["Panier de rangement (Panier seul)","9,50 €","9,5",{"$f":"VLOOKUP(A377,Import!A:D,4,FALSE)","v":"Zéros déchets et Bocaux"},null,0,0,0,0,{"$f":"VLOOKUP(A377,Import!A:N,13)","v":"Alterosac"}]
["Papier toilette 600 feuilles non blanchi","0,95 €","0.95",{"$f":"VLOOKUP(A378,Import!A:D,4,FALSE)","v":"Produits d'entretiens"},null,0,1,{"$f":"IFERROR(__xludf.DUMMYFUNCTION(\"TO_PURE_NUMBER(G377)\"),0)","v":0},{"$error":"#VALUE!"},{"$f":"VLOOKUP(A378,Import!A:N,13)","v":"Biodis"}]
["Paprika Doux Poudre ","67,00 € / kg","67",{"$f":"VLOOKUP(A379,Import!A:D,4,FALSE)","v":"Alimentaire Vrac"},null,0,1,{"$f":"IFERROR(__xludf.DUMMYFUNCTION(\"TO_PURE_NUMBER(G378)\"),0)","v":0},0]
["Paprika Fort moulu","88,00 € / kg","88",{"$f":"VLOOKUP(A380,Import!A:D,4,FALSE)","v":"Alimentaire Vrac"},null,0,1,{"$f":"IFERROR(__xludf.DUMMYFUNCTION(\"TO_PURE_NUMBER(G379)\"),0)","v":0},0]
["Pâte à tartiner - Amande sésame miel","7,50€","7.5",{"$f":"VLOOKUP(A381,Import!A:D,4,FALSE)","v":"Alimentaire Conditionné"},null,0,1,{"$f":"IFERROR(__xludf.DUMMYFUNCTION(\"TO_PURE_NUMBER(G380)\"),0)","v":0},{"$error":"#VALUE!"}]
["Pâte à tartiner - Cajou coco miel bio","7,50€","7.5",{"$f":"VLOOKUP(A382,Import!A:D,4,FALSE)","v":"Alimentaire Conditionné"},null,0,1,{"$f":"IFERROR(__xludf.DUMMYFUNCTION(\"TO_PURE_NUMBER(G381)\"),0)","v":0},{"$error":"#VALUE!"},{"$f":"VLOOKUP(A382,Import!A:N,14)","v":"🇫🇷 France - Eurre (27)"}]
["Pâte à tartiner Amande Miel - 280g ","10,50€","10.50",{"$f":"VLOOKUP(A383,Import!A:D,4,FALSE)","v":"Alimentaire Conditionné"},null,0,1,{"$f":"IFERROR(__xludf.DUMMYFUNCTION(\"TO_PURE_NUMBER(G382)\"),0)","v":0},{"$error":"#VALUE!"}]
["Pâte à tartiner Choc-Noisettes - 265g ","9,90€","9.9",{"$f":"VLOOKUP(A384,Import!A:D,4,FALSE)","v":"Alimentaire Conditionné"},null,0,1,{"$f":"IFERROR(__xludf.DUMMYFUNCTION(\"TO_PURE_NUMBER(G383)\"),0)","v":0},{"$error":"#VALUE!"}]
["Pâtes - Coquillettes blanches","3,50€ / kg","3.5",{"$f":"VLOOKUP(A385,Import!A:D,4,FALSE)","v":"Alimentaire Vrac"},null,0,1,{"$f":"IFERROR(__xludf.DUMMYFUNCTION(\"TO_PURE_NUMBER(G384)\"),0)","v":0},{"$error":"#VALUE!"}]
["Pâtes - Coquillettes Semi Complètes ","3,50€ / kg","3.5",{"$f":"VLOOKUP(A386,Import!A:D,4,FALSE)","v":"Alimentaire Vrac"},null,0,1,{"$f":"IFERROR(__xludf.DUMMYFUNCTION(\"TO_PURE_NUMBER(G385)\"),0)","v":0},{"$f":"H386*C386","v":{"$error":"#VALUE!"}}]
["Pâtes - Farfalles Blanches ","3,30€ / kg","3.3",{"$f":"VLOOKUP(A387,Import!A:D,4,FALSE)","v":"Alimentaire Vrac"},null,0,1,{"$f":"IFERROR(__xludf.DUMMYFUNCTION(\"TO_PURE_NUMBER(G386)\"),0)","v":0},{"$error":"#VALUE!"},{"$f":"VLOOKUP(A387,Import!A:N,13)","v":"Actibio"}]
["Pâtes - Lasagnes Blanches ","6,00€ / kg","6",{"$f":"VLOOKUP(A388,Import!A:D,4,FALSE)","v":"Alimentaire Vrac"},null,0,1,{"$f":"IFERROR(__xludf.DUMMYFUNCTION(\"TO_PURE_NUMBER(G387)\"),0)","v":0},0]
["Pâtes - Pennes Blancs ","3,50€ / kg","4.5",{"$f":"VLOOKUP(A389,Import!A:D,4,FALSE)","v":"Alimentaire Vrac"},null,0,1,{"$f":"IFERROR(__xludf.DUMMYFUNCTION(\"TO_PURE_NUMBER(G388)\"),0)","v":0},{"$error":"#VALUE!"}]
["Pâtes - Pennes Semi Complets","3,50€ / kg","4.5",{"$f":"VLOOKUP(A390,Import!A:D,4,FALSE)","v":"Alimentaire Vrac"},null,0,1,{"$f":"IFERROR(__xludf.DUMMYFUNCTION(\"TO_PURE_NUMBER(G389)\"),0)","v":0},{"$error":"#VALUE!"},{"$f":"VLOOKUP(A390,Import!A:N,13)","v":0}]
["Pâtes - Spaghettis Blancs","3,30€/kg","3.3",{"$f":"VLOOKUP(A391,Import!A:D,4,FALSE)","v":"Alimentaire Vrac"},null,0,1,{"$f":"IFERROR(__xludf.DUMMYFUNCTION(\"TO_PURE_NUMBER(G390)\"),0)","v":0},{"$error":"#VALUE!"},{"$f":"VLOOKUP(A391,Import!A:N,13)","v":"Actibio"}]
["Pâtes - Spaghettis Complets","3,30€/kg","3.3",{"$f":"VLOOKUP(A392,Import!A:D,4,FALSE)","v":"Alimentaire Vrac"},null,0,1,{"$f":"IFERROR(__xludf.DUMMYFUNCTION(\"TO_PURE_NUMBER(G391)\"),0)","v":0},{"$error":"#VALUE!"},{"$f":"VLOOKUP(A392,Import!A:N,14)","v":"🇮🇹 Italie"}]
["Pâtes - Tagliatelles Nature sans oeufs","4,50€/kg","4.5",{"$f":"VLOOKUP(A393,Import!A:D,4,FALSE)","v":"Alimentaire Vrac"},null,0,1,{"$f":"IFERROR(__xludf.DUMMYFUNCTION(\"TO_PURE_NUMBER(G392)\"),0)","v":0},{"$error":"#VALUE!"},{"$f":"VLOOKUP(A393,Import!A:N,14)","v":"🇫🇷 France - Provence"}]
["Peigne Démeloir à manche","6,49 €","6.49",{"$f":"VLOOKUP(A394,Import!A:D,4,FALSE)","v":"Produits d'hygiène coporelle"},null,0,1,{"$f":"IFERROR(__xludf.DUMMYFUNCTION(\"TO_PURE_NUMBER(G393)\"),0)","v":0},{"$error":"#VALUE!"},{"$f":"VLOOKUP(A394,Import!A:N,14)","v":"🇫🇷 France - Attignat (01)"}]
["Peigne Démêloir sans manche","6,49 €","6.49",{"$f":"VLOOKUP(A395,Import!A:D,4,FALSE)","v":"Produits d'hygiène coporelle"},null,0,1,{"$f":"IFERROR(__xludf.DUMMYFUNCTION(\"TO_PURE_NUMBER(G394)\"),0)","v":0},{"$error":"#VALUE!"},{"$f":"VLOOKUP(A395,Import!A:N,14)","v":"🇫🇷 France - Attignat (01)"}]
["Pelle à thé Inox",10.9,10.9,{"$f":"VLOOKUP(A396,Import!A:D,4,FALSE)","v":0},null,0,1,{"$f":"IFERROR(__xludf.DUMMYFUNCTION(\"TO_PURE_NUMBER(G395)\"),0)","v":0},0,{"$f":"VLOOKUP(A396,Import!A:N,14)","v":"🇫🇷 France - Sud Est"}]
["Percarbonate Blanchissant Linge Vrac ","4,90 € / kg","4.9",{"$f":"VLOOKUP(A397,Import!A:D,4,FALSE)","v":"Produits d'entretiens"},null,0,1,{"$f":"IFERROR(__xludf.DUMMYFUNCTION(\"TO_PURE_NUMBER(G396)\"),0)","v":0},{"$error":"#VALUE!"},{"$f":"VLOOKUP(A397,Import!A:N,14)","v":"🇫🇷 France - Malataverne (26)"}]
["Pesto Ail des Ours","4,20 €","4.20",{"$f":"VLOOKUP(A398,Import!A:D,4,FALSE)","v":"Alimentaire Conditionné"},null,0,1,{"$f":"IFERROR(__xludf.DUMMYFUNCTION(\"TO_PURE_NUMBER(G397)\"),0)","v":0},{"$error":"#VALUE!"}]
["Pesto Basilic classique - ","4,20 €","4.2",{"$f":"VLOOKUP(A399,Import!A:D,4,FALSE)","v":"Alimentaire Conditionné"},null,0,1,{"$f":"IFERROR(__xludf.DUMMYFUNCTION(\"TO_PURE_NUMBER(G398)\"),0)","v":0},{"$error":"#VALUE!"}]
["Pesto Rosso - 90g","4,20 €","4.2",{"$f":"VLOOKUP(A400,Import!A:D,4,FALSE)","v":"Alimentaire Conditionné"},null,0,1,{"$f":"IFERROR(__xludf.DUMMYFUNCTION(\"TO_PURE_NUMBER(G399)\"),0)","v":0},{"$error":"#VALUE!"}]
["Pesto Verde - 90g","4,20 €","4.2",{"$f":"VLOOKUP(A401,Import!A:D,4,FALSE)","v":"Alimentaire Conditionné"},null,0,1,{"$f":"IFERROR(__xludf.DUMMYFUNCTION(\"TO_PURE_NUMBER(G400)\"),0)","v":0},{"$error":"#VALUE!"}]
["Petit Epeautre ","7,50 € / kg","7.5",{"$f":"VLOOKUP(A402,Import!A:D,4,FALSE)","v":"Alimentaire Vrac"},null,0,1,{"$f":"IFERROR(__xludf.DUMMYFUNCTION(\"TO_PURE_NUMBER(G401)\"),0)","v":0},{"$error":"#VALUE!"}]
["Petit Sac à thé de Noël","2,50 €","2,5",{"$f":"VLOOKUP(A403,Import!A:D,4,FALSE)","v":"Zéros déchets et Bocaux"},null,0,{"$f":"F403","v":0},{"$f":"G403","v":0},0]
["Pignons de Pin","67,00 € / kg","67",{"$f":"VLOOKUP(A404,Import!A:D,4,FALSE)","v":"Alimentaire Vrac"},null,0,1,{"$f":"IFERROR(__xludf.DUMMYFUNCTION(\"TO_PURE_NUMBER(G403)\"),0)","v":0},0]
["Pistaches Coques Grillées Salées","35,00 € / kg","35",{"$f":"VLOOKUP(A405,Import!A:D,4,FALSE)","v":"Alimentaire Vrac"},null,0,1,{"$f":"IFERROR(__xludf.DUMMYFUNCTION(\"TO_PURE_NUMBER(G404)\"),0)","v":0},0]
["Pistaches vertes sans coque non salées ","46,00 € / kg","46",{"$f":"VLOOKUP(A406,Import!A:D,4,FALSE)","v":"Alimentaire Vrac"},null,0,1,{"$f":"IFERROR(__xludf.DUMMYFUNCTION(\"TO_PURE_NUMBER(G405)\"),0)","v":0},0]
["Pochette à brosse à dent ou à paille","3,50 €","3,5",{"$f":"VLOOKUP(A407,Import!A:D,4,FALSE)","v":"Zéros déchets et Bocaux"},null,0,{"$f":"F407","v":0},0,0]
["Pochette à Goûter ","9,50 €","9,5",{"$f":"VLOOKUP(A408,Import!A:D,4,FALSE)","v":"Zéros déchets et Bocaux"},null,0,0,0,0,{"$f":"VLOOKUP(A408,Import!A:N,14)","v":"🇫🇷 France - Annemasse (74)"}]
["Pochette à Savon","4,50 €","4,5",{"$f":"VLOOKUP(A409,Import!A:D,4,FALSE)","v":"Zéros déchets et Bocaux"},null,0,0,0,0]
["Pois chiches","5€ / kg","5",{"$f":"VLOOKUP(A410,Import!A:D,4,FALSE)","v":"Alimentaire Vrac"},null,0,1,{"$f":"IFERROR(__xludf.DUMMYFUNCTION(\"TO_PURE_NUMBER(G409)\"),0)","v":0},0]
["Poivre Blanc Grains ","115,00 € / kg","115",{"$f":"VLOOKUP(A411,Import!A:D,4,FALSE)","v":"Alimentaire Vrac"},null,0,1,{"$f":"IFERROR(__xludf.DUMMYFUNCTION(\"TO_PURE_NUMBER(G410)\"),0)","v":0},0,{"$f":"VLOOKUP(A411,Import!A:N,14)","v":"🇱🇰 Sri Lanka"}]
["Poivre Noir en poudre","50€/kg",50,{"$f":"VLOOKUP(A412,Import!A:D,4,FALSE)","v":"Alimentaire Vrac"},null,0,1,{"$f":"IFERROR(__xludf.DUMMYFUNCTION(\"TO_PURE_NUMBER(G411)\"),0)","v":0},0,{"$f":"VLOOKUP(A412,Import!A:N,14)","v":0}]
["Poivre Noir Grains ","85,00 € / kg","85",{"$f":"VLOOKUP(A413,Import!A:D,4,FALSE)","v":"Alimentaire Vrac"},null,0,1,{"$f":"IFERROR(__xludf.DUMMYFUNCTION(\"TO_PURE_NUMBER(G412)\"),0)","v":0},0,{"$f":"VLOOKUP(A413,Import!A:N,14)","v":"🇱🇰 Sri Lanka"}]
["Polenta instantanée ","3,50 € / kg","3.5",{"$f":"VLOOKUP(A414,Import!A:D,4,FALSE)","v":"Alimentaire Vrac"},null,0,1,{"$f":"IFERROR(__xludf.DUMMYFUNCTION(\"TO_PURE_NUMBER(G413)\"),0)","v":0},{"$error":"#VALUE!"},{"$f":"VLOOKUP(A414,Import!A:N,14)","v":"🇫🇷 France - Provence"}]
["Pommes séchées rondelles ","25,00 € / kg","25",{"$f":"VLOOKUP(A415,Import!A:D,4,FALSE)","v":0},null,0,1,{"$f":"IFERROR(__xludf.DUMMYFUNCTION(\"TO_PURE_NUMBER(G414)\"),0)","v":0},0,{"$f":"VLOOKUP(A415,Import!A:N,14)","v":"🇹🇷 Turquie"}]
["Porte savon classic vrac","8,00 €","8",{"$f":"VLOOKUP(A416,Import!A:D,4,FALSE)","v":"Produits d'hygiène coporelle"},null,0,1,{"$f":"IFERROR(__xludf.DUMMYFUNCTION(\"TO_PURE_NUMBER(G415)\"),0)","v":0},0,{"$f":"VLOOKUP(A416,Import!A:N,14)","v":"🇫🇷 France - Lannion (22)"}]
["Potion Detoxifiante -  33cl","3,50 €","3.5",{"$f":"VLOOKUP(A417,Import!A:D,4,FALSE)","v":"Boissons conditionnées"},null,0,1,{"$f":"IFERROR(__xludf.DUMMYFUNCTION(\"TO_PURE_NUMBER(G416)\"),0)","v":0},{"$error":"#VALUE!"},{"$f":"VLOOKUP(A417,Import!A:N,13)","v":"Scop Epice"}]
["Potion Detoxifiante - 75cl","5,50€","5.50",{"$f":"VLOOKUP(A418,Import!A:D,4,FALSE)","v":"Boissons conditionnées"},null,0,1,{"$f":"IFERROR(__xludf.DUMMYFUNCTION(\"TO_PURE_NUMBER(G417)\"),0)","v":0},{"$error":"#VALUE!"},{"$f":"VLOOKUP(A418,Import!A:N,13)","v":"Scop Epice"}]
["Potion Energisante - 33cl","3,50 €","3.5",{"$f":"VLOOKUP(A419,Import!A:D,4,FALSE)","v":"Boissons conditionnées"},null,0,1,{"$f":"IFERROR(__xludf.DUMMYFUNCTION(\"TO_PURE_NUMBER(G418)\"),0)","v":0},{"$error":"#VALUE!"},{"$f":"VLOOKUP(A419,Import!A:N,13)","v":"Scop Epice"}]
["Potion Energisante - 75cl","5,50€","5.50",{"$f":"VLOOKUP(A420,Import!A:D,4,FALSE)","v":"Boissons conditionnées"},null,0,1,{"$f":"IFERROR(__xludf.DUMMYFUNCTION(\"TO_PURE_NUMBER(G419)\"),0)","v":0},{"$error":"#VALUE!"},{"$f":"VLOOKUP(A420,Import!A:N,13)","v":"Scop Epice"}]
["Potion Relaxante -  33cl","3,50 €","3.50",{"$f":"VLOOKUP(A421,Import!A:D,4,FALSE)","v":"Boissons conditionnées"},null,0,1,{"$f":"IFERROR(__xludf.DUMMYFUNCTION(\"TO_PURE_NUMBER(G420)\"),0)","v":0},{"$error":"#VALUE!"},{"$f":"VLOOKUP(A421,Import!A:N,13)","v":"Scop Epice"}]
["Potion Relaxante - 75cl","5,50€","5.50",{"$f":"VLOOKUP(A422,Import!A:D,4,FALSE)","v":"Boissons conditionnées"},null,0,1,{"$f":"IFERROR(__xludf.DUMMYFUNCTION(\"TO_PURE_NUMBER(G421)\"),0)","v":0},{"$error":"#VALUE!"},{"$f":"VLOOKUP(A422,Import!A:N,13)","v":"Scop Epice"}]
["Poudre à Lever sans Gluten ","17,90 € / kg","7.9",{"$f":"VLOOKUP(A423,Import!A:D,4,FALSE)","v":"Alimentaire Vrac"},null,0,1,{"$f":"IFERROR(__xludf.DUMMYFUNCTION(\"TO_PURE_NUMBER(G422)\"),0)","v":0},{"$error":"#VALUE!"},{"$f":"VLOOKUP(A423,Import!A:N,13)","v":"Actibio"}]
["Poudre d’Amande Blanche ","25€ / kg",25,{"$f":"VLOOKUP(A424,Import!A:D,4,FALSE)","v":0},null,0,1,{"$f":"IFERROR(__xludf.DUMMYFUNCTION(\"TO_PURE_NUMBER(G423)\"),0)","v":0},0,{"$f":"VLOOKUP(A424,Import!A:N,13)","v":"Actibio"}]
["Poudre d’amande complète","25€ / kg","25",{"$f":"VLOOKUP(A425,Import!A:D,4,FALSE)","v":"Alimentaire Vrac"},null,0,1,{"$f":"IFERROR(__xludf.DUMMYFUNCTION(\"TO_PURE_NUMBER(G424)\"),0)","v":0},0,{"$f":"VLOOKUP(A425,Import!A:N,13)","v":0}]
["Protection intime - Protège slip","6,00 €","6",{"$f":"VLOOKUP(A426,Import!A:D,4,FALSE)","v":"Zéros déchets et Bocaux"},null,0,{"$f":"F426","v":0},0,0]
["Protection intime - Serviette hygiénique","9€","9",{"$f":"VLOOKUP(A427,Import!A:D,4,FALSE)","v":"Zéros déchets et Bocaux"},null,0,0,0,0]
["Protection intime - Serviette hygiénique Nuit","11€","11",{"$f":"VLOOKUP(A428,Import!A:D,4,FALSE)","v":"Zéros déchets et Bocaux"},null,0,0,0,0]
["Pruneaux dénoyautés ","22€ / kg","22",{"$f":"VLOOKUP(A429,Import!A:D,4,FALSE)","v":"Alimentaire Vrac"},null,0,1,{"$f":"IFERROR(__xludf.DUMMYFUNCTION(\"TO_PURE_NUMBER(G426)\"),0)","v":0},0]
["Purée Amande 270g - Go Nuts","8,90€","8.9",{"$f":"VLOOKUP(A430,Import!A:D,4,FALSE)","v":"Alimentaire Conditionné"},null,0,1,{"$f":"IFERROR(__xludf.DUMMYFUNCTION(\"TO_PURE_NUMBER(G427)\"),0)","v":0},{"$error":"#VALUE!"}]
["Purée de Sésame Blanc - France - 350g","6,50€","6.5",{"$f":"VLOOKUP(A431,Import!A:D,4,FALSE)","v":"Alimentaire Conditionné"},null,0,1,{"$f":"IFERROR(__xludf.DUMMYFUNCTION(\"TO_PURE_NUMBER(G428)\"),0)","v":0},{"$error":"#VALUE!"}]
["Purée Noisette - 270g","8,50€","8.50",{"$f":"VLOOKUP(A432,Import!A:D,4,FALSE)","v":"Alimentaire Conditionné"},null,0,1,{"$f":"IFERROR(__xludf.DUMMYFUNCTION(\"TO_PURE_NUMBER(G429)\"),0)","v":0},{"$error":"#VALUE!"}]
["Quinoa Complet ","9,50€/kg","9.5",{"$f":"VLOOKUP(A433,Import!A:D,4,FALSE)","v":"Alimentaire Vrac"},null,0,1,{"$f":"IFERROR(__xludf.DUMMYFUNCTION(\"TO_PURE_NUMBER(G430)\"),0)","v":0},{"$error":"#VALUE!"}]
["Raisins secs Sultanines","7,90€/kg","7.9",{"$f":"VLOOKUP(A434,Import!A:D,4,FALSE)","v":"Alimentaire Vrac"},null,0,1,{"$f":"IFERROR(__xludf.DUMMYFUNCTION(\"TO_PURE_NUMBER(G431)\"),0)","v":0},{"$error":"#VALUE!"}]
["Rasoir de sûreté à lame rechargeable","45€","45",{"$f":"VLOOKUP(A435,Import!A:D,4,FALSE)","v":"Produits d'hygiène coporelle"},null,0,1,{"$f":"IFERROR(__xludf.DUMMYFUNCTION(\"TO_PURE_NUMBER(G432)\"),0)","v":0},0,{"$f":"VLOOKUP(A435,Import!A:N,14)","v":"🇫🇷 France"}]
["Recharge de 10 lames pour rasoir de sûreté","7,50€","7.5",{"$f":"VLOOKUP(A436,Import!A:D,4,FALSE)","v":"Produits d'hygiène coporelle"},null,0,1,{"$f":"IFERROR(__xludf.DUMMYFUNCTION(\"TO_PURE_NUMBER(G433)\"),0)","v":0},{"$error":"#VALUE!"},{"$f":"VLOOKUP(A436,Import!A:N,14)","v":"🇫🇷 France"}]
["Recouvre bol en coton enduit - Taille à Cake","7€","7",{"$f":"VLOOKUP(A437,Import!A:D,4,FALSE)","v":"Zéros déchets et Bocaux"},null,0,{"$f":"F437","v":0},0,0,{"$f":"VLOOKUP(A437,Import!A:N,14)","v":"🇫🇷 France - Annemasse (74)"}]
["Recouvre bol en coton enduit - Taille à Gratin","9€","9",{"$f":"VLOOKUP(A438,Import!A:D,4,FALSE)","v":"Zéros déchets et Bocaux"},null,0,0,0,0,{"$f":"VLOOKUP(A438,Import!A:N,14)","v":"🇫🇷 France - Annemasse (74)"}]
["Recouvre bol en coton enduit - Taille L","9€","9",{"$f":"VLOOKUP(A439,Import!A:D,4,FALSE)","v":"Zéros déchets et Bocaux"},null,0,0,0,0,{"$f":"VLOOKUP(A439,Import!A:N,14)","v":"🇫🇷 France - Annemasse (74)"}]
["Recouvre bol en coton enduit - Taille M","7€","7",{"$f":"VLOOKUP(A440,Import!A:D,4,FALSE)","v":"Zéros déchets et Bocaux"},null,0,0,0,0,{"$f":"VLOOKUP(A440,Import!A:N,14)","v":"🇫🇷 France - Annemasse (74)"}]
["Recouvre bol en coton enduit - Taille S","5€","5",{"$f":"VLOOKUP(A441,Import!A:D,4,FALSE)","v":"Zéros déchets et Bocaux"},null,0,0,0,0,{"$f":"VLOOKUP(A441,Import!A:N,14)","v":"🇫🇷 France - Annemasse (74)"}]
["Recouvre bol en coton enduit - Taille XS","4€","4",{"$f":"VLOOKUP(A442,Import!A:D,4,FALSE)","v":"Zéros déchets et Bocaux"},null,0,0,0,0,{"$f":"VLOOKUP(A442,Import!A:N,14)","v":"🇫🇷 France - Annemasse (74)"}]
["Riz - Trio de Camargue ","6€/kg","6",{"$f":"VLOOKUP(A443,Import!A:D,4,FALSE)","v":"Alimentaire Vrac"},null,0,1,{"$f":"IFERROR(__xludf.DUMMYFUNCTION(\"TO_PURE_NUMBER(G440)\"),0)","v":0},0,{"$f":"VLOOKUP(A443,Import!A:N,14)","v":"🇫🇷 France - Camargue"}]
["Riz Arborio Blanc pour Risotto ","5,50€/kg","5.5",{"$f":"VLOOKUP(A444,Import!A:D,4,FALSE)","v":"Alimentaire Vrac"},null,0,1,{"$f":"IFERROR(__xludf.DUMMYFUNCTION(\"TO_PURE_NUMBER(G441)\"),0)","v":0},{"$error":"#VALUE!"},{"$f":"VLOOKUP(A444,Import!A:N,14)","v":"🇮🇹 Italie"}]
["Riz Blanc Basmati Blanc ","5,50€/kg","5.50",{"$f":"VLOOKUP(A445,Import!A:D,4,FALSE)","v":"Alimentaire Vrac"},null,0,1,{"$f":"IFERROR(__xludf.DUMMYFUNCTION(\"TO_PURE_NUMBER(G442)\"),0)","v":0},{"$error":"#VALUE!"},{"$f":"VLOOKUP(A445,Import!A:N,14)","v":"🇵🇰 Pakistan "}]
["Riz Blanc IGP Camargue","5,50€/kg","5.50",{"$f":"VLOOKUP(A446,Import!A:D,4,FALSE)","v":"Alimentaire Vrac"},null,0,1,{"$f":"IFERROR(__xludf.DUMMYFUNCTION(\"TO_PURE_NUMBER(G443)\"),0)","v":0},{"$error":"#VALUE!"},{"$f":"VLOOKUP(A446,Import!A:N,14)","v":"🇫🇷 France - Camargue"}]
["Riz Long blanc étuvé de Camargue ","4,90€/kg","4.90",{"$f":"VLOOKUP(A447,Import!A:D,4,FALSE)","v":0},null,0,1,{"$f":"IFERROR(__xludf.DUMMYFUNCTION(\"TO_PURE_NUMBER(G444)\"),0)","v":0},{"$error":"#VALUE!"}]
["Riz Long Complet ","4,25€/kg","4.25",{"$f":"VLOOKUP(A448,Import!A:D,4,FALSE)","v":"Alimentaire Vrac"},null,0,1,{"$f":"IFERROR(__xludf.DUMMYFUNCTION(\"TO_PURE_NUMBER(G445)\"),0)","v":0},{"$error":"#VALUE!"}]
["Riz Rond Blanc ",null,null,{"$f":"VLOOKUP(A449,Import!A:D,4,FALSE)","v":"/"},null,0,1,{"$f":"IFERROR(__xludf.DUMMYFUNCTION(\"TO_PURE_NUMBER(G446)\"),0)","v":0},0]
["Riz Rond blanc IGP Camargue","5,50€","5.50",{"$f":"VLOOKUP(A450,Import!A:D,4,FALSE)","v":"Alimentaire Vrac"},null,0,1,{"$f":"IFERROR(__xludf.DUMMYFUNCTION(\"TO_PURE_NUMBER(G447)\"),0)","v":0},{"$f":"H450*C450","v":{"$error":"#VALUE!"}}]
["Riz semi complet IGP Camargue","4,90€/kg","4.9",{"$f":"VLOOKUP(A451,Import!A:D,4,FALSE)","v":"Alimentaire Vrac"},null,0,1,{"$f":"IFERROR(__xludf.DUMMYFUNCTION(\"TO_PURE_NUMBER(G448)\"),0)","v":0},{"$error":"#VALUE!"}]
["Romarin feuille ","65€/kg","65",{"$f":"VLOOKUP(A452,Import!A:D,4,FALSE)","v":"Alimentaire Vrac"},null,0,1,{"$f":"IFERROR(__xludf.DUMMYFUNCTION(\"TO_PURE_NUMBER(G449)\"),0)","v":0},0]
["Rooibos - Earl Grey ","60€/kg","60",{"$f":"VLOOKUP(A453,Import!A:D,4,FALSE)","v":"Boisson en vrac"},null,0,1,{"$f":"IFERROR(__xludf.DUMMYFUNCTION(\"TO_PURE_NUMBER(G451)\"),0)","v":0},0]
["Rooibos Nature","50€/kg","50",{"$f":"VLOOKUP(A454,Import!A:D,4,FALSE)","v":"Boisson en vrac"},null,0,1,{"$f":"IFERROR(__xludf.DUMMYFUNCTION(\"TO_PURE_NUMBER(G452)\"),0)","v":0},0]
["Sac à congélation - Taille L","8,50€","8,5",{"$f":"VLOOKUP(A455,Import!A:D,4,FALSE)","v":"Zéros déchets et Bocaux"},null,0,{"$f":"F455","v":0},0,0]
["Sac à congélation - Taille M","7,50€","7,5",{"$f":"VLOOKUP(A456,Import!A:D,4,FALSE)","v":"Zéros déchets et Bocaux"},null,0,0,0,0]
["Sac à congélation - Taille S","6,50€","6,5",{"$f":"VLOOKUP(A457,Import!A:D,4,FALSE)","v":"Zéros déchets et Bocaux"},null,0,0,0,0,{"$f":"VLOOKUP(A457,Import!A:N,13)","v":"Alterosac"}]
["Sac à vrac en Coton - Taille L","8,50€","8,5",{"$f":"VLOOKUP(A458,Import!A:D,4,FALSE)","v":"Zéros déchets et Bocaux"},null,0,0,0,0]
["Sac à vrac en Coton - Taille M","7,50€","7,5",{"$f":"VLOOKUP(A459,Import!A:D,4,FALSE)","v":"Zéros déchets et Bocaux"},null,0,0,0,0]
["Sac à vrac en Coton - Taille S","7€","7",{"$f":"VLOOKUP(A460,Import!A:D,4,FALSE)","v":"Zéros déchets et Bocaux"},null,0,0,0,0]
["Sarrasin Décortiqué ","7€ / kg",7,{"$f":"VLOOKUP(A461,Import!A:D,4,FALSE)","v":"Alimentaire Vrac"},null,0,1,{"$f":"IFERROR(__xludf.DUMMYFUNCTION(\"TO_PURE_NUMBER(G459)\"),0)","v":0},0]
["Savon à froid l’Emir - Clemence & Vivien ",4.5,4.5,{"$f":"VLOOKUP(A462,Import!A:D,4,FALSE)","v":"Produits d'hygiène coporelle"},null,0,1,{"$f":"IFERROR(__xludf.DUMMYFUNCTION(\"TO_PURE_NUMBER(G460)\"),0)","v":0},0]
["Savon à froid le Chérubin - Clemence & Vivien ",4.2,4.2,{"$f":"VLOOKUP(A463,Import!A:D,4,FALSE)","v":"Produits d'hygiène coporelle"},null,0,1,{"$f":"IFERROR(__xludf.DUMMYFUNCTION(\"TO_PURE_NUMBER(G461)\"),0)","v":0},0]
["Savon à froid le Gandhi - Clemence & Vivien ",4.5,4.5,{"$f":"VLOOKUP(A464,Import!A:D,4,FALSE)","v":"Produits d'hygiène coporelle"},null,0,1,{"$f":"IFERROR(__xludf.DUMMYFUNCTION(\"TO_PURE_NUMBER(G462)\"),0)","v":0},0]
["Savon à froid le Gecko - Clemence & Vivien ",4.5,4.5,{"$f":"VLOOKUP(A465,Import!A:D,4,FALSE)","v":"Produits d'hygiène coporelle"},null,0,1,{"$f":"IFERROR(__xludf.DUMMYFUNCTION(\"TO_PURE_NUMBER(G463)\"),0)","v":0},0]
["Savon à froid le Saint Bernard - Clemence & Vivien ",4.5,4.5,{"$f":"VLOOKUP(A466,Import!A:D,4,FALSE)","v":"Produits d'hygiène coporelle"},null,0,1,{"$f":"IFERROR(__xludf.DUMMYFUNCTION(\"TO_PURE_NUMBER(G464)\"),0)","v":0},0]
["Savon à froid le Suisse - Clemence & Vivien ",4.2,4.2,{"$f":"VLOOKUP(A467,Import!A:D,4,FALSE)","v":"Produits d'hygiène coporelle"},null,0,1,{"$f":"IFERROR(__xludf.DUMMYFUNCTION(\"TO_PURE_NUMBER(G465)\"),0)","v":0},0]
["Savon à froid le Vahiné - Clemence & Vivien ",4.5,4.5,{"$f":"VLOOKUP(A468,Import!A:D,4,FALSE)","v":"Produits d'hygiène coporelle"},null,0,1,{"$f":"IFERROR(__xludf.DUMMYFUNCTION(\"TO_PURE_NUMBER(G466)\"),0)","v":0},0]
["Savon liquide de Marseille à l’huile d’olive & Lavande","6,90€ / kg","6.9",{"$f":"VLOOKUP(A469,Import!A:D,4,FALSE)","v":"Produits d'hygiène coporelle"},null,0,1,{"$f":"IFERROR(__xludf.DUMMYFUNCTION(\"TO_PURE_NUMBER(G467)\"),0)","v":0},{"$error":"#VALUE!"}]
["Savon Noir Tradition - Vrac ","5€ / kg","5",{"$f":"VLOOKUP(A470,Import!A:D,4,FALSE)","v":"Produits d'entretiens"},null,0,1,{"$f":"IFERROR(__xludf.DUMMYFUNCTION(\"TO_PURE_NUMBER(G468)\"),0)","v":0},0]
["Savon Soin Lavant Purifiant - Endro","14,90€","14.9",{"$f":"VLOOKUP(A471,Import!A:D,4,FALSE)","v":"Produits d'hygiène coporelle"},null,0,1,{"$f":"IFERROR(__xludf.DUMMYFUNCTION(\"TO_PURE_NUMBER(G469)\"),0)","v":0},{"$error":"#VALUE!"}]
["Sel de Mer Gros - Guérande","3,90€ / kg","3.9",{"$f":"VLOOKUP(A472,Import!A:D,4,FALSE)","v":"Alimentaire Vrac"},null,0,1,{"$f":"IFERROR(__xludf.DUMMYFUNCTION(\"TO_PURE_NUMBER(G470)\"),0)","v":0},{"$error":"#VALUE!"}]
["Sel fin de méditerrannée","3€ / kg","3",{"$f":"VLOOKUP(A473,Import!A:D,4,FALSE)","v":"Alimentaire Vrac"},null,0,1,{"$f":"IFERROR(__xludf.DUMMYFUNCTION(\"TO_PURE_NUMBER(G471)\"),0)","v":0},0]
["Sel régénérant vrac","2,10€ / kg","2.1",{"$f":"VLOOKUP(A474,Import!A:D,4,FALSE)","v":"Produits d'entretiens"},null,0,1,{"$f":"IFERROR(__xludf.DUMMYFUNCTION(\"TO_PURE_NUMBER(G472)\"),0)","v":0},{"$error":"#VALUE!"}]
["Sérum anti-imperfection - Endro","24,90€","24.9",{"$f":"VLOOKUP(A475,Import!A:D,4,FALSE)","v":"Produits d'hygiène coporelle"},null,0,1,{"$f":"IFERROR(__xludf.DUMMYFUNCTION(\"TO_PURE_NUMBER(G473)\"),0)","v":0},{"$error":"#VALUE!"}]
["Sérum désaltérant à l’acide hyaluronique - Clemence & Vivien ",9.1999999999999993,9.1999999999999993,{"$f":"VLOOKUP(A476,Import!A:D,4,FALSE)","v":"Produits d'hygiène coporelle"},null,0,1,{"$f":"IFERROR(__xludf.DUMMYFUNCTION(\"TO_PURE_NUMBER(G474)\"),0)","v":0},0]
["Sérum Longueurs et pointes - Clemence & Vivien ","8,90€","8.9",{"$f":"VLOOKUP(A477,Import!A:D,4,FALSE)","v":"Produits d'hygiène coporelle"},null,0,1,{"$f":"IFERROR(__xludf.DUMMYFUNCTION(\"TO_PURE_NUMBER(G475)\"),0)","v":0},{"$error":"#VALUE!"}]
["Serviette de table","8,50€","8,5",{"$f":"VLOOKUP(A478,Import!A:D,4,FALSE)","v":"Zéros déchets et Bocaux"},null,0,{"$f":"F478","v":0},0,0]
["Set Assiette et cuillère enfant - Bordeaux ","25€","25",{"$f":"VLOOKUP(A479,Import!A:D,4,FALSE)","v":"Zéros déchets et Bocaux"},null,0,0,0,0,{"$f":"VLOOKUP(A479,Import!A:N,13)","v":"Cap Bambou"}]
["Set Assiette et cuillère enfant - Lilas ","25€","25",{"$f":"VLOOKUP(A480,Import!A:D,4,FALSE)","v":"Zéros déchets et Bocaux"},null,0,0,0,0]
["Set de 3 couverts réutilisables","5,49€",5.49,{"$f":"VLOOKUP(A481,Import!A:D,4,FALSE)","v":"Zéros déchets et Bocaux"},null,0,0,0,0]
["Set de Repas Bébé - Bleu","23,50€","23,5",{"$f":"VLOOKUP(A482,Import!A:D,4,FALSE)","v":"Zéros déchets et Bocaux"},null,0,0,0,0,{"$f":"VLOOKUP(A482,Import!A:N,14)","v":"🇫🇷 France - Attignat (01)"}]
["Set de Repas Bébé - Jaune","23,50€","23,5",{"$f":"VLOOKUP(A483,Import!A:D,4,FALSE)","v":"Zéros déchets et Bocaux"},null,0,0,0,0]
["Set de Repas Bébé - Rose","23,50€","23,5",{"$f":"VLOOKUP(A484,Import!A:D,4,FALSE)","v":"Zéros déchets et Bocaux"},null,0,0,0,0]
["Set de Repas Bébé - Vert","23,50€","23,5",{"$f":"VLOOKUP(A485,Import!A:D,4,FALSE)","v":"Zéros déchets et Bocaux"},null,0,0,0,0]
["Set de repas enfants","25€","25",{"$f":"VLOOKUP(A486,Import!A:D,4,FALSE)","v":"Zéros déchets et Bocaux"},null,0,0,0,0]
["Set de Table à colorier ","7,50€","7,5",{"$f":"VLOOKUP(A487,Import!A:D,4,FALSE)","v":"Zéros déchets et Bocaux"},null,0,0,0,0]
["Shampoing Douche à l’huile d’argan - Vrac",14.5,14.5,{"$f":"VLOOKUP(A488,Import!A:D,4,FALSE)","v":"Produits d'hygiène coporelle"},null,0,1,{"$f":"IFERROR(__xludf.DUMMYFUNCTION(\"TO_PURE_NUMBER(G488)\"),0)","v":0},0]
["Shampoing sec - sans HE - 35ml","8,50€","8.5",{"$f":"VLOOKUP(A489,Import!A:D,4,FALSE)","v":"Produits d'hygiène coporelle"},null,0,1,{"$f":"IFERROR(__xludf.DUMMYFUNCTION(\"TO_PURE_NUMBER(G489)\"),0)","v":0},{"$error":"#VALUE!"}]
["Shampoing sec - sans HE - Recharge ","6€","6",{"$f":"VLOOKUP(A490,Import!A:D,4,FALSE)","v":"Produits d'hygiène coporelle"},null,0,1,{"$f":"IFERROR(__xludf.DUMMYFUNCTION(\"TO_PURE_NUMBER(G490)\"),0)","v":0},0]
["Shampoing solide - Antipelliculaire - 80g","10,60€","10.6",{"$f":"VLOOKUP(A491,Import!A:D,4,FALSE)","v":"Produits d'hygiène coporelle"},null,0,1,{"$f":"IFERROR(__xludf.DUMMYFUNCTION(\"TO_PURE_NUMBER(G491)\"),0)","v":0},{"$error":"#VALUE!"}]
["Shampoing solide - Bleu - 80g","10,60€","10.6",{"$f":"VLOOKUP(A492,Import!A:D,4,FALSE)","v":"Produits d'hygiène coporelle"},null,0,1,{"$f":"IFERROR(__xludf.DUMMYFUNCTION(\"TO_PURE_NUMBER(G492)\"),0)","v":0},{"$error":"#VALUE!"}]
["Shampoing solide - Cheveux abîmés & colorés - Sans HE - 80g","10,60€","10.6",{"$f":"VLOOKUP(A493,Import!A:D,4,FALSE)","v":"Produits d'hygiène coporelle"},null,0,1,{"$f":"IFERROR(__xludf.DUMMYFUNCTION(\"TO_PURE_NUMBER(G493)\"),0)","v":0},{"$error":"#VALUE!"}]
["Shampoing solide - Cheveux abîmés et colorés - 80g","10,60€","10.6",{"$f":"VLOOKUP(A494,Import!A:D,4,FALSE)","v":"Produits d'hygiène coporelle"},null,0,1,{"$f":"IFERROR(__xludf.DUMMYFUNCTION(\"TO_PURE_NUMBER(G494)\"),0)","v":0},{"$error":"#VALUE!"}]
["Shampoing solide - Cheveux frisés / crépus - 80g","10,60€","10.6",{"$f":"VLOOKUP(A495,Import!A:D,4,FALSE)","v":"Produits d'hygiène coporelle"},null,0,1,{"$f":"IFERROR(__xludf.DUMMYFUNCTION(\"TO_PURE_NUMBER(G495)\"),0)","v":0},{"$error":"#VALUE!"}]
["Shampoing solide - Cheveux gras - 80g","10,60€","10.6",{"$f":"VLOOKUP(A496,Import!A:D,4,FALSE)","v":"Produits d'hygiène coporelle"},null,0,1,{"$f":"IFERROR(__xludf.DUMMYFUNCTION(\"TO_PURE_NUMBER(G496)\"),0)","v":0},{"$error":"#VALUE!"}]
["Shampoing solide - Cheveux gras - Sans HE 80g","10,60€","10.6",{"$f":"VLOOKUP(A497,Import!A:D,4,FALSE)","v":"Produits d'hygiène coporelle"},null,0,1,{"$f":"IFERROR(__xludf.DUMMYFUNCTION(\"TO_PURE_NUMBER(G497)\"),0)","v":0},{"$error":"#VALUE!"}]
["Shampoing solide - Sensible - 80g","10,60€","10.6",{"$f":"VLOOKUP(A498,Import!A:D,4,FALSE)","v":"Produits d'hygiène coporelle"},null,0,1,{"$f":"IFERROR(__xludf.DUMMYFUNCTION(\"TO_PURE_NUMBER(G498)\"),0)","v":0},{"$error":"#VALUE!"}]
["Shampoing solide - Stimulant - 80g","10,60€","10.6",{"$f":"VLOOKUP(A499,Import!A:D,4,FALSE)","v":"Produits d'hygiène coporelle"},null,0,1,{"$f":"IFERROR(__xludf.DUMMYFUNCTION(\"TO_PURE_NUMBER(G499)\"),0)","v":0},{"$error":"#VALUE!"}]
["Shampoing solide - Tout type de cheveux - 80g","10,60€","10.6",{"$f":"VLOOKUP(A500,Import!A:D,4,FALSE)","v":"Produits d'hygiène coporelle"},null,0,1,{"$f":"IFERROR(__xludf.DUMMYFUNCTION(\"TO_PURE_NUMBER(G500)\"),0)","v":0},{"$error":"#VALUE!"}]
["Sirop d’Erable ","25€/kg","25",{"$f":"VLOOKUP(A501,Import!A:D,4,FALSE)","v":"Alimentaire Vrac"},null,0,1,{"$f":"IFERROR(__xludf.DUMMYFUNCTION(\"TO_PURE_NUMBER(G501)\"),0)","v":0},0]
["Sirop de Cassis - 70cl","6,90€","6.9",{"$f":"VLOOKUP(A502,Import!A:D,4,FALSE)","v":"Alimentaire Conditionné"},null,0,1,{"$f":"IFERROR(__xludf.DUMMYFUNCTION(\"TO_PURE_NUMBER(G502)\"),0)","v":0},{"$error":"#VALUE!"}]
["Sirop de Citron ","9,50€/kg","9.5",{"$f":"VLOOKUP(A503,Import!A:D,4,FALSE)","v":"Boisson en vrac"},null,0,1,{"$f":"IFERROR(__xludf.DUMMYFUNCTION(\"TO_PURE_NUMBER(G503)\"),0)","v":0},{"$error":"#VALUE!"}]
["Sirop de Grenadine","9,50€/kg","9.5",{"$f":"VLOOKUP(A504,Import!A:D,4,FALSE)","v":"Boisson en vrac"},null,0,1,{"$f":"IFERROR(__xludf.DUMMYFUNCTION(\"TO_PURE_NUMBER(G504)\"),0)","v":0},{"$error":"#VALUE!"}]
["Sirop de Menthe","9,50€/kg","9.5",{"$f":"VLOOKUP(A505,Import!A:D,4,FALSE)","v":"Boisson en vrac"},null,0,1,{"$f":"IFERROR(__xludf.DUMMYFUNCTION(\"TO_PURE_NUMBER(G505)\"),0)","v":0},{"$error":"#VALUE!"}]
["Sirop de Pamplemousse - 70cl ","6,90€","6.9",{"$f":"VLOOKUP(A506,Import!A:D,4,FALSE)","v":"Alimentaire Conditionné"},null,0,1,{"$f":"IFERROR(__xludf.DUMMYFUNCTION(\"TO_PURE_NUMBER(G506)\"),0)","v":0},{"$error":"#VALUE!"}]
["Sirop de Pêche","9,50€/kg","9.5",{"$f":"VLOOKUP(A507,Import!A:D,4,FALSE)","v":"Boisson en vrac"},null,null,1]
["Solution hydroalcolique","7,50€/kg","7.5",{"$f":"VLOOKUP(A508,Import!A:D,4,FALSE)","v":"Produits d'entretiens"},null,null,1]
["Spirales Complètes ","3,30€/kg","3.3",{"$f":"VLOOKUP(A509,Import!A:D,4,FALSE)","v":"Alimentaire Vrac"},null,null,1]
["Sucre Blanc de Canne","2,95€/kg","2.95",{"$f":"VLOOKUP(A510,Import!A:D,4,FALSE)","v":"Alimentaire Vrac"},null,null,1]
["Sucre Blond - Paraguay","3,20€/kg","3.2",{"$f":"VLOOKUP(A511,Import!A:D,4,FALSE)","v":"Alimentaire Vrac"},null,null,1]
["Sucre Complet - Rapadura ","4,90€/kg","4.9",{"$f":"VLOOKUP(A512,Import!A:D,4,FALSE)","v":"Alimentaire Vrac"},null,null,1]
["Sucre de Canne Complet","4,90€/kg","4.90",{"$f":"VLOOKUP(A513,Import!A:D,4,FALSE)","v":"Alimentaire Vrac"},null,null,1]
["Sucre de Coco","5,50€/kg","5.50",{"$f":"VLOOKUP(A514,Import!A:D,4,FALSE)","v":"Alimentaire Vrac"},null,0,1,null,{"$f":"H514*C514","v":{"$error":"#VALUE!"}},{"$f":"VLOOKUP(A514,Import!A:N,14)","v":"🇮🇩 Indonésie "}]
["Sucre Glace sans séparateur ","5,50€/kg","5.5",{"$f":"VLOOKUP(A515,Import!A:D,4,FALSE)","v":"Alimentaire Vrac"},null,null,1]
["Sucre Roux Demérara (Cassonade) ","3,50€/kg","3.5",{"$f":"VLOOKUP(A516,Import!A:D,4,FALSE)","v":"Alimentaire Vrac"},null,null,1]
["Super bain d’huile avant-shampoing - - Clemence & Vivien ","9,90€","9.9",{"$f":"VLOOKUP(A517,Import!A:D,4,FALSE)","v":"Produits d'hygiène coporelle"},null,null,1]
["Tablettes Lave Vaisselle Vrac","13,60€/kg","13.6",{"$f":"VLOOKUP(A518,Import!A:D,4,FALSE)","v":"Produits d'entretiens"},null,null,1]
["Tamari - Vrac","10,80€/kg","10.8",{"$f":"VLOOKUP(A519,Import!A:D,4,FALSE)","v":"Alimentaire Vrac"},null,null,1]
["Tamari, less salt 25% - 250ml","6,50€","6.5",{"$f":"VLOOKUP(A520,Import!A:D,4,FALSE)","v":"Alimentaire Conditionné"},null,null,1]
["Tartinade - de Noël","6€","6",{"$f":"VLOOKUP(A521,Import!A:D,4,FALSE)","v":"/"},null,null,1]
["Tartinade Apéro - Aubergine Paprika fumé","5,50€","5.5",{"$f":"VLOOKUP(A522,Import!A:D,4,FALSE)","v":"Alimentaire Conditionné"},null,null,1]
["Tartinade Apéro - Betterave Grains moutarde","5,50€","5.5",{"$f":"VLOOKUP(A523,Import!A:D,4,FALSE)","v":"Alimentaire Conditionné"},null,null,1]
["Tartinade Apéro - Butternut verveine citron","5,50€","5.5",{"$f":"VLOOKUP(A524,Import!A:D,4,FALSE)","v":"Alimentaire Conditionné"},null,null,1]
["Tartinade Apéro - Carotte cumin","5,50€","5.5",{"$f":"VLOOKUP(A525,Import!A:D,4,FALSE)","v":"Alimentaire Conditionné"},null,null,1]
["Tartinade Apéro - Chou fleur Ail noir","5,50€","5.5",{"$f":"VLOOKUP(A526,Import!A:D,4,FALSE)","v":"Alimentaire Conditionné"},null,null,1]
["Tartinade Apéro - Courgette Thym","5,50€","5.5",{"$f":"VLOOKUP(A527,Import!A:D,4,FALSE)","v":"Alimentaire Conditionné"},null,null,1]
["Tartinade Apéro - Gwacamole 130g","4,50€","4.5",{"$f":"VLOOKUP(A528,Import!A:D,4,FALSE)","v":"Alimentaire Conditionné"},null,null,1]
["Tartinade Apéro - Poichichade au paprika - 100g","4,50 €","4.5",{"$f":"VLOOKUP(A529,Import!A:D,4,FALSE)","v":"Alimentaire Conditionné"},null,null,1]
["Tartinade Apéro - Poichichade traditionnelle - 100g","4,00 €","4",{"$f":"VLOOKUP(A530,Import!A:D,4,FALSE)","v":"Alimentaire Conditionné"},null,null,1]
["Tartinade Apéro - Pois chiches Graines de Nigelle","5,50€","5.5",{"$f":"VLOOKUP(A531,Import!A:D,4,FALSE)","v":"Alimentaire Conditionné"},null,null,1]
["Tartinade Apéro - Tomates Sarriette","5,50€","5.50",{"$f":"VLOOKUP(A532,Import!A:D,4,FALSE)","v":"/"},null,null,1]
["Tartine Craquante Sarrasin - 300g","5,50€","5.50",{"$f":"VLOOKUP(A533,Import!A:D,4,FALSE)","v":"Alimentaire Conditionné"},null,null,1]
["Tête rechargeable pour Brosse vaisselle","2,70€","2.7",{"$f":"VLOOKUP(A534,Import!A:D,4,FALSE)","v":"Produits d'entretiens"},null,null,1]
["Thé Noir - Darjeling ","50€/kg","50",{"$f":"VLOOKUP(A535,Import!A:D,4,FALSE)","v":"Boisson en vrac"},null,null,1]
["Thé Noir - Earl Grey ","60€/kg","60",{"$f":"VLOOKUP(A536,Import!A:D,4,FALSE)","v":"Boisson en vrac"},null,null,1]
["Thé Noir - Noël","69€/kg","60",{"$f":"VLOOKUP(A537,Import!A:D,4,FALSE)","v":"Boisson en vrac"},null,null,1]
["Thé Vert - Au chant des cigales ","60€/kg","60",{"$f":"VLOOKUP(A538,Import!A:D,4,FALSE)","v":"Boisson en vrac"},null,null,1]
["Thé Vert - Earl Grey Azur ","60€/kg","60",{"$f":"VLOOKUP(A539,Import!A:D,4,FALSE)","v":"Boisson en vrac"},null,null,1]
["Thé Vert - Fruité Tropical","60€/kg","60",{"$f":"VLOOKUP(A540,Import!A:D,4,FALSE)","v":"Boisson en vrac"},null,null,1]
["Thé Vert - Gunpowder ","50€/kg","50",{"$f":"VLOOKUP(A541,Import!A:D,4,FALSE)","v":"Boisson en vrac"},null,null,1]
["Thé Vert - Jasmin","65€/kg","65",{"$f":"VLOOKUP(A542,Import!A:D,4,FALSE)","v":"Boisson en vrac"},null,null,1]
["Thé Vert - Mandarine Pamplemousse","60€/kg","60",{"$f":"VLOOKUP(A543,Import!A:D,4,FALSE)","v":"Boisson en vrac"},null,null,1]
["Thé Vert - Menthe Marrakech","60€/kg","60",{"$f":"VLOOKUP(A544,Import!A:D,4,FALSE)","v":"Boisson en vrac"},null,null,1]
["Thym Feuilles ","140€/kg","140",{"$f":"VLOOKUP(A545,Import!A:D,4,FALSE)","v":"Alimentaire Vrac"},null,null,1]
["Tisane - Après Repas","50€/kg","50",{"$f":"VLOOKUP(A546,Import!A:D,4,FALSE)","v":"Boisson en vrac"},null,null,1]
["Tisane - Camomille","60€/kg","60",{"$f":"VLOOKUP(A547,Import!A:D,4,FALSE)","v":"Boisson en vrac"},null,null,1]
["Tisane - Des elfes","60€/kg","60",{"$f":"VLOOKUP(A548,Import!A:D,4,FALSE)","v":"Boisson en vrac"},null,null,1]
["Tisane - Du soir ","50€/kg","50",{"$f":"VLOOKUP(A549,Import!A:D,4,FALSE)","v":"Boisson en vrac"},null,null,1]
["Tisane - Hibiscus","50€/kg","50",{"$f":"VLOOKUP(A550,Import!A:D,4,FALSE)","v":"Boisson en vrac"},null,null,1]
["Tisane - La mésange bleue ","50€/kg","50",{"$f":"VLOOKUP(A551,Import!A:D,4,FALSE)","v":"Boisson en vrac"},null,null,1]
["Tisane - Verveine citronnée ","50€/kg","50",{"$f":"VLOOKUP(A552,Import!A:D,4,FALSE)","v":"Boisson en vrac"},null,null,1]
["Vermicelles demi complets","2,95€/kg","2.95",{"$f":"VLOOKUP(A553,Import!A:D,4,FALSE)","v":"Alimentaire Vrac"},null,null,1]
["Vinaigre Balsamique","8,50€/kg","8.5",{"$f":"VLOOKUP(A554,Import!A:D,4,FALSE)","v":"Alimentaire Vrac"},null,null,1]
["Vinaigre balsamique de Modène - 50cl","5,50€/kg","5.5",{"$f":"VLOOKUP(A555,Import!A:D,4,FALSE)","v":"Alimentaire Conditionné"},null,null,1]
["Vinaigre Blanc Naturel 14° - Vrac","4,90€/kg","4.9",{"$f":"VLOOKUP(A556,Import!A:D,4,FALSE)","v":"Produits d'entretiens"},null,null,1]
["Vinaigre de Cidre ","4,50€/kg","4.5",{"$f":"VLOOKUP(A557,Import!A:D,4,FALSE)","v":"Alimentaire Vrac"},null,null,1]
["Vinaigre de Vin Rouge","3,75€/kg","3.75",{"$f":"VLOOKUP(A558,Import!A:D,4,FALSE)","v":"Alimentaire Vrac"},null,null,1]
[null,null,null,null,null,null,1]
[null,null,null,null,null,null,1]
[null,null,null,null,null,null,1]
[null,null,null,null,null,null,1]
[null,null,null,null,null,null,1]
[null,null,null,null,null,null,1]
[null,null,null,null,null,null,1]
[null,null,null,null,null,null,1]
[null,null,null,null,null,null,1]
[null,null,null,null,null,null,1]
[null,null,null,null,null,null,1]
[null,null,null,null,null,null,1]
[null,null,null,null,null,null,1]
[null,null,null,null,null,null,1]
[null,null,null,null,null,null,1]
[null,null,null,null,null,null,1]
[null,null,null,null,null,null,1]
[null,null,null,null,null,null,1]
[null,null,null,null,null,null,1]
[null,null,null,null,null,null,1]
[null,null,null,null,null,null,1]
[null,null,null,null,null,null,1]
[null,null,null,null,null,null,1]
[null,null,null,null,null,null,1]
[null,null,null,null,null,null,1]
[null,null,null,null,null,null,1]
[null,null,null,null,null,null,1]
[null,null,null,null,null,null,1]
[null,null,null,null,null,null,1]
[null,null,null,null,null,null,1]
[null,null,null,null,null,null,1]
[null,null,null,null,null,null,1]
[null,null,null,null,null,null,1]
[null,null,null,null,null,null,1]
[null,null,null,null,null,null,1]
[null,null,null,null,null,null,1]
[null,null,null,null,null,null,1]
[null,null,null,null,null,null,1]
[null,null,null,null,null,null,1]
[null,null,null,null,null,null,1]
[null,null,null,null,null,null,1]
[null,null,null,null,null,null,1]

{"sheet":"Import","index":11,"n_rows":567,"n_cols":35,"rows_kept":567,"cut":false,"hidden":false,"merged":[]}
["Produits","Prix de vente","Prix au kilo","Grandes Catégories","Sous Catégories","Catégories","Montant par article au kilo","Photos produits","DLC","Factures","Opérations","😇 Fournisseurs ","Fournisseur","Provencance","Fabricants","Unités en select","Montant selon unités","Unités en nombre","💲 Prix","Quantité","envoyé","Photo","BL","Status","Catégorie 2","1 Kilo","100G","250G","500G","😋  J'en veux!","Message","Prix à l'unité","Formule new","TOTAL Commande","Infos produits"]
["Abricots secs","13,90€ / kg","13.9","Alimentaire Vrac","Sucrés","Fruits secs & à coques","13.9","!%20Liste%20des%20produits%20!%202bf37e7305c3490d8ef04cec2537ea91/FD07E62F-56D2-41E0-9CD9-95C0091C7A31.jpeg","April 30, 2024","!%20Liste%20des%20produits%20!%202bf37e7305c3490d8ef04cec2537ea91/F09_-_EP_-_FV69079.pdf",null,null,"Actibio","🇹🇷 Turquie",null,"1","13.9",null,null,null,"No","Yes",null,"Magasin",null,"Yes","No","No","No","No",null,null,"Choisissez un poids","27.8"]
["Accessoires - Brosse à vaisselle - Recharges","5,50 €","5.5","Produits d'entretiens","Entretien de la maison","Droguerie non vrac","0",null,null,null,null,null,"Aventure Bio","🇫🇷 France - Marseille (13)","Another way","0","0",null,null,null,"Yes","Yes",null,"Magasin",null,"No","No","No","No","No",null,null,"Choisissez un nombre d'articles","0"]
["Accessoires - Brosse à vaisselle à tête rechargeable - Lamazuna","24,90 €","24.9","Produits d'entretiens","Entretien de la maison","Accessoires de cuisine","0",null,null,"!%20Liste%20des%20produits%20!%202bf37e7305c3490d8ef04cec2537ea91/F1_-_2208_-NAB-F2117%202.pdf",null,null,"Aventure Bio","🇫🇷 France - Marseille (13)","Another way","0","0",null,null,null,"No","No",null,"Magasin",null,"No","No","No","No","No",null,null,"Choisissez un nombre d'articles","0"]
["Accessoires - Brosse à vaisselle en bois avec manche","6,50 €","6.5","Produits d'entretiens","Entretien de la maison","Droguerie non vrac","0",null,null,"!%20Liste%20des%20produits%20!%202bf37e7305c3490d8ef04cec2537ea91/F3-AB-F5731%207.pdf",null,null,"Lamazua","🇫🇷 France - Marche (26)","Lamazuna","0","0",null,null,null,"Yes","Yes",null,"Magasin",null,"No","No","No","No","No",null,null,"Choisissez un nombre d'articles","0"]
["Ail des Ours ","135€ / kg","120","Alimentaire Vrac","Salés","Epices condiments & sauces","0",null,null,"!%20Liste%20des%20produits%20!%202bf37e7305c3490d8ef04cec2537ea91/F2_-_EPICE_-_FV57470.pdf",null,null,"Scop Epice","🇫🇷 France",null,"0","0",null,null,null,"Yes","Yes",null,"Magasin","Epices condiments & sauces","No","No","No","No","No",null,null,"Choisissez un poids","0"]
["Ail en Granulé ","50€ / kg","50","Alimentaire Vrac","Salés","Epices condiments & sauces","0","!%20Liste%20des%20produits%20!%202bf37e7305c3490d8ef04cec2537ea91/image.jpg","February 1, 2025","!%20Liste%20des%20produits%20!%202bf37e7305c3490d8ef04cec2537ea91/F10_-_22FV11834_20221102%201.pdf",null,null,"Actibio","🇪🇬 Egypte",null,"0","0",null,null,null,"No","No",null,"Magasin","Epices condiments & sauces","No","No","No","No","No",null,null,"Choisissez un poids","0"]
["Ail en Poudre ","50€ / kg","50","Alimentaire Vrac","Salés","Epices condiments & sauces","0",null,"July 26, 2023","!%20Liste%20des%20produits%20!%202bf37e7305c3490d8ef04cec2537ea91/F5_-_Facture_411005664_22FV04713_20220419%201.pdf",null,null,"Actibio","🇨🇳 Chine",null,"0","0",null,null,null,"No","No",null,"Magasin","Epices condiments & sauces","No","No","No","No","No",null,null,"Choisissez un poids","0"]
["Amandes Blanches entières ","19,9€ / kg","19.9",null,"Sucrés","Fruits secs & à coques","0","!%20Liste%20des%20produits%20!%202bf37e7305c3490d8ef04cec2537ea91/image%201.jpg, !%20Liste%20des%20produits%20!%202bf37e7305c3490d8ef04cec2537ea91/image%202.jpg","October 26, 2023","!%20Liste%20des%20produits%20!%202bf37e7305c3490d8ef04cec2537ea91/F1_-_21FV13778_20211129%203.pdf, !%20Liste%20des%20produits%20!%202bf37e7305c3490d8ef04cec2537ea91/F6_-Facture_411005664_22FV06518_20220531.pdf, !%20Liste%20des%20produits%20!%202bf37e7305c3490d8ef04cec2537ea91/F11_-_23FV00647_20230119.pdf",null,null,"Actibio","🇮🇹 Italie",null,"0","0",null,null,null,"Yes","Yes",null,"Magasin","Fruits Secs et à coques","No","No","No","No","No",null,null,"Choisissez un poids","0"]
["Amandes Caramel Chocolat","35€ / kg","35","Alimentaire Vrac","Sucrés","Fruits secs & à coques",null,null,null,null,null,null,"Happy Hours","🇫🇷 France - Eurre (27)","Happy Hours"]
["Amandes Coco Miel ","35€ / kg","35","Alimentaire Vrac","Sucrés","Fruits secs & à coques","0",null,null,"!%20Liste%20des%20produits%20!%202bf37e7305c3490d8ef04cec2537ea91/F01_-_HH_202212004.pdf",null,null,"Happy Hours","🇫🇷 France - Eurre (27)","Happy Hours","0","0",null,null,null,"No","No",null,"Magasin","Fruits Secs et à coques","No","No","No","No","No",null,null,"Choisissez un poids","0"]
["Amandes Décortiquées entières ","19,9€ / kg","19.9","Alimentaire Vrac","Sucrés","Fruits secs & à coques","0","!%20Liste%20des%20produits%20!%202bf37e7305c3490d8ef04cec2537ea91/image%201.jpg, !%20Liste%20des%20produits%20!%202bf37e7305c3490d8ef04cec2537ea91/image%202.jpg","October 26, 2023","!%20Liste%20des%20produits%20!%202bf37e7305c3490d8ef04cec2537ea91/F1_-_21FV13778_20211129%203.pdf, !%20Liste%20des%20produits%20!%202bf37e7305c3490d8ef04cec2537ea91/F6_-Facture_411005664_22FV06518_20220531.pdf, !%20Liste%20des%20produits%20!%202bf37e7305c3490d8ef04cec2537ea91/F11_-_23FV00647_20230119.pdf",null,null,"Actibio","🇮🇹 Italie",null,"0","0",null,null,null,"Yes","Yes",null,"Magasin","Fruits Secs et à coques","No","No","No","No","No",null,null,"Choisissez un poids","0"]
["Amandes Sésame Miel","35€/kg",35,"Alimentaire Vrac","Sucrés","Fruits secs & à coques",null,null,null,null,null,null,"Happy Hours"]
["Amidon de maïs","5,50€ / kg","5.5","Alimentaire Vrac","Salés","Farine fécules levures & sucres","0",null,"June 26, 2027","!%20Liste%20des%20produits%20!%202bf37e7305c3490d8ef04cec2537ea91/F11_-_23FV00647_20230119%201.pdf",null,null,"Actibio","🇦🇹 Autriche",null,"0","0",null,null,null,"No","No",null,"Magasin",null,"No","No","No","No","No",null,null,"Choisissez un poids","0"]
["Après shampoing Solide - Cheveux abimés & secs - 80g ",12.5,"12.5","Produits d'hygiène coporelle","Hygiène & Beauté","Hygiène corporelle vrac","0",null,null,"!%20Liste%20des%20produits%20!%202bf37e7305c3490d8ef04cec2537ea91/FACT_220322_-_39710.pdf",null,null,"Les Savons de Joya","🇫🇷 France - Douvres-la-Délivrande (14)","Les Savons de Joya","0","0",null,null,null,"Yes","Yes",null,"Magasin","Shampoing solide","No","No","No","No","No",null,null,"Choisissez un poids","0"]
["Après shampoing Solide - Cheveux abîmés & secs - sans HE - 80g ",12.5,"12.5","Produits d'hygiène coporelle","Hygiène & Beauté","Hygiène corporelle vrac","0",null,null,"!%20Liste%20des%20produits%20!%202bf37e7305c3490d8ef04cec2537ea91/F02_-_SJoy_-_326332__pdf.pdf",null,null,"Les Savons de Joya","🇫🇷 France - Douvres-la-Délivrande (14)","Les Savons de Joya","0","0",null,null,null,"No","No",null,"Magasin","Shampoing solide","No","No","No","No","No",null,null,"Choisissez un poids","0"]
["Après shampoing Solide - démélant - Lamazuna",12.5,"12.5"]
["Après shampoing Solide - Nourrissant & démêlant - 80g ",12.5,"12.5","Produits d'hygiène coporelle","Hygiène & Beauté","Hygiène corporelle vrac","0",null,null,"!%20Liste%20des%20produits%20!%202bf37e7305c3490d8ef04cec2537ea91/F01_-_SJoy_-_316696.pdf",null,null,"Les Savons de Joya","🇫🇷 France - Douvres-la-Délivrande (14)","Les Savons de Joya","0","0",null,null,null,"No","No",null,"Magasin","Shampoing solide","No","No","No","No","No",null,null,"Choisissez un poids","0"]
["Après shampoing Vrac - Huile d’argan","29,00 € / kg","29","Produits d'hygiène coporelle","Hygiène & Beauté","Shampooings solides et liquides","0",null,null,"!%20Liste%20des%20produits%20!%202bf37e7305c3490d8ef04cec2537ea91/FACT_2022-03.pdf",null,null,"La savonnerie Pilon du Roy","🇫🇷 France",null,"0","0",null,null,null,"Yes","Yes",null,"Magasin","Hygiène liquide en vrac","No","No","No","No","No",null,null,"Choisissez un poids","0"]
["Arachides décortiquées grillées nature","12€ / kg","12","Alimentaire Vrac","Salés","Biscuits salés & Apéro","0","!%20Liste%20des%20produits%20!%202bf37e7305c3490d8ef04cec2537ea91/E028BD9E-CB3D-4DB3-8C4D-EF5CF68FD909.jpeg","November 18, 2023","!%20Liste%20des%20produits%20!%202bf37e7305c3490d8ef04cec2537ea91/F09_-_EP_-_FV69079%201.pdf",null,null,null,"🇪🇬 Egypte",null,"0","0",null,null,null,"No","No",null,"Magasin",null,"No","No","No","No","No",null,null,"Choisissez un poids","0"]
["Assouplissant - Vrac","5,00€ / kg","5","Produits d'entretiens","Entretien de la maison","Liquide d'entretien en vrac","0",null,null,null,null,null,"Relais Local","🇫🇷 France - Malataverne (26)","Bulle verte","0","0",null,null,null,"Yes","Yes",null,"Magasin",null,"No","No","No","No","No",null,null,"Choisissez un nombre d'articles","0"]
["Baies de Goji","29,90€","29.90","Alimentaire Vrac","Sucrés","Fruits secs & à coques","0","!%20Liste%20des%20produits%20!%202bf37e7305c3490d8ef04cec2537ea91/image%208.jpg","May 4, 2024","!%20Liste%20des%20produits%20!%202bf37e7305c3490d8ef04cec2537ea91/F3_-_Facture-22FV02158.pdf, !%20Liste%20des%20produits%20!%202bf37e7305c3490d8ef04cec2537ea91/F1_-_21FV13778_20211129%204.pdf",null,null,"Actibio","🇨🇳 Chine",null,null,"0",null,null,null,"No","No",null,"Terminé","Fruits Secs et à coques","No","No","No","No","No",null,null,"Choisissez un poids","0"]
["Basilic Feuilles","27,00€ / kg","27","Alimentaire Vrac","Salés","Epices condiments & sauces","0",null,null,"!%20Liste%20des%20produits%20!%202bf37e7305c3490d8ef04cec2537ea91/F1_-_21FV13778_20211129%205.pdf",null,null,"Actibio","🇪🇬 Egypte",null,"0","0",null,null,null,"Yes","Yes",null,"Magasin","Epices condiments & sauces","No","No","No","No","No",null,null,"Choisissez un poids","0"]
["Baume à Barbe",13.9,"13.9","Produits d'hygiène coporelle","Cosmétiques & soins",null,null,null,null,null,null,null,"Aventure Bio","Comme avant"]
["Baume à lèvre Agrumes - Endro","7,50€","7.5","Produits d'hygiène coporelle","Cosmétiques & soins","Cosmétiques & soins","0",null,null,"!%20Liste%20des%20produits%20!%202bf37e7305c3490d8ef04cec2537ea91/F3-20220928-15395_1664360686.5851.pdf",null,null,"Endro","🇫🇷 France - Lannion (22)","Endro","0","0",null,null,null,"No","No",null,"Magasin","Crèmes - Baumes & Huiles","No","No","No","No","No",null,null,"Choisissez un nombre d'articles","0"]
["Baume à lèvre Fruits Rouges - Endro","7,50€","7.5","Produits d'hygiène coporelle","Cosmétiques & soins","Cosmétiques & soins","0",null,null,"!%20Liste%20des%20produits%20!%202bf37e7305c3490d8ef04cec2537ea91/F3-20220928-15395_1664360686.5851%201.pdf",null,null,"Endro","🇫🇷 France - Lannion (22)","Endro","0","0",null,null,null,"No","No",null,null,"Crèmes - Baumes & Huiles","No","No","No","No","No",null,null,"Choisissez un nombre d'articles","0"]
["Baume Mini  Multi-usages Fleurs d’été - Clemence & Vivien ","5,90€","5.9","Produits d'hygiène coporelle","Cosmétiques & soins","Cosmétiques & soins","0",null,null,"!%20Liste%20des%20produits%20!%202bf37e7305c3490d8ef04cec2537ea91/Facture_2_-_CV054805.pdf, !%20Liste%20des%20produits%20!%202bf37e7305c3490d8ef04cec2537ea91/Facture_1-_CV052480.pdf",null,null,"Clémence & Vivien","🇫🇷 France - Chauray (79)","Clémence & Vivien","0","0",null,null,null,"No","No",null,"Magasin","Crèmes - Baumes & Huiles","No","No","No","No","No",null,null,"Choisissez un nombre d'articles","0"]
["Baume Mini Multi-usages Lait d’amande - Clemence & Vivien ","5,90€","5.9","Produits d'hygiène coporelle","Cosmétiques & soins","Cosmétiques & soins","0",null,null,"!%20Liste%20des%20produits%20!%202bf37e7305c3490d8ef04cec2537ea91/Facture_2_-_CV054805%201.pdf, !%20Liste%20des%20produits%20!%202bf37e7305c3490d8ef04cec2537ea91/Facture_1-_CV052480%201.pdf",null,null,"Clémence & Vivien","🇫🇷 France - Chauray (79)","Clémence & Vivien","0","0",null,null,null,"No","No",null,"Magasin","Crèmes - Baumes & Huiles","No","No","No","No","No",null,null,"Choisissez un nombre d'articles","0"]
["Baume Multi-usages Fleurs d’été - Clemence & Vivien ",12.5,"12.5","Produits d'hygiène coporelle","Cosmétiques & soins","Cosmétiques & soins","0",null,null,"!%20Liste%20des%20produits%20!%202bf37e7305c3490d8ef04cec2537ea91/Facture_2_-_CV054805%202.pdf, !%20Liste%20des%20produits%20!%202bf37e7305c3490d8ef04cec2537ea91/Facture_1-_CV052480%202.pdf",null,null,"Clémence & Vivien","🇫🇷 France - Chauray (79)","Clémence & Vivien","0","0",null,null,null,"No","No",null,"Magasin","Crèmes - Baumes & Huiles","No","No","No","No","No",null,null,"Choisissez un nombre d'articles","0"]
["Baume Multi-usages Lait d’amande - Clemence & Vivien ",12.5,"11.9","Produits d'hygiène coporelle","Cosmétiques & soins","Cosmétiques & soins","0",null,null,"!%20Liste%20des%20produits%20!%202bf37e7305c3490d8ef04cec2537ea91/Facture_2_-_CV054805%203.pdf, !%20Liste%20des%20produits%20!%202bf37e7305c3490d8ef04cec2537ea91/Facture_1-_CV052480%203.pdf",null,null,"Clémence & Vivien","🇫🇷 France - Chauray (79)","Clémence & Vivien","0","0",null,null,null,"No","No",null,"Magasin","Crèmes - Baumes & Huiles","No","No","No","No","No",null,null,"Choisissez un nombre d'articles","0"]
["Bavoir - Petit","9,50€","9.5","Zéros déchets et Bocaux","Zero Déchet","Accessoires Bébé","0",null,null,"!%20Liste%20des%20produits%20!%202bf37e7305c3490d8ef04cec2537ea91/F8_-_2210_-_FA000589.pdf, !%20Liste%20des%20produits%20!%202bf37e7305c3490d8ef04cec2537ea91/F7_-_FA000480-2022.pdf, !%20Liste%20des%20produits%20!%202bf37e7305c3490d8ef04cec2537ea91/F6_-_2205_-_FA000338-2022.pdf",null,null,"Alterosac","🇫🇷 France - Annemasse (74)","Alterosac","0","0",null,null,null,"No","No",null,"Magasin",null,"No","No","No","No","No",null,null,"Choisissez un nombre d'articles","0"]
["Beurre de cacahuètes - Chocolat Lait - Go Nuts - 270g","6,50€","6.50","Alimentaire Conditionné","Pâtes à tartiner","Bocaux produits sucrés","0",null,null,"!%20Liste%20des%20produits%20!%202bf37e7305c3490d8ef04cec2537ea91/F22_-_RL_-_FC230117497.pdf",null,null,"Relais local","🇫🇷 France - Saint Priest (69)","Go Nuts",null,"0",null,null,null,"No","No",null,null,null,"No","No","No","No","No",null,null,"Choisissez un poids","0"]
["Beurre de cacahuètes - Chocolat Noir - Go Nuts - 500g",8.9,"8.90","Alimentaire Conditionné","Pâtes à tartiner","Bocaux produits sucrés",null,null,null,null,null,null,"Relais local","🇫🇷 France - Saint Priest (69)","Go Nuts"]
["Beurre de cacahuètes - Go Nuts - 270g","4,95 €","4.95","Alimentaire Conditionné","Bocal","Bocaux produits sucrés","0",null,null,"!%20Liste%20des%20produits%20!%202bf37e7305c3490d8ef04cec2537ea91/F1_-_2202_F558904.pdf",null,null,"Biodis","🇫🇷 France",null,"0","0",null,null,null,"No","No",null,"Magasin","Pâte à tartiner","No","No","No","No","No",null,null,"Choisissez un nombre d'articles","0"]
["Beurre de cacahuètes - Go Nuts - 500g","8,90 €","8.9","Alimentaire Conditionné","Pâtes à tartiner","Bocaux produits sucrés","0",null,null,"!%20Liste%20des%20produits%20!%202bf37e7305c3490d8ef04cec2537ea91/F7_-_FC220312424%201.pdf, !%20Liste%20des%20produits%20!%202bf37e7305c3490d8ef04cec2537ea91/F4_-_FC220211755.pdf, !%20Liste%20des%20produits%20!%202bf37e7305c3490d8ef04cec2537ea91/F3_-_FC220111443.pdf, !%20Liste%20des%20produits%20!%202bf37e7305c3490d8ef04cec2537ea91/F2_-_FC220111208.pdf",null,null,"Relais local","🇫🇷 France - Saint Priest (69)","Go Nuts","0","0",null,null,null,"No","No",null,"Magasin","Pâte à tartiner","No","No","No","No","No",null,null,"Choisissez un nombre d'articles","0"]
["Beurre de cacahuètes Extra Crunchy - Go Nuts - 270g","4,90 €","4.9","Alimentaire Conditionné","Pâtes à tartiner","Bocaux produits sucrés","0",null,null,"!%20Liste%20des%20produits%20!%202bf37e7305c3490d8ef04cec2537ea91/F7_-_FC220312424.pdf",null,null,"Relais local","🇫🇷 France - Saint Priest (69)","Go Nuts","0","0",null,null,null,"No","No",null,"Magasin","Pâte à tartiner","No","No","No","No","No",null,null,"Choisissez un nombre d'articles","0"]
["Beurre de cacao Iris - pour le corps - Lamazuna","8,50 €","8.5","Produits d'hygiène coporelle","Hygiène & Beauté","Cosmétiques & soins","0",null,null,"!%20Liste%20des%20produits%20!%202bf37e7305c3490d8ef04cec2537ea91/F1_-_2208_-NAB-F2117.pdf",null,null,"Aventure Bio","🇫🇷 France - Marche (26)","Lamazuna","0","0",null,null,null,"No","No",null,"Magasin",null,"No","No","No","No","No",null,null,"Choisissez un nombre d'articles","0"]
["Bicarbonate de soude - Vrac","4,90 € / kg","4.9","Produits d'entretiens","Entretien de la maison","Poudres et autre en vrac","0",null,null,null,null,null,"Bulle verte","🇫🇷 France - Malataverne (26)","Bulle verte","0","0",null,null,null,"Yes","Yes",null,"Magasin",null,"No","No","No","No","No",null,null,"Choisissez un poids","0"]
["Biere Blanche - La St Bonn’Beer - 33cl","3,00 €","3","Boissons conditionnées","Bières","Bières","0",null,null,"!%20Liste%20des%20produits%20!%202bf37e7305c3490d8ef04cec2537ea91/F2_-_2203_F_34.pdf, !%20Liste%20des%20produits%20!%202bf37e7305c3490d8ef04cec2537ea91/F1-_2112_FEMD2112161.pdf",null,null,"Brasserie Sous le Bois","🇫🇷 France - Illiat (01)","SLB","0","0",null,null,null,"No","No",null,"Magasin","Bières & Vins","No","No","No","No","No",null,null,"Choisissez un nombre d'articles","0"]
["Biere Blanche - La St Bonn’Beer - 75cl","6,50 €","6.5","Boissons conditionnées","Boisson","Bières","0",null,null,"!%20Liste%20des%20produits%20!%202bf37e7305c3490d8ef04cec2537ea91/F5_-_2207_-_F181.pdf, !%20Liste%20des%20produits%20!%202bf37e7305c3490d8ef04cec2537ea91/F2_-_2203_F_34%201.pdf, !%20Liste%20des%20produits%20!%202bf37e7305c3490d8ef04cec2537ea91/F1-_2112_FEMD2112161%201.pdf",null,null,"Brasserie Sous le Bois","🇫🇷 France - Illiat (01)","SLB","0","0",null,null,null,"No","No",null,"Magasin","Bières & Vins","No","No","No","No","No",null,null,"Choisissez un nombre d'articles","0"]
["Biere Blonde - La Promesse - 33cl","3,00 €","3","Boissons conditionnées","Boisson","Bières","0",null,null,"!%20Liste%20des%20produits%20!%202bf37e7305c3490d8ef04cec2537ea91/F5_-_2207_-_F181%201.pdf, !%20Liste%20des%20produits%20!%202bf37e7305c3490d8ef04cec2537ea91/F2_-_2203_F_34%202.pdf, !%20Liste%20des%20produits%20!%202bf37e7305c3490d8ef04cec2537ea91/F1-_2112_FEMD2112161%202.pdf",null,null,"Brasserie Sous le Bois","🇫🇷 France - Illiat (01)","SLB","4","12",null,null,null,"No","No",null,"Magasin","Bières & Vins","No","No","No","No","Yes","Choisissez une quantité",null,"Choisissez un nombre d'articles","12"]
["Biere Blonde - La Promesse - 75cl","6,50 €","6.5","Boissons conditionnées","Boisson","Bières","0",null,null,"!%20Liste%20des%20produits%20!%202bf37e7305c3490d8ef04cec2537ea91/F5_-_2207_-_F181%202.pdf, !%20Liste%20des%20produits%20!%202bf37e7305c3490d8ef04cec2537ea91/F2_-_2203_F_34%203.pdf, !%20Liste%20des%20produits%20!%202bf37e7305c3490d8ef04cec2537ea91/F1-_2112_FEMD2112161%203.pdf",null,null,"Brasserie Sous le Bois","🇫🇷 France - Illiat (01)","SLB","0","0",null,null,null,"No","No",null,"Magasin","Bières & Vins","No","No","No","No","No",null,null,"Choisissez un nombre d'articles","0"]
["Biere IPA - La Collector - 33cl","3,00 €","3","Boissons conditionnées","Bières","Bières","0",null,null,"!%20Liste%20des%20produits%20!%202bf37e7305c3490d8ef04cec2537ea91/F2_-_2203_F_34.pdf, !%20Liste%20des%20produits%20!%202bf37e7305c3490d8ef04cec2537ea91/F1-_2112_FEMD2112161.pdf",null,null,"Brasserie Sous le Bois","🇫🇷 France - Illiat (01)","SLB","0","0",null,null,null,"No","No",null,"Magasin","Bières & Vins","No","No","No","No","No",null,null,"Choisissez un nombre d'articles","0"]
["Biere IPA - La Collector- 75cl","6,50 €","6.5","Boissons conditionnées","Boisson","Bières","0",null,null,"!%20Liste%20des%20produits%20!%202bf37e7305c3490d8ef04cec2537ea91/F5_-_2207_-_F181.pdf, !%20Liste%20des%20produits%20!%202bf37e7305c3490d8ef04cec2537ea91/F2_-_2203_F_34%201.pdf, !%20Liste%20des%20produits%20!%202bf37e7305c3490d8ef04cec2537ea91/F1-_2112_FEMD2112161%201.pdf",null,null,"Brasserie Sous le Bois","🇫🇷 France - Illiat (01)","SLB","0","0",null,null,null,"No","No",null,"Magasin","Bières & Vins","No","No","No","No","No",null,null,"Choisissez un nombre d'articles","0"]
["Biere IPA - La Gonette - 33cl","3,00 €","3","Boissons conditionnées","Boisson","Bières","0",null,null,"!%20Liste%20des%20produits%20!%202bf37e7305c3490d8ef04cec2537ea91/F2_-_2203_F_34%204.pdf, !%20Liste%20des%20produits%20!%202bf37e7305c3490d8ef04cec2537ea91/F1-_2112_FEMD2112161%204.pdf",null,null,"Brasserie Sous le Bois","🇫🇷 France - Illiat (01)","SLB","0","0",null,null,null,"No","No",null,"Magasin","Bières & Vins","No","No","No","No","No",null,null,"Choisissez un nombre d'articles","0"]
["Biere IPA - La Gonette - 75cl","6,50 €","6.5","Boissons conditionnées","Boisson","Bières","0",null,null,"!%20Liste%20des%20produits%20!%202bf37e7305c3490d8ef04cec2537ea91/F5_-_2207_-_F181%203.pdf, !%20Liste%20des%20produits%20!%202bf37e7305c3490d8ef04cec2537ea91/F3-_2205_F_97.pdf, !%20Liste%20des%20produits%20!%202bf37e7305c3490d8ef04cec2537ea91/F2_-_2203_F_34%205.pdf, !%20Liste%20des%20produits%20!%202bf37e7305c3490d8ef04cec2537ea91/F1-_2112_FEMD2112161%205.pdf",null,null,"Brasserie Sous le Bois","🇫🇷 France - Illiat (01)","SLB","0","0",null,null,null,"No","No",null,"Magasin","Bières & Vins","No","No","No","No","No",null,null,"Choisissez un nombre d'articles","0"]
["Biscuits 1péro -Tortillas ","29€/kg","29","Alimentaire Vrac",null,"Biscuits salés & Apéro","0",null,null,null,null,null,"Scop Epice","🇫🇷 France - Aquitaine ",null,null,"0",null,null,null,"No","No",null,"Magasin","Biscuits Apéro & salés","No","No","No","No","No",null,null,"Choisissez un poids","0"]
["Biscuits Apéro - Cumin & pois chiches","30,00€ / kg","30","Alimentaire Vrac","Salés","Biscuits salés & Apéro","0",null,null,"!%20Liste%20des%20produits%20!%202bf37e7305c3490d8ef04cec2537ea91/F1_-2112_-_FA2903.pdf",null,null,"Croquelicot","🇫🇷 France - Hurigny (71)","Croquelicot","0","0",null,null,null,"No","No",null,"Magasin","Biscuits Apéro & salés","No","No","No","No","No",null,null,"Choisissez un poids","0"]
["Biscuits Apéro - Gruyère","30,50€ / kg","30.5","Alimentaire Vrac","Salés","Biscuits salés & Apéro","0",null,null,"!%20Liste%20des%20produits%20!%202bf37e7305c3490d8ef04cec2537ea91/F1_-2112_-_FA2903%201.pdf, !%20Liste%20des%20produits%20!%202bf37e7305c3490d8ef04cec2537ea91/F3_-2209_-_FA3463.pdf",null,null,"Croquelicot","🇫🇷 France - Hurigny (71)","Croquelicot","0","0",null,null,null,"No","No",null,"Terminé","Biscuits Apéro & salés","No","No","No","No","No",null,null,"Choisissez un poids","0"]
["Biscuits Apéro - Noix de Cajou - Curry","34,50€ / kg","34.5","Alimentaire Vrac",null,"Biscuits salés & Apéro","0",null,null,"!%20Liste%20des%20produits%20!%202bf37e7305c3490d8ef04cec2537ea91/Facture4_JBG_CROC_-_FA3340_-_GRAIN_DE_LUCE.pdf, !%20Liste%20des%20produits%20!%202bf37e7305c3490d8ef04cec2537ea91/Facture3_JBG_CROC_-_FA3191_-_GRAIN_DE_LUCE.pdf, !%20Liste%20des%20produits%20!%202bf37e7305c3490d8ef04cec2537ea91/Facture2_JBG_CROC_-_FA3034_-_GRAIN_DE_LUCE%201.pdf, !%20Liste%20des%20produits%20!%202bf37e7305c3490d8ef04cec2537ea91/Facture1_JBG_CROC_-_FA2923_-_GRAIN_DE_LUCE%201.pdf",null,null,"Croc","🇧🇫 Burkina faso - Fabriquée 🇫🇷 France - 69","Croc","0","0",null,null,null,"No","No",null,"Magasin","Biscuits Apéro & salés","No","No","No","No","No",null,null,"Choisissez un poids","0"]
["Biscuits Apéro - Noix de Cajou - Herbes de Provence","34,50€ / kg","34.5","Alimentaire Vrac",null,"Biscuits salés & Apéro","0","!%20Liste%20des%20produits%20!%202bf37e7305c3490d8ef04cec2537ea91/image%2075.jpg",null,"!%20Liste%20des%20produits%20!%202bf37e7305c3490d8ef04cec2537ea91/Facture4_JBG_CROC_-_FA3340_-_GRAIN_DE_LUCE%201.pdf, !%20Liste%20des%20produits%20!%202bf37e7305c3490d8ef04cec2537ea91/Facture2_JBG_CROC_-_FA3034_-_GRAIN_DE_LUCE%202.pdf, !%20Liste%20des%20produits%20!%202bf37e7305c3490d8ef04cec2537ea91/Facture1_JBG_CROC_-_FA2923_-_GRAIN_DE_LUCE%202.pdf",null,null,"Croc","🇧🇫 Burkina faso - Fabriquée 🇫🇷 France - 69","Croc","0","0",null,null,null,"No","No",null,"Magasin","Biscuits Apéro & salés","No","No","No","No","No",null,null,"Choisissez un poids","0"]
["Biscuits Apéro - Noix de Cajou - Parmesan","34,50€ / kg","34.5","Alimentaire Vrac",null,"Biscuits salés & Apéro","0","!%20Liste%20des%20produits%20!%202bf37e7305c3490d8ef04cec2537ea91/image%2076.jpg",null,null,null,null,"Croc","🇧🇫 Burkina faso - Fabriquée 🇫🇷 France - 69","Croc","0","0",null,null,null,"No","No",null,"Magasin","Biscuits Apéro & salés","No","No","No","No","No",null,null,"Choisissez un poids","0"]
["Biscuits Apéro - Noix de Cajou - Poivre de Kampot","34,50€ / kg","34.5","Alimentaire Vrac",null,"Biscuits salés & Apéro","0",null,null,"!%20Liste%20des%20produits%20!%202bf37e7305c3490d8ef04cec2537ea91/Facture5_JBG_CROC_-_FA3902_-_GRAIN_DE_LUCE.pdf, !%20Liste%20des%20produits%20!%202bf37e7305c3490d8ef04cec2537ea91/Facture2_JBG_CROC_-_FA3034_-_GRAIN_DE_LUCE.pdf, !%20Liste%20des%20produits%20!%202bf37e7305c3490d8ef04cec2537ea91/Facture1_JBG_CROC_-_FA2923_-_GRAIN_DE_LUCE.pdf",null,null,"Croc","🇧🇫 Burkina faso - Fabriquée 🇫🇷 France - 69","Croc","0","0",null,null,null,"No","No",null,"Magasin","Biscuits Apéro & salés","No","No","No","No","No",null,null,"Choisissez un poids","0"]
["Biscuits Apéro - Noix de Cajou - Sweet chili","34,50€ / kg","34.5","Alimentaire Vrac",null,"Biscuits salés & Apéro","0","!%20Liste%20des%20produits%20!%202bf37e7305c3490d8ef04cec2537ea91/image%2076.jpg",null,null,null,null,"Croc","🇧🇫 Burkina faso - Fabriquée 🇫🇷 France - 69","Croc","0","0",null,null,null,"No","No",null,"Magasin","Biscuits Apéro & salés","No","No","No","No","No",null,null,"Choisissez un poids","0"]
["Biscuits Apéro - Noix de Cajou - Tandoori","34,50€ / kg","34.5","Alimentaire Vrac",null,"Biscuits salés & Apéro","0","!%20Liste%20des%20produits%20!%202bf37e7305c3490d8ef04cec2537ea91/image%2077.jpg",null,"!%20Liste%20des%20produits%20!%202bf37e7305c3490d8ef04cec2537ea91/Facture5_JBG_CROC_-_FA3902_-_GRAIN_DE_LUCE%201.pdf, !%20Liste%20des%20produits%20!%202bf37e7305c3490d8ef04cec2537ea91/Facture4_JBG_CROC_-_FA3340_-_GRAIN_DE_LUCE%202.pdf, !%20Liste%20des%20produits%20!%202bf37e7305c3490d8ef04cec2537ea91/Facture3_JBG_CROC_-_FA3191_-_GRAIN_DE_LUCE%201.pdf, !%20Liste%20des%20produits%20!%202bf37e7305c3490d8ef04cec2537ea91/Facture2_JBG_CROC_-_FA3034_-_GRAIN_DE_LUCE%203.pdf",null,null,"Croc","🇧🇫 Burkina faso - Fabriquée 🇫🇷 France - 69","Croc","0","0",null,null,null,"No","No",null,"Magasin","Biscuits Apéro & salés","No","No","No","No","No",null,null,"Choisissez un poids","0"]
["Biscuits Apéro - Oignon & Paprika","30,00€ / kg","30","Alimentaire Vrac","Salés","Biscuits salés & Apéro","0",null,null,null,null,null,"Croquelicot","🇫🇷 France - Hurigny (71)","Croquelicot","0","0",null,null,null,"No","No",null,"Magasin",null,"No","No","No","No","No",null,null,"Choisissez un poids","0"]
["Biscuits Apéro - Tomate & Oignons","30,00€ / kg","30","Alimentaire Vrac","Salés","Biscuits salés & Apéro","0",null,null,"!%20Liste%20des%20produits%20!%202bf37e7305c3490d8ef04cec2537ea91/F2_-2206_-_FA3234%201.pdf, !%20Liste%20des%20produits%20!%202bf37e7305c3490d8ef04cec2537ea91/F1_-2112_-_FA2903%203.pdf",null,null,"Croquelicot","🇫🇷 France - Hurigny (71)","Croquelicot","0","0",null,null,null,"No","No",null,"Magasin","Biscuits Apéro & salés","No","No","No","No","No",null,null,"Choisissez un poids","0"]
["Biscuits P’tit Dej - Avoine Miel","18,00€ / kg","18","Alimentaire Vrac","Sucrés","Chocolats, Biscuits & Confiseries","0",null,null,"!%20Liste%20des%20produits%20!%202bf37e7305c3490d8ef04cec2537ea91/F5_-_EPICE_-_FV61181.pdf",null,null,"Scop Epice","🇫🇷 France","DAO","0","0",null,null,null,"No","No",null,"Magasin",null,"No","No","No","No","No",null,null,"Choisissez un poids","0"]
["Biscuits P’tit Dej - Cacao & Pépites de Chocolat","18,00€ / kg","18","Alimentaire Vrac","Sucrés","Chocolats, Biscuits & Confiseries","0",null,null,"!%20Liste%20des%20produits%20!%202bf37e7305c3490d8ef04cec2537ea91/F5_-_EPICE_-_FV61181%201.pdf",null,null,"Scop Epice","🇫🇷 France - Manosque (04)","DAO","0","0",null,null,null,"No","No",null,"Magasin",null,"No","No","No","No","No",null,null,"Choisissez un poids","0"]
["Biscuits salés - Moutarde à l’ancienne","30,50€ / kg","30.5",null,"Salés","Biscuits salés & Apéro","0",null,null,"!%20Liste%20des%20produits%20!%202bf37e7305c3490d8ef04cec2537ea91/F1_-2112_-_FA2903%202.pdf, !%20Liste%20des%20produits%20!%202bf37e7305c3490d8ef04cec2537ea91/F2_-2206_-_FA3234.pdf",null,null,"Croquelicot","🇫🇷 France - Hurigny (71)","Croquelicot","0","0",null,null,null,"No","No",null,"Magasin","Biscuits Apéro & salés","No","No","No","No","No",null,null,"Choisissez un poids","0"]
["Biscuits Sucrés - Chocolat","25,00€ / kg","25","Alimentaire Vrac","Sucrés","Chocolats, Biscuits & Confiseries","0",null,null,"!%20Liste%20des%20produits%20!%202bf37e7305c3490d8ef04cec2537ea91/F2_-2206_-_FA3234%202.pdf",null,null,"Croquelicot","🇫🇷 France - Hurigny (71)","Croquelicot","0","0",null,null,null,"No","No",null,"Magasin",null,"No","No","No","No","No",null,null,"Choisissez un poids","0"]
["Biscuits sucrés - Cookies Vegan bio","23,00€ / kg","23","Alimentaire Vrac",null,"Chocolats, Biscuits & Confiseries","0",null,null,"!%20Liste%20des%20produits%20!%202bf37e7305c3490d8ef04cec2537ea91/F3-AB-F5731%208.pdf, !%20Liste%20des%20produits%20!%202bf37e7305c3490d8ef04cec2537ea91/F1_-_2208_-NAB-F2117%203.pdf",null,null,"Aventure Bio","🇫🇷 France","Belledone","0","0",null,null,null,"No","No",null,"Magasin","Biscuits sucrés","No","No","No","No","No",null,null,"Choisissez un poids","0"]
["Biscuits Sucrés - Nature au Beurre","30,00€ / kg","30","Alimentaire Vrac","Sucrés","Chocolats, Biscuits & Confiseries","0",null,null,"!%20Liste%20des%20produits%20!%202bf37e7305c3490d8ef04cec2537ea91/F3_-2209_-_FA3463%201.pdf",null,null,"Croquelicot","🇫🇷 France - Hurigny (71)","Croquelicot","0","0",null,null,null,"No","No",null,"Magasin",null,"No","No","No","No","No",null,null,"Choisissez un poids","0"]
["Biscuits Sucrés - Pomme au beurre ","25,00€ / kg","25","Alimentaire Vrac","Sucrés","Chocolats, Biscuits & Confiseries","0",null,null,"!%20Liste%20des%20produits%20!%202bf37e7305c3490d8ef04cec2537ea91/F3_-2209_-_FA3463%202.pdf",null,null,"Croquelicot","🇫🇷 France - Hurigny (71)","Croquelicot","0","0",null,null,null,"No","No",null,"Magasin",null,"No","No","No","No","No",null,null,"Choisissez un poids","0"]
["Biscuits Sucrés - Sans Gluten - Choco Noisette","30,00€ / kg",30,"Alimentaire Vrac"]
["Biscuits Sucrés - Sans Gluten - Figue","30,00€ / kg",30,"Alimentaire Vrac"]
["Blanc de Blanc du Jura - Jacquier",9.5,"9.50","Boissons conditionnées"]
["Blé Pré cuit mondé","4,00€ / kg","4","Alimentaire Vrac","Salés","Céréales - Légumineuses & Graines","0","!%20Liste%20des%20produits%20!%202bf37e7305c3490d8ef04cec2537ea91/image%209.jpg","May 11, 2023","!%20Liste%20des%20produits%20!%202bf37e7305c3490d8ef04cec2537ea91/Facture_411005664_22FV11834_20221102.pdf",null,null,"Actibio","🇮🇹 Italie",null,"0","0",null,null,null,"No","No",null,"Magasin","Céréales","No","No","No","No","No",null,null,"Choisissez un poids","0"]
["Bocal - Asperges vertes - 185g","4,90€","4.9","Alimentaire Conditionné","Bocal","Bocaux produits salés","0","!%20Liste%20des%20produits%20!%202bf37e7305c3490d8ef04cec2537ea91/image%207.jpg",null,"!%20Liste%20des%20produits%20!%202bf37e7305c3490d8ef04cec2537ea91/F3_-_2205_571501.pdf",null,null,"Biodis","🇫🇷 France",null,"2","9.8",null,null,null,"No","No",null,"Magasin","Plats cuisinés","No","No","No","No","Yes","Choisissez une quantité",null,"Choisissez un nombre d'articles","9.8"]
["Bocal - Chili végétarien - 355g","4,50 €","4.5","Alimentaire Conditionné","Bocal","Bocaux produits salés","0","!%20Liste%20des%20produits%20!%202bf37e7305c3490d8ef04cec2537ea91/image%2016.jpg","May 26, 2025","!%20Liste%20des%20produits%20!%202bf37e7305c3490d8ef04cec2537ea91/F3_-_2205_571501%201.pdf",null,null,"Biodis","🇫🇷 France ","Prosain","0","0",null,null,null,"No","No",null,"Magasin","Plats cuisinés","No","No","No","No","No",null,null,"Choisissez un nombre d'articles","0"]
["Bocal - Chili végétarien - 670g","5,95 €","5.95","Alimentaire Conditionné","Bocal","Bocaux produits salés","0",null,null,"!%20Liste%20des%20produits%20!%202bf37e7305c3490d8ef04cec2537ea91/F4_-_2206_579761%204.pdf",null,null,"Biodis","🇫🇷 France ","Prosain","0","0",null,null,null,"No","No",null,"Magasin","Plats cuisinés","No","No","No","No","No",null,null,"Choisissez un nombre d'articles","0"]
["Bocal - Cocotte Indienne haricots blancs, riz complet, tofu - 360g","4,50 €","4.5","Alimentaire Conditionné","Plats cuisinés","Bocaux produits salés","0","!%20Liste%20des%20produits%20!%202bf37e7305c3490d8ef04cec2537ea91/image%2021.jpg",null,"!%20Liste%20des%20produits%20!%202bf37e7305c3490d8ef04cec2537ea91/F5_-_2209_590998%204.pdf, !%20Liste%20des%20produits%20!%202bf37e7305c3490d8ef04cec2537ea91/F4_-_2206_579761%206.pdf, !%20Liste%20des%20produits%20!%202bf37e7305c3490d8ef04cec2537ea91/F3_-_2205_571501%203.pdf, !%20Liste%20des%20produits%20!%202bf37e7305c3490d8ef04cec2537ea91/F1_-_2202_F558904%205.pdf",null,null,"Biodis","🇫🇷 France ","Prosain","0","0",null,null,null,"No","No",null,"Magasin","Plats cuisinés","No","No","No","No","No",null,null,"Choisissez un nombre d'articles","0"]
["Bocal - Couscous aux 7 légumes - 1kg","6,95 €","6.95","Alimentaire Conditionné","Plats cuisinés","Bocaux produits salés","0",null,null,"!%20Liste%20des%20produits%20!%202bf37e7305c3490d8ef04cec2537ea91/F4_-_2206_579761%207.pdf",null,null,"Biodis","🇫🇷 France ","Prosain","0","0",null,null,null,"No","No",null,"Magasin","Plats cuisinés","No","No","No","No","No",null,null,"Choisissez un nombre d'articles","0"]
["Bocal - Curry d’aubergines - 345g",4.5,4.5,"Alimentaire Conditionné","Plats cuisinés","Bocaux produits salés","0","!%20Liste%20des%20produits%20!%202bf37e7305c3490d8ef04cec2537ea91/image%206.jpg","June 27, 2025",null,null,null,"Biodis","🇫🇷 France","Prosain",null,"0",null,null,null,"No","No",null,"Magasin","Plats cuisinés","No","No","No","No","No",null,null,"Choisissez un poids","0"]
["Bocal - Curry d’aubergines - 650g",6.5,6.5,"Alimentaire Conditionné","Plats cuisinés","Bocaux produits salés","0",null,null,"!%20Liste%20des%20produits%20!%202bf37e7305c3490d8ef04cec2537ea91/F5_-_2209_590998%207.pdf, !%20Liste%20des%20produits%20!%202bf37e7305c3490d8ef04cec2537ea91/F4_-_2206_579761%208.pdf, !%20Liste%20des%20produits%20!%202bf37e7305c3490d8ef04cec2537ea91/F3_-_2205_571501%206.pdf",null,null,"Biodis","🇫🇷 France","Prosain",null,"0",null,null,null,"No","No",null,"Magasin","Plats cuisinés","No","No","No","No","No",null,null,"Choisissez un poids","0"]
["Bocal - Curry de lentilles coco - 345g","4,50 €","4.5","Alimentaire Conditionné","Plats cuisinés","Bocaux produits salés","0","!%20Liste%20des%20produits%20!%202bf37e7305c3490d8ef04cec2537ea91/image%205.jpg","July 26, 2025",null,null,null,"Biodis","🇫🇷 France","Prosain","0","0",null,null,null,"No","No",null,"Magasin","Plats cuisinés","No","No","No","No","No",null,null,"Choisissez un nombre d'articles","0"]
["Bocal - Epinards en branches - 445g","6,20 €","6.2","Alimentaire Conditionné","Plats cuisinés","Bocaux produits salés","0",null,null,"!%20Liste%20des%20produits%20!%202bf37e7305c3490d8ef04cec2537ea91/F5_-_2209_590998%208.pdf, !%20Liste%20des%20produits%20!%202bf37e7305c3490d8ef04cec2537ea91/F3_-_2205_571501%207.pdf",null,null,"Biodis","🇫🇷 France","Prosain","0","0",null,null,null,"No","No",null,"Magasin","Plats cuisinés","No","No","No","No","No",null,null,"Choisissez un nombre d'articles","0"]
["Bocal - Flageolets Demeter - 215g","3,30€","3.3","Alimentaire Conditionné","Plats cuisinés","Bocaux produits salés","0",null,null,"!%20Liste%20des%20produits%20!%202bf37e7305c3490d8ef04cec2537ea91/F2_-_2203_564703%201.pdf",null,null,"Biodis","🇫🇷 France","Prosain","0","0",null,null,null,"No","No",null,"Magasin","Plats cuisinés","No","No","No","No","No",null,null,"Choisissez un poids","0"]
["Bocal - Haricots Coco - 690g","4,50€","45","Alimentaire Conditionné","Plats cuisinés","Bocaux produits salés","0",null,null,"!%20Liste%20des%20produits%20!%202bf37e7305c3490d8ef04cec2537ea91/F5_-_2209_590998%209.pdf, !%20Liste%20des%20produits%20!%202bf37e7305c3490d8ef04cec2537ea91/F4_-_2206_579761%2010.pdf, !%20Liste%20des%20produits%20!%202bf37e7305c3490d8ef04cec2537ea91/F2_-_2203_564703%203.pdf",null,null,"Biodis","🇫🇷 France ","Prosain","0","0",null,null,null,"No","No",null,"Magasin","Plats cuisinés","No","No","No","No","No",null,null,"Choisissez un nombre d'articles","0"]
["Bocal - Haricots Rouges - 255g","3,20€","3.2","Alimentaire Conditionné","Plats cuisinés","Bocaux produits salés","0","!%20Liste%20des%20produits%20!%202bf37e7305c3490d8ef04cec2537ea91/image%2047.jpg",null,"!%20Liste%20des%20produits%20!%202bf37e7305c3490d8ef04cec2537ea91/F3_-_2205_571501%208.pdf",null,null,"Biodis","🇫🇷 France","Prosain","0","0",null,null,null,"No","No",null,"Magasin","Plats cuisinés","No","No","No","No","No",null,null,"Choisissez un nombre d'articles","0"]
["Bocal - Haricots verts extra fins - 345g","4,20€","4.2","Alimentaire Conditionné","Plats cuisinés","Bocaux produits salés","0",null,null,"!%20Liste%20des%20produits%20!%202bf37e7305c3490d8ef04cec2537ea91/F2_-_2203_564703%204.pdf",null,null,"Biodis","🇫🇷 France ","Prosain","0","0",null,null,null,"No","No",null,"Magasin","Plats cuisinés","No","No","No","No","No",null,null,"Choisissez un nombre d'articles","0"]
["Bocal - Korma de légumes 680g","6,50€","6.5","Alimentaire Conditionné","Plats cuisinés","Bocaux produits salés","0","!%20Liste%20des%20produits%20!%202bf37e7305c3490d8ef04cec2537ea91/image%2054.jpg",null,"!%20Liste%20des%20produits%20!%202bf37e7305c3490d8ef04cec2537ea91/F5_-_2209_590998%2013.pdf, !%20Liste%20des%20produits%20!%202bf37e7305c3490d8ef04cec2537ea91/F3_-_2205_571501%2013.pdf, !%20Liste%20des%20produits%20!%202bf37e7305c3490d8ef04cec2537ea91/F2_-_2203_564703%208.pdf",null,null,"Biodis","🇫🇷 France ","Prosain","0","0",null,null,null,"No","No",null,"Magasin","Plats cuisinés","No","No","No","No","No",null,null,"Choisissez un nombre d'articles","0"]
["Bocal - Lentilles vertes aux petits légumes - 420g","4,50€","4.5","Alimentaire Conditionné","Plats cuisinés","Bocaux produits salés","0",null,null,"!%20Liste%20des%20produits%20!%202bf37e7305c3490d8ef04cec2537ea91/F4_-_2206_579761%2017.pdf",null,null,"Biodis","🇫🇷 France ","Prosain","0","0",null,null,null,"No","No",null,"Magasin","Plats cuisinés","No","No","No","No","No",null,null,"Choisissez un nombre d'articles","0"]
["Bocal - Macédoine de légumes - 230g","2,90 €","2.9","Alimentaire Conditionné",null,"Bocaux produits salés","0",null,null,"!%20Liste%20des%20produits%20!%202bf37e7305c3490d8ef04cec2537ea91/F2_-_2203_564703%209.pdf",null,null,"Biodis","🇫🇷 France ","Prosain","0","0",null,null,null,"No","No",null,"Magasin","Plats cuisinés","No","No","No","No","No",null,null,"Choisissez un nombre d'articles","0"]
["Bocal - Mais doux - 240g","2,90€","2.9","Alimentaire Conditionné","Plats cuisinés","Bocaux produits salés","0","!%20Liste%20des%20produits%20!%202bf37e7305c3490d8ef04cec2537ea91/image%2067.jpg","April 26, 2025",null,null,null,"Biodis","🇫🇷 France ","Prosain","0","0",null,null,null,"No","No",null,"Magasin","Plats cuisinés","No","No","No","No","No",null,null,"Choisissez un nombre d'articles","0"]
["Bocal - Moussaka vegan, Aubergines, soja, légumes - 345g","4,50 €","4.5","Alimentaire Conditionné","plats cuisinés","Bocaux produits salés","0","!%20Liste%20des%20produits%20!%202bf37e7305c3490d8ef04cec2537ea91/image%2069.jpg",null,"!%20Liste%20des%20produits%20!%202bf37e7305c3490d8ef04cec2537ea91/F3_-_2205_571501%2017.pdf, !%20Liste%20des%20produits%20!%202bf37e7305c3490d8ef04cec2537ea91/F2_-_2203_564703%2011.pdf, !%20Liste%20des%20produits%20!%202bf37e7305c3490d8ef04cec2537ea91/F1_-_2202_F558904%2011.pdf",null,null,"Biodis","🇫🇷 France ","Prosain","0","0",null,null,null,"No","No",null,"Magasin","Plats cuisinés","No","No","No","No","No",null,null,"Choisissez un nombre d'articles","0"]
["Bocal - Petits pois extra fins - 240g","3,50 €","3.5","Alimentaire Conditionné",null,"Bocaux produits salés","0",null,null,"!%20Liste%20des%20produits%20!%202bf37e7305c3490d8ef04cec2537ea91/F2_-_2203_564703%2015.pdf",null,null,"Biodis","🇫🇷 France ","Prosain","0","0",null,null,null,"No","No",null,"Magasin","Plats cuisinés","No","No","No","No","No",null,null,"Choisissez un nombre d'articles","0"]
["Bocal - Petits pois extra fins - 445g","5,10 €","5.1","Alimentaire Conditionné",null,"Bocaux produits salés","0",null,null,"!%20Liste%20des%20produits%20!%202bf37e7305c3490d8ef04cec2537ea91/F2_-_2203_564703%2016.pdf",null,null,"Biodis","🇫🇷 France ","Prosain","0","0",null,null,null,"No","No",null,"Magasin","Plats cuisinés","No","No","No","No","No",null,null,"Choisissez un nombre d'articles","0"]
["Bocal - Petits Pois très fins et carottes - 425g","5,50 €","5.5","Alimentaire Conditionné",null,"Bocaux produits salés","0",null,null,"!%20Liste%20des%20produits%20!%202bf37e7305c3490d8ef04cec2537ea91/F5_-_2209_590998%2016.pdf, !%20Liste%20des%20produits%20!%202bf37e7305c3490d8ef04cec2537ea91/F2_-_Facture_564703%204.pdf",null,null,"Biodis","🇫🇷 France ","Prosain","0","0",null,null,null,"No","No",null,"Magasin","Plats cuisinés","No","No","No","No","No",null,null,"Choisissez un nombre d'articles","0"]
["Bocal - Pois Chiche - 230g","3,50 €","3.5","Alimentaire Conditionné",null,"Bocaux produits salés","0",null,null,"!%20Liste%20des%20produits%20!%202bf37e7305c3490d8ef04cec2537ea91/F2_-_2203_564703%2017.pdf",null,null,"Biodis","🇫🇷 France ","Prosain","0","0",null,null,null,"No","No",null,"Magasin","Plats cuisinés","No","No","No","No","No",null,null,"Choisissez un nombre d'articles","0"]
["Bocal - Pois Chiches - 420g","5,00 €","5","Alimentaire Conditionné",null,"Bocaux produits salés","0",null,null,"!%20Liste%20des%20produits%20!%202bf37e7305c3490d8ef04cec2537ea91/F5_-_2209_590998%2018.pdf, !%20Liste%20des%20produits%20!%202bf37e7305c3490d8ef04cec2537ea91/F2_-_Facture_564703%205.pdf",null,null,"Biodis","🇫🇷 France ","Prosain","0","0",null,null,null,"No","No",null,"Magasin","Plats cuisinés","No","No","No","No","No",null,null,"Choisissez un nombre d'articles","0"]
["Bocal - Préparation  tarte aux oignons 345g","4,50€","4.5","Alimentaire Conditionné",null,"Bocaux produits salés","0","!%20Liste%20des%20produits%20!%202bf37e7305c3490d8ef04cec2537ea91/image%204.jpg","May 26, 2025",null,null,null,"Biodis","🇫🇷 France ","Prosain",null,"0",null,null,null,"No","No",null,"Magasin","Plats cuisinés","No","No","No","No","No",null,null,"Choisissez un nombre d'articles","0"]
["Bocal - Préparation tarte aux poireaux 345g","4,50€","4.5","Alimentaire Conditionné",null,"Bocaux produits salés","0","!%20Liste%20des%20produits%20!%202bf37e7305c3490d8ef04cec2537ea91/image%203.jpg","March 13, 2025",null,null,null,"Biodis","🇫🇷 France ","Prosain","0","0",null,null,null,"No","No",null,"Magasin","Plats cuisinés","No","No","No","No","No",null,null,"Choisissez un nombre d'articles","0"]
["Bocal - Ratatouille à la provençale - 650g","5,10€","5.1","Alimentaire Conditionné",null,"Bocaux produits salés","0","!%20Liste%20des%20produits%20!%202bf37e7305c3490d8ef04cec2537ea91/image%2088.jpg",null,"!%20Liste%20des%20produits%20!%202bf37e7305c3490d8ef04cec2537ea91/F5_-_2209_590998%2020.pdf, !%20Liste%20des%20produits%20!%202bf37e7305c3490d8ef04cec2537ea91/F4_-_2206_579761%2021.pdf, !%20Liste%20des%20produits%20!%202bf37e7305c3490d8ef04cec2537ea91/F1_-_2202_F558904%2015.pdf",null,null,"Biodis","🇫🇷 France ","Prosain",null,"0",null,null,null,"No","No",null,"Magasin","Plats cuisinés","No","No","No","No","No",null,null,"Choisissez un nombre d'articles","0"]
["Bocal - Risotto d’automne -350g","4,90€","4.9","Alimentaire Conditionné",null,"Bocaux produits salés","0","!%20Liste%20des%20produits%20!%202bf37e7305c3490d8ef04cec2537ea91/image%20102.jpg","June 26, 2025",null,null,null,"Biodis","🇫🇷 France ","Prosain",null,"0",null,null,null,"No","No",null,"Magasin","Plats cuisinés","No","No","No","No","No",null,null,"Choisissez un nombre d'articles","0"]
["Bocal - Sauce bolognaise végétale au soja - 340g","3,30€","3.3","Alimentaire Conditionné",null,"Bocaux produits salés","0",null,null,"!%20Liste%20des%20produits%20!%202bf37e7305c3490d8ef04cec2537ea91/F5_-_2209_590998%2021.pdf, !%20Liste%20des%20produits%20!%202bf37e7305c3490d8ef04cec2537ea91/F2_-_Facture_564703%206.pdf, !%20Liste%20des%20produits%20!%202bf37e7305c3490d8ef04cec2537ea91/F1_-_2202_F558904%2017.pdf",null,null,"Biodis","🇮🇹 Italie","Luce",null,"0",null,null,null,"No","No",null,"Magasin","Sauces","No","No","No","No","No",null,null,"Choisissez un nombre d'articles","0"]
["Bocal - Sauce Vegan - 185g","3,50€","3.5","Alimentaire Conditionné",null,"Bocaux produits salés","0",null,null,"!%20Liste%20des%20produits%20!%202bf37e7305c3490d8ef04cec2537ea91/F5_-_2209_590998%2022.pdf, !%20Liste%20des%20produits%20!%202bf37e7305c3490d8ef04cec2537ea91/F3_-_2205_571501%2020.pdf",null,null,"Biodis","🇫🇷 France ","La Cuisine d'autrefois",null,"0",null,null,null,"No","No",null,"Magasin","Sauces","No","No","No","No","No",null,null,"Choisissez un nombre d'articles","0"]
["Bocal - Tikka Masala aux légumes et pois chiches - 360g","4,50€","4.5","Alimentaire Conditionné",null,"Bocaux produits salés","0",null,null,"!%20Liste%20des%20produits%20!%202bf37e7305c3490d8ef04cec2537ea91/F4_-_2206_579761%2022.pdf",null,null,"Biodis","🇫🇷 France ","Prosain",null,"0",null,null,null,"No","No",null,"Magasin","Plats cuisinés","No","No","No","No","No",null,null,"Choisissez un nombre d'articles","0"]
["Bocal Haricots beurre extra fins - 180g","2,90 €","2.9","Alimentaire Conditionné","Plats cuisinés","Bocaux produits salés","0",null,null,"!%20Liste%20des%20produits%20!%202bf37e7305c3490d8ef04cec2537ea91/F2_-_2203_564703%202.pdf",null,null,"Biodis","🇫🇷 France ","Prosain","0","0",null,null,null,"No","No",null,"Magasin","Plats cuisinés","No","No","No","No","No",null,null,"Choisissez un nombre d'articles","0"]
["Boisson végétale - Avoine","2,10 €","2.1","Boissons conditionnées","Boisson","Boissons végétales & Laits",null,null,null,null,null,null,null,"🇫🇷 France"]
["Boisson végétale - So amande Nature UHT - 1L","2,60 €","2.6","Boissons conditionnées","Boisson","Boissons végétales & Laits","0","!%20Liste%20des%20produits%20!%202bf37e7305c3490d8ef04cec2537ea91/image%2010.jpg","April 14, 2023","!%20Liste%20des%20produits%20!%202bf37e7305c3490d8ef04cec2537ea91/F5_-_2209_590998%201.pdf, !%20Liste%20des%20produits%20!%202bf37e7305c3490d8ef04cec2537ea91/F1_-_2202_F558904%203.pdf",null,null,"Biodis","🇫🇷 France ","Sojade","0","0",null,null,null,"No","No",null,"Magasin","Laits & Laits végétaux","No","No","No","No","No",null,null,"Choisissez un nombre d'articles","0"]
["Boisson végétale - Soja Nature - 1L","2,10 €","2.1","Boissons conditionnées","Boisson","Boissons végétales & Laits","0",null,null,"!%20Liste%20des%20produits%20!%202bf37e7305c3490d8ef04cec2537ea91/F1_-_2202_F558904%201.pdf",null,null,"Biodis","🇫🇷 France","Soy","0","0",null,null,null,"No","No",null,"Magasin",null,"No","No","No","No","No",null,null,"Choisissez un nombre d'articles","0"]
["Boisson végétale - Sojade UHT Calcium - 1L","2,60€","2.6","Boissons conditionnées",null,"Boissons végétales & Laits","0",null,null,"!%20Liste%20des%20produits%20!%202bf37e7305c3490d8ef04cec2537ea91/F2_-_Facture_564703%207.pdf",null,null,"Biodis","🇫🇷 France ","Sojade",null,"0",null,null,null,"No","No",null,"Magasin",null,"No","No","No","No","No",null,null,"Choisissez un nombre d'articles","0"]
["Bol 15x7 Gravé Cap Bambou","14,90 €","14.9","Zéros déchets et Bocaux","Zero Déchet","Cuisine","0",null,null,"!%20Liste%20des%20produits%20!%202bf37e7305c3490d8ef04cec2537ea91/F1_-_2111_-_002432.pdf",null,null,"Cap Bambou","🇫🇷 France - Attignat (01)",null,"0","0",null,null,null,"No","No",null,"Magasin",null,"No","No","No","No","No",null,null,"Choisissez un nombre d'articles","0"]
["Bougies de Léa - Brûle Parfum","15,50 €","15.5","Zéros déchets et Bocaux","Zero Déchet",null,"0",null,null,"!%20Liste%20des%20produits%20!%202bf37e7305c3490d8ef04cec2537ea91/F2_-_2205-030%202.pdf",null,null,"Les bougies de Léa","🇫🇷 France - L'Abergement Clémenciat (01)","Les bougies de Léa","0","0",null,null,null,"No","No",null,"Magasin",null,"No","No","No","No","No",null,null,"Choisissez un nombre d'articles","0"]
["Bougies de Léa - Fondants Parfumés","3,50€","3.5","Zéros déchets et Bocaux",null,null,"0",null,null,"!%20Liste%20des%20produits%20!%202bf37e7305c3490d8ef04cec2537ea91/F2_-_2205-030%203.pdf",null,null,"Les bougies de Léa","🇫🇷 France - L'Abergement Clémenciat (01)","Les bougies de Léa","0","0",null,null,null,"No","No",null,"Magasin",null,"No","No","No","No","No",null,null,"Choisissez un nombre d'articles","0"]
["Bougies de Léa - Grandes bougies Parfumées ","18,00 €","18","Zéros déchets et Bocaux","Zero Déchet",null,"0",null,null,"!%20Liste%20des%20produits%20!%202bf37e7305c3490d8ef04cec2537ea91/F2_-_2205-030.pdf, !%20Liste%20des%20produits%20!%202bf37e7305c3490d8ef04cec2537ea91/F1_-_2205-013.pdf",null,null,"Les bougies de Léa","🇫🇷 France - L'Abergement Clémenciat (01)","Les bougies de Léa","0","0",null,null,null,"No","No",null,"Magasin",null,"No","No","No","No","No",null,null,"Choisissez un nombre d'articles","0"]
["Bougies de Léa - Petites bougies Parfumées ","11,00 €","11","Zéros déchets et Bocaux","Zero Déchet",null,"0",null,null,"!%20Liste%20des%20produits%20!%202bf37e7305c3490d8ef04cec2537ea91/F2_-_2205-030%201.pdf",null,null,"Les bougies de Léa","🇫🇷 France - L'Abergement Clémenciat (01)","Les bougies de Léa","0","0",null,null,null,"No","No",null,"Magasin",null,"No","No","No","No","No",null,null,"Choisissez un nombre d'articles","0"]
["Bougies de Léa - Suspensions parfumées","6€","6","Zéros déchets et Bocaux",null,null,"0",null,null,"!%20Liste%20des%20produits%20!%202bf37e7305c3490d8ef04cec2537ea91/F2_-_2205-030%204.pdf, !%20Liste%20des%20produits%20!%202bf37e7305c3490d8ef04cec2537ea91/F1_-_2205-013%201.pdf",null,null,"Les bougies de Léa","🇫🇷 France - L'Abergement Clémenciat (01)","Les bougies de Léa",null,"0",null,null,null,"No","No",null,"Magasin",null,"No","No","No","No","No",null,null,"Choisissez un nombre d'articles","0"]
["Bouillon de légumes - Sans levure & huile de palme","24,00€ / kg","24","Alimentaire Vrac","Salés","Epices condiments & sauces","0",null,"December 7, 2023","!%20Liste%20des%20produits%20!%202bf37e7305c3490d8ef04cec2537ea91/F11_-_23FV00647_20230119%202.pdf",null,null,null,"🇪🇺 UE / NON UE",null,"0","0",null,null,null,"No","No",null,"Magasin",null,"No","No","No","No","No",null,null,"Choisissez un poids","0"]
["Boule à Thé diamètre 50mm",3.5,"3.5","Zéros déchets et Bocaux","Boisson","Café thés tisanes herbiers","0",null,null,"!%20Liste%20des%20produits%20!%202bf37e7305c3490d8ef04cec2537ea91/F1_-_2207.pdf",null,null,"SolàSol","🇫🇷 France - Sud Est",null,null,"0",null,null,null,"No","No",null,"Magasin",null,"No","No","No","No","No",null,null,"Choisissez un poids","0"]
["Boulgour","3,10€ / kg","3.1","Alimentaire Vrac","Salés","Céréales - Légumineuses & Graines","0","!%20Liste%20des%20produits%20!%202bf37e7305c3490d8ef04cec2537ea91/image%2013.jpg","September 21, 2023","!%20Liste%20des%20produits%20!%202bf37e7305c3490d8ef04cec2537ea91/F10_-_22FV11834_20221102%202.pdf, !%20Liste%20des%20produits%20!%202bf37e7305c3490d8ef04cec2537ea91/F3_-_Facture-22FV02158%201.pdf",null,null,"Actibio","🇹🇷 Turquie",null,"0","0",null,null,null,"Yes","Yes",null,"Magasin","Céréales","No","No","No","No","No",null,null,"Choisissez un poids","0"]
["Brosse à cheveux Bébé","9,50 €","9.5","Produits d'hygiène coporelle","Zero Déchet","Accessoires de salle de bain","0",null,null,"!%20Liste%20des%20produits%20!%202bf37e7305c3490d8ef04cec2537ea91/F1_-_2111_-_002432%201.pdf",null,null,"Cap Bambou","🇫🇷 France - Attignat (01)","Cap Bambou","0","0",null,null,null,"No","No",null,"Magasin",null,"No","No","No","No","No",null,null,"Choisissez un nombre d'articles","0"]
["Brosse à cheveux Démélante","14,90 €","14.9","Produits d'hygiène coporelle","Zero Déchet","Accessoires de salle de bain","0",null,null,"!%20Liste%20des%20produits%20!%202bf37e7305c3490d8ef04cec2537ea91/F2_-_2205_-_002952.pdf, !%20Liste%20des%20produits%20!%202bf37e7305c3490d8ef04cec2537ea91/F1_-_2111_-_002432%202.pdf",null,null,"Cap Bambou","🇫🇷 France - Attignat (01)","Cap Bambou","0","0",null,null,null,"No","No",null,"Magasin",null,"No","No","No","No","No",null,null,"Choisissez un nombre d'articles","0"]
["Brosse à cheveux Démélante Enfants",9.5,"9.50","Produits d'hygiène coporelle","Zero Déchet","Accessoires de salle de bain","0",null,null,"!%20Liste%20des%20produits%20!%202bf37e7305c3490d8ef04cec2537ea91/F1_-_2111_-_002432%203.pdf",null,null,"Cap Bambou","🇫🇷 France - Attignat (01)","Cap Bambou","0","0",null,null,null,"No","No",null,"Magasin",null,"No","No","No","No","No",null,null,"Choisissez un nombre d'articles","0"]
["Brosse à dent - Lot de 3 têtes extra souples",7.9,"7.90","Produits d'hygiène coporelle"]
["Brosse à dent - Lot de 3 têtes medium",7.9,"7.90","Produits d'hygiène coporelle"]
["Brosse à dent - Lot de 3 têtes souples",7.9,"7.90","Produits d'hygiène coporelle"]
["Brosse à dent à tête rechargeable - manche bioplastic",3.5,"3.50","Produits d'hygiène coporelle"]
["Brosse à dent à tête rechargeable - manche hêtre","8,50 €","8.5",null,"Hygiène & Beauté","Accessoires de salle de bain","0","!%20Liste%20des%20produits%20!%202bf37e7305c3490d8ef04cec2537ea91/image%2014.jpg",null,"!%20Liste%20des%20produits%20!%202bf37e7305c3490d8ef04cec2537ea91/F1_-_2208_-NAB-F2117%201.pdf, !%20Liste%20des%20produits%20!%202bf37e7305c3490d8ef04cec2537ea91/F2-NAB-F4138%201.pdf, !%20Liste%20des%20produits%20!%202bf37e7305c3490d8ef04cec2537ea91/F3-AB-F5731%206.pdf",null,null,"Aventure Bio","🇫🇷 France","My Boo","0","0",null,null,null,"No","No",null,"Magasin","Hygiène dentaire","No","No","No","No","No",null,null,"Choisissez un nombre d'articles","0"]
["Brosse à dents adultes","3,99 €","3.99",null,"Hygiène & Beauté","Accessoires de salle de bain","0",null,null,null,null,null,"Cap Bambou","🇫🇷 France - Attignat (01)","Cap Bambou","0","0",null,null,null,"Yes","Yes",null,"Magasin",null,"No","No","No","No","No",null,null,"Choisissez un nombre d'articles","0"]
["Brosses à dents enfants - Jaune","3,50 €","3.5","Produits d'hygiène coporelle","Hygiène & Beauté","Accessoires de salle de bain","0",null,null,"!%20Liste%20des%20produits%20!%202bf37e7305c3490d8ef04cec2537ea91/F2_-_2205_-_002952%201.pdf",null,null,"Cap Bambou","🇫🇷 France - Attignat (01)","Cap Bambou","0","0",null,null,null,"Yes","Yes",null,"Magasin",null,"No","No","No","No","No",null,null,"Choisissez un nombre d'articles","0"]
["Brosses à dents enfants - Violet","3,50 €","3.5","Produits d'hygiène coporelle","Hygiène & Beauté","Accessoires de salle de bain","0",null,null,"!%20Liste%20des%20produits%20!%202bf37e7305c3490d8ef04cec2537ea91/F2_-_2205_-_002952%202.pdf",null,null,"Cap Bambou","🇫🇷 France - Attignat (01)","Cap Bambou","0","0",null,null,null,"No","No",null,"Magasin",null,"No","No","No","No","No",null,null,"Choisissez un nombre d'articles","0"]
["Café - Dagosette colombie (capsule)","0,40€","0.4","Boisson en vrac",null,"Café thés tisanes herbiers","0",null,null,"!%20Liste%20des%20produits%20!%202bf37e7305c3490d8ef04cec2537ea91/0722_-_FC213622%203.pdf, !%20Liste%20des%20produits%20!%202bf37e7305c3490d8ef04cec2537ea91/0322_-_FC212485%203.pdf",null,null,"Café Dagobert","🇨🇴 Colombie / 🇫🇷 Chatillon sur Chalaronne","Café Dagobert","0","0",null,null,null,"No","No",null,"Magasin","Cafés","No","No","No","No","No",null,null,"Choisissez un nombre d'articles","0"]
["Café - Dosette Americ’ain (senseo)","0,20€ / pièce","0.2","Boisson en vrac",null,"Café thés tisanes herbiers","0",null,null,"!%20Liste%20des%20produits%20!%202bf37e7305c3490d8ef04cec2537ea91/0722_-_FC213622%204.pdf",null,null,"Café Dagobert","🇨🇴 Colombie / 🇫🇷 Chatillon sur Chalaronne",null,"0","0",null,null,null,"No","No",null,"Magasin","Cafés","No","No","No","No","No",null,null,"Choisissez un nombre d'articles","0"]
["Café - Grains - Colombie","19,90€ / kg","19.5","Boisson en vrac","Boisson","Café thés tisanes herbiers","0","!%20Liste%20des%20produits%20!%202bf37e7305c3490d8ef04cec2537ea91/image%2015.jpg",null,"!%20Liste%20des%20produits%20!%202bf37e7305c3490d8ef04cec2537ea91/0722_-_FC213622%201.pdf, !%20Liste%20des%20produits%20!%202bf37e7305c3490d8ef04cec2537ea91/0322_-_FC212485%201.pdf, !%20Liste%20des%20produits%20!%202bf37e7305c3490d8ef04cec2537ea91/0122_-_FC211343%202.pdf",null,null,"Café Dagobert","🇪🇹 Ethiopie",null,"0","0",null,null,null,"No","No",null,"Magasin","Cafés","No","No","No","No","No",null,null,"Choisissez un poids","0"]
["Café - Grains - Moka Djimmah ","19,90€ / kg","19.5","Boisson en vrac","Boisson","Café thés tisanes herbiers","0","!%20Liste%20des%20produits%20!%202bf37e7305c3490d8ef04cec2537ea91/image%2015.jpg",null,"!%20Liste%20des%20produits%20!%202bf37e7305c3490d8ef04cec2537ea91/0722_-_FC213622%201.pdf, !%20Liste%20des%20produits%20!%202bf37e7305c3490d8ef04cec2537ea91/0322_-_FC212485%201.pdf, !%20Liste%20des%20produits%20!%202bf37e7305c3490d8ef04cec2537ea91/0122_-_FC211343%202.pdf",null,null,"Café Dagobert","🇪🇹 Ethiopie",null,"0","0",null,null,null,"No","No",null,"Magasin","Cafés","No","No","No","No","No",null,null,"Choisissez un poids","0"]
["Cannelle en Poudre","56,00€ / kg","56","Alimentaire Vrac","Salés","Epices condiments & sauces","0",null,null,"!%20Liste%20des%20produits%20!%202bf37e7305c3490d8ef04cec2537ea91/F2_-_22FV01075_20220127%201.pdf, !%20Liste%20des%20produits%20!%202bf37e7305c3490d8ef04cec2537ea91/F1_-_21FV13778_20211129%2010.pdf",null,null,"Actibio","🇲🇬 Madagascar",null,"0","0",null,null,null,"Yes","Yes",null,"Magasin","Epices condiments & sauces","No","No","No","No","No",null,null,"Choisissez un poids","0"]
["Cannelle en Tuyau","62,00€ / kg","62","Alimentaire Vrac","Salés","Epices condiments & sauces","0",null,null,"!%20Liste%20des%20produits%20!%202bf37e7305c3490d8ef04cec2537ea91/F2_-_22FV01075_20220127%202.pdf",null,null,"Actibio","🇮🇩 Indonésie ",null,"0","0",null,null,null,"Yes","Yes",null,"Magasin","Epices condiments & sauces","No","No","No","No","No",null,null,"Choisissez un poids","0"]
["Céréales - Choco crisp ","9,50 € / kg","9.5","Alimentaire Vrac","Sucrés","Céréales du petit déjeuner","0","!%20Liste%20des%20produits%20!%202bf37e7305c3490d8ef04cec2537ea91/96EB9F31-E799-4759-8FBE-939D6D2047DF.jpeg","October 20, 2023","!%20Liste%20des%20produits%20!%202bf37e7305c3490d8ef04cec2537ea91/F10_-_EP_-_FV70173.pdf, !%20Liste%20des%20produits%20!%202bf37e7305c3490d8ef04cec2537ea91/F3_-_EPICE_-_FV58436.pdf, !%20Liste%20des%20produits%20!%202bf37e7305c3490d8ef04cec2537ea91/F2_-_EPICE_-_FV57470%201.pdf, !%20Liste%20des%20produits%20!%202bf37e7305c3490d8ef04cec2537ea91/F1_-_EPICE_-_FV55099.pdf",null,null,"Scop Epice","🇫🇷 France",null,"0","0",null,null,null,"Yes","Yes",null,"Magasin",null,"No","No","No","No","No",null,null,"Choisissez un poids","0"]
["Céréales - Corn Flakes ","8,50€ / kg","8.5","Alimentaire Vrac",null,"Céréales du petit déjeuner","0",null,null,"!%20Liste%20des%20produits%20!%202bf37e7305c3490d8ef04cec2537ea91/F1_-_EPICE_-_FV55099%201.pdf, !%20Liste%20des%20produits%20!%202bf37e7305c3490d8ef04cec2537ea91/F09_-_EP_-_FV69079%203.pdf",null,null,"Scop Epice","🇫🇷 France - Bretagne","Endro","0","0",null,null,null,"No","No",null,"Magasin",null,"No","No","No","No","No",null,null,"Choisissez un poids","0"]
["Céréales - Crosti Choco Noisettes ",11,"11","Alimentaire Vrac",null,"Céréales du petit déjeuner","0","!%20Liste%20des%20produits%20!%202bf37e7305c3490d8ef04cec2537ea91/image%2031.jpg",null,"!%20Liste%20des%20produits%20!%202bf37e7305c3490d8ef04cec2537ea91/F5_-_2209_590998%206.pdf, !%20Liste%20des%20produits%20!%202bf37e7305c3490d8ef04cec2537ea91/F3_-_2205_571501%205.pdf, !%20Liste%20des%20produits%20!%202bf37e7305c3490d8ef04cec2537ea91/F2_-_2203_564703.pdf",null,null,"Biodis","🇫🇷 France ","Favrichon","0","0",null,null,null,"No","No",null,"Magasin","Céréales","No","No","No","No","No",null,null,"Choisissez un poids","0"]
["Céréales - Flocons Avoine Gros ","3,50€ / kg","3.5","Alimentaire Vrac",null,"Céréales du petit déjeuner","0",null,null,"!%20Liste%20des%20produits%20!%202bf37e7305c3490d8ef04cec2537ea91/F4_-_Facture_411005664_22FV03404_20220322%204.pdf",null,null,"Actibio","🇫🇷 France",null,"0","0",null,null,null,"No","No",null,"Magasin",null,"No","No","No","No","No",null,null,"Choisissez un poids","0"]
["Céréales - Flocons Avoine Petit","2,90€ / kg","2.9","Alimentaire Vrac",null,"Céréales du petit déjeuner","0.29","!%20Liste%20des%20produits%20!%202bf37e7305c3490d8ef04cec2537ea91/image%2042.jpg",null,"!%20Liste%20des%20produits%20!%202bf37e7305c3490d8ef04cec2537ea91/F8_-_Facture_411005664_22FV10465_20220923%203.pdf, !%20Liste%20des%20produits%20!%202bf37e7305c3490d8ef04cec2537ea91/F4_-_Facture_411005664_22FV03404_20220322%205.pdf",null,null,"Actibio","🇫🇷 France",null,"0","0",null,null,null,"No","No",null,"Magasin",null,"No","Yes","No","No","Yes","Choisissez une quantité",null,"Choisissez un poids","0.29"]
["Céréales - Krounchy 3 chocolats","10,00€ / kg","10","Alimentaire Vrac",null,"Céréales du petit déjeuner","0",null,null,"!%20Liste%20des%20produits%20!%202bf37e7305c3490d8ef04cec2537ea91/F3_-_EPICE_-_FV58436%204.pdf, !%20Liste%20des%20produits%20!%202bf37e7305c3490d8ef04cec2537ea91/F2_-_EPICE_-_FV57470%208.pdf, !%20Liste%20des%20produits%20!%202bf37e7305c3490d8ef04cec2537ea91/F1_-_EPICE_-_FV55099%207.pdf",null,null,"Scop Epice","🇫🇷 France ","Grillon d'or","0","0",null,null,null,"No","No",null,"Magasin",null,"No","No","No","No","No",null,null,"Choisissez un poids","0"]
["Céréales - Krounchy aux fruits","11,50€ / kg","11.50","Alimentaire Vrac",null,"Céréales du petit déjeuner"]
["Céréales - Krounchy Nature","7,50€","7.50","Alimentaire Vrac",null,"Céréales du petit déjeuner"]
["Céréales - Mops Miel","9,80€ / kg","9.8","Alimentaire Vrac",null,"Céréales du petit déjeuner","0",null,null,"!%20Liste%20des%20produits%20!%202bf37e7305c3490d8ef04cec2537ea91/F09_-_EP_-_FV69079%207.pdf, !%20Liste%20des%20produits%20!%202bf37e7305c3490d8ef04cec2537ea91/F3_-_EPICE_-_FV58436%205.pdf, !%20Liste%20des%20produits%20!%202bf37e7305c3490d8ef04cec2537ea91/F2_-_EPICE_-_FV57470%2010.pdf, !%20Liste%20des%20produits%20!%202bf37e7305c3490d8ef04cec2537ea91/F1_-_EPICE_-_FV55099%209.pdf",null,null,"Scop Epice","🇫🇷 France - Bretagne","Endro","0","0",null,null,null,"No","No",null,"Magasin",null,"No","No","No","No","No",null,null,"Choisissez un poids","0"]
["Chicorée torréfiée soluble - 200g","7,20€ / pièce","6.5","Boisson en vrac","Boisson","Café thés tisanes herbiers","0",null,null,"!%20Liste%20des%20produits%20!%202bf37e7305c3490d8ef04cec2537ea91/0722_-_FC213622%202.pdf, !%20Liste%20des%20produits%20!%202bf37e7305c3490d8ef04cec2537ea91/0322_-_FC212485%202.pdf",null,null,"Café Dagobert"," 🇫🇷 Chatillon sur chalaronne",null,"0","0",null,null,null,"No","No",null,"Magasin","Cafés","No","No","No","No","No",null,null,"Choisissez un nombre d'articles","0"]
["Chips de Banane au Miel ","15,00 € / kg","15","Alimentaire Vrac","Sucrés","Fruits secs & à coques","0","!%20Liste%20des%20produits%20!%202bf37e7305c3490d8ef04cec2537ea91/image%2017.jpg","July 24, 2023","!%20Liste%20des%20produits%20!%202bf37e7305c3490d8ef04cec2537ea91/F6_-Facture_411005664_22FV06518_20220531%201.pdf, !%20Liste%20des%20produits%20!%202bf37e7305c3490d8ef04cec2537ea91/F10_-_22FV11834_20221102%203.pdf, !%20Liste%20des%20produits%20!%202bf37e7305c3490d8ef04cec2537ea91/F11_-_23FV00647_20230119%203.pdf",null,null,"Actibio","🇵🇭 Philippines",null,"0","0",null,null,null,"No","No",null,"Magasin","Fruits Secs et à coques","No","No","No","No","No",null,null,"Choisissez un poids","0"]
["Chocolat Lait - Palets","20€/ kg","16","Alimentaire Vrac",null,"Chocolats, Biscuits & Confiseries","0",null,null,"!%20Liste%20des%20produits%20!%202bf37e7305c3490d8ef04cec2537ea91/F6_-Facture_411005664_22FV06518_20220531%209.pdf, !%20Liste%20des%20produits%20!%202bf37e7305c3490d8ef04cec2537ea91/F4_-_Facture_411005664_22FV03404_20220322%209.pdf",null,null,"Actibio","🇧🇪 Belgique",null,"0","0",null,null,null,"No","No",null,"Magasin","Chocolats Biscuits & confiseries","No","No","No","No","No",null,null,"Choisissez un poids","0"]
["Chocolat Lait - Pépites ","20,00 € / kg","20","Alimentaire Vrac","Sucrés","Chocolats, Biscuits & Confiseries","0","!%20Liste%20des%20produits%20!%202bf37e7305c3490d8ef04cec2537ea91/image%2018.jpg","July 14, 2023","!%20Liste%20des%20produits%20!%202bf37e7305c3490d8ef04cec2537ea91/F4_-_Facture_411005664_22FV03404_20220322.pdf, !%20Liste%20des%20produits%20!%202bf37e7305c3490d8ef04cec2537ea91/F10_-_22FV11834_20221102%204.pdf, !%20Liste%20des%20produits%20!%202bf37e7305c3490d8ef04cec2537ea91/F11_-_23FV00647_20230119%204.pdf",null,null,"Actibio","NON 🇪🇺 UE",null,"0","0",null,null,null,"No","No",null,"Magasin","Chocolats Biscuits & confiseries","No","No","No","No","No",null,null,"Choisissez un poids","0"]
["Chocolat Noir - Palets","18,00 € / kg","18","Alimentaire Vrac","Sucrés","Chocolats, Biscuits & Confiseries","0",null,"April 22, 2024","!%20Liste%20des%20produits%20!%202bf37e7305c3490d8ef04cec2537ea91/F4_-_Facture_411005664_22FV03404_20220322%2010.pdf, !%20Liste%20des%20produits%20!%202bf37e7305c3490d8ef04cec2537ea91/F6_-Facture_411005664_22FV06518_20220531%2010.pdf, !%20Liste%20des%20produits%20!%202bf37e7305c3490d8ef04cec2537ea91/F11_-_23FV00647_20230119%2015.pdf",null,null,"Actibio","🇩🇴 Republique Dominicaine",null,"0","0",null,null,null,"No","No",null,"Magasin","Chocolats Biscuits & confiseries","No","No","No","No","No",null,null,"Choisissez un poids","0"]
["Chocolat Noir - Pépites ","20,00 € / kg","20","Alimentaire Vrac","Sucrés","Chocolats, Biscuits & Confiseries","0","!%20Liste%20des%20produits%20!%202bf37e7305c3490d8ef04cec2537ea91/image%2019.jpg","June 27, 2024","!%20Liste%20des%20produits%20!%202bf37e7305c3490d8ef04cec2537ea91/F4_-_Facture_411005664_22FV03404_20220322%201.pdf, !%20Liste%20des%20produits%20!%202bf37e7305c3490d8ef04cec2537ea91/F3_-_Facture-22FV02158%202.pdf, !%20Liste%20des%20produits%20!%202bf37e7305c3490d8ef04cec2537ea91/F10_-_22FV11834_20221102%205.pdf",null,null,"Actibio","🇩🇴 Republique Dominicaine",null,"0","0",null,null,null,"No","No",null,"Magasin","Chocolats Biscuits & confiseries","No","No","No","No","No",null,null,"Choisissez un poids","0"]
["Chocolat Noir Poudre Instantané - Cacao et Sucre","90,00 € / kg","90","Alimentaire Vrac","Sucrés","Sucré","0","!%20Liste%20des%20produits%20!%202bf37e7305c3490d8ef04cec2537ea91/image%2020.jpg","October 31, 2024","!%20Liste%20des%20produits%20!%202bf37e7305c3490d8ef04cec2537ea91/F10_-_22FV11834_20221102%206.pdf",null,null,"Actibio","NON 🇪🇺 UE",null,"0","0",null,null,null,"No","No",null,"Magasin","Cacao","No","No","No","No","No",null,null,"Choisissez un poids","0"]
["Chouchou","4,50 €","4.5","Zéros déchets et Bocaux","Salle de bain",null,"0",null,null,"!%20Liste%20des%20produits%20!%202bf37e7305c3490d8ef04cec2537ea91/F8_-_2210_-_FA000589%201.pdf, !%20Liste%20des%20produits%20!%202bf37e7305c3490d8ef04cec2537ea91/F7_-_FA000480-2022%201.pdf, !%20Liste%20des%20produits%20!%202bf37e7305c3490d8ef04cec2537ea91/F3_-_2201_-_FA000072-2022.pdf, !%20Liste%20des%20produits%20!%202bf37e7305c3490d8ef04cec2537ea91/F1_-_2111_-_FA0014642021%201.pdf",null,null,"Alterosac","🇫🇷 France - Annemasse (74)","Alterosac","0","0",null,null,null,"No","No",null,"Magasin",null,"No","No","No","No","No",null,null,"Choisissez un nombre d'articles","0"]
["Ciboulette Feuilles ","80,00 € / kg","80","Alimentaire Vrac","Salés","Epices condiments & sauces","0",null,null,"!%20Liste%20des%20produits%20!%202bf37e7305c3490d8ef04cec2537ea91/F1_-_21FV13778_20211129%2013.pdf",null,null,"Actibio","🇩🇪 Allemagne",null,"0","0",null,null,null,"Yes","Yes",null,"Magasin","Epices condiments & sauces","No","No","No","No","No",null,null,"Choisissez un poids","0"]
["Cidre Brut 75cl","5,90 €","5.9","Boissons conditionnées","Bières & Vins","Bières & Vins","0","!%20Liste%20des%20produits%20!%202bf37e7305c3490d8ef04cec2537ea91/image%2022.jpg",null,null,null,null,"Relais local","🇫🇷 France - Tournon (73)","La Source du Verger","0","0",null,null,null,"No","No",null,"Magasin",null,"No","No","No","No","No",null,null,"Choisissez un nombre d'articles","0"]
["Cinq baies concassées","114,00 € / kg","114","Alimentaire Vrac","Salés","Epices condiments & sauces","0",null,null,"!%20Liste%20des%20produits%20!%202bf37e7305c3490d8ef04cec2537ea91/F2_-_22FV01075_20220127%204.pdf",null,null,"Actibio","🇪🇺 UE / NON UE",null,"0","0",null,null,null,"Yes","Yes",null,"Magasin","Epices condiments & sauces","No","No","No","No","No",null,null,"Choisissez un poids","0"]
["Citronnade pur jus de citron jaune - 75cl","3,50 €","3.5","Boissons conditionnées","Jus de fruits",null,"0",null,null,"!%20Liste%20des%20produits%20!%202bf37e7305c3490d8ef04cec2537ea91/F5_-_2209_590998%203.pdf, !%20Liste%20des%20produits%20!%202bf37e7305c3490d8ef04cec2537ea91/F4_-_2206_579761%205.pdf, !%20Liste%20des%20produits%20!%202bf37e7305c3490d8ef04cec2537ea91/F3_-_2205_571501%202.pdf",null,null,"Biodis","🇫🇷 France ","Vitamont","0","0",null,null,null,"No","No",null,"Magasin",null,"No","No","No","No","No",null,null,"Choisissez un nombre d'articles","0"]
["Compote Allégée - Pomme Abricot - 660g","5 €","5.00","Alimentaire Conditionné","Compotes","Bocaux produits sucrés","0",null,null,"!%20Liste%20des%20produits%20!%202bf37e7305c3490d8ef04cec2537ea91/F10_-_FC220513487.pdf, !%20Liste%20des%20produits%20!%202bf37e7305c3490d8ef04cec2537ea91/F6_-_FC220312200.pdf, !%20Liste%20des%20produits%20!%202bf37e7305c3490d8ef04cec2537ea91/F2_-_FC220111208%202.pdf",null,null,"Relais local","🇫🇷 France - La chapemme sous Aubenas (07)","Sanofruit","0","0",null,null,null,"No","No",null,"Magasin","Compotes","No","No","No","No","No",null,null,"Choisissez un nombre d'articles","0"]
["Compote Allégée - Pomme Chataigne - 660g","4,80 €","4.80 ","Alimentaire Conditionné","Compotes","Bocaux produits sucrés","0",null,null,"!%20Liste%20des%20produits%20!%202bf37e7305c3490d8ef04cec2537ea91/F10_-_FC220513487%201.pdf, !%20Liste%20des%20produits%20!%202bf37e7305c3490d8ef04cec2537ea91/F6_-_FC220312200%201.pdf",null,null,"Relais local","🇫🇷 France - La chapemme sous Aubenas (07)","Sanofruit",null,"0",null,null,null,"No","No",null,"Magasin","Compotes","No","No","No","No","No",null,null,"Choisissez un poids","0"]
["Compote Pomme - 480g - ","3,50 €","3.50","Alimentaire Conditionné","Compotes","Bocaux produits sucrés","0",null,null,"!%20Liste%20des%20produits%20!%202bf37e7305c3490d8ef04cec2537ea91/F10_-_FC220513487%202.pdf, !%20Liste%20des%20produits%20!%202bf37e7305c3490d8ef04cec2537ea91/F2_-_FC220111208%203.pdf",null,null,"Relais local","🇫🇷 France - Tournon (73)","La source du verger","0","0",null,null,null,"No","No",null,"Magasin","Compotes","No","No","No","No","No",null,null,"Choisissez un nombre d'articles","0"]
["Compote Pomme Banane",5,"5.00","Alimentaire Conditionné","Compotes","Bocaux produits sucrés","0","!%20Liste%20des%20produits%20!%202bf37e7305c3490d8ef04cec2537ea91/image%2023.jpg","January 1, 2024",null,null,null,"Relais local","🇫🇷 France - Lyon (69)","Les imparfaits",null,"0",null,null,null,"No","No",null,"Magasin","Compotes","No","No","No","No","No",null,null,"Choisissez un poids","0"]
["Compote Pomme Framboise - 480g ","4,50 €","4.5","Alimentaire Conditionné","Compotes","Bocaux produits sucrés","0","!%20Liste%20des%20produits%20!%202bf37e7305c3490d8ef04cec2537ea91/image%2024.jpg",null,"!%20Liste%20des%20produits%20!%202bf37e7305c3490d8ef04cec2537ea91/F18_-_FC221015817.pdf, !%20Liste%20des%20produits%20!%202bf37e7305c3490d8ef04cec2537ea91/F10_-_FC220513487%203.pdf, !%20Liste%20des%20produits%20!%202bf37e7305c3490d8ef04cec2537ea91/F2_-_FC220111208%204.pdf",null,null,"Relais local","🇫🇷 France - Tournon (73)","La source du verger","0","0",null,null,null,"No","No",null,"Magasin","Compotes","No","No","No","No","No",null,null,"Choisissez un nombre d'articles","0"]
["Concentré de Tomate - 200g","2,30 €","2.3","Alimentaire Conditionné","Bocal","Bocaux produits salés","0","!%20Liste%20des%20produits%20!%202bf37e7305c3490d8ef04cec2537ea91/image%2025.jpg",null,"!%20Liste%20des%20produits%20!%202bf37e7305c3490d8ef04cec2537ea91/F5_-_2209_590998%205.pdf, !%20Liste%20des%20produits%20!%202bf37e7305c3490d8ef04cec2537ea91/F3_-_2205_571501%204.pdf, !%20Liste%20des%20produits%20!%202bf37e7305c3490d8ef04cec2537ea91/F1_-_2202_F558904%206.pdf",null,null,"Biodis","🇮🇹 Italie","Luce","0","0",null,null,null,"No","No",null,"Magasin",null,"No","No","No","No","No",null,null,"Choisissez un nombre d'articles","0"]
["Confiture Abricot - 340g ","4,90 €","4.9","Alimentaire Conditionné","Confitures","Bocaux produits sucrés","0",null,null,"!%20Liste%20des%20produits%20!%202bf37e7305c3490d8ef04cec2537ea91/F8_-_FC220312603%201.pdf, !%20Liste%20des%20produits%20!%202bf37e7305c3490d8ef04cec2537ea91/F6_-_FC220312200%202.pdf, !%20Liste%20des%20produits%20!%202bf37e7305c3490d8ef04cec2537ea91/F4_-_FC220211755%201.pdf",null,null,"Relais local","🇫🇷 France - Saint vaury (23)","Collines en limousin","0","0",null,null,null,"No","No",null,"Magasin","Confitures","No","No","No","No","No",null,null,"Choisissez un nombre d'articles","0"]
["Confiture de Figue 340g","4,90 €","4.9","Alimentaire Conditionné","Confitures","Bocaux produits sucrés","0",null,null,"!%20Liste%20des%20produits%20!%202bf37e7305c3490d8ef04cec2537ea91/F23_-_RL_-_FC230217857.pdf, !%20Liste%20des%20produits%20!%202bf37e7305c3490d8ef04cec2537ea91/F9_-_FC220513133.pdf, !%20Liste%20des%20produits%20!%202bf37e7305c3490d8ef04cec2537ea91/F6_-_FC220312200%203.pdf",null,null,"Relais local","🇫🇷 France - Saint vaury (23)","Collines en limousin","0","0",null,null,null,"No","No",null,"Magasin","Confitures","No","No","No","No","No",null,null,"Choisissez un nombre d'articles","0"]
["Confiture de Fraise - 370g ","4,90 €","4.9","Alimentaire Conditionné","Confitures","Bocaux produits sucrés","0",null,null,"!%20Liste%20des%20produits%20!%202bf37e7305c3490d8ef04cec2537ea91/F9_-_FC220513133%201.pdf, !%20Liste%20des%20produits%20!%202bf37e7305c3490d8ef04cec2537ea91/F4_-_FC220211755%202.pdf, !%20Liste%20des%20produits%20!%202bf37e7305c3490d8ef04cec2537ea91/F2_-_FC220111208%205.pdf",null,null,"Relais local","🇫🇷 France - Tournon (73)","La source du verger","0","0",null,null,null,"No","No",null,"Magasin","Confitures","No","No","No","No","No",null,null,"Choisissez un nombre d'articles","0"]
["Confiture de Fruits des Bois 370g ","5,50 €","5.5","Alimentaire Conditionné","Confitures","Bocaux produits sucrés","0","!%20Liste%20des%20produits%20!%202bf37e7305c3490d8ef04cec2537ea91/image%2026.jpg",null,"!%20Liste%20des%20produits%20!%202bf37e7305c3490d8ef04cec2537ea91/F23_-_RL_-_FC230217857%201.pdf, !%20Liste%20des%20produits%20!%202bf37e7305c3490d8ef04cec2537ea91/F9_-_FC220513133%202.pdf, !%20Liste%20des%20produits%20!%202bf37e7305c3490d8ef04cec2537ea91/F6_-_FC220312200%204.pdf, !%20Liste%20des%20produits%20!%202bf37e7305c3490d8ef04cec2537ea91/F2_-_FC220111208%206.pdf",null,null,"Relais local","🇫🇷 France - Tournon (73)","La source du verger","0","0",null,null,null,"No","No",null,"Magasin","Confitures","No","No","No","No","No",null,null,"Choisissez un nombre d'articles","0"]
["Confiture de Myrtille - 370g ","4,90 €","4.9","Alimentaire Conditionné","Confitures","Bocaux produits sucrés","0","!%20Liste%20des%20produits%20!%202bf37e7305c3490d8ef04cec2537ea91/image%2027.jpg",null,"!%20Liste%20des%20produits%20!%202bf37e7305c3490d8ef04cec2537ea91/F18_-_FC221015817%201.pdf, !%20Liste%20des%20produits%20!%202bf37e7305c3490d8ef04cec2537ea91/F9_-_FC220513133%203.pdf, !%20Liste%20des%20produits%20!%202bf37e7305c3490d8ef04cec2537ea91/F6_-_FC220312200%205.pdf, !%20Liste%20des%20produits%20!%202bf37e7305c3490d8ef04cec2537ea91/F2_-_FC220111208%207.pdf",null,null,"Relais local","🇫🇷 France - Tournon (73)","La source du verger","0","0",null,null,null,"No","No",null,"Magasin","Confitures","No","No","No","No","No",null,null,"Choisissez un nombre d'articles","0"]
["Confitures d'à côté - Abricot","6€","6","Alimentaire Conditionné",null,"Bocaux produits sucrés","0",null,null,"!%20Liste%20des%20produits%20!%202bf37e7305c3490d8ef04cec2537ea91/F1_-_0822_-_F22004-_72.pdf, !%20Liste%20des%20produits%20!%202bf37e7305c3490d8ef04cec2537ea91/F2_-_1022_-_F22011_-_92%201.pdf, !%20Liste%20des%20produits%20!%202bf37e7305c3490d8ef04cec2537ea91/F4_-_1222_-_F22034_-_3980.pdf, !%20Liste%20des%20produits%20!%202bf37e7305c3490d8ef04cec2537ea91/F5_-_1222_-_F22036_-_11820.pdf, !%20Liste%20des%20produits%20!%202bf37e7305c3490d8ef04cec2537ea91/F6_-_0323_-_F23011_.pdf",null,null,"Les confitures d'à côté","🇫🇷 France - Chatillon sur Chalaronne (01)",null,null,"0",null,null,null,"No","No",null,"Magasin","Confitures","No","No","No","No","No",null,null,"Choisissez un nombre d'articles","0"]
["Confitures d'à côté - Ananas Vanille","6€","6",null,null,"Bocaux produits sucrés","0",null,null,"!%20Liste%20des%20produits%20!%202bf37e7305c3490d8ef04cec2537ea91/F5_-_1222_-_F22036_-_11820%201.pdf, !%20Liste%20des%20produits%20!%202bf37e7305c3490d8ef04cec2537ea91/F6_-_0323_-_F23011_%201.pdf",null,null,"Les confitures d'à côté","🇫🇷 France - Chatillon sur Chalaronne (01)",null,null,"0",null,null,null,"No","No",null,null,null,"No","No","No","No","No",null,null,"Choisissez un nombre d'articles","0"]
["Confitures d'à côté - Cerise","6€","6",null,null,"Bocaux produits sucrés","0",null,null,"!%20Liste%20des%20produits%20!%202bf37e7305c3490d8ef04cec2537ea91/F1_-_0822_-_F22004-_72%201.pdf",null,null,"Les confitures d'à côté","🇫🇷 France - Chatillon sur Chalaronne (01)",null,null,"0",null,null,null,"No","No",null,null,null,"No","No","No","No","No",null,null,"Choisissez un nombre d'articles","0"]
["Confitures d'à côté - Clémentine","6€","6",null,null,"Bocaux produits sucrés","0",null,null,"!%20Liste%20des%20produits%20!%202bf37e7305c3490d8ef04cec2537ea91/F3_-_1122_-_F22022_-11140.pdf",null,null,"Les confitures d'à côté","🇫🇷 France - Chatillon sur Chalaronne (01)",null,null,"0",null,null,null,"No","No",null,null,null,"No","No","No","No","No",null,null,"Choisissez un nombre d'articles","0"]
["Confitures d'à côté - Figue pointe de vanille","6€","6","Alimentaire Conditionné",null,"Bocaux produits sucrés","0",null,null,"!%20Liste%20des%20produits%20!%202bf37e7305c3490d8ef04cec2537ea91/F2_-_1022_-_F22011_-_92%202.pdf, !%20Liste%20des%20produits%20!%202bf37e7305c3490d8ef04cec2537ea91/F5_-_1222_-_F22036_-_11820%203.pdf, !%20Liste%20des%20produits%20!%202bf37e7305c3490d8ef04cec2537ea91/F6_-_0323_-_F23011_%203.pdf",null,null,"Les confitures d'à côté","🇫🇷 France - Chatillon sur Chalaronne (01)",null,null,"0",null,null,null,"No","No",null,"Magasin","Confitures","No","No","No","No","No",null,null,"Choisissez un nombre d'articles","0"]
["Confitures d'à côté - Fraise","5€","5","Alimentaire Conditionné",null,"Bocaux produits sucrés","0",null,null,"!%20Liste%20des%20produits%20!%202bf37e7305c3490d8ef04cec2537ea91/F5_-_1222_-_F22036_-_11820%206.pdf, !%20Liste%20des%20produits%20!%202bf37e7305c3490d8ef04cec2537ea91/F3_-_1122_-_F22022_-11140%206.pdf, !%20Liste%20des%20produits%20!%202bf37e7305c3490d8ef04cec2537ea91/F4_-_1222_-_F22034_-_3980%203.pdf, !%20Liste%20des%20produits%20!%202bf37e7305c3490d8ef04cec2537ea91/F6_-_0323_-_F23011_%206.pdf",null,null,"Les confitures d'à côté","🇫🇷 France - Chatillon sur Chalaronne (01)",null,null,"0",null,null,null,"No","No",null,null,null,"No","No","No","No","No",null,null,"Choisissez un nombre d'articles","0"]
["Confitures d'à côté - Kiwi Ananas","6€","6","Alimentaire Conditionné",null,"Bocaux produits sucrés","0",null,null,"!%20Liste%20des%20produits%20!%202bf37e7305c3490d8ef04cec2537ea91/F2_-_1022_-_F22011_-_92%203.pdf",null,null,"Les confitures d'à côté","🇫🇷 France - Chatillon sur Chalaronne (01)",null,null,"0",null,null,null,"No","No",null,"Magasin","Confitures","No","No","No","No","No",null,null,"Choisissez un nombre d'articles","0"]
["Confitures d'à côté - Mirabelle ","6€","6",null,null,"Bocaux produits sucrés","0",null,null,"!%20Liste%20des%20produits%20!%202bf37e7305c3490d8ef04cec2537ea91/F2_-_1022_-_F22011_-_92%204.pdf",null,null,"Les confitures d'à côté","🇫🇷 France - Chatillon sur Chalaronne (01)",null,null,"0",null,null,null,"No","No",null,"Magasin","Confitures","No","No","No","No","No",null,null,"Choisissez un nombre d'articles","0"]
["Confitures d'à côté - Nectarine Pêche","6€","6",null,null,"Bocaux produits sucrés","0",null,null,"!%20Liste%20des%20produits%20!%202bf37e7305c3490d8ef04cec2537ea91/F2_-_1022_-_F22011_-_92%205.pdf",null,null,"Les confitures d'à côté","🇫🇷 France - Chatillon sur Chalaronne (01)",null,null,"0",null,null,null,"No","No",null,"Magasin","Confitures","No","No","No","No","No",null,null,"Choisissez un nombre d'articles","0"]
["Confitures d'à côté - Nectarine Vanille","6€","6","Alimentaire Conditionné",null,"Bocaux produits sucrés","0",null,null,"!%20Liste%20des%20produits%20!%202bf37e7305c3490d8ef04cec2537ea91/F1_-_0822_-_F22004-_72%202.pdf",null,null,"Les confitures d'à côté","🇫🇷 France - Chatillon sur Chalaronne (01)",null,null,"0",null,null,null,"No","No",null,null,null,"No","No","No","No","No",null,null,"Choisissez un nombre d'articles","0"]
["Confitures d'à côté - Pêche ","6€","6",null,null,"Bocaux produits sucrés","0",null,null,"!%20Liste%20des%20produits%20!%202bf37e7305c3490d8ef04cec2537ea91/F1_-_0822_-_F22004-_72%204.pdf",null,null,"Les confitures d'à côté","🇫🇷 France - Chatillon sur Chalaronne (01)",null,null,"0",null,null,null,"No","No",null,null,null,"No","No","No","No","No",null,null,"Choisissez un nombre d'articles","0"]
["Confitures d'à côté - Poire Tonka","6€","6","Alimentaire Conditionné",null,"Bocaux produits sucrés","0",null,null,"!%20Liste%20des%20produits%20!%202bf37e7305c3490d8ef04cec2537ea91/F3_-_1122_-_F22022_-11140%202.pdf",null,null,"Les confitures d'à côté","🇫🇷 France - Chatillon sur Chalaronne (01)",null,null,"0",null,null,null,"No","No",null,null,null,"No","No","No","No","No",null,null,"Choisissez un nombre d'articles","0"]
["Confitures d'à côté - Pomme Cannelle","6€","6","Alimentaire Conditionné",null,"Bocaux produits sucrés","0",null,null,"!%20Liste%20des%20produits%20!%202bf37e7305c3490d8ef04cec2537ea91/F3_-_1122_-_F22022_-11140%203.pdf, !%20Liste%20des%20produits%20!%202bf37e7305c3490d8ef04cec2537ea91/F5_-_1222_-_F22036_-_11820%204.pdf, !%20Liste%20des%20produits%20!%202bf37e7305c3490d8ef04cec2537ea91/F6_-_0323_-_F23011_%204.pdf",null,null,"Les confitures d'à côté","🇫🇷 France - Chatillon sur Chalaronne (01)",null,null,"0",null,null,null,"No","No",null,null,null,"No","No","No","No","No",null,null,"Choisissez un nombre d'articles","0"]
["Confitures d'à côté - Pomme Caramel ","6€","6","Alimentaire Conditionné",null,"Bocaux produits sucrés","0",null,null,"!%20Liste%20des%20produits%20!%202bf37e7305c3490d8ef04cec2537ea91/F1_-_0822_-_F22004-_72%203.pdf, !%20Liste%20des%20produits%20!%202bf37e7305c3490d8ef04cec2537ea91/F2_-_1022_-_F22011_-_92%206.pdf, !%20Liste%20des%20produits%20!%202bf37e7305c3490d8ef04cec2537ea91/F3_-_1122_-_F22022_-11140%204.pdf, !%20Liste%20des%20produits%20!%202bf37e7305c3490d8ef04cec2537ea91/F4_-_1222_-_F22034_-_3980%202.pdf, !%20Liste%20des%20produits%20!%202bf37e7305c3490d8ef04cec2537ea91/F5_-_1222_-_F22036_-_11820%205.pdf, !%20Liste%20des%20produits%20!%202bf37e7305c3490d8ef04cec2537ea91/F6_-_0323_-_F23011_%205.pdf",null,null,"Les confitures d'à côté","🇫🇷 France - Chatillon sur Chalaronne (01)",null,null,"0",null,null,null,"No","No",null,"Magasin","Confitures","No","No","No","No","No",null,null,"Choisissez un nombre d'articles","0"]
["Confitures d'à côté - Questche","6€","6",null,null,"Bocaux produits sucrés","0",null,null,"!%20Liste%20des%20produits%20!%202bf37e7305c3490d8ef04cec2537ea91/F2_-_1022_-_F22011_-_92%207.pdf, !%20Liste%20des%20produits%20!%202bf37e7305c3490d8ef04cec2537ea91/F3_-_1122_-_F22022_-11140%205.pdf",null,null,"Les confitures d'à côté","🇫🇷 France - Chatillon sur Chalaronne (01)",null,null,"0",null,null,null,"No","No",null,"Magasin","Confitures","No","No","No","No","No",null,null,"Choisissez un nombre d'articles","0"]
["Confitures d'à côté- Mûre sauvage","6€","6","Alimentaire Conditionné",null,"Bocaux produits sucrés","0",null,null,"!%20Liste%20des%20produits%20!%202bf37e7305c3490d8ef04cec2537ea91/F1_-_0822_-_F22004-_72%205.pdf",null,null,"Les confitures d'à côté","🇫🇷 France - Chatillon sur Chalaronne (01)",null,null,"0",null,null,null,"No","No",null,null,null,"No","No","No","No","No",null,null,"Choisissez un nombre d'articles","0"]
["Cornichons au vinaigre 37cl - 185g","7,50 €","7.5","Alimentaire Conditionné",null,"Bocaux produits salés","0",null,null,"!%20Liste%20des%20produits%20!%202bf37e7305c3490d8ef04cec2537ea91/F3_-_EPICE_-_FV58436%201.pdf, !%20Liste%20des%20produits%20!%202bf37e7305c3490d8ef04cec2537ea91/F2_-_EPICE_-_FV57470%203.pdf",null,null,"Scop Epice","🇫🇷 France",null,"0","0",null,null,null,"No","No",null,"Magasin","Bocaux apéro","No","No","No","No","No",null,null,"Choisissez un nombre d'articles","0"]
["Cotons tiges x 100","1,95 €","1.95","Produits d'hygiène coporelle",null,"Accessoires de salle de bain","0",null,null,null,null,null,"Cap Bambou","🇫🇷 France - Attignat (01)","Cap Bambou","0","0",null,null,null,"No","No",null,"Magasin",null,"No","No","No","No","No",null,null,"Choisissez un nombre d'articles","0"]
["Cotons tiges x 200","3,59 €","3.59","Produits d'hygiène coporelle",null,"Accessoires de salle de bain","0",null,null,null,null,null,"Cap Bambou","🇫🇷 France - Attignat (01)","Cap Bambou","0","0",null,null,null,"No","No",null,"Magasin",null,"No","No","No","No","No",null,null,"Choisissez un nombre d'articles","0"]
["Coulis de Tomate  Nature - 680g","2,50 €","2.5","Alimentaire Conditionné",null,"Bocaux produits salés","0",null,null,"!%20Liste%20des%20produits%20!%202bf37e7305c3490d8ef04cec2537ea91/F4_-_2206_579761%2020.pdf, !%20Liste%20des%20produits%20!%202bf37e7305c3490d8ef04cec2537ea91/F2_-_Facture_564703%203.pdf",null,null,"Biodis","🇮🇹 Italie","Luce","0","0",null,null,null,"No","No",null,"Magasin","Sauces","No","No","No","No","No",null,null,"Choisissez un nombre d'articles","0"]
["Coulis de Tomate Basilic - 680g","2,50 €","2.5","Alimentaire Conditionné",null,"Bocaux produits salés","0","!%20Liste%20des%20produits%20!%202bf37e7305c3490d8ef04cec2537ea91/image%2082.jpg",null,"!%20Liste%20des%20produits%20!%202bf37e7305c3490d8ef04cec2537ea91/F2_-_Facture_564703%202.pdf, !%20Liste%20des%20produits%20!%202bf37e7305c3490d8ef04cec2537ea91/F1_-_2202_F558904%2013.pdf",null,null,"Biodis","🇮🇹 Italie","Luce","0","0",null,null,null,"No","No",null,"Magasin","Sauces","No","No","No","No","No",null,null,"Choisissez un nombre d'articles","0"]
["Couscous Complet ","3,50€","3.5","Alimentaire Vrac","Salés","Céréales - Légumineuses & Graines","0",null,null,"!%20Liste%20des%20produits%20!%202bf37e7305c3490d8ef04cec2537ea91/F09_-_EP_-_FV69079%204.pdf",null,null,null,"🇫🇷 France - Provence ",null,"0","0",null,null,null,"No","No",null,"Magasin",null,"No","No","No","No","No",null,null,"Choisissez un poids","0"]
["Couteau Réutilisable en bambou","2€","2","Zéros déchets et Bocaux",null,"Accessoires de cuisine","0",null,null,"!%20Liste%20des%20produits%20!%202bf37e7305c3490d8ef04cec2537ea91/F2_-_2205_-_002952%203.pdf",null,null,"Cap Bambou","🇫🇷 France - Attignat (01)","Cap Bambou","0","0",null,null,null,"No","No",null,"Magasin",null,"No","No","No","No","No",null,null,"Choisissez un nombre d'articles","0"]
["Cranberries Demi séchées au sucre de Canne","17,50€ / kg","17.5","Alimentaire Vrac","Sucrés","Fruits secs & à coques","0",null,"July 4, 2024","!%20Liste%20des%20produits%20!%202bf37e7305c3490d8ef04cec2537ea91/F1_-_21FV13778_20211129%2018.pdf, !%20Liste%20des%20produits%20!%202bf37e7305c3490d8ef04cec2537ea91/F2_-_22FV01075_20220127%205.pdf, !%20Liste%20des%20produits%20!%202bf37e7305c3490d8ef04cec2537ea91/F11_-_23FV00647_20230119%205.pdf",null,null,"Actibio","🇨🇦 Canada",null,"0","0",null,null,null,"No","No",null,"Magasin","Fruits Secs et à coques","No","No","No","No","No",null,null,"Choisissez un poids","0"]
["Crème corps hydratant - Fleur de coton - Endro","15,60 €","15.6","Produits d'hygiène coporelle","Cosmétiques & soins","Cosmétiques & soins","0",null,null,"!%20Liste%20des%20produits%20!%202bf37e7305c3490d8ef04cec2537ea91/F3-20220928-15395_1664360686.5851%202.pdf, !%20Liste%20des%20produits%20!%202bf37e7305c3490d8ef04cec2537ea91/FACT-20211207%201.pdf",null,null,"Endro","🇫🇷 France - Lannion (22)","Endro","0","0",null,null,null,"No","No",null,"Magasin","Crèmes - Baumes & Huiles","No","No","No","No","No",null,null,"Choisissez un nombre d'articles","0"]
["Crème corps nourrissante - douceur iodée - Endro","12,90 €","12.9","Produits d'hygiène coporelle","Cosmétiques & soins","Cosmétiques & soins","0",null,null,"!%20Liste%20des%20produits%20!%202bf37e7305c3490d8ef04cec2537ea91/FACT-20220530.pdf",null,null,"Endro","🇫🇷 France - Lannion (22)","Endro","0","0",null,null,null,"No","No",null,"Magasin","Crèmes - Baumes & Huiles","No","No","No","No","No",null,null,"Choisissez un nombre d'articles","0"]
["Crème de Marron - 320g ","5,90 €","5.9","Alimentaire Conditionné","Pâtes à tartiner","Bocaux produits sucrés","0","!%20Liste%20des%20produits%20!%202bf37e7305c3490d8ef04cec2537ea91/image%2032.jpg",null,"!%20Liste%20des%20produits%20!%202bf37e7305c3490d8ef04cec2537ea91/F23_-_RL_-_FC230217857%202.pdf, !%20Liste%20des%20produits%20!%202bf37e7305c3490d8ef04cec2537ea91/F8_-_FC220312603%202.pdf",null,null,"Relais local","🇫🇷 France - La chapelle sous aubenas (07)","Sanofruit","0","0",null,null,null,"No","No",null,"Magasin","Pâte à tartiner","No","No","No","No","No",null,null,"Choisissez un nombre d'articles","0"]
["Crème solaire SPF 30 - 50ml","18,90 €","18.9","Produits d'hygiène coporelle","Solaire",null,"0",null,null,"!%20Liste%20des%20produits%20!%202bf37e7305c3490d8ef04cec2537ea91/FACT-20220607.pdf, !%20Liste%20des%20produits%20!%202bf37e7305c3490d8ef04cec2537ea91/FACT-20220530%201.pdf",null,null,"Endro","🇫🇷 France - Lannion (22)","Endro","0","0",null,null,null,"No","No",null,"Magasin","Crèmes - Baumes & Huiles","No","No","No","No","No",null,null,"Choisissez un nombre d'articles","0"]
["Crème solaire SPF 50 - 100ml","24,90 €","24.9","Produits d'hygiène coporelle","Solaire",null,"0",null,null,"!%20Liste%20des%20produits%20!%202bf37e7305c3490d8ef04cec2537ea91/FACT-20220607%201.pdf, !%20Liste%20des%20produits%20!%202bf37e7305c3490d8ef04cec2537ea91/FACT-20220530%202.pdf",null,null,"Endro","🇫🇷 France - Lannion (22)","Endro","0","0",null,null,null,"No","No",null,"Magasin","Crèmes - Baumes & Huiles","No","No","No","No","No",null,null,"Choisissez un nombre d'articles","0"]
["Crème solaire SPF 50 - 50ml","19,90 €","19.9","Produits d'hygiène coporelle","Solaire",null,"0",null,null,"!%20Liste%20des%20produits%20!%202bf37e7305c3490d8ef04cec2537ea91/FACT-20220607%202.pdf, !%20Liste%20des%20produits%20!%202bf37e7305c3490d8ef04cec2537ea91/FACT-20220530%203.pdf",null,null,"Endro","🇫🇷 France - Lannion (22)","Endro","0","0",null,null,null,"No","No",null,"Magasin","Crèmes - Baumes & Huiles","No","No","No","No","No",null,null,"Choisissez un nombre d'articles","0"]
["Crème végétale - Soya cuisine briquette - 20cl","1,95€","1.95","Alimentaire Conditionné",null,"Boissons végétales & Laits","0",null,null,"!%20Liste%20des%20produits%20!%202bf37e7305c3490d8ef04cec2537ea91/F2_-_Facture_564703%208.pdf",null,null,"Biodis","🇫🇷 France ","Soy",null,"0",null,null,null,"No","No",null,"Magasin",null,"No","No","No","No","No",null,null,"Choisissez un nombre d'articles","0"]
["Crème visage - bonne mine","13,60 €","13.6","Produits d'hygiène coporelle","Cosmétiques & soins","Cosmétiques & soins","0",null,null,"!%20Liste%20des%20produits%20!%202bf37e7305c3490d8ef04cec2537ea91/F3-20220928-15395_1664360686.5851%203.pdf, !%20Liste%20des%20produits%20!%202bf37e7305c3490d8ef04cec2537ea91/FACT-20211207%202.pdf",null,null,"Endro","🇫🇷 France - Lannion (22)","Endro","0","0",null,null,null,"No","No",null,"Magasin","Crèmes - Baumes & Huiles","No","No","No","No","No",null,null,"Choisissez un nombre d'articles","0"]
["Crozets Sarrasin","9€ / kg","9","Alimentaire Vrac","Salés","Pâtes & Riz","0","!%20Liste%20des%20produits%20!%202bf37e7305c3490d8ef04cec2537ea91/352E0D24-E3D8-4DE9-B927-714E28B036DA.jpeg",null,"!%20Liste%20des%20produits%20!%202bf37e7305c3490d8ef04cec2537ea91/F10_-_EP_-_FV70173%203.pdf, !%20Liste%20des%20produits%20!%202bf37e7305c3490d8ef04cec2537ea91/F2_-_EPICE_-_FV57470%204.pdf, !%20Liste%20des%20produits%20!%202bf37e7305c3490d8ef04cec2537ea91/F1_-_EPICE_-_FV55099%202.pdf",null,null,"Scop Epice","🇫🇷 France",null,"0","0",null,null,null,"Yes","Yes",null,"Magasin","Pâtes","No","No","No","No","No",null,null,"Choisissez un poids","0"]
["Cube de Savon de Marseille - Fer à cheval - 300g",4,4,"Produits d'entretiens",null,null,"0",null,null,null,null,null,null,null,null,null,"0",null,null,null,"No","No",null,null,null,"No","No","No","No","No",null,null,"Choisissez un poids","0"]
["Cuillère réutilisable en bambou","1,50 €","1.5","Zéros déchets et Bocaux",null,"Accessoires de cuisine","0",null,null,"!%20Liste%20des%20produits%20!%202bf37e7305c3490d8ef04cec2537ea91/F2_-_2205_-_002952%204.pdf",null,null,"Cap Bambou","🇫🇷 France - Attignat (01)","Cap Bambou","0","0",null,null,null,"No","No",null,"Magasin",null,"No","No","No","No","No",null,null,"Choisissez un nombre d'articles","0"]
["Cumin moulu poudre","55,00€ / kg","55","Alimentaire Vrac",null,"Epices condiments & sauces","0",null,null,"!%20Liste%20des%20produits%20!%202bf37e7305c3490d8ef04cec2537ea91/F1_-_EPICE_-_FV55099%203.pdf",null,null,"Scop Epice","🇹🇷 Turquie",null,"0","0",null,null,null,"Yes","Yes",null,"Magasin","Epices condiments & sauces","No","No","No","No","No",null,null,"Choisissez un poids","0"]
["Curcuma ","45,00€ / kg",45,"Alimentaire Vrac",null,"Epices condiments & sauces","0",null,null,"!%20Liste%20des%20produits%20!%202bf37e7305c3490d8ef04cec2537ea91/F1_-_EPICE_-_FV55099%204.pdf",null,null,"Scop Epice","🇲🇬 Madagascar",null,null,"0",null,null,null,"Yes","Yes",null,"Magasin","Epices condiments & sauces","No","No","No","No","No",null,null,"Choisissez un poids","0"]
["Cure Oreilles - Bamb’ori",2.99,2.99,"Produits d'hygiène coporelle",null,"Accessoires de salle de bain","0",null,null,"!%20Liste%20des%20produits%20!%202bf37e7305c3490d8ef04cec2537ea91/F1_-_2111_-_002432%204.pdf",null,null,"Cap Bambou","🇫🇷 France - Attignat (01)","Cap Bambou",null,"0",null,null,null,"No","No",null,"Magasin",null,"No","No","No","No","No",null,null,"Choisissez un poids","0"]
["Curry Poudre","42,00€ / kg","42","Alimentaire Vrac",null,"Epices condiments & sauces","0",null,null,"!%20Liste%20des%20produits%20!%202bf37e7305c3490d8ef04cec2537ea91/F5_-_Facture_411005664_22FV04713_20220419%204.pdf",null,null,"Actibio","🇪🇺 UE / NON UE",null,"0","0",null,null,null,"No","No",null,"Magasin","Epices condiments & sauces","No","No","No","No","No",null,null,"Choisissez un poids","0"]
["Dattes Dénoyautées ","10,50€ / kg","10.5","Alimentaire Vrac","Sucrés","Fruits secs & à coques","0","!%20Liste%20des%20produits%20!%202bf37e7305c3490d8ef04cec2537ea91/image%2033.jpg","October 30, 2023","!%20Liste%20des%20produits%20!%202bf37e7305c3490d8ef04cec2537ea91/F1_-_21FV13778_20211129%2020.pdf, !%20Liste%20des%20produits%20!%202bf37e7305c3490d8ef04cec2537ea91/F8_-_Facture_411005664_22FV10465_20220923%201.pdf, !%20Liste%20des%20produits%20!%202bf37e7305c3490d8ef04cec2537ea91/F11_-_23FV00647_20230119%206.pdf",null,null,"Actibio","🇹🇳 Tunisie",null,"0","0",null,null,null,"No","No",null,"Magasin","Fruits Secs et à coques","No","No","No","No","No",null,null,"Choisissez un poids","0"]
["Dentifrice bio à croquer Menthe Fraîche","180,00€ / kg","180","Produits d'hygiène coporelle",null,"Dentifrices solides & Co","0","!%20Liste%20des%20produits%20!%202bf37e7305c3490d8ef04cec2537ea91/image%2034.jpg",null,null,null,null,"Aventure Bio","🇫🇷 France","Paos","0","0",null,null,null,"No","No",null,"Magasin",null,"No","No","No","No","No",null,null,"Choisissez un poids","0"]
["Dentifrice Naturel - Fruits Rouges - Endro","10,60€","10.6","Produits d'hygiène coporelle",null,"Dentifrices solides & Co","0",null,null,"!%20Liste%20des%20produits%20!%202bf37e7305c3490d8ef04cec2537ea91/F3-20220928-15395_1664360686.5851%204.pdf, !%20Liste%20des%20produits%20!%202bf37e7305c3490d8ef04cec2537ea91/FACT-20220530%204.pdf, !%20Liste%20des%20produits%20!%202bf37e7305c3490d8ef04cec2537ea91/FACT-20211207%203.pdf",null,null,"Endro","🇫🇷 France - Lannion (22)","Endro","0","0",null,null,null,"No","No",null,"Magasin","Dentifrices","No","No","No","No","No",null,null,"Choisissez un nombre d'articles","0"]
["Dentifrice Naturel - Menthe Givrée - Endro","10,60€","10.6","Produits d'hygiène coporelle",null,"Dentifrices solides & Co","0",null,null,"!%20Liste%20des%20produits%20!%202bf37e7305c3490d8ef04cec2537ea91/F3-20220928-15395_1664360686.5851%205.pdf, !%20Liste%20des%20produits%20!%202bf37e7305c3490d8ef04cec2537ea91/FACT-20220530%205.pdf, !%20Liste%20des%20produits%20!%202bf37e7305c3490d8ef04cec2537ea91/FACT-20211207%204.pdf",null,null,"Endro","🇫🇷 France - Lannion (22)","Endro","0","0",null,null,null,"No","No",null,"Magasin","Dentifrices","No","No","No","No","No",null,null,"Choisissez un nombre d'articles","0"]
["Dentifrice Naturel - Zeste Citronné - Endro","10,60€","10.6","Produits d'hygiène coporelle","Dentifrices solides & Co","Dentifrices solides & Co","0",null,null,"!%20Liste%20des%20produits%20!%202bf37e7305c3490d8ef04cec2537ea91/FACT-20211207%205.pdf",null,null,"Endro","🇫🇷 France - Lannion (22)","Endro","0","0",null,null,null,"No","No",null,"Magasin","Dentifrices","No","No","No","No","No",null,null,"Choisissez un nombre d'articles","0"]
["Dentifrice solide - Charbon - Recharge - Savon de Joya","8,90€","8.9","Produits d'hygiène coporelle",null,"Dentifrices solides & Co","0",null,null,"!%20Liste%20des%20produits%20!%202bf37e7305c3490d8ef04cec2537ea91/FACT_2209_-_71919_pdf.pdf, !%20Liste%20des%20produits%20!%202bf37e7305c3490d8ef04cec2537ea91/FACT_220322_-_39710%202.pdf",null,null,"Les Savons de Joya","🇫🇷 France - Douvres-la-Délivrande (14)","Les Savons de Joya","0","0",null,null,null,"No","No",null,"Magasin","Dentifrices","No","No","No","No","No",null,null,"Choisissez un nombre d'articles","0"]
["Dentifrice solide - Charbon - Savon de Joya","10,60€","10.6","Produits d'hygiène coporelle",null,"Dentifrices solides & Co","0",null,null,"!%20Liste%20des%20produits%20!%202bf37e7305c3490d8ef04cec2537ea91/FACT_220322_-_39710%201.pdf",null,null,"Les Savons de Joya","🇫🇷 France - Douvres-la-Délivrande (14)","Les Savons de Joya","0","0",null,null,null,"No","No",null,"Magasin","Dentifrices","No","No","No","No","No",null,null,"Choisissez un nombre d'articles","0"]
["Dentifrice solide - Citron & Romarin - Recharge - - Savon de Joya","8,90€","8.9","Produits d'hygiène coporelle",null,"Dentifrices solides & Co","0",null,null,"!%20Liste%20des%20produits%20!%202bf37e7305c3490d8ef04cec2537ea91/FACT_2209_-_71919_pdf.pdf, !%20Liste%20des%20produits%20!%202bf37e7305c3490d8ef04cec2537ea91/FACT_220322_-_39710%202.pdf",null,null,"Les Savons de Joya","🇫🇷 France - Douvres-la-Délivrande (14)","Les Savons de Joya","0","0",null,null,null,"No","No",null,"Magasin","Dentifrices","No","No","No","No","No",null,null,"Choisissez un nombre d'articles","0"]
["Dentifrice solide - Citron & Romarin Savon de Joya","10,60€","10.6","Produits d'hygiène coporelle",null,"Dentifrices solides & Co","0",null,null,"!%20Liste%20des%20produits%20!%202bf37e7305c3490d8ef04cec2537ea91/FACT_220322_-_39710%201.pdf",null,null,"Les Savons de Joya","🇫🇷 France - Douvres-la-Délivrande (14)","Les Savons de Joya","0","0",null,null,null,"No","No",null,"Magasin","Dentifrices","No","No","No","No","No",null,null,"Choisissez un nombre d'articles","0"]
["Dentifrice solide - Framboise - - Savon de Joya","10,60€","10.6","Produits d'hygiène coporelle",null,"Dentifrices solides & Co","0",null,null,"!%20Liste%20des%20produits%20!%202bf37e7305c3490d8ef04cec2537ea91/FACT_2209_-_71919_pdf%201.pdf",null,null,"Les Savons de Joya","🇫🇷 France - Douvres-la-Délivrande (14)","Les Savons de Joya","0","0",null,null,null,"No","No",null,"Magasin","Dentifrices","No","No","No","No","No",null,null,"Choisissez un nombre d'articles","0"]
["Dentifrice solide - Framboise - Recharge ","8,90€","8.9","Produits d'hygiène coporelle",null,"Dentifrices solides & Co","0",null,null,"!%20Liste%20des%20produits%20!%202bf37e7305c3490d8ef04cec2537ea91/FACT_2209_-_71919_pdf%202.pdf",null,null,"Les Savons de Joya","🇫🇷 France - Douvres-la-Délivrande (14)","Les Savons de Joya","0","0",null,null,null,"No","No",null,"Magasin","Dentifrices","No","No","No","No","No",null,null,"Choisissez un nombre d'articles","0"]
["Dentifrice solide - Menthe - - Savon de Joya","10,60€","10.6","Produits d'hygiène coporelle",null,"Dentifrices solides & Co","0",null,null,"!%20Liste%20des%20produits%20!%202bf37e7305c3490d8ef04cec2537ea91/FACT_2209_-_71919_pdf%203.pdf, !%20Liste%20des%20produits%20!%202bf37e7305c3490d8ef04cec2537ea91/FACT_220322_-_39710%203.pdf",null,null,"Les Savons de Joya","🇫🇷 France - Douvres-la-Délivrande (14)","Les Savons de Joya","0","0",null,null,null,"No","No",null,"Magasin","Dentifrices","No","No","No","No","No",null,null,"Choisissez un nombre d'articles","0"]
["Dentifrice solide - Menthe - Recharge - - Savon de Joya","8,90€","8.9","Produits d'hygiène coporelle",null,"Dentifrices solides & Co","0",null,null,"!%20Liste%20des%20produits%20!%202bf37e7305c3490d8ef04cec2537ea91/FACT_2209_-_71919_pdf%204.pdf, !%20Liste%20des%20produits%20!%202bf37e7305c3490d8ef04cec2537ea91/FACT_220322_-_39710%204.pdf",null,null,"Les Savons de Joya","🇫🇷 France - Douvres-la-Délivrande (14)","Les Savons de Joya","0","0",null,null,null,"No","No",null,"Magasin","Dentifrices","No","No","No","No","No",null,null,"Choisissez un nombre d'articles","0"]
["Déodorant - Clémence & Vivien - Le Fleuri",8.5,"7.9","Produits d'hygiène coporelle",null,"Déodorants solides & Co","0",null,null,"!%20Liste%20des%20produits%20!%202bf37e7305c3490d8ef04cec2537ea91/Facture_5_-_CV060686.pdf, !%20Liste%20des%20produits%20!%202bf37e7305c3490d8ef04cec2537ea91/Facture_4_-_CV058684.pdf, !%20Liste%20des%20produits%20!%202bf37e7305c3490d8ef04cec2537ea91/Facture_3_-_CV056802.pdf, !%20Liste%20des%20produits%20!%202bf37e7305c3490d8ef04cec2537ea91/Facture_1-_CV052480%204.pdf",null,null,"Clémence & Vivien","🇫🇷 France - Chauray (79)","Clémence & Vivien","0","0",null,null,null,"No","No",null,"Magasin","Déodorant","No","No","No","No","No",null,null,"Choisissez un nombre d'articles","0"]
["Déodorant - Clémence & Vivien - Le Poudré",8.5,"7.9","Produits d'hygiène coporelle",null,"Déodorants solides & Co","0",null,null,"!%20Liste%20des%20produits%20!%202bf37e7305c3490d8ef04cec2537ea91/Facture_6_-_CV063498.pdf",null,null,"Clémence & Vivien","🇫🇷 France - Chauray (79)","Clémence & Vivien","0","0",null,null,null,"No","No",null,"Magasin","Déodorant","No","No","No","No","No",null,null,"Choisissez un nombre d'articles","0"]
["Déodorant - Clémence & Vivien - Le Sucré",8.5,"7.9","Produits d'hygiène coporelle",null,"Déodorants solides & Co","0",null,null,"!%20Liste%20des%20produits%20!%202bf37e7305c3490d8ef04cec2537ea91/Facture_6_-_CV063498%201.pdf, !%20Liste%20des%20produits%20!%202bf37e7305c3490d8ef04cec2537ea91/Facture_4_-_CV058684%201.pdf, !%20Liste%20des%20produits%20!%202bf37e7305c3490d8ef04cec2537ea91/Facture_1-_CV052480%205.pdf",null,null,"Clémence & Vivien","🇫🇷 France - Chauray (79)","Clémence & Vivien","0","0",null,null,null,"No","No",null,"Magasin","Déodorant","No","No","No","No","No",null,null,"Choisissez un nombre d'articles","0"]
["Déodorant - Clémence & Vivien - Sensible Mandarinne",8.5,"7.9","Produits d'hygiène coporelle",null,"Déodorants solides & Co","0",null,null,"!%20Liste%20des%20produits%20!%202bf37e7305c3490d8ef04cec2537ea91/Facture_6_-_CV063498%202.pdf, !%20Liste%20des%20produits%20!%202bf37e7305c3490d8ef04cec2537ea91/Facture_5_-_CV060686%201.pdf, !%20Liste%20des%20produits%20!%202bf37e7305c3490d8ef04cec2537ea91/Facture_4_-_CV058684%202.pdf, !%20Liste%20des%20produits%20!%202bf37e7305c3490d8ef04cec2537ea91/Facture_3_-_CV056802%202.pdf, !%20Liste%20des%20produits%20!%202bf37e7305c3490d8ef04cec2537ea91/Facture_1-_CV052480%207.pdf",null,null,"Clémence & Vivien","🇫🇷 France - Chauray (79)","Clémence & Vivien","0","0",null,null,null,"No","No",null,"Magasin","Déodorant","No","No","No","No","No",null,null,"Choisissez un nombre d'articles","0"]
["Déodorant - Clémence & Vivien - Sensible Vanille",8.5,"7.9","Produits d'hygiène coporelle",null,"Déodorants solides & Co","0",null,null,"!%20Liste%20des%20produits%20!%202bf37e7305c3490d8ef04cec2537ea91/Facture_6_-_CV063498%203.pdf, !%20Liste%20des%20produits%20!%202bf37e7305c3490d8ef04cec2537ea91/Facture_5_-_CV060686%202.pdf, !%20Liste%20des%20produits%20!%202bf37e7305c3490d8ef04cec2537ea91/Facture_4_-_CV058684%203.pdf, !%20Liste%20des%20produits%20!%202bf37e7305c3490d8ef04cec2537ea91/Facture_3_-_CV056802%203.pdf, !%20Liste%20des%20produits%20!%202bf37e7305c3490d8ef04cec2537ea91/Facture_1-_CV052480%208.pdf",null,null,"Clémence & Vivien","🇫🇷 France - Chauray (79)","Clémence & Vivien","0","0",null,null,null,"No","No",null,"Magasin","Déodorant","No","No","No","No","No",null,null,"Choisissez un nombre d'articles","0"]
["Déodorant - Clémence & Vivien- L’Herbacé",8.5,"7.9","Produits d'hygiène coporelle",null,"Déodorants solides & Co","0",null,null,"!%20Liste%20des%20produits%20!%202bf37e7305c3490d8ef04cec2537ea91/Facture_3_-_CV056802%201.pdf, !%20Liste%20des%20produits%20!%202bf37e7305c3490d8ef04cec2537ea91/Facture_1-_CV052480%206.pdf",null,null,"Clémence & Vivien","🇫🇷 France - Chauray (79)","Clémence & Vivien","0","0",null,null,null,"No","No",null,"Magasin","Déodorant","No","No","No","No","No",null,null,"Choisissez un nombre d'articles","0"]
["Déodorant - Endro - Bergamote / Arbre à thé","9,80€","9.8","Produits d'hygiène coporelle","Déodorants solides & Co","Déodorants solides & Co","0",null,null,"!%20Liste%20des%20produits%20!%202bf37e7305c3490d8ef04cec2537ea91/FACT-20211207%206.pdf",null,null,"Endro","🇫🇷 France - Lannion (22)","Endro","0","0",null,null,null,"No","No",null,"Magasin","Déodorant","No","No","No","No","No",null,null,"Choisissez un nombre d'articles","0"]
["Déodorant - Endro - Coco","9,80€","9.8","Produits d'hygiène coporelle","Déodorants solides & Co","Déodorants solides & Co","0",null,null,"!%20Liste%20des%20produits%20!%202bf37e7305c3490d8ef04cec2537ea91/FACT-20211207%206.pdf",null,null,"Endro","🇫🇷 France - Lannion (22)","Endro","0","0",null,null,null,"No","No",null,"Magasin","Déodorant","No","No","No","No","No",null,null,"Choisissez un nombre d'articles","0"]
["Déodorant - Endro - Menthe Poivrée / Cèdre","9,80€","9.8","Produits d'hygiène coporelle","Déodorants solides & Co","Déodorants solides & Co","0",null,null,"!%20Liste%20des%20produits%20!%202bf37e7305c3490d8ef04cec2537ea91/FACT-20211207%207.pdf",null,null,"Endro","🇫🇷 France - Lannion (22)","Endro","0","0",null,null,null,"No","No",null,"Magasin","Déodorant","No","No","No","No","No",null,null,"Choisissez un nombre d'articles","0"]
["Déodorant - Endro - Palmarosa / Géranium","9,80€","9.8","Produits d'hygiène coporelle","Déodorants solides & Co","Déodorants solides & Co","0",null,null,"!%20Liste%20des%20produits%20!%202bf37e7305c3490d8ef04cec2537ea91/FACT-20220928-15395_1664360686.5851.pdf, !%20Liste%20des%20produits%20!%202bf37e7305c3490d8ef04cec2537ea91/FACT-20220607%203.pdf, !%20Liste%20des%20produits%20!%202bf37e7305c3490d8ef04cec2537ea91/FACT-20211207%208.pdf",null,null,"Endro","🇫🇷 France - Lannion (22)","Endro","0","0",null,null,null,"No","No",null,"Magasin","Déodorant","No","No","No","No","No",null,null,"Choisissez un nombre d'articles","0"]
["Déodorant - Endro - Peaux sensilbles","9,80€","9.8","Produits d'hygiène coporelle","Déodorants solides & Co","Déodorants solides & Co","0",null,null,"!%20Liste%20des%20produits%20!%202bf37e7305c3490d8ef04cec2537ea91/FACT-20211207%206.pdf",null,null,"Endro","🇫🇷 France - Lannion (22)","Endro","0","0",null,null,null,"No","No",null,"Magasin","Déodorant","No","No","No","No","No",null,null,"Choisissez un nombre d'articles","0"]
["Déodorant - Savon de Joya - Recharge Stick - Cèdre Vétiver - 75g","8,90 €","8.9","Produits d'hygiène coporelle","Déodorants solides & Co","Hygiène corporelle conditionnée","0",null,null,"!%20Liste%20des%20produits%20!%202bf37e7305c3490d8ef04cec2537ea91/FACT_220322_-_39710%206.pdf",null,null,"Les Savons de Joya","🇫🇷 France - Douvres-la-Délivrande (14)","Les Savons de Joya","0","0",null,null,null,"No","No",null,"Magasin","Déodorant","No","No","No","No","No",null,null,"Choisissez un nombre d'articles","0"]
["Déodorant - Savon de Joya - Recharge Stick - Citron & Mandarine - 75g","8,90 €","8.9","Produits d'hygiène coporelle","Déodorants solides & Co","Hygiène corporelle conditionnée","0",null,null,"!%20Liste%20des%20produits%20!%202bf37e7305c3490d8ef04cec2537ea91/FACT_220322_-_39710%206.pdf",null,null,"Les Savons de Joya","🇫🇷 France - Douvres-la-Délivrande (14)","Les Savons de Joya","0","0",null,null,null,"No","No",null,"Magasin","Déodorant","No","No","No","No","No",null,null,"Choisissez un nombre d'articles","0"]
["Déodorant - Savon de Joya - Recharge Stick - Rose, 0 bicarbonate - 75g","8,90 €","8.9","Produits d'hygiène coporelle","Déodorants solides & Co","Hygiène corporelle conditionnée","0",null,null,"!%20Liste%20des%20produits%20!%202bf37e7305c3490d8ef04cec2537ea91/FACT_220322_-_39710%206.pdf",null,null,"Les Savons de Joya","🇫🇷 France - Douvres-la-Délivrande (14)","Les Savons de Joya","0","0",null,null,null,"No","No",null,"Magasin","Déodorant","No","No","No","No","No",null,null,"Choisissez un nombre d'articles","0"]
["Déodorant - Savon de Joya - Recharge Stick Mini  - Cèdre Vétivier - 25g","7,90 €","7.9","Produits d'hygiène coporelle","Déodorants solides & Co","Hygiène corporelle conditionnée","0",null,null,"!%20Liste%20des%20produits%20!%202bf37e7305c3490d8ef04cec2537ea91/FACT_2209_-_71919_pdf%205.pdf",null,null,"Les Savons de Joya","🇫🇷 France - Douvres-la-Délivrande (14)","Les Savons de Joya","0","0",null,null,null,"No","No",null,"Magasin","Déodorant","No","No","No","No","No",null,null,"Choisissez un nombre d'articles","0"]
["Déodorant - Savon de Joya - Recharge Stick Mini  - Citron & Mandarine 25g","7,90 €","7.9","Produits d'hygiène coporelle","Déodorants solides & Co","Hygiène corporelle conditionnée","0",null,null,"!%20Liste%20des%20produits%20!%202bf37e7305c3490d8ef04cec2537ea91/FACT_2209_-_71919_pdf%205.pdf",null,null,"Les Savons de Joya","🇫🇷 France - Douvres-la-Délivrande (14)","Les Savons de Joya","0","0",null,null,null,"No","No",null,"Magasin","Déodorant","No","No","No","No","No",null,null,"Choisissez un nombre d'articles","0"]
["Déodorant Stick - Savon de Joya - Cèdre Vétiver - 75g","12,50 €","12.5","Produits d'hygiène coporelle","Déodorants solides & Co","Hygiène corporelle conditionnée","0",null,null,"!%20Liste%20des%20produits%20!%202bf37e7305c3490d8ef04cec2537ea91/FACT_2209_-_71919_pdf%207.pdf",null,null,"Les Savons de Joya","🇫🇷 France - Douvres-la-Délivrande (14)","Les Savons de Joya","0","0",null,null,null,"No","No",null,"Magasin","Déodorant","No","No","No","No","No",null,null,"Choisissez un nombre d'articles","0"]
["Déodorant Stick - Savon de Joya - Citron & Mandarine - 75g","12,50 €","12.5","Produits d'hygiène coporelle","Déodorants solides & Co","Hygiène corporelle conditionnée","0",null,null,"!%20Liste%20des%20produits%20!%202bf37e7305c3490d8ef04cec2537ea91/FACT_220322_-_39710%206.pdf",null,null,"Les Savons de Joya","🇫🇷 France - Douvres-la-Délivrande (14)","Les Savons de Joya","0","0",null,null,null,"No","No",null,"Magasin","Déodorant","No","No","No","No","No",null,null,"Choisissez un nombre d'articles","0"]
["Déodorant Stick - Savon de Joya - Rose, 0 bicarbonate - 75g","12,50 €","12.5","Produits d'hygiène coporelle","Déodorants solides & Co","Hygiène corporelle conditionnée","0",null,null,"!%20Liste%20des%20produits%20!%202bf37e7305c3490d8ef04cec2537ea91/FACT_2209_-_71919_pdf%208.pdf",null,null,"Les Savons de Joya","🇫🇷 France - Douvres-la-Délivrande (14)","Les Savons de Joya","0","0",null,null,null,"No","No",null,"Magasin","Déodorant","No","No","No","No","No",null,null,"Choisissez un nombre d'articles","0"]
["Déodorant Stick Mini  - Savon de Joya -  Rose, 0 bicarbonate - 25g","7,90 €","7.9","Produits d'hygiène coporelle","Déodorants solides & Co","Hygiène corporelle conditionnée","0",null,null,"!%20Liste%20des%20produits%20!%202bf37e7305c3490d8ef04cec2537ea91/FACT_220322_-_39710%205.pdf",null,null,"Les Savons de Joya","🇫🇷 France - Douvres-la-Délivrande (14)","Les Savons de Joya","0","0",null,null,null,"No","No",null,"Magasin","Déodorant","No","No","No","No","No",null,null,"Choisissez un nombre d'articles","0"]
["Déodorant Stick Mini - Savon de Joya - Cèdre Vétiver - 25g","7,90 €","7.9","Produits d'hygiène coporelle","Déodorants solides & Co",null,null,null,null,null,null,null,"Les Savons de Joya","🇫🇷 France - Douvres-la-Délivrande (14)"]
["Déodorant Stick Mini - Savon de Joya - Citron & Mandarine - 25g","5,20 €","5.2","Produits d'hygiène coporelle",null,"Hygiène corporelle conditionnée","0",null,null,"!%20Liste%20des%20produits%20!%202bf37e7305c3490d8ef04cec2537ea91/FACT_2209_-_71919_pdf%206.pdf",null,null,"Les Savons de Joya","🇫🇷 France - Douvres-la-Délivrande (14)","Les Savons de Joya","0","0",null,null,null,"No","No",null,"Magasin","Déodorant","No","No","No","No","No",null,null,"Choisissez un nombre d'articles","0"]
["Désinfectant sans rinçage - Vrac","12,50 €","12.50","Produits d'entretiens",null,"Liquide d'entretien en vrac","0",null,null,null,null,null,"Bulle verte","🇫🇷 France - Malataverne (26)","Bulle verte",null,"0",null,null,null,"Yes","Yes",null,"Magasin",null,"No","No","No","No","No",null,null,"Choisissez un poids","0"]
["Détachant - Vrac",9.9,"9;90","Produits d'entretiens",null,"Liquide d'entretien en vrac","0",null,null,null,null,null,"Relais local","🇫🇷 France - Malataverne (26)","Bulle verte",null,"0",null,null,null,"No","No",null,"Magasin",null,"No","No","No","No","No",null,null,"Choisissez un poids","0"]
["Emballage 1L Plat + Bouchon ","2 €","2","Produits d'entretiens",null,"Accessoires Entretiens","0",null,null,"!%20Liste%20des%20produits%20!%202bf37e7305c3490d8ef04cec2537ea91/F9_-_FC220513133%204.pdf, !%20Liste%20des%20produits%20!%202bf37e7305c3490d8ef04cec2537ea91/F7_-_FC220312424%202.pdf",null,null,"Relais local","🇫🇷 France - Malataverne (26)","Bulle verte","0","0",null,null,null,"No","No",null,"Magasin",null,"No","No","No","No","No",null,null,"Choisissez un nombre d'articles","0"]
["Emballage 3L + Bouchon","4 €","4","Produits d'entretiens",null,"Accessoires Entretiens","0",null,null,"!%20Liste%20des%20produits%20!%202bf37e7305c3490d8ef04cec2537ea91/F8_-_FC220312603%203.pdf",null,null,"Relais local","🇫🇷 France - Malataverne (26)","Bulle verte","0","0",null,null,null,"No","No",null,"Magasin",null,"No","No","No","No","No",null,null,"Choisissez un nombre d'articles","0"]
["Emballage WC 750ml + Bouchon","2,50 €","2.5","Produits d'entretiens",null,"Accessoires Entretiens","0",null,null,"!%20Liste%20des%20produits%20!%202bf37e7305c3490d8ef04cec2537ea91/F9_-_FC220513133%205.pdf",null,null,"Relais local","🇫🇷 France - Malataverne (26)","Bulle verte","0","0",null,null,null,"No","No",null,"Magasin",null,"No","No","No","No","No",null,null,"Choisissez un nombre d'articles","0"]
["Essuie tout blanc, 100% recyclés, 200f x 12","2 €","2","Produits d'entretiens",null,"Droguerie non vrac","0","!%20Liste%20des%20produits%20!%202bf37e7305c3490d8ef04cec2537ea91/image%2035.jpg",null,"!%20Liste%20des%20produits%20!%202bf37e7305c3490d8ef04cec2537ea91/F4_-_2206_579761%209.pdf, !%20Liste%20des%20produits%20!%202bf37e7305c3490d8ef04cec2537ea91/F1_-_2202_F558904%207.pdf",null,null,"Biodis","🇫🇷 France","Papeco","0","0",null,null,null,"No","No",null,"Magasin",null,"No","No","No","No","No",null,null,"Choisissez un nombre d'articles","0"]
["Essuie-tout - Lot de 5 Multicolore","10,00 €","10","Zéros déchets et Bocaux",null,null,"0",null,null,"!%20Liste%20des%20produits%20!%202bf37e7305c3490d8ef04cec2537ea91/F4_-_2203_-_FA000161%201.pdf, !%20Liste%20des%20produits%20!%202bf37e7305c3490d8ef04cec2537ea91/F1_-_2111_-_FA0014642021%202.pdf",null,null,"Alterosac","🇫🇷 France - Annemasse (74)","Alterosac","0","0",null,null,null,"No","No",null,"Magasin",null,"No","No","No","No","No",null,null,"Choisissez un nombre d'articles","0"]
["Farine de blé - T110","2,10€ / kg","2","Alimentaire Vrac",null,"Farine fécules levures & sucres","0",null,null,"!%20Liste%20des%20produits%20!%202bf37e7305c3490d8ef04cec2537ea91/F1-22-06-000053.pdf",null,null,"La Ferme des sources","🇫🇷 France - Fareins (01) ",null,"0","0",null,null,null,"No","No",null,"Magasin","Farines","No","No","No","No","No",null,null,"Choisissez un poids","0"]
["Farine de blé - T55 ","2,10€ / kg","2.1","Alimentaire Vrac","Salés","Farine fécules levures & sucres","0","!%20Liste%20des%20produits%20!%202bf37e7305c3490d8ef04cec2537ea91/image%2038.jpg, !%20Liste%20des%20produits%20!%202bf37e7305c3490d8ef04cec2537ea91/image%2039.jpg","December 16, 2023","!%20Liste%20des%20produits%20!%202bf37e7305c3490d8ef04cec2537ea91/F1_-_21FV13778_20211129%2021.pdf, !%20Liste%20des%20produits%20!%202bf37e7305c3490d8ef04cec2537ea91/F5_-_Facture_411005664_22FV04713_20220419%206.pdf, !%20Liste%20des%20produits%20!%202bf37e7305c3490d8ef04cec2537ea91/F6_-Facture_411005664_22FV06518_20220531%205.pdf, !%20Liste%20des%20produits%20!%202bf37e7305c3490d8ef04cec2537ea91/F7_-_Facture_411005664_22FV07675_20220627%203.pdf, !%20Liste%20des%20produits%20!%202bf37e7305c3490d8ef04cec2537ea91/F10_-_22FV11834_20221102%207.pdf, !%20Liste%20des%20produits%20!%202bf37e7305c3490d8ef04cec2537ea91/F11_-_23FV00647_20230119%207.pdf",null,null,"Actibio","🇫🇷 France",null,"0","0",null,null,null,"Yes","Yes",null,"Magasin","Farines","No","No","No","No","No",null,null,"Choisissez un poids","0"]
["Farine de blé - T65 ","2,10€ / kg","2","Alimentaire Vrac","Salés","Farine fécules levures & sucres","0",null,null,"!%20Liste%20des%20produits%20!%202bf37e7305c3490d8ef04cec2537ea91/F3-22-09-000082.pdf, !%20Liste%20des%20produits%20!%202bf37e7305c3490d8ef04cec2537ea91/F2-22-07-000069.pdf, !%20Liste%20des%20produits%20!%202bf37e7305c3490d8ef04cec2537ea91/F1-22-06-000053%201.pdf",null,null,"La Ferme des sources","🇫🇷 France - Fareins (01) ",null,"0","0",null,null,null,"No","No",null,"Magasin","Farines","No","No","No","No","No",null,null,"Choisissez un poids","0"]
["Farine de Maïs ","2,95€ / kg","2.95","Alimentaire Vrac",null,"Farine fécules levures & sucres","0","!%20Liste%20des%20produits%20!%202bf37e7305c3490d8ef04cec2537ea91/image%2040.jpg","August 25, 2023","!%20Liste%20des%20produits%20!%202bf37e7305c3490d8ef04cec2537ea91/F10_-_22FV11834_20221102%208.pdf",null,null,"Actibio","🇫🇷 France",null,"0","0",null,null,null,"No","No",null,"Magasin","Farines","No","No","No","No","No",null,null,"Choisissez un poids","0"]
["Farine de Maïs - Paquet 500g",1.7,"1.70","Alimentaire Conditionné"]
["Farine de Petit épeautre ","6,00€ / kg","6","Alimentaire Vrac",null,"Farine fécules levures & sucres","0",null,null,"!%20Liste%20des%20produits%20!%202bf37e7305c3490d8ef04cec2537ea91/F3_-_EPICE_-_FV58436%202.pdf",null,null,"Scop Epice","🇫🇷 France",null,"0","0",null,null,null,"Yes","Yes",null,"Magasin","Farines","No","No","No","No","No",null,null,"Choisissez un poids","0"]
["Farine de Pois chiches ","5,40€ / kg","5.4","Alimentaire Vrac",null,"Farine fécules levures & sucres","0",null,null,"!%20Liste%20des%20produits%20!%202bf37e7305c3490d8ef04cec2537ea91/F3_-_EPICE_-_FV58436%203.pdf",null,null,"Scop Epice","🇫🇷 France",null,"0","0",null,null,null,"Yes","Yes",null,"Magasin","Farines","No","No","No","No","No",null,null,"Choisissez un poids","0"]
["Farine de Pos chiches - paquet 500g","2.70","2.70","Alimentaire Conditionné"]
["Fécule de Pomme de Terre ","4,90€ / kg","4.9","Alimentaire Vrac",null,"Farine fécules levures & sucres","0",null,null,"!%20Liste%20des%20produits%20!%202bf37e7305c3490d8ef04cec2537ea91/F3_-_Facture-22FV02158%203.pdf",null,null,"Actibio","🇫🇮 Finlande",null,"0","0",null,null,null,"Yes","Yes",null,"Magasin","Farines Fécules Levures & Sucres","No","No","No","No","No",null,null,"Choisissez un poids","0"]
["Figues Entières ","12,00€ / kg","12","Alimentaire Vrac","Sucrés","Fruits secs & à coques","0","!%20Liste%20des%20produits%20!%202bf37e7305c3490d8ef04cec2537ea91/image%2041.jpg","May 7, 2024","!%20Liste%20des%20produits%20!%202bf37e7305c3490d8ef04cec2537ea91/F1_-_21FV13778_20211129%2026.pdf, !%20Liste%20des%20produits%20!%202bf37e7305c3490d8ef04cec2537ea91/F2_-_22FV01075_20220127%209.pdf, !%20Liste%20des%20produits%20!%202bf37e7305c3490d8ef04cec2537ea91/F4_-_Facture_411005664_22FV03404_20220322%203.pdf, !%20Liste%20des%20produits%20!%202bf37e7305c3490d8ef04cec2537ea91/F5_-_Facture_411005664_22FV04713_20220419%207.pdf, !%20Liste%20des%20produits%20!%202bf37e7305c3490d8ef04cec2537ea91/F10_-_22FV11834_20221102%209.pdf, !%20Liste%20des%20produits%20!%202bf37e7305c3490d8ef04cec2537ea91/F11_-_23FV00647_20230119%208.pdf",null,null,"Actibio","🇹🇷 Turquie",null,"0","0",null,null,null,"No","No",null,"Magasin","Fruits Secs et à coques","No","No","No","No","No",null,null,"Choisissez un poids","0"]
["Filet à fruits et légumes - Taille L","8,50€","8.5","Zéros déchets et Bocaux",null,null,"0",null,null,"!%20Liste%20des%20produits%20!%202bf37e7305c3490d8ef04cec2537ea91/F1_-_2111_-_FA0014642021%203.pdf",null,null,"Alterosac","🇫🇷 France - Annemasse (74)","Alterosac","0","0",null,null,null,"No","No",null,"Magasin",null,"No","No","No","No","No",null,null,"Choisissez un nombre d'articles","0"]
["Filet à fruits et légumes - Taille M","9,50€","9.5","Zéros déchets et Bocaux",null,null,"0",null,null,"!%20Liste%20des%20produits%20!%202bf37e7305c3490d8ef04cec2537ea91/F1_-_2111_-_FA0014642021%204.pdf",null,null,"Alterosac","🇫🇷 France - Annemasse (74)","Alterosac","0","0",null,null,null,"No","No",null,"Magasin",null,"No","No","No","No","No",null,null,"Choisissez un nombre d'articles","0"]
["Filtre à café","4,50€","4.5","Zéros déchets et Bocaux",null,null,"0",null,null,"!%20Liste%20des%20produits%20!%202bf37e7305c3490d8ef04cec2537ea91/F5_-_2203_-_FA000217%201.pdf, !%20Liste%20des%20produits%20!%202bf37e7305c3490d8ef04cec2537ea91/F4_-_2203_-_FA000161%202.pdf, !%20Liste%20des%20produits%20!%202bf37e7305c3490d8ef04cec2537ea91/F1_-_2111_-_FA0014642021%205.pdf",null,null,"Alterosac","🇫🇷 France - Annemasse (74)","Alterosac","0","0",null,null,null,"No","No",null,"Magasin",null,"No","No","No","No","No",null,null,"Choisissez un nombre d'articles","0"]
["Filtre à Infusion ","4,50€","4.5","Zéros déchets et Bocaux",null,null,"0",null,null,"!%20Liste%20des%20produits%20!%202bf37e7305c3490d8ef04cec2537ea91/F8_-_2210_-_FA000589%202.pdf, !%20Liste%20des%20produits%20!%202bf37e7305c3490d8ef04cec2537ea91/F7_-_FA000480-2022%202.pdf, !%20Liste%20des%20produits%20!%202bf37e7305c3490d8ef04cec2537ea91/F1_-_2111_-_FA0014642021%206.pdf",null,null,"Alterosac","🇫🇷 France - Annemasse (74)","Alterosac","0","0",null,null,null,"No","No",null,"Magasin",null,"No","No","No","No","No",null,null,"Choisissez un nombre d'articles","0"]
["Filtre à thé ","4,00€","4","Zéros déchets et Bocaux",null,null,"0",null,null,"!%20Liste%20des%20produits%20!%202bf37e7305c3490d8ef04cec2537ea91/F8_-_2210_-_FA000589%203.pdf, !%20Liste%20des%20produits%20!%202bf37e7305c3490d8ef04cec2537ea91/F5_-_2203_-_FA000217%202.pdf, !%20Liste%20des%20produits%20!%202bf37e7305c3490d8ef04cec2537ea91/F1_-_2111_-_FA0014642021%207.pdf",null,null,"Alterosac","🇫🇷 France - Annemasse (74)","Alterosac","0","0",null,null,null,"No","No",null,"Magasin",null,"No","No","No","No","No",null,null,"Choisissez un nombre d'articles","0"]
["Filtre à théière inox forme théière","5,50€","5.5","Zéros déchets et Bocaux",null,"Café thés tisanes herbiers","0",null,null,"!%20Liste%20des%20produits%20!%202bf37e7305c3490d8ef04cec2537ea91/F1_-_2207%204.pdf",null,null,"SolàSol","🇫🇷 France - Sud Est",null,"0","0",null,null,null,"No","No","!%20Liste%20des%20produits%20!%202bf37e7305c3490d8ef04cec2537ea91/Bons_de_livraison_-_2.pdf","Magasin",null,"No","No","No","No","No",null,null,"Choisissez un nombre d'articles","0"]
["Flageolets","6,50€ / kg","6.5","Alimentaire Vrac",null,"Céréales - Légumineuses & Graines","0",null,null,"!%20Liste%20des%20produits%20!%202bf37e7305c3490d8ef04cec2537ea91/F1_-_21FV13778_20211129%2027.pdf",null,null,"Actibio","🇫🇷 France",null,"0","0",null,null,null,"Yes","Yes",null,"Magasin","Légumineuses","No","No","No","No","No",null,null,"Choisissez un poids","0"]
["Fourchette réutilisable","2,00€","2","Zéros déchets et Bocaux",null,"Accessoires de cuisine","0",null,null,"!%20Liste%20des%20produits%20!%202bf37e7305c3490d8ef04cec2537ea91/F2_-_2205_-_002952%205.pdf",null,null,"Cap Bambou","🇫🇷 France - Attignat (01)",null,"0","0",null,null,null,"No","No",null,"Magasin",null,"No","No","No","No","No",null,null,"Choisissez un nombre d'articles","0"]
["Furoshikis - Taille M","6,50€","6.5","Zéros déchets et Bocaux",null,null,"0",null,null,"!%20Liste%20des%20produits%20!%202bf37e7305c3490d8ef04cec2537ea91/F6_-_2205_-_FA000338-2022%202.pdf, !%20Liste%20des%20produits%20!%202bf37e7305c3490d8ef04cec2537ea91/F1_-_2111_-_FA0014642021%208.pdf",null,null,"Alterosac","🇫🇷 France - Annemasse (74)","Alterosac","0","0",null,null,null,"No","No",null,"Magasin",null,"No","No","No","No","No",null,null,"Choisissez un nombre d'articles","0"]
["Furoshikis - Taille S","5,00€","5","Zéros déchets et Bocaux",null,null,"0",null,null,"!%20Liste%20des%20produits%20!%202bf37e7305c3490d8ef04cec2537ea91/F6_-_2205_-_FA000338-2022%203.pdf, !%20Liste%20des%20produits%20!%202bf37e7305c3490d8ef04cec2537ea91/F1_-_2111_-_FA0014642021%209.pdf",null,null,"Alterosac","🇫🇷 France - Annemasse (74)","Alterosac","0","0",null,null,null,"No","No",null,"Magasin",null,"No","No","No","No","No",null,null,"Choisissez un nombre d'articles","0"]
["Fusilli Riz Quinoa ","12,00€ / kg","12","Alimentaire Vrac",null,"Pâtes & Riz","0",null,null,"!%20Liste%20des%20produits%20!%202bf37e7305c3490d8ef04cec2537ea91/F4_-_EPICE_-_FV59545pdf%201.pdf, !%20Liste%20des%20produits%20!%202bf37e7305c3490d8ef04cec2537ea91/F2_-_EPICE_-_FV57470%206.pdf",null,null,"Scop Epice","🇫🇷 France",null,"0","0",null,null,null,"No","No",null,"Magasin","Pâtes","No","No","No","No","No",null,null,"Choisissez un poids","0"]
["Gamme anti âge - Contour des yeux - Endro ",9.9,"9.90","Produits d'hygiène coporelle",null,null,"0",null,null,null,null,null,null,null,null,null,"0",null,null,null,"No","No",null,null,null,"No","No","No","No","No",null,null,"Choisissez un poids","0"]
["Gamme anti âge - Crème - Endro ",19.899999999999999,"19.90","Produits d'hygiène coporelle",null,null,"0",null,null,null,null,null,null,null,null,null,"0",null,null,null,"No","No",null,null,null,"No","No","No","No","No",null,null,"Choisissez un poids","0"]
["Gamme anti âge - Sérum- Endro ",24.9,"24.90","Produits d'hygiène coporelle",null,null,"0",null,null,null,null,null,null,null,null,null,"0",null,null,null,"No","No",null,null,null,"No","No","No","No","No",null,null,"Choisissez un poids","0"]
["Gant de toilette","5,50€","5.5","Zéros déchets et Bocaux",null,null,"0",null,null,"!%20Liste%20des%20produits%20!%202bf37e7305c3490d8ef04cec2537ea91/F7_-_FA000480-2022%203.pdf",null,null,"Alterosac","🇫🇷 France - Annemasse (74)","Alterosac","0","0",null,null,null,"No","No",null,"Magasin",null,"No","No","No","No","No",null,null,"Choisissez un nombre d'articles","0"]
["Gel douche vrac - Karité verveine","8,30€ / kg","8.3","Produits d'entretiens",null,null,"0","!%20Liste%20des%20produits%20!%202bf37e7305c3490d8ef04cec2537ea91/image%2073.jpg",null,"!%20Liste%20des%20produits%20!%202bf37e7305c3490d8ef04cec2537ea91/F2-NAB-F4138%203.pdf",null,null,"Aventure Bio","🇫🇷 France - La Ciotat (13)","La savonnerie du Pilon du Roy","0","0",null,null,null,"No","No",null,"Magasin",null,"No","No","No","No","No",null,null,"Choisissez un poids","0"]
["Gel WC - Vrac","5,90€ / kg","5.9","Produits d'entretiens",null,"Liquide d'entretien en vrac","0",null,null,"!%20Liste%20des%20produits%20!%202bf37e7305c3490d8ef04cec2537ea91/F18_-_FC221015817%202.pdf, !%20Liste%20des%20produits%20!%202bf37e7305c3490d8ef04cec2537ea91/F7_-_FC220312424%203.pdf",null,null,"Relais local","🇫🇷 France - Malataverne (26)","Bulle Verte","0","0",null,null,null,"No","No",null,"Magasin",null,"No","No","No","No","No",null,null,"Choisissez un poids","0"]
["Gingembre Confit irréguliers ","14,50€ / kg","14.5","Alimentaire Vrac",null,"Fruits secs & à coques","0",null,null,"!%20Liste%20des%20produits%20!%202bf37e7305c3490d8ef04cec2537ea91/F7_-_Facture_411005664_22FV07675_20220627%204.pdf, !%20Liste%20des%20produits%20!%202bf37e7305c3490d8ef04cec2537ea91/F6_-Facture_411005664_22FV06518_20220531%206.pdf",null,null,"Actibio","🇨🇳 Chine",null,"0","0",null,null,null,"No","No",null,"Magasin","Fruits Secs et à coques","No","No","No","No","No",null,null,"Choisissez un poids","0"]
["Gingembre en Poudre ","50,00€ / kg","50","Alimentaire Vrac",null,"Epices condiments & sauces","0",null,null,"!%20Liste%20des%20produits%20!%202bf37e7305c3490d8ef04cec2537ea91/F5_-_Facture_411005664_22FV04713_20220419%208.pdf",null,null,"Actibio","🇳🇬 Nigeria",null,"0","0",null,null,null,"Yes","Yes",null,"Magasin","Epices condiments & sauces","No","No","No","No","No",null,null,"Choisissez un poids","0"]
["Gommage visage Douce Aloe","14,90€","14.9","Produits d'hygiène coporelle","Cosmétiques & soins","Cosmétiques & soins","0",null,null,"!%20Liste%20des%20produits%20!%202bf37e7305c3490d8ef04cec2537ea91/FACT-20211207%209.pdf",null,null,"Endro","🇫🇷 France - Lannion (22)","Endro","0","0",null,null,null,"No","No",null,"Magasin","Gommage","No","No","No","No","No",null,null,"Choisissez un nombre d'articles","0"]
["Goupillon pour laver les pailles","1,15€","1.15","Zéros déchets et Bocaux",null,"Accessoires de cuisine","0",null,null,"!%20Liste%20des%20produits%20!%202bf37e7305c3490d8ef04cec2537ea91/F1_-_2111_-_002432%205.pdf",null,null,"Cap Bambou","🇫🇷 France - Attignat (01)",null,"0","0",null,null,null,"No","No",null,"Magasin",null,"No","No","No","No","No",null,null,"Choisissez un nombre d'articles","0"]
["Graines de Chia ","50€ / kg","5","Alimentaire Vrac",null,"Céréales - Légumineuses & Graines","0","!%20Liste%20des%20produits%20!%202bf37e7305c3490d8ef04cec2537ea91/image%2044.jpg",null,"!%20Liste%20des%20produits%20!%202bf37e7305c3490d8ef04cec2537ea91/F8_-_Facture_411005664_22FV10465_20220923%204.pdf",null,null,"Actibio","🇵🇪 Pérou",null,"0","0",null,null,null,"No","No",null,"Magasin","Graines","No","No","No","No","No",null,null,"Choisissez un poids","0"]
["Graines de Courges Foncées ","18,50€ / kg","18.5","Alimentaire Vrac","Salés","Céréales - Légumineuses & Graines","0",null,"December 6, 2023","!%20Liste%20des%20produits%20!%202bf37e7305c3490d8ef04cec2537ea91/F7_-_Facture_411005664_22FV07675_20220627%205.pdf, !%20Liste%20des%20produits%20!%202bf37e7305c3490d8ef04cec2537ea91/F11_-_23FV00647_20230119%209.pdf",null,null,"Actibio","🇫🇷 France",null,"0","0",null,null,null,"No","No",null,"Magasin","Graines","No","No","No","No","No",null,null,"Choisissez un poids","0"]
["Graines de Lin Brun ","6,20€ / kg","6.2","Alimentaire Vrac",null,"Céréales - Légumineuses & Graines","0",null,null,"!%20Liste%20des%20produits%20!%202bf37e7305c3490d8ef04cec2537ea91/F4_-_EPICE_-_FV59545pdf%202.pdf, !%20Liste%20des%20produits%20!%202bf37e7305c3490d8ef04cec2537ea91/F2_-_EPICE_-_FV57470%207.pdf",null,null,"Scop Epice","🇫🇷 France ",null,"0","0",null,null,null,"No","No",null,"Terminé","Graines","No","No","No","No","No",null,null,"Choisissez un poids","0"]
["Graines de Pavot","135€ / kg","135","Alimentaire Vrac","Salés","Epices condiments & sauces","0",null,"July 31, 2023","!%20Liste%20des%20produits%20!%202bf37e7305c3490d8ef04cec2537ea91/F11_-_23FV00647_20230119%2017.pdf",null,null,null,"🇹🇷 Turquie",null,"0","0",null,null,null,"No","No",null,"Magasin",null,"No","No","No","No","No",null,null,"Choisissez un poids","0"]
["Graines de Sésame ","30€ / kg","30","Alimentaire Vrac",null,"Céréales - Légumineuses & Graines","0",null,null,"!%20Liste%20des%20produits%20!%202bf37e7305c3490d8ef04cec2537ea91/F4_-_EPICE_-_FV59545pdf%203.pdf",null,null,"Scop Epice","🇪🇹 Ethiopie",null,"0","0",null,null,null,"No","No",null,"Magasin","Graines","No","No","No","No","No",null,null,"Choisissez un poids","0"]
["Haricots Blancs ","6,00€ / kg","6","Alimentaire Vrac",null,"Céréales - Légumineuses & Graines","0","!%20Liste%20des%20produits%20!%202bf37e7305c3490d8ef04cec2537ea91/image%2045.jpg",null,"!%20Liste%20des%20produits%20!%202bf37e7305c3490d8ef04cec2537ea91/F1_-_21FV13778_20211129%2034.pdf",null,null,"Actibio","🇹🇷 Turquie",null,"0","0",null,null,null,"Yes","Yes",null,"Magasin","Légumineuses","No","No","No","No","No",null,null,"Choisissez un poids","0"]
["Haricots Noirs","7,50€ / kg","7.5","Alimentaire Vrac",null,"Céréales - Légumineuses & Graines","0","!%20Liste%20des%20produits%20!%202bf37e7305c3490d8ef04cec2537ea91/image%2046.jpg",null,"!%20Liste%20des%20produits%20!%202bf37e7305c3490d8ef04cec2537ea91/F1_-_21FV13778_20211129%2035.pdf",null,null,"Actibio","🇨🇳 Chine",null,"0","0",null,null,null,"Yes","Yes",null,"Magasin","Légumineuses","No","No","No","No","No",null,null,"Choisissez un poids","0"]
["Haricots Rouges ","7,50€ /kg","7.5","Alimentaire Vrac",null,"Céréales - Légumineuses & Graines","0",null,null,"!%20Liste%20des%20produits%20!%202bf37e7305c3490d8ef04cec2537ea91/F1_-_21FV13778_20211129%2036.pdf",null,null,"Actibio","🇫🇷 France",null,"0","0",null,null,null,"Yes","Yes",null,"Magasin","Légumineuses","No","No","No","No","No",null,null,"Choisissez un poids","0"]
["Herbes de provence ","54,00€ / kg","54","Alimentaire Vrac",null,"Epices condiments & sauces","0",null,null,"!%20Liste%20des%20produits%20!%202bf37e7305c3490d8ef04cec2537ea91/F1_-_EPICE_-_FV55099%206.pdf",null,null,"Scop Epice","🇫🇷 France ",null,"0","0",null,null,null,"Yes","Yes",null,"Magasin","Epices condiments & sauces","No","No","No","No","No",null,null,"Choisissez un poids","0"]
["Huile d’Olive extra vierge ","9€ / kg",9,"Alimentaire Vrac","Salés","Huiles & Vinaigres","0","!%20Liste%20des%20produits%20!%202bf37e7305c3490d8ef04cec2537ea91/image%2050.jpg","December 7, 2023","!%20Liste%20des%20produits%20!%202bf37e7305c3490d8ef04cec2537ea91/F8_-_Facture_411005664_22FV10465_20220923%205.pdf, !%20Liste%20des%20produits%20!%202bf37e7305c3490d8ef04cec2537ea91/F11_-_23FV00647_20230119%2010.pdf",null,null,"Actibio","🇪🇸 Espagne",null,"0","0",null,null,null,"No","No",null,"Magasin","Huiles","No","No","No","No","No",null,null,"Choisissez un poids","0"]
["Huile d’olive Luce - 1L",10.9,"9.5","Alimentaire Conditionné",null,"Bocaux produits salés","0","!%20Liste%20des%20produits%20!%202bf37e7305c3490d8ef04cec2537ea91/image%2049.jpg",null,"!%20Liste%20des%20produits%20!%202bf37e7305c3490d8ef04cec2537ea91/F4_-_2206_579761%2011.pdf, !%20Liste%20des%20produits%20!%202bf37e7305c3490d8ef04cec2537ea91/F3_-_2205_571501%209.pdf",null,null,"Biodis","🇮🇹 Italie","Luce","0","0",null,null,null,"No","No",null,"Magasin","Huiles & Vinaigres","No","No","No","No","No",null,null,"Choisissez un nombre d'articles","0"]
["Huile de Cameline - 25cl","10,50€","10.5","Alimentaire Conditionné",null,"Huiles & Vinaigres","0",null,null,"!%20Liste%20des%20produits%20!%202bf37e7305c3490d8ef04cec2537ea91/F3_-_23-03-22.pdf, !%20Liste%20des%20produits%20!%202bf37e7305c3490d8ef04cec2537ea91/F2-2022-000015.pdf, !%20Liste%20des%20produits%20!%202bf37e7305c3490d8ef04cec2537ea91/F1_-2021-000003.pdf",null,null,"Clos de Galène","🇫🇷 France - Sandrans (01)",null,"0","0",null,null,null,"No","No",null,"Magasin","Huiles","No","No","No","No","No",null,null,"Choisissez un nombre d'articles","0"]
["Huile de Chanvre - 25cl","11,50€","11.5","Alimentaire Conditionné",null,"Huiles & Vinaigres","0",null,null,"!%20Liste%20des%20produits%20!%202bf37e7305c3490d8ef04cec2537ea91/F3_-_23-03-22%201.pdf, !%20Liste%20des%20produits%20!%202bf37e7305c3490d8ef04cec2537ea91/F2-2022-000015%201.pdf",null,null,"Clos de Galène","🇫🇷 France - Sandrans (01)",null,"0","0",null,null,null,"No","No",null,"Magasin","Huiles","No","No","No","No","No",null,null,"Choisissez un nombre d'articles","0"]
["Huile de Coco vierge","12,00€ / kg","12","Alimentaire Vrac","Salés","Huiles & Vinaigres","0","!%20Liste%20des%20produits%20!%202bf37e7305c3490d8ef04cec2537ea91/image%2048.jpg","April 6, 2024","!%20Liste%20des%20produits%20!%202bf37e7305c3490d8ef04cec2537ea91/F10_-_22FV11834_20221102%2010.pdf",null,null,"Actibio","🇵🇭 Philippines",null,"0","0",null,null,null,"No","No",null,"Magasin","Huiles","No","No","No","No","No",null,null,"Choisissez un poids","0"]
["Huile de Colza - 1L","14,00€","14","Alimentaire Conditionné",null,"Huiles & Vinaigres","0",null,null,"!%20Liste%20des%20produits%20!%202bf37e7305c3490d8ef04cec2537ea91/F8_-_17-08-22_-_LOT040722.ods.pdf, !%20Liste%20des%20produits%20!%202bf37e7305c3490d8ef04cec2537ea91/F3_-_23-03-22%202.pdf, !%20Liste%20des%20produits%20!%202bf37e7305c3490d8ef04cec2537ea91/F2-2022-000015%202.pdf, !%20Liste%20des%20produits%20!%202bf37e7305c3490d8ef04cec2537ea91/F1_-2021-000003%201.pdf",null,null,"Clos de Galène","🇫🇷 France - Sandrans (01)",null,"0","0",null,null,null,"No","No",null,"Magasin","Huiles","No","No","No","No","No",null,null,"Choisissez un nombre d'articles","0"]
["Huile de Colza - 50cl","7,00€","7","Alimentaire Conditionné",null,"Huiles & Vinaigres","0",null,null,"!%20Liste%20des%20produits%20!%202bf37e7305c3490d8ef04cec2537ea91/F3_-_23-03-22%203.pdf, !%20Liste%20des%20produits%20!%202bf37e7305c3490d8ef04cec2537ea91/F1_-2021-000003%202.pdf",null,null,"Clos de Galène","🇫🇷 France - Sandrans (01)",null,"0","0",null,null,null,"No","No",null,"Magasin","Huiles","No","No","No","No","No",null,null,"Choisissez un nombre d'articles","0"]
["Huile de Colza - en vrac ","11,00€","11","Alimentaire Vrac",null,"Huiles & Vinaigres","0",null,null,"!%20Liste%20des%20produits%20!%202bf37e7305c3490d8ef04cec2537ea91/F9_-_28-09-22_-_LOT040722.ods.pdf, !%20Liste%20des%20produits%20!%202bf37e7305c3490d8ef04cec2537ea91/F8_-_17-08-22_-_LOT040722.ods%201.pdf, !%20Liste%20des%20produits%20!%202bf37e7305c3490d8ef04cec2537ea91/F6_-_15-06-22_-_LOT070522.pdf",null,null,"Clos de Galène","🇫🇷 France - Sandrans (01)",null,"0","0",null,null,null,"No","No",null,"Magasin","Huiles","No","No","No","No","No",null,null,"Choisissez un poids","0"]
["Huile de Lin - 25cl ","7,50€","7.5","Alimentaire Conditionné",null,"Huiles & Vinaigres","0",null,null,"!%20Liste%20des%20produits%20!%202bf37e7305c3490d8ef04cec2537ea91/F3_-_23-03-22%204.pdf, !%20Liste%20des%20produits%20!%202bf37e7305c3490d8ef04cec2537ea91/F1_-2021-000003%203.pdf",null,null,"Clos de Galène","🇫🇷 France - Sandrans (01)",null,"0","0",null,null,null,"No","No",null,"Magasin","Huiles","No","No","No","No","No",null,null,"Choisissez un nombre d'articles","0"]
["Huile de soin Antixiodante - Clemence & Vivien ","11,90€","11.9","Produits d'hygiène coporelle",null,"Cosmétiques & soins","0",null,null,"!%20Liste%20des%20produits%20!%202bf37e7305c3490d8ef04cec2537ea91/Facture_1-_CV052480%209.pdf",null,null,"Clémence & Vivien","🇫🇷 France - Chauray (79)","Clémence & Vivien","0","0",null,null,null,"No","No",null,"Magasin","Crèmes - Baumes & Huiles","No","No","No","No","No",null,null,"Choisissez un nombre d'articles","0"]
["Huile de soin Peaux Mixtes - Clemence & Vivien ","11,90€","11.9","Produits d'hygiène coporelle",null,"Cosmétiques & soins","0",null,null,"!%20Liste%20des%20produits%20!%202bf37e7305c3490d8ef04cec2537ea91/Facture_3_-_CV056802%204.pdf",null,null,"Clémence & Vivien","🇫🇷 France - Chauray (79)","Clémence & Vivien","0","0",null,null,null,"No","No",null,"Magasin","Crèmes - Baumes & Huiles","No","No","No","No","No",null,null,"Choisissez un nombre d'articles","0"]
["Huile de soin Peaux Sèches - Clemence & Vivien ","11,90€","11.9","Produits d'hygiène coporelle",null,"Cosmétiques & soins","0",null,null,"!%20Liste%20des%20produits%20!%202bf37e7305c3490d8ef04cec2537ea91/Facture_3_-_CV056802%205.pdf",null,null,"Clémence & Vivien","🇫🇷 France - Chauray (79)","Clémence & Vivien","0","0",null,null,null,"No","No",null,"Magasin","Crèmes - Baumes & Huiles","No","No","No","No","No",null,null,"Choisissez un nombre d'articles","0"]
["Huile de Tournesol - 1L","12,00€","12","Alimentaire Conditionné",null,"Huiles & Vinaigres","0",null,null,"!%20Liste%20des%20produits%20!%202bf37e7305c3490d8ef04cec2537ea91/F8_-_17-08-22_-_LOT040722.ods%202.pdf, !%20Liste%20des%20produits%20!%202bf37e7305c3490d8ef04cec2537ea91/F3_-_23-03-22%205.pdf, !%20Liste%20des%20produits%20!%202bf37e7305c3490d8ef04cec2537ea91/F1_-2021-000003%204.pdf",null,null,"Clos de Galène","🇫🇷 France - Sandrans (01)",null,"0","0",null,null,null,"No","No",null,"Magasin","Huiles","No","No","No","No","No",null,null,"Choisissez un nombre d'articles","0"]
["Huile de Tournesol - 50cl","6,00€","6","Alimentaire Conditionné",null,"Huiles & Vinaigres","0",null,null,"!%20Liste%20des%20produits%20!%202bf37e7305c3490d8ef04cec2537ea91/F8_-_17-08-22_-_LOT040722.ods%203.pdf, !%20Liste%20des%20produits%20!%202bf37e7305c3490d8ef04cec2537ea91/F3_-_23-03-22%206.pdf, !%20Liste%20des%20produits%20!%202bf37e7305c3490d8ef04cec2537ea91/F1_-2021-000003%205.pdf",null,null,"Clos de Galène","🇫🇷 France - Sandrans (01)",null,"0","0",null,null,null,"No","No",null,"Magasin","Huiles","No","No","No","No","No",null,null,"Choisissez un nombre d'articles","0"]
["Huile de Tournesol - en vrac ","7,90€ / kg","7.9","Alimentaire Vrac",null,"Huiles & Vinaigres","0",null,null,"!%20Liste%20des%20produits%20!%202bf37e7305c3490d8ef04cec2537ea91/F9_-_28-09-22_-_LOT040722.ods%201.pdf, !%20Liste%20des%20produits%20!%202bf37e7305c3490d8ef04cec2537ea91/F8_-_17-08-22_-_LOT2504222.ods.pdf, !%20Liste%20des%20produits%20!%202bf37e7305c3490d8ef04cec2537ea91/F7_-_13-07-22_-_LOT250422.ods.pdf, !%20Liste%20des%20produits%20!%202bf37e7305c3490d8ef04cec2537ea91/F5_-_26-05-22_-_LOT_250422.pdf, !%20Liste%20des%20produits%20!%202bf37e7305c3490d8ef04cec2537ea91/F4_-_11-05-22_-_LOT_250422.pdf",null,null,"Clos de Galène","🇫🇷 France - Sandrans (01)",null,"0","0",null,null,null,"No","No",null,"Magasin","Huiles","No","No","No","No","No",null,null,"Choisissez un poids","0"]
["Huile démaquillante toute douce Amande - Clemence & Vivien ","11,90€","11.9","Produits d'hygiène coporelle",null,"Cosmétiques & soins","0",null,null,"!%20Liste%20des%20produits%20!%202bf37e7305c3490d8ef04cec2537ea91/Facture_1-_CV052480%2010.pdf",null,null,"Clémence & Vivien","🇫🇷 France - Chauray (79)","Clémence & Vivien","0","0",null,null,null,"No","No",null,"Magasin","Crèmes - Baumes & Huiles","No","No","No","No","No",null,null,"Choisissez un nombre d'articles","0"]
["Huile démaquillante toute douce Rose-Muguet - Clemence & Vivien ","11,90€","11.9","Produits d'hygiène coporelle",null,"Cosmétiques & soins","0",null,null,"!%20Liste%20des%20produits%20!%202bf37e7305c3490d8ef04cec2537ea91/Facture_3_-_CV056802%206.pdf",null,null,"Clémence & Vivien","🇫🇷 France - Chauray (79)","Clémence & Vivien","0","0",null,null,null,"No","No",null,"Magasin","Crèmes - Baumes & Huiles","No","No","No","No","No",null,null,"Choisissez un nombre d'articles","0"]
["Huile Sèche 3 en 1 - Endro","19,90€","19.9","Produits d'hygiène coporelle","Cosmétiques & soins","Cosmétiques & soins","0",null,null,"!%20Liste%20des%20produits%20!%202bf37e7305c3490d8ef04cec2537ea91/FACT-20220530%206.pdf, !%20Liste%20des%20produits%20!%202bf37e7305c3490d8ef04cec2537ea91/FACT-20220530%207.pdf",null,null,"Endro","🇫🇷 France - Lannion (22)","Endro","0","0",null,null,null,"No","No",null,"Magasin","Crèmes - Baumes & Huiles","No","No","No","No","No",null,null,"Choisissez un nombre d'articles","0"]
["Jus d’orange du Maroc - 75cl","4€","4","Boissons conditionnées",null,null,"0","!%20Liste%20des%20produits%20!%202bf37e7305c3490d8ef04cec2537ea91/image%2053.jpg",null,"!%20Liste%20des%20produits%20!%202bf37e7305c3490d8ef04cec2537ea91/F5_-_2209_590998%2012.pdf, !%20Liste%20des%20produits%20!%202bf37e7305c3490d8ef04cec2537ea91/F4_-_2206_579761%2014.pdf",null,null,"Biodis","🇲🇦 Maroc","Vitamont","0","0",null,null,null,"No","No",null,"Magasin",null,"No","No","No","No","No",null,null,"Choisissez un nombre d'articles","0"]
["Jus de citron Sicile - 1L","5,90€","5.9","Boissons conditionnées",null,null,"0","!%20Liste%20des%20produits%20!%202bf37e7305c3490d8ef04cec2537ea91/image%2051.jpg",null,"!%20Liste%20des%20produits%20!%202bf37e7305c3490d8ef04cec2537ea91/F5_-_2209_590998%2010.pdf",null,null,"Biodis","🇮🇹 Italie","Luce","0","0",null,null,null,"No","No",null,"Magasin",null,"No","No","No","No","No",null,null,"Choisissez un nombre d'articles","0"]
["Jus de citron Sicile - 50cl","3,50€","3.5","Boissons conditionnées",null,null,"0","!%20Liste%20des%20produits%20!%202bf37e7305c3490d8ef04cec2537ea91/image%2052.jpg",null,"!%20Liste%20des%20produits%20!%202bf37e7305c3490d8ef04cec2537ea91/F4_-_2206_579761%2012.pdf, !%20Liste%20des%20produits%20!%202bf37e7305c3490d8ef04cec2537ea91/F2_-_2203_564703%205.pdf, !%20Liste%20des%20produits%20!%202bf37e7305c3490d8ef04cec2537ea91/F1_-_2202_F558904%208.pdf",null,null,"Biodis","🇮🇹 Italie","Luce","0","0",null,null,null,"No","No",null,"Magasin",null,"No","No","No","No","No",null,null,"Choisissez un nombre d'articles","0"]
["Jus de Pamplemousse rose Demeter - 75cl","4,50€","4.5","Boissons conditionnées",null,null,"0",null,null,"!%20Liste%20des%20produits%20!%202bf37e7305c3490d8ef04cec2537ea91/F5_-_2209_590998%2011.pdf, !%20Liste%20des%20produits%20!%202bf37e7305c3490d8ef04cec2537ea91/F4_-_2206_579761%2013.pdf",null,null,"Biodis","🇫🇷 France ","Coteaux Nantais","0","0",null,null,null,"No","No",null,"Magasin",null,"No","No","No","No","No",null,null,"Choisissez un nombre d'articles","0"]
["Jus de Pomme 1L ","4,50€","4.5","Boissons conditionnées",null,"Boissons","0",null,null,"!%20Liste%20des%20produits%20!%202bf37e7305c3490d8ef04cec2537ea91/F23_-_RL_-_FC230217857%203.pdf, !%20Liste%20des%20produits%20!%202bf37e7305c3490d8ef04cec2537ea91/F22_-_RL_-_FC230117497%201.pdf, !%20Liste%20des%20produits%20!%202bf37e7305c3490d8ef04cec2537ea91/F10_-_FC220513487%204.pdf, !%20Liste%20des%20produits%20!%202bf37e7305c3490d8ef04cec2537ea91/F9_-_FC220513133%206.pdf, !%20Liste%20des%20produits%20!%202bf37e7305c3490d8ef04cec2537ea91/F2_-_FC220111208%2013.pdf",null,null,"Relais local","🇫🇷 France","Source Verger","0","0",null,null,null,"No","No",null,"Magasin","Jus de fruits","No","No","No","No","No",null,null,"Choisissez un nombre d'articles","0"]
["Jus de Pomme Cassis - 75cl","4€","4","Boissons conditionnées",null,"Boissons","0",null,null,"!%20Liste%20des%20produits%20!%202bf37e7305c3490d8ef04cec2537ea91/F3_-_2205_571501%2010.pdf, !%20Liste%20des%20produits%20!%202bf37e7305c3490d8ef04cec2537ea91/F2_-_2203_564703%206.pdf, !%20Liste%20des%20produits%20!%202bf37e7305c3490d8ef04cec2537ea91/F1_-_2202_F558904%209.pdf",null,null,"Biodis","🇫🇷 France ","Coteaux Nantais","0","0",null,null,null,"No","No",null,"Magasin",null,"No","No","No","No","No",null,null,"Choisissez un nombre d'articles","0"]
["Jus de Raisin 1L","4,50€","4.5","Boissons conditionnées",null,"Boissons","0",null,null,"!%20Liste%20des%20produits%20!%202bf37e7305c3490d8ef04cec2537ea91/F22_-_RL_-_FC230117497%202.pdf",null,null,"Relais local","🇫🇷 France - Tournon (73)","La source du verger",null,"0",null,null,null,"No","No",null,null,null,"No","No","No","No","No",null,null,"Choisissez un poids","0"]
["Jus Pomme Cassis 1L ","4,50€","4.5","Boissons conditionnées",null,"Boissons","0","!%20Liste%20des%20produits%20!%202bf37e7305c3490d8ef04cec2537ea91/image%2060.jpg",null,"!%20Liste%20des%20produits%20!%202bf37e7305c3490d8ef04cec2537ea91/F23_-_RL_-_FC230217857%204.pdf, !%20Liste%20des%20produits%20!%202bf37e7305c3490d8ef04cec2537ea91/F4_-_FC220211755%204.pdf, !%20Liste%20des%20produits%20!%202bf37e7305c3490d8ef04cec2537ea91/F2_-_FC220111208%2014.pdf",null,null,"Relais local","🇫🇷 France - Tournon (73)","La source du verger",null,"0",null,null,null,"No","No",null,"Magasin","Jus de fruits","No","No","No","No","No",null,null,"Choisissez un nombre d'articles","0"]
["Jus Pomme Framboise - 1L","4,90€","4.9","Boissons conditionnées",null,"Boissons","0",null,null,"!%20Liste%20des%20produits%20!%202bf37e7305c3490d8ef04cec2537ea91/F23_-_RL_-_FC230217857%207.pdf",null,null,"Relais local","🇫🇷 France - Tournon (73)","La source du verger",null,"0",null,null,null,"No","No",null,null,null,"No","No","No","No","No",null,null,"Choisissez un poids","0"]
["Ketchup bouteille - 500g","3,50€","3.5","Alimentaire Conditionné",null,"Epices condiments & Sauces","0",null,null,"!%20Liste%20des%20produits%20!%202bf37e7305c3490d8ef04cec2537ea91/F4_-_2206_579761%2015.pdf, !%20Liste%20des%20produits%20!%202bf37e7305c3490d8ef04cec2537ea91/F2_-_2203_564703%207.pdf",null,null,"Biodis","🇮🇹 Italie","Luce","0","0",null,null,null,"No","No",null,"Magasin","Sauces","No","No","No","No","No",null,null,"Choisissez un nombre d'articles","0"]
["Kombucha - Citron Gingembre - 33cl","4,50€","4.5","Boissons conditionnées",null,null,null,null,null,null,null,null,"Relais local","🇫🇷 France - Decines (69)","Pieuvre Noire"]
["Kombucha - Menthe - 33cl","4,50€","4.5","Boissons conditionnées",null,null,null,null,null,null,null,null,"Relais local","🇫🇷 France - Decines (69)","Pieuvre Noire"]
["Kombucha - Nature - 33cl","4,50€","4.5","Boissons conditionnées",null,null,null,null,null,null,null,null,"Relais local","🇫🇷 France - Decines (69)","Pieuvre Noire"]
["Lait après-soleil - 100ml","14,90€","14.9","Produits d'hygiène coporelle","Solaire","Cosmétiques & soins","0",null,null,"!%20Liste%20des%20produits%20!%202bf37e7305c3490d8ef04cec2537ea91/FACT-20220607%204.pdf, !%20Liste%20des%20produits%20!%202bf37e7305c3490d8ef04cec2537ea91/FACT-20220530%208.pdf",null,null,"Endro","🇫🇷 France - Lannion (22)","Endro","0","0",null,null,null,"No","No",null,"Magasin","Crèmes - Baumes & Huiles","No","No","No","No","No",null,null,"Choisissez un nombre d'articles","0"]
["Lait après-soleil - 50ml","9,90€","9.9","Produits d'hygiène coporelle","Solaire","Cosmétiques & soins","0",null,null,"!%20Liste%20des%20produits%20!%202bf37e7305c3490d8ef04cec2537ea91/FACT-20220607%205.pdf, !%20Liste%20des%20produits%20!%202bf37e7305c3490d8ef04cec2537ea91/FACT-20220530%209.pdf",null,null,"Endro","🇫🇷 France - Lannion (22)","Endro","0","0",null,null,null,"No","No",null,"Magasin","Crèmes - Baumes & Huiles","No","No","No","No","No",null,null,"Choisissez un nombre d'articles","0"]
["Lait corps au beurre de Karité Vrac","31,00€","31","Produits d'hygiène coporelle","Solaire",null,"0","!%20Liste%20des%20produits%20!%202bf37e7305c3490d8ef04cec2537ea91/image%2059.jpg",null,"!%20Liste%20des%20produits%20!%202bf37e7305c3490d8ef04cec2537ea91/F2-NAB-F4138%202.pdf",null,null,"Aventure Bio","🇫🇷 France - La Ciotat (13)","La savonnerie du Pilon du Roy","0","0",null,null,null,"No","No",null,"Magasin",null,"No","No","No","No","No",null,null,"Choisissez un nombre d'articles","0"]
["Lait UHT 1/2 écrémé - 1L","1,50€","1.5","Boissons conditionnées",null,"Boissons végétales & Laits","0","!%20Liste%20des%20produits%20!%202bf37e7305c3490d8ef04cec2537ea91/image%2055.jpg","July 27, 2023 → July 27, 2023","!%20Liste%20des%20produits%20!%202bf37e7305c3490d8ef04cec2537ea91/F3_-_2205_571501%2014.pdf",null,null,"Biodis","🇫🇷 France ","Grandeur Nature","0","0",null,null,null,"No","No",null,"Magasin",null,"No","No","No","No","No",null,null,"Choisissez un nombre d'articles","0"]
["Lait UHT entier - 1L","1,95€","1.95","Boissons conditionnées",null,"Boissons végétales & Laits","0","!%20Liste%20des%20produits%20!%202bf37e7305c3490d8ef04cec2537ea91/image%2056.jpg","May 27, 2023","!%20Liste%20des%20produits%20!%202bf37e7305c3490d8ef04cec2537ea91/F4_-_2206_579761%2016.pdf, !%20Liste%20des%20produits%20!%202bf37e7305c3490d8ef04cec2537ea91/F3_-_2205_571501%2015.pdf",null,null,"Biodis","🇫🇷 France ","Grandeur Nature","0","0",null,null,null,"No","No",null,"Magasin",null,"No","No","No","No","No",null,null,"Choisissez un nombre d'articles","0"]
["Lentilles Corail"," 8,50€ / kg","8.5","Alimentaire Vrac","Salés","Céréales - Légumineuses & Graines","0","!%20Liste%20des%20produits%20!%202bf37e7305c3490d8ef04cec2537ea91/604FCD3D-1E9D-494E-96BF-A82BA169AEE4.jpeg","January 1, 2024","!%20Liste%20des%20produits%20!%202bf37e7305c3490d8ef04cec2537ea91/F09_-_EP_-_FV69079%205.pdf",null,null,null,"🇫🇷 France",null,"0","0",null,null,null,"No","No",null,"Magasin",null,"No","No","No","No","No",null,null,"Choisissez un poids","0"]
["Lessive Fleur à Savon ","4,35€ / kg","4.35","Produits d'entretiens",null,"Liquide d'entretien en vrac","0","!%20Liste%20des%20produits%20!%202bf37e7305c3490d8ef04cec2537ea91/image%2061.jpg",null,"!%20Liste%20des%20produits%20!%202bf37e7305c3490d8ef04cec2537ea91/F23_-_RL_-_FC230217857%205.pdf, !%20Liste%20des%20produits%20!%202bf37e7305c3490d8ef04cec2537ea91/F18_-_FC221015817%203.pdf, !%20Liste%20des%20produits%20!%202bf37e7305c3490d8ef04cec2537ea91/F10_-_FC220513487%205.pdf, !%20Liste%20des%20produits%20!%202bf37e7305c3490d8ef04cec2537ea91/F9_-_FC220513133%207.pdf, !%20Liste%20des%20produits%20!%202bf37e7305c3490d8ef04cec2537ea91/F8_-_FC220312603%204.pdf, !%20Liste%20des%20produits%20!%202bf37e7305c3490d8ef04cec2537ea91/F7_-_FC220312424%204.pdf, !%20Liste%20des%20produits%20!%202bf37e7305c3490d8ef04cec2537ea91/F5_-_FC220211840.pdf, !%20Liste%20des%20produits%20!%202bf37e7305c3490d8ef04cec2537ea91/F3_-_FC220111443%203.pdf",null,null,"Relais local","🇫🇷 France - Malataverne (26)","Bulle Verte","0","0",null,null,null,"No","No",null,"Magasin","Lessive","No","No","No","No","No",null,null,"Choisissez un poids","0"]
["Lessive Hypoallergénique","5,90€ / kg","5.9","Produits d'entretiens",null,"Liquide d'entretien en vrac","0","!%20Liste%20des%20produits%20!%202bf37e7305c3490d8ef04cec2537ea91/image%2062.jpg",null,"!%20Liste%20des%20produits%20!%202bf37e7305c3490d8ef04cec2537ea91/F9_-_FC220513133%208.pdf, !%20Liste%20des%20produits%20!%202bf37e7305c3490d8ef04cec2537ea91/F5_-_FC220211840%201.pdf, !%20Liste%20des%20produits%20!%202bf37e7305c3490d8ef04cec2537ea91/F3_-_FC220111443%204.pdf",null,null,"Relais local","🇫🇷 France - Malataverne (26)","Bulle Verte","0","0",null,null,null,"No","No",null,"Magasin","Lessive","No","No","No","No","No",null,null,"Choisissez un poids","0"]
["Levure Paillettes Maltées","9,50€ / kg","9.5","Alimentaire Vrac","Salés","Epices condiments & sauces","0",null,"December 31, 2023","!%20Liste%20des%20produits%20!%202bf37e7305c3490d8ef04cec2537ea91/F11_-_23FV00647_20230119%2011.pdf",null,null,null,"🇩🇪 Allemagne",null,"0","0",null,null,null,"No","No",null,"Magasin",null,"No","No","No","No","No",null,null,"Choisissez un poids","0"]
["Limonade Bulles d’orange - 25cl","3,00 €","3","Boissons conditionnées","Boisson","Sodas","0",null,null,"!%20Liste%20des%20produits%20!%202bf37e7305c3490d8ef04cec2537ea91/F4_-_EPICE_-_FV59545pdf.pdf",null,null,"Scop Epice","🇫🇷 France",null,"0","0",null,null,null,"No","No",null,"Magasin",null,"No","No","No","No","No",null,null,"Choisissez un nombre d'articles","0"]
["Limonade Sucre de Canne 1L","4€","4","Boissons conditionnées",null,"Boissons","0","!%20Liste%20des%20produits%20!%202bf37e7305c3490d8ef04cec2537ea91/image%2063.jpg",null,null,null,null,"Relais local","🇫🇷 France - Belley (01)",null,"0","0",null,null,null,"No","No",null,"Magasin","Sodas","No","No","No","No","No",null,null,"Choisissez un nombre d'articles","0"]
["Lingettes démaquillantes - Lot de 5 Carrés","7,50 €","7.5","Zéros déchets et Bocaux","Zero Déchet",null,"0",null,null,"!%20Liste%20des%20produits%20!%202bf37e7305c3490d8ef04cec2537ea91/F6_-_2205_-_FA000338-2022%201.pdf, !%20Liste%20des%20produits%20!%202bf37e7305c3490d8ef04cec2537ea91/F5_-_2203_-_FA000217.pdf, !%20Liste%20des%20produits%20!%202bf37e7305c3490d8ef04cec2537ea91/F4_-_2203_-_FA000161.pdf, !%20Liste%20des%20produits%20!%202bf37e7305c3490d8ef04cec2537ea91/F1_-_2111_-_FA0014642021.pdf",null,null,"Alterosac","🇫🇷 France - Annemasse (74)","Alterosac","0","0",null,null,null,"No","No",null,"Magasin",null,"No","No","No","No","No",null,null,"Choisissez un nombre d'articles","0"]
["Lingettes démaquillantes - Lot de 5 Ronds","7€","7","Zéros déchets et Bocaux",null,null,"0",null,null,"!%20Liste%20des%20produits%20!%202bf37e7305c3490d8ef04cec2537ea91/F8_-_2210_-_FA000589%2011.pdf, !%20Liste%20des%20produits%20!%202bf37e7305c3490d8ef04cec2537ea91/F7_-_FA000480-2022%2012.pdf, !%20Liste%20des%20produits%20!%202bf37e7305c3490d8ef04cec2537ea91/F5_-_2203_-_FA000217%2010.pdf, !%20Liste%20des%20produits%20!%202bf37e7305c3490d8ef04cec2537ea91/F4_-_2203_-_FA000161%2011.pdf, !%20Liste%20des%20produits%20!%202bf37e7305c3490d8ef04cec2537ea91/F1_-_2111_-_FA0014642021%2026.pdf",null,null,"Alterosac","🇫🇷 France - Annemasse (74)","Alterosac",null,"0",null,null,null,"No","No",null,"Magasin",null,"No","No","No","No","No",null,null,"Choisissez un nombre d'articles","0"]
["Liquide Vaisselle Main - Vrac ","3,80€ / kg","3.8","Produits d'entretiens",null,"Liquide d'entretien en vrac","0","!%20Liste%20des%20produits%20!%202bf37e7305c3490d8ef04cec2537ea91/image%2064.jpg",null,"!%20Liste%20des%20produits%20!%202bf37e7305c3490d8ef04cec2537ea91/F23_-_RL_-_FC230217857%206.pdf, !%20Liste%20des%20produits%20!%202bf37e7305c3490d8ef04cec2537ea91/F9_-_FC220513133%209.pdf, !%20Liste%20des%20produits%20!%202bf37e7305c3490d8ef04cec2537ea91/F8_-_FC220312603%205.pdf",null,null,"Relais local","🇫🇷 France - Malataverne (26)","Bulle Verte","0","0",null,null,null,"No","No",null,"Magasin","Liquide Vaisselle","No","No","No","No","No",null,null,"Choisissez un poids","0"]
["Maïs Popcorn ","4,50€ / kg","4.5","Alimentaire Vrac",null,"Céréales - Légumineuses & Graines","0","!%20Liste%20des%20produits%20!%202bf37e7305c3490d8ef04cec2537ea91/image%2068.jpg",null,"!%20Liste%20des%20produits%20!%202bf37e7305c3490d8ef04cec2537ea91/F9_-_22FV10465_20220923.pdf",null,null,"Actibio","🇫🇷 France",null,"0","0",null,null,null,"No","No",null,"Magasin",null,"No","No","No","No","No",null,null,"Choisissez un poids","0"]
["Mangues séchées","27,50€ / kg","27.5","Alimentaire Vrac","Sucrés","Fruits secs & à coques","0",null,null,"!%20Liste%20des%20produits%20!%202bf37e7305c3490d8ef04cec2537ea91/F09_-_EP_-_FV69079%206.pdf",null,null,null,"🇨🇲 Cameroun",null,"0","0",null,null,null,"No","No",null,"Magasin",null,"No","No","No","No","No",null,null,"Choisissez un poids","0"]
["Masque Visage Purifiant - Endro","24,90 €","24.9","Produits d'hygiène coporelle","Cosmétiques & soins","Cosmétiques & soins","0",null,null,"!%20Liste%20des%20produits%20!%202bf37e7305c3490d8ef04cec2537ea91/F3-20220928-15395_1664360686.5851%206.pdf",null,null,"Endro","🇫🇷 France - Lannion (22)","Endro","0","0",null,null,null,"No","No",null,"Magasin","Masque","No","No","No","No","No",null,null,"Choisissez un nombre d'articles","0"]
["Maté Nature - Vrac","45€ / kg","45","Boisson en Vrac",null,"Café thés tisanes herbiers","0",null,null,"!%20Liste%20des%20produits%20!%202bf37e7305c3490d8ef04cec2537ea91/F2_-_EPICE_-_FV57470%2013.pdf",null,null,"Scop Epice","🇧🇷 Brésil",null,"0","0",null,null,null,"No","No",null,"Magasin","Thés","No","No","No","No","No",null,null,"Choisissez un poids","0"]
["Mayonnaise dijonnaise - 185g","3,50 €","3.5","Alimentaire Conditionné",null,"Bocaux produits salés","0",null,null,"!%20Liste%20des%20produits%20!%202bf37e7305c3490d8ef04cec2537ea91/F5_-_2209_590998%2014.pdf, !%20Liste%20des%20produits%20!%202bf37e7305c3490d8ef04cec2537ea91/F3_-_2205_571501%2016.pdf",null,null,"Biodis","🇫🇷 France - Isère (38)","La Cuisine d'autrefois","0","0",null,null,null,"No","No",null,"Magasin","Plats cuisinés","No","No","No","No","No",null,null,"Choisissez un nombre d'articles","0"]
["Mayonnaise nature - 325g","5€","5","Alimentaire Conditionné",null,"Epices condiments & sauces","0","!%20Liste%20des%20produits%20!%202bf37e7305c3490d8ef04cec2537ea91/39BDB123-CCAB-40BE-AE6D-1AC73C47EA4C.jpeg",null,"!%20Liste%20des%20produits%20!%202bf37e7305c3490d8ef04cec2537ea91/F10_-_EP_-_FV70173%2016.pdf",null,null,"Scop Epice","🇫🇷 France - Isère (38)","La Cuisine d'autrefois",null,"0",null,null,null,"No","No",null,null,null,"No","No","No","No","No",null,null,"Choisissez un poids","0"]
["Mélange Détox","20,50 € / kg","20.5","Alimentaire Vrac","Sucrés","Fruits secs & à coques","0",null,"December 31, 2023","!%20Liste%20des%20produits%20!%202bf37e7305c3490d8ef04cec2537ea91/F11_-_23FV00647_20230119%2012.pdf",null,null,"Actibio","NON 🇪🇺 UE",null,"0","0",null,null,null,"No","No",null,"Magasin",null,"No","No","No","No","No",null,null,"Choisissez un poids","0"]
["Mélange Energie","18,50 € /kg","18.5","Alimentaire Vrac","Sucrés","Fruits secs & à coques","0","!%20Liste%20des%20produits%20!%202bf37e7305c3490d8ef04cec2537ea91/image%2072.jpg","October 31, 2023","!%20Liste%20des%20produits%20!%202bf37e7305c3490d8ef04cec2537ea91/F1_-_21FV13778_20211129%2043.pdf, !%20Liste%20des%20produits%20!%202bf37e7305c3490d8ef04cec2537ea91/F2_-_22FV01075_20220127%2013.pdf, !%20Liste%20des%20produits%20!%202bf37e7305c3490d8ef04cec2537ea91/F3_-_Facture-22FV02158%206.pdf, !%20Liste%20des%20produits%20!%202bf37e7305c3490d8ef04cec2537ea91/F5_-_Facture_411005664_22FV04713_20220419%2011.pdf, !%20Liste%20des%20produits%20!%202bf37e7305c3490d8ef04cec2537ea91/F6_-Facture_411005664_22FV06518_20220531%208.pdf, !%20Liste%20des%20produits%20!%202bf37e7305c3490d8ef04cec2537ea91/F10_-_22FV11834_20221102%2013.pdf, !%20Liste%20des%20produits%20!%202bf37e7305c3490d8ef04cec2537ea91/F11_-_23FV00647_20230119%2013.pdf",null,null,"Actibio","NON 🇪🇺 UE",null,"0","0",null,null,null,"Yes","Yes",null,"Magasin","Mélange","No","No","No","No","No",null,null,"Choisissez un poids","0"]
["Mélange Exotique","18,50 € / kg","18.5","Alimentaire Vrac","Sucrés","Fruits secs & à coques","0",null,null,"!%20Liste%20des%20produits%20!%202bf37e7305c3490d8ef04cec2537ea91/F4_-_EPICE_-_FV59545pdf%206.pdf",null,null,"Scop Epice","NON 🇪🇺 UE / 🇫🇷 France",null,"0","0",null,null,null,"Yes","Yes",null,"Magasin","Mélange","No","No","No","No","No",null,null,"Choisissez un poids","0"]
["Mélange Rando ","18,50 € / kg","18.5","Alimentaire Vrac","Sucrés","Fruits secs & à coques","0",null,"October 31, 2023","!%20Liste%20des%20produits%20!%202bf37e7305c3490d8ef04cec2537ea91/F7_-_Facture_411005664_22FV07675_20220627%2010.pdf, !%20Liste%20des%20produits%20!%202bf37e7305c3490d8ef04cec2537ea91/F11_-_23FV00647_20230119%2014.pdf",null,null,"Actibio","NON 🇪🇺 UE",null,"0","0",null,null,null,"Yes","Yes",null,"Magasin","Mélange","No","No","No","No","No",null,null,"Choisissez un poids","0"]
["Mélange Salade","15,50€/kg","15.5","Alimentaire Vrac",null,"Fruits secs & à coques","0","!%20Liste%20des%20produits%20!%202bf37e7305c3490d8ef04cec2537ea91/083FC912-256F-4C97-A868-73CE838F07BD.jpeg","February 1, 2024","!%20Liste%20des%20produits%20!%202bf37e7305c3490d8ef04cec2537ea91/F10_-_EP_-_FV70173%206.pdf",null,null,null,"NON 🇪🇺 UE / 🇫🇷 France",null,null,"0",null,null,null,"No","No",null,null,null,"No","No","No","No","No",null,null,"Choisissez un poids","0"]
["Miel d’Acacia - 250g","6,90 €","6.9","Alimentaire Conditionné",null,"Bocaux produits sucrés","0",null,null,"!%20Liste%20des%20produits%20!%202bf37e7305c3490d8ef04cec2537ea91/F5_-_2209_-_010959685%203.pdf",null,null,"Olivier Dutang","🇫🇷 France - Neuville les Dames (01)",null,"0","0",null,null,null,"No","No",null,"Magasin","Miel","No","No","No","No","No",null,null,"Choisissez un nombre d'articles","0"]
["Miel d’Acacia - 500g","12,50 €","12.5","Alimentaire Conditionné",null,"Bocaux produits sucrés","0",null,null,"!%20Liste%20des%20produits%20!%202bf37e7305c3490d8ef04cec2537ea91/F5_-_2209_-_010959685%204.pdf",null,null,"Olivier Dutang","🇫🇷 France - Neuville les Dames (01)",null,"0","0",null,null,null,"No","No",null,"Magasin","Miel","No","No","No","No","No",null,null,"Choisissez un nombre d'articles","0"]
["Miel de Lavande - 250g","8,50 €","8.5","Alimentaire Conditionné",null,"Bocaux produits sucrés","0",null,null,"!%20Liste%20des%20produits%20!%202bf37e7305c3490d8ef04cec2537ea91/F3_-_2203_-_010959-654.pdf, !%20Liste%20des%20produits%20!%202bf37e7305c3490d8ef04cec2537ea91/F2_-_2202_010959-624_23_.pdf, !%20Liste%20des%20produits%20!%202bf37e7305c3490d8ef04cec2537ea91/F1_-_2201_010959-620.pdf",null,null,"Olivier Dutang","🇫🇷 France - Neuville les Dames (01)",null,"0","0",null,null,null,"No","No",null,"Magasin","Miel","No","No","No","No","No",null,null,"Choisissez un nombre d'articles","0"]
["Miel de Lavande - 500g","14,90 €","14.9","Alimentaire Conditionné",null,"Bocaux produits sucrés","0",null,null,"!%20Liste%20des%20produits%20!%202bf37e7305c3490d8ef04cec2537ea91/F5_-_2209_-_010959685.pdf, !%20Liste%20des%20produits%20!%202bf37e7305c3490d8ef04cec2537ea91/F2_-_2202_010959-624_23_%201.pdf, !%20Liste%20des%20produits%20!%202bf37e7305c3490d8ef04cec2537ea91/F1_-_2201_010959-620%201.pdf",null,null,"Olivier Dutang","🇫🇷 France - Neuville les Dames (01)",null,"0","0",null,null,null,"No","No",null,"Magasin","Miel","No","No","No","No","No",null,null,"Choisissez un nombre d'articles","0"]
["Miel de Printemps - 250g","6,90 €","6.9","Alimentaire Conditionné",null,"Bocaux produits sucrés","0",null,null,"!%20Liste%20des%20produits%20!%202bf37e7305c3490d8ef04cec2537ea91/F4_-_2205_-_010959_655.pdf, !%20Liste%20des%20produits%20!%202bf37e7305c3490d8ef04cec2537ea91/F3_-_2203_-_010959-654%201.pdf, !%20Liste%20des%20produits%20!%202bf37e7305c3490d8ef04cec2537ea91/F2_-_2202_010959-624_23_%202.pdf, !%20Liste%20des%20produits%20!%202bf37e7305c3490d8ef04cec2537ea91/F1_-_2201_010959-620%202.pdf",null,null,"Olivier Dutang","🇫🇷 France - Neuville les Dames (01)",null,"0","0",null,null,null,"No","No",null,"Magasin","Miel","No","No","No","No","No",null,null,"Choisissez un nombre d'articles","0"]
["Miel de Printemps - 500g","12€","12","Alimentaire Conditionné",null,"Bocaux produits sucrés","0",null,null,"!%20Liste%20des%20produits%20!%202bf37e7305c3490d8ef04cec2537ea91/F4_-_2205_-_010959_655%201.pdf, !%20Liste%20des%20produits%20!%202bf37e7305c3490d8ef04cec2537ea91/F3_-_2203_-_010959-654%202.pdf, !%20Liste%20des%20produits%20!%202bf37e7305c3490d8ef04cec2537ea91/F2_-_2202_010959-624_23_%203.pdf, !%20Liste%20des%20produits%20!%202bf37e7305c3490d8ef04cec2537ea91/F1_-_2201_010959-620%203.pdf",null,null,"Olivier Dutang","🇫🇷 France - Neuville les Dames (01)",null,"0","0",null,null,null,"No","No",null,"Magasin","Miel","No","No","No","No","No",null,null,"Choisissez un nombre d'articles","0"]
["Miel de Sapin - 250g","8,50 €","8.5","Alimentaire Conditionné",null,"Bocaux produits sucrés","0",null,null,"!%20Liste%20des%20produits%20!%202bf37e7305c3490d8ef04cec2537ea91/F4_-_2205_-_010959_655%202.pdf, !%20Liste%20des%20produits%20!%202bf37e7305c3490d8ef04cec2537ea91/F3_-_2203_-_010959-654%203.pdf, !%20Liste%20des%20produits%20!%202bf37e7305c3490d8ef04cec2537ea91/F2_-_2202_010959-624_23_%204.pdf, !%20Liste%20des%20produits%20!%202bf37e7305c3490d8ef04cec2537ea91/F1_-_2201_010959-620%204.pdf",null,null,"Olivier Dutang","🇫🇷 France - Neuville les Dames (01)",null,"0","0",null,null,null,"No","No",null,"Magasin","Miel","No","No","No","No","No",null,null,"Choisissez un nombre d'articles","0"]
["Miel de Sapin - 500g","15,00 €","15","Alimentaire Conditionné",null,"Bocaux produits sucrés","0",null,null,"!%20Liste%20des%20produits%20!%202bf37e7305c3490d8ef04cec2537ea91/F4_-_2205_-_010959_655%203.pdf, !%20Liste%20des%20produits%20!%202bf37e7305c3490d8ef04cec2537ea91/F3_-_2203_-_010959-654%204.pdf, !%20Liste%20des%20produits%20!%202bf37e7305c3490d8ef04cec2537ea91/F2_-_2202_010959-624_23_%205.pdf, !%20Liste%20des%20produits%20!%202bf37e7305c3490d8ef04cec2537ea91/F1_-_2201_010959-620%205.pdf",null,null,"Olivier Dutang","🇫🇷 France - Neuville les Dames (01)",null,"0","0",null,null,null,"No","No",null,"Magasin","Miel","No","No","No","No","No",null,null,"Choisissez un nombre d'articles","0"]
["Miel de Tilleul - 250g","7,50 €","7.5","Alimentaire Conditionné",null,"Bocaux produits sucrés","0",null,null,"!%20Liste%20des%20produits%20!%202bf37e7305c3490d8ef04cec2537ea91/F5_-_2209_-_010959685%201.pdf",null,null,"Olivier Dutang","🇫🇷 France - Neuville les Dames (01)",null,"0","0",null,null,null,"No","No",null,"Magasin","Miel","No","No","No","No","No",null,null,"Choisissez un nombre d'articles","0"]
["Miel de Tilleul - 500g","12,50 €","12.5","Alimentaire Conditionné",null,"Bocaux produits sucrés","0",null,null,"!%20Liste%20des%20produits%20!%202bf37e7305c3490d8ef04cec2537ea91/F5_-_2209_-_010959685%202.pdf",null,null,"Olivier Dutang","🇫🇷 France - Neuville les Dames (01)",null,"0","0",null,null,null,"No","No",null,"Magasin","Miel","No","No","No","No","No",null,null,"Choisissez un nombre d'articles","0"]
["Miel Polyfloral - 250g","6,50 €","6.5","Alimentaire Conditionné",null,"Bocaux produits sucrés","0",null,null,"!%20Liste%20des%20produits%20!%202bf37e7305c3490d8ef04cec2537ea91/F4_-_2205_-_010959_655%204.pdf, !%20Liste%20des%20produits%20!%202bf37e7305c3490d8ef04cec2537ea91/F3_-_2203_-_010959-654%205.pdf, !%20Liste%20des%20produits%20!%202bf37e7305c3490d8ef04cec2537ea91/F2_-_2202_010959-624_23_%206.pdf, !%20Liste%20des%20produits%20!%202bf37e7305c3490d8ef04cec2537ea91/F1_-_2201_010959-620%206.pdf",null,null,"Olivier Dutang","🇫🇷 France - Neuville les Dames (01)",null,"0","0",null,null,null,"No","No",null,"Magasin","Miel","No","No","No","No","No",null,null,"Choisissez un nombre d'articles","0"]
["Miel Polyfloral - 500g","11,50 €","11.5","Alimentaire Conditionné",null,"Bocaux produits sucrés","0",null,null,"!%20Liste%20des%20produits%20!%202bf37e7305c3490d8ef04cec2537ea91/F4_-_2205_-_010959_655%205.pdf, !%20Liste%20des%20produits%20!%202bf37e7305c3490d8ef04cec2537ea91/F3_-_2203_-_010959-654%206.pdf, !%20Liste%20des%20produits%20!%202bf37e7305c3490d8ef04cec2537ea91/F2_-_2202_010959-624_23_%207.pdf, !%20Liste%20des%20produits%20!%202bf37e7305c3490d8ef04cec2537ea91/F1_-_2201_010959-620%207.pdf",null,null,"Olivier Dutang","🇫🇷 France - Neuville les Dames (01)",null,"0","0",null,null,null,"No","No",null,"Magasin","Miel","No","No","No","No","No",null,null,"Choisissez un nombre d'articles","0"]
["Mini Filet à chute de savon","3,50 €","3.5","Zéros déchets et Bocaux",null,null,"0",null,null,"!%20Liste%20des%20produits%20!%202bf37e7305c3490d8ef04cec2537ea91/F8_-_2210_-_FA000589%204.pdf, !%20Liste%20des%20produits%20!%202bf37e7305c3490d8ef04cec2537ea91/F6_-_2205_-_FA000338-2022%204.pdf, !%20Liste%20des%20produits%20!%202bf37e7305c3490d8ef04cec2537ea91/F4_-_2203_-_FA000161%204.pdf, !%20Liste%20des%20produits%20!%202bf37e7305c3490d8ef04cec2537ea91/F3_-_2201_-_FA000072-2022%201.pdf, !%20Liste%20des%20produits%20!%202bf37e7305c3490d8ef04cec2537ea91/F2_-_2112_-_FA001595%201.pdf, !%20Liste%20des%20produits%20!%202bf37e7305c3490d8ef04cec2537ea91/F1_-_2111_-_FA0014642021%2010.pdf",null,null,"Alterosac","🇫🇷 France - Annemasse (74)","Alterosac","0","0",null,null,null,"No","No",null,"Magasin",null,"No","No","No","No","No",null,null,"Choisissez un nombre d'articles","0"]
["Mouchoirs","9,50 €","9.5","Zéros déchets et Bocaux",null,null,"0",null,null,"!%20Liste%20des%20produits%20!%202bf37e7305c3490d8ef04cec2537ea91/F7_-_FA000480-2022%204.pdf, !%20Liste%20des%20produits%20!%202bf37e7305c3490d8ef04cec2537ea91/F1_-_2111_-_FA0014642021%2011.pdf",null,null,"Alterosac","🇫🇷 France - Annemasse (74)","Alterosac","0","0",null,null,null,"No","No",null,"Magasin",null,"No","No","No","No","No",null,null,"Choisissez un nombre d'articles","0"]
["Moutarde à l’ancienne - 350g","4,20€","4.20","Alimentaire Conditionné","Epices condiments & sauces","Epices condiments & sauces","0","!%20Liste%20des%20produits%20!%202bf37e7305c3490d8ef04cec2537ea91/E174EB6B-D319-44C1-9FF3-CC84F88D0C26.jpeg",null,"!%20Liste%20des%20produits%20!%202bf37e7305c3490d8ef04cec2537ea91/F4_-_EPICE_-_FV59545pdf%205.pdf, !%20Liste%20des%20produits%20!%202bf37e7305c3490d8ef04cec2537ea91/F3_-_EPICE_-_FV58436%207.pdf, !%20Liste%20des%20produits%20!%202bf37e7305c3490d8ef04cec2537ea91/F2_-_EPICE_-_FV57470%2012.pdf",null,null,"Scop Epice","🇫🇷 France - Isère (38)",null,null,"0",null,null,null,"No","No",null,"Terminé","Condiments","No","No","No","No","No",null,null,"Choisissez un poids","0"]
["Moutarde de Dijon - 350g","4,20€","4.2","Alimentaire Conditionné","Epices condiments & sauces","Epices condiments & sauces","0","!%20Liste%20des%20produits%20!%202bf37e7305c3490d8ef04cec2537ea91/D3779382-B8AE-4806-9E0B-70BD9C7D717C.jpeg",null,"!%20Liste%20des%20produits%20!%202bf37e7305c3490d8ef04cec2537ea91/F10_-_EP_-_FV70173%205.pdf, !%20Liste%20des%20produits%20!%202bf37e7305c3490d8ef04cec2537ea91/F5_-_EPICE_-_FV61181%203.pdf, !%20Liste%20des%20produits%20!%202bf37e7305c3490d8ef04cec2537ea91/F4_-_EPICE_-_FV59545pdf%204.pdf, !%20Liste%20des%20produits%20!%202bf37e7305c3490d8ef04cec2537ea91/F3_-_EPICE_-_FV58436%206.pdf, !%20Liste%20des%20produits%20!%202bf37e7305c3490d8ef04cec2537ea91/F2_-_EPICE_-_FV57470%2011.pdf",null,null,"Scop Epice","🇫🇷 France - Isère (38)",null,null,"0",null,null,null,"No","No",null,"Terminé","Condiments","No","No","No","No","No",null,null,"Choisissez un poids","0"]
["Muesli aux fruits","5,90 € / kg","5.9","Alimentaire Vrac",null,"Céréales du petit déjeuner","0",null,null,"!%20Liste%20des%20produits%20!%202bf37e7305c3490d8ef04cec2537ea91/F5_-_EPICE_-_FV61181%205.pdf, !%20Liste%20des%20produits%20!%202bf37e7305c3490d8ef04cec2537ea91/F2_-_EPICE_-_FV57470%2014.pdf",null,null,"Scop Epice","🇫🇷 France ",null,"0","0",null,null,null,"No","No",null,"ARRET","Céréales","No","No","No","No","No",null,null,"Choisissez un poids","0"]
["Muesli croustillant chocolat ","10,50 € / kg","10.5","Alimentaire Vrac",null,"Céréales du petit déjeuner","0","!%20Liste%20des%20produits%20!%202bf37e7305c3490d8ef04cec2537ea91/image%2071.jpg","July 27, 2023","!%20Liste%20des%20produits%20!%202bf37e7305c3490d8ef04cec2537ea91/F4_-_2206_579761%2018.pdf, !%20Liste%20des%20produits%20!%202bf37e7305c3490d8ef04cec2537ea91/F3_-_2205_571501%2019.pdf, !%20Liste%20des%20produits%20!%202bf37e7305c3490d8ef04cec2537ea91/F2_-_Facture_564703%201.pdf",null,null,"Biodis","🇫🇷 France ","Favrichon","0","0",null,null,null,"No","No",null,"Magasin","Céréales","No","No","No","No","No",null,null,"Choisissez un poids","0"]
["Multi Usage - Vrac ",5.9,5.9,"Produits d'entretiens",null,"Liquide d'entretien en vrac","0",null,null,"!%20Liste%20des%20produits%20!%202bf37e7305c3490d8ef04cec2537ea91/F7_-_FC220312424%205.pdf",null,null,"Relais local","🇫🇷 France - Malataverne (26)","Bulle verte",null,"0",null,null,null,"No","No",null,"Terminé",null,"No","No","No","No","No",null,null,"Choisissez un poids","0"]
["Muscade Noix Poudre ","76€ / kg","76","Alimentaire Vrac",null,"Epices condiments & sauces","0",null,null,"!%20Liste%20des%20produits%20!%202bf37e7305c3490d8ef04cec2537ea91/F3_-_Facture-22FV02158%205.pdf",null,null,"Actibio","🇮🇳 Inde",null,"0","0",null,null,null,"Yes","Yes",null,null,"Epices condiments & sauces","No","No","No","No","No",null,null,"Choisissez un poids","0"]
["Nectar d’abricot 75cl ","4,50 €","4.5","Boissons conditionnées",null,"Boissons","0",null,null,"!%20Liste%20des%20produits%20!%202bf37e7305c3490d8ef04cec2537ea91/F10_-_FC220513487%207.pdf",null,null,"Relais local","🇫🇷 France - Tournon (73)","La source du verger","0","0",null,null,null,"No","No",null,"Magasin","Jus de fruits","No","No","No","No","No",null,null,"Choisissez un nombre d'articles","0"]
["Nectar de Pêche - 75cl ","4,50 €","4.5","Boissons conditionnées",null,"Boissons","0",null,null,"!%20Liste%20des%20produits%20!%202bf37e7305c3490d8ef04cec2537ea91/F4_-_FC220211755%206.pdf",null,null,"Relais local","🇫🇷 France - Tournon (73)","La source du verger","0","0",null,null,null,"No","No",null,"Magasin","Jus de fruits","No","No","No","No","No",null,null,"Choisissez un nombre d'articles","0"]
["Nectar de Poire - 75cl ","4,50 €","4.5","Boissons conditionnées",null,"Boissons","0",null,null,"!%20Liste%20des%20produits%20!%202bf37e7305c3490d8ef04cec2537ea91/F4_-_FC220211755%205.pdf",null,null,"Relais local","🇫🇷 France - Tournon (73)","La source du verger","0","0",null,null,null,"No","No",null,"Magasin","Jus de fruits","No","No","No","No","No",null,null,"Choisissez un nombre d'articles","0"]
["Nettoyant visage - Peau sèche Hibiscus ","8,90 €","8.9","Produits d'hygiène coporelle","Hygiène & Beauté","Cosmétiques & soins","0",null,null,"!%20Liste%20des%20produits%20!%202bf37e7305c3490d8ef04cec2537ea91/F1_-_2208_-NAB-F2117%206.pdf",null,null,"Aventure Bio","🇫🇷 France - Marche (26)","Lamazuna","0","0",null,null,null,"No","No",null,"A re commander",null,"No","No","No","No","No",null,null,"Choisissez un nombre d'articles","0"]
["Nids de Pâtes de Riz Thai Complet ","17,50 € / kg","17.5","Alimentaire Vrac",null,"Pâtes & Riz","0","!%20Liste%20des%20produits%20!%202bf37e7305c3490d8ef04cec2537ea91/image%2074.jpg","September 15, 2023","!%20Liste%20des%20produits%20!%202bf37e7305c3490d8ef04cec2537ea91/F3-AB-F5731%209.pdf, !%20Liste%20des%20produits%20!%202bf37e7305c3490d8ef04cec2537ea91/F2-NAB-F4138%204.pdf, !%20Liste%20des%20produits%20!%202bf37e7305c3490d8ef04cec2537ea91/F1_-_2208_-NAB-F2117%207.pdf",null,null,"Aventure Bio","🇹🇭 Thailande","Autour du Riz ","0","0",null,null,null,"No","No",null,"Magasin","Riz","No","No","No","No","No",null,null,"Choisissez un poids","0"]
["Noisettes décortiquées","18,90 € / kg","18.9","Alimentaire Vrac",null,"Sucré","0",null,null,"!%20Liste%20des%20produits%20!%202bf37e7305c3490d8ef04cec2537ea91/F3-AB-F5731%205.pdf",null,null,null,"🇹🇷 Turquie",null,"0","0",null,null,null,"No","No",null,"Magasin",null,"No","No","No","No","No",null,null,"Choisissez un poids","0"]
["Noix Cerneaux Brisures 3-12m","28,50 € / kg","28.5","Alimentaire Vrac",null,"Fruits secs & à coques","0",null,null,"!%20Liste%20des%20produits%20!%202bf37e7305c3490d8ef04cec2537ea91/F7_-_Facture_411005664_22FV07675_20220627%2011.pdf",null,null,"Actibio","🇫🇷 France",null,"0","0",null,null,null,"No","No",null,"Magasin","Fruits Secs et à coques","No","No","No","No","No",null,null,"Choisissez un poids","0"]
["Noix de Cajou Nature","23,50 € / kg","2.5","Alimentaire Vrac",null,"Fruits secs & à coques","0","!%20Liste%20des%20produits%20!%202bf37e7305c3490d8ef04cec2537ea91/5BA49A07-36E3-4F76-A7B0-6F652BC30BB1.jpeg","April 1, 2024","!%20Liste%20des%20produits%20!%202bf37e7305c3490d8ef04cec2537ea91/F09_-_EP_-_FV69079%208.pdf",null,null,"Scop epices","🇻🇳 Vietnam",null,"0","0",null,null,null,"No","No",null,"Magasin",null,"No","No","No","No","No",null,null,"Choisissez un poids","0"]
["Noix de coco Chips ","12,00 € / kg","12","Alimentaire Vrac",null,"Fruits secs & à coques","0","!%20Liste%20des%20produits%20!%202bf37e7305c3490d8ef04cec2537ea91/image%2079.jpg","May 30, 2023","!%20Liste%20des%20produits%20!%202bf37e7305c3490d8ef04cec2537ea91/F10_-_22FV11834_20221102%2014.pdf",null,null,"Actibio","🇱🇰 Sri Lanka",null,"0","0",null,null,null,"No","No",null,"Magasin","Fruits Secs et à coques","No","No","No","No","No",null,null,"Choisissez un poids","0"]
["Noix de Coco Râpée ","8€ / kg","8","Alimentaire Vrac",null,"Fruits secs & à coques","0","!%20Liste%20des%20produits%20!%202bf37e7305c3490d8ef04cec2537ea91/image%2080.jpg",null,"!%20Liste%20des%20produits%20!%202bf37e7305c3490d8ef04cec2537ea91/F8_-_Facture_411005664_22FV10465_20220923%208.pdf",null,null,"Actibio","🇵🇭 Philippines",null,"0","0",null,null,null,"No","No",null,"Magasin","Fruits Secs et à coques","No","No","No","No","No",null,null,"Choisissez un poids","0"]
["Noix de Pécan - Gros Morceaux ","29,00 € / kg","29","Alimentaire Vrac",null,"Fruits secs & à coques","0","!%20Liste%20des%20produits%20!%202bf37e7305c3490d8ef04cec2537ea91/image%2081.jpg","July 31, 2023","!%20Liste%20des%20produits%20!%202bf37e7305c3490d8ef04cec2537ea91/F10_-_22FV11834_20221102%2015.pdf",null,null,"Actibio","🇲🇽 Mexique",null,"0","0",null,null,null,"No","No",null,"Magasin","Fruits Secs et à coques","No","No","No","No","No",null,null,"Choisissez un poids","0"]
["Noix du brésil ","22,00 € / kg","22","Alimentaire Vrac",null,"Fruits secs & à coques","0","!%20Liste%20des%20produits%20!%202bf37e7305c3490d8ef04cec2537ea91/image%20103.jpg","April 30, 2024","!%20Liste%20des%20produits%20!%202bf37e7305c3490d8ef04cec2537ea91/F10_-_22FV11834_20221102%2020.pdf",null,null,"Actibio","🇧🇷 Brésil",null,"0","0",null,null,null,"No","No",null,"Magasin","Fruits Secs et à coques","No","No","No","No","No",null,null,"Choisissez un poids","0"]
["Oeufs frais bio (boîte de 6)",3,3,"Produits Frais",null,null,"0",null,null,"!%20Liste%20des%20produits%20!%202bf37e7305c3490d8ef04cec2537ea91/F1_-2112_-_FAC215.pdf, !%20Liste%20des%20produits%20!%202bf37e7305c3490d8ef04cec2537ea91/F2_-2202_-_FAC242.pdf, !%20Liste%20des%20produits%20!%202bf37e7305c3490d8ef04cec2537ea91/F3_-2202_FAC246.pdf, !%20Liste%20des%20produits%20!%202bf37e7305c3490d8ef04cec2537ea91/F4_-2203_-_FAC268.pdf, !%20Liste%20des%20produits%20!%202bf37e7305c3490d8ef04cec2537ea91/F5_-2204_-_FAC291.pdf, !%20Liste%20des%20produits%20!%202bf37e7305c3490d8ef04cec2537ea91/F6_-2205-_FAC315.pdf, !%20Liste%20des%20produits%20!%202bf37e7305c3490d8ef04cec2537ea91/F7_-2209_-_FAC426.pdf, !%20Liste%20des%20produits%20!%202bf37e7305c3490d8ef04cec2537ea91/F8_-_2208_-_FAC397.pdf",null,null,"Le Petit Paysan","🇫🇷 France - Vonnas (01)",null,"0","0",null,null,null,"No","No",null,"Magasin",null,"No","No","No","No","No",null,null,"Choisissez un nombre d'articles","0"]
["Oriculi en bioplastique - Bleu","4,50 €","4.5","Produits d'hygiène coporelle",null,"Accessoires de salle de bain","0",null,null,"!%20Liste%20des%20produits%20!%202bf37e7305c3490d8ef04cec2537ea91/F3-AB-F5731%204.pdf",null,null,null,"🇫🇷 France",null,"No",0,"Magasin",null,"No","No","No","No","No",null,"No","Choisissez un nombre d'articles","0","No","No",null,null,"Choisissez un nombre d'articles",0]
["Oriculi en bioplastique - Jaune","4,50 €","4.5","Produits d'hygiène coporelle",null,"Accessoires de salle de bain","0",null,null,"!%20Liste%20des%20produits%20!%202bf37e7305c3490d8ef04cec2537ea91/F3-AB-F5731%204.pdf",null,null,null,"🇫🇷 France",null,"0","0",null,null,null,"No","No",null,"Magasin",null,"No","No","No","No","No",null,null,"Choisissez un nombre d'articles","0"]
["Oriculi en bioplastique - Vert","4,50 €","4.5","Produits d'hygiène coporelle",null,"Accessoires de salle de bain","0",null,null,"!%20Liste%20des%20produits%20!%202bf37e7305c3490d8ef04cec2537ea91/F3-AB-F5731%204.pdf",null,null,null,"🇫🇷 France",null,"0","0",null,null,null,"No","No",null,"Magasin",null,"No","No","No","No","No",null,null,"Choisissez un nombre d'articles","0"]
["Oriculi en bioplastique - Violet","4,50 €","4.5","Produits d'hygiène coporelle",null,"Accessoires de salle de bain","0",null,null,"!%20Liste%20des%20produits%20!%202bf37e7305c3490d8ef04cec2537ea91/F3-AB-F5731%204.pdf",null,null,null,"🇫🇷 France",null,"No",0,"Magasin",null,"No","No","No","No","No",null,"No","Choisissez un nombre d'articles","0","No","No",null,null,"Choisissez un nombre d'articles",0]
["Paille Courte - 13cm Gravée","1,49 €","1.49","Zéros déchets et Bocaux",null,"Accessoires de cuisine","0",null,null,"!%20Liste%20des%20produits%20!%202bf37e7305c3490d8ef04cec2537ea91/F1_-_2111_-_002432%207.pdf",null,null,"Cap Bambou","🇫🇷 France - Attignat (01)",null,"0","0",null,null,null,"No","No",null,"Magasin",null,"No","No","No","No","No",null,null,"Choisissez un nombre d'articles","0"]
["Paille Longue - 20cm Gravée","1,69 €","1.69","Zéros déchets et Bocaux",null,"Accessoires de cuisine","0",null,null,null,null,null,"Cap Bambou","🇫🇷 France - Attignat (01)",null,"0","0",null,null,null,"No","No",null,"Magasin",null,"No","No","No","No","No",null,null,"Choisissez un nombre d'articles","0"]
["Paillettes de savon de Marseille - Fer à cheval ","17,50 € / kg","17.50","Produits d'entretiens",null,null,"0",null,null,null,null,null,null,null,null,null,"0",null,null,null,"No","No",null,null,null,"No","No","No","No","No",null,null,"Choisissez un poids","0"]
["Panier de rangement (Panier seul)","9,50 €","9.5","Zéros déchets et Bocaux","Salle de Bain",null,"0",null,null,"!%20Liste%20des%20produits%20!%202bf37e7305c3490d8ef04cec2537ea91/F8_-_2210_-_FA000589%205.pdf, !%20Liste%20des%20produits%20!%202bf37e7305c3490d8ef04cec2537ea91/F7_-_FA000480-2022%205.pdf, !%20Liste%20des%20produits%20!%202bf37e7305c3490d8ef04cec2537ea91/F1_-_2111_-_FA0014642021%2012.pdf",null,null,"Alterosac","🇫🇷 France - Annemasse (74)","Alterosac","0","0",null,null,null,"No","No",null,"Magasin",null,"No","No","No","No","No",null,null,"Choisissez un nombre d'articles","0"]
["Papier toilette 600 feuilles non blanchi","0,95 €","0.95","Produits d'entretiens",null,"Droguerie non vrac","0",null,null,"!%20Liste%20des%20produits%20!%202bf37e7305c3490d8ef04cec2537ea91/F5_-_2209_590998%2015.pdf, !%20Liste%20des%20produits%20!%202bf37e7305c3490d8ef04cec2537ea91/F4_-_2206_579761%2019.pdf, !%20Liste%20des%20produits%20!%202bf37e7305c3490d8ef04cec2537ea91/F2_-_2203_564703%2012.pdf, !%20Liste%20des%20produits%20!%202bf37e7305c3490d8ef04cec2537ea91/F1_-_2202_F558904%2012.pdf",null,null,"Biodis","🇫🇷 France ","Papeco","0","0",null,null,null,"Yes","Yes",null,"Magasin",null,"No","No","No","No","No",null,null,"Choisissez un nombre d'articles","0"]
["Paprika Doux Poudre ","67,00 € / kg","67","Alimentaire Vrac",null,"Epices condiments & sauces","0",null,null,"!%20Liste%20des%20produits%20!%202bf37e7305c3490d8ef04cec2537ea91/F5_-_Facture_411005664_22FV04713_20220419%2012.pdf",null,null,"Actibio","🇪🇸 Espagne",null,"0","0",null,null,null,"No","No",null,"Magasin","Epices condiments & sauces","No","No","No","No","No",null,null,"Choisissez un poids","0"]
["Paprika Fort moulu","88,00 € / kg","88","Alimentaire Vrac","Salés","Epices condiments & sauces","0",null,"September 26, 2024","!%20Liste%20des%20produits%20!%202bf37e7305c3490d8ef04cec2537ea91/F11_-_23FV00647_20230119%2016.pdf",null,null,null,"🇪🇸 Espagne",null,"0","0",null,null,null,"No","No",null,"Magasin",null,"No","No","No","No","No",null,null,"Choisissez un poids","0"]
["Pâte à tartiner - Amande sésame miel","7,50€","7.5","Alimentaire Conditionné",null,"Bocaux produits sucrés","0",null,null,"!%20Liste%20des%20produits%20!%202bf37e7305c3490d8ef04cec2537ea91/F3-AB-F5731%201.pdf",null,null,"Happy Hours","🇫🇷 France - Eurre (27)",null,null,"0",null,null,null,"No","No",null,"Magasin",null,"No","No","No","No","No",null,null,"Choisissez un nombre d'articles","0"]
["Pâte à tartiner - Cajou coco miel bio","7,50€","7.5","Alimentaire Conditionné",null,"Bocaux produits sucrés","0",null,null,"!%20Liste%20des%20produits%20!%202bf37e7305c3490d8ef04cec2537ea91/F3-AB-F5731.pdf",null,null,"Happy Hours","🇫🇷 France - Eurre (27)",null,null,"0",null,null,null,"No","No",null,"Magasin",null,"No","No","No","No","No",null,null,"Choisissez un nombre d'articles","0"]
["Pâte à tartiner Amande Miel - 280g ","10,50€","10.50","Alimentaire Conditionné","Pâtes à tartiner","Bocaux produits sucrés","0",null,null,"!%20Liste%20des%20produits%20!%202bf37e7305c3490d8ef04cec2537ea91/F22_-_RL_-_FC230117497%204.pdf",null,null,"Relais local","🇫🇷 France - Saint Priest (69)","Go Nuts",null,"0",null,null,null,"No","No",null,null,null,"No","No","No","No","No",null,null,"Choisissez un poids","0"]
["Pâte à tartiner Choc-Noisettes - 265g ","9,90€","9.9","Alimentaire Conditionné","Pâtes à tartiner","Bocaux produits sucrés","0",null,null,"!%20Liste%20des%20produits%20!%202bf37e7305c3490d8ef04cec2537ea91/F22_-_RL_-_FC230117497%205.pdf, !%20Liste%20des%20produits%20!%202bf37e7305c3490d8ef04cec2537ea91/F4_-_FC220211755%2011.pdf, !%20Liste%20des%20produits%20!%202bf37e7305c3490d8ef04cec2537ea91/F2_-_FC220111208%2018.pdf",null,null,"Relais local","🇫🇷 France - Saint Priest (69)","Go Nuts",null,"0",null,null,null,"No","No",null,"Magasin","Pâte à tartiner","No","No","No","No","No",null,null,"Choisissez un nombre d'articles","0"]
["Pâtes - Coquillettes blanches","3,50€ / kg","3.5","Alimentaire Vrac",null,"Pâtes & Riz","0","!%20Liste%20des%20produits%20!%202bf37e7305c3490d8ef04cec2537ea91/BC604703-E0A0-4941-BBD7-98013CF9AA52.jpeg",null,"!%20Liste%20des%20produits%20!%202bf37e7305c3490d8ef04cec2537ea91/F10_-_EP_-_FV70173%201.pdf",null,null,null,"🇮🇹 Italie",null,null,"0",null,null,null,"No","No",null,null,null,"No","No","No","No","No",null,null,"Choisissez un poids","0"]
["Pâtes - Coquillettes Semi Complètes ","3,50€ / kg","3.5","Alimentaire Vrac",null,"Pâtes & Riz","0",null,null,"!%20Liste%20des%20produits%20!%202bf37e7305c3490d8ef04cec2537ea91/F2_-_EPICE_-_FV57470%202.pdf",null,null,"Scop Epice","🇫🇷 France",null,null,"0",null,null,null,"No","No",null,"Terminé","Pâtes","No","No","No","No","No",null,null,"Choisissez un poids","0"]
["Pâtes - Farfalles Blanches ","3,30€ / kg","3.3","Alimentaire Vrac",null,"Pâtes & Riz","0","!%20Liste%20des%20produits%20!%202bf37e7305c3490d8ef04cec2537ea91/image%2036.jpg, !%20Liste%20des%20produits%20!%202bf37e7305c3490d8ef04cec2537ea91/image%2037.jpg","August 24, 2025","!%20Liste%20des%20produits%20!%202bf37e7305c3490d8ef04cec2537ea91/F8_-_Facture_411005664_22FV10465_20220923%202.pdf, !%20Liste%20des%20produits%20!%202bf37e7305c3490d8ef04cec2537ea91/F7_-_Facture_411005664_22FV07675_20220627%202.pdf, !%20Liste%20des%20produits%20!%202bf37e7305c3490d8ef04cec2537ea91/F5_-_Facture_411005664_22FV04713_20220419%205.pdf",null,null,"Actibio","🇮🇹 Italie",null,"0","0",null,null,null,"Yes","Yes",null,"Magasin","Pâtes","No","No","No","No","No",null,null,"Choisissez un poids","0"]
["Pâtes - Lasagnes Blanches ","6,00€ / kg","6","Alimentaire Vrac",null,"Pâtes & Riz","0","!%20Liste%20des%20produits%20!%202bf37e7305c3490d8ef04cec2537ea91/image%2057.jpg","July 19, 2025","!%20Liste%20des%20produits%20!%202bf37e7305c3490d8ef04cec2537ea91/F10_-_22FV11834_20221102%2011.pdf, !%20Liste%20des%20produits%20!%202bf37e7305c3490d8ef04cec2537ea91/F5_-_Facture_411005664_22FV04713_20220419%2010.pdf",null,null,"Actibio","🇮🇹 Italie",null,"0","0",null,null,null,"No","No",null,"Magasin","Pâtes","No","No","No","No","No",null,null,"Choisissez un poids","0"]
["Pâtes - Pennes Blancs ","3,50€ / kg","4.5","Alimentaire Vrac",null,"Pâtes & Riz","0","!%20Liste%20des%20produits%20!%202bf37e7305c3490d8ef04cec2537ea91/BB78FC2A-337D-4190-AE22-894E477DED31.jpeg",null,null,null,null,null,"🇫🇷 France - Provence ",null,null,"0",null,null,null,"No","No",null,null,null,"No","No","No","No","No",null,null,"Choisissez un poids","0"]
["Pâtes - Pennes Semi Complets","3,50€ / kg","4.5","Alimentaire Vrac","Salés","Pâtes & Riz","0",null,null,"!%20Liste%20des%20produits%20!%202bf37e7305c3490d8ef04cec2537ea91/F09_-_EP_-_FV69079%209.pdf",null,null,null,"🇫🇷 France - Provence ",null,"0","0",null,null,null,"No","No",null,"Magasin",null,"No","No","No","No","No",null,null,"Choisissez un poids","0"]
["Pâtes - Spaghettis Blancs","3,30€/kg","3.3","Alimentaire Vrac",null,"Pâtes & Riz","0",null,null,"!%20Liste%20des%20produits%20!%202bf37e7305c3490d8ef04cec2537ea91/F6_-Facture_411005664_22FV06518_20220531%2014.pdf, !%20Liste%20des%20produits%20!%202bf37e7305c3490d8ef04cec2537ea91/F1_-_21FV13778_20211129%2069.pdf",null,null,"Actibio","🇮🇹 Italie",null,null,"0",null,null,null,"Yes","Yes",null,"Magasin","Pâtes","No","No","No","No","No",null,null,"Choisissez un poids","0"]
["Pâtes - Spaghettis Complets","3,30€/kg","3.3","Alimentaire Vrac",null,"Pâtes & Riz","0",null,null,"!%20Liste%20des%20produits%20!%202bf37e7305c3490d8ef04cec2537ea91/F6_-Facture_411005664_22FV06518_20220531%2015.pdf, !%20Liste%20des%20produits%20!%202bf37e7305c3490d8ef04cec2537ea91/F1_-_21FV13778_20211129%2070.pdf",null,null,"Actibio","🇮🇹 Italie",null,null,"0",null,null,null,"Yes","Yes",null,"Magasin","Pâtes","No","No","No","No","No",null,null,"Choisissez un poids","0"]
["Pâtes - Tagliatelles Nature sans oeufs","4,50€/kg","4.5","Alimentaire Vrac",null,"Pâtes & Riz","0",null,null,"!%20Liste%20des%20produits%20!%202bf37e7305c3490d8ef04cec2537ea91/F4_-_EPICE_-_FV59545pdf%2012.pdf, !%20Liste%20des%20produits%20!%202bf37e7305c3490d8ef04cec2537ea91/F1_-_EPICE_-_FV55099%2018.pdf",null,null,"Scop Epice","🇫🇷 France - Provence","Lazzareti",null,"0",null,null,null,"No","No",null,"Magasin",null,"No","No","No","No","No",null,null,"Choisissez un poids","0"]
["Peigne Démeloir à manche","6,49 €","6.49","Produits d'hygiène coporelle",null,"Accessoires de salle de bain","0",null,null,"!%20Liste%20des%20produits%20!%202bf37e7305c3490d8ef04cec2537ea91/F2_-_2205_-_002952%206.pdf, !%20Liste%20des%20produits%20!%202bf37e7305c3490d8ef04cec2537ea91/F1_-_2111_-_002432%208.pdf",null,null,"Cap Bambou","🇫🇷 France - Attignat (01)",null,"0","0",null,null,null,"No","No",null,"Magasin",null,"No","No","No","No","No",null,null,"Choisissez un nombre d'articles","0"]
["Peigne Démêloir sans manche","6,49 €","6.49","Produits d'hygiène coporelle",null,"Accessoires de salle de bain","0",null,null,"!%20Liste%20des%20produits%20!%202bf37e7305c3490d8ef04cec2537ea91/F2_-_2205_-_002952%207.pdf, !%20Liste%20des%20produits%20!%202bf37e7305c3490d8ef04cec2537ea91/F1_-_2111_-_002432%209.pdf",null,null,"Cap Bambou","🇫🇷 France - Attignat (01)",null,"0","0",null,null,null,"No","No",null,"Magasin",null,"No","No","No","No","No",null,null,"Choisissez un nombre d'articles","0"]
["Pelle à thé Inox",10.9,10.9,null,null,"Café thés tisanes herbiers","0",null,null,"!%20Liste%20des%20produits%20!%202bf37e7305c3490d8ef04cec2537ea91/F1_-_2207%205.pdf",null,null,"SolàSol","🇫🇷 France - Sud Est",null,null,"0",null,null,null,"No","No","!%20Liste%20des%20produits%20!%202bf37e7305c3490d8ef04cec2537ea91/Bons_de_livraison_-_2%201.pdf","Magasin",null,"No","No","No","No","No",null,null,"Choisissez un poids","0"]
["Percarbonate Blanchissant Linge Vrac ","4,90 € / kg","4.9","Produits d'entretiens",null,"Entretiens Vrac","0",null,null,"!%20Liste%20des%20produits%20!%202bf37e7305c3490d8ef04cec2537ea91/F3_-_FC220111443%205.pdf",null,null,"Relais local","🇫🇷 France - Malataverne (26)","Bulle verte","0","0",null,null,null,"No","No",null,"Magasin",null,"No","No","No","No","No",null,null,"Choisissez un poids","0"]
["Pesto Ail des Ours","4,20 €","4.20","Alimentaire Conditionné",null,null,null,null,null,null,null,null,"Relais local","🇫🇷 France - Vercoiran (26)"]
["Pesto Basilic classique - ","4,20 €","4.2","Alimentaire Conditionné","Sauces","Bocaux produits salés","0","!%20Liste%20des%20produits%20!%202bf37e7305c3490d8ef04cec2537ea91/image%2085.jpg",null,"!%20Liste%20des%20produits%20!%202bf37e7305c3490d8ef04cec2537ea91/F18_-_FC221015817%204.pdf, !%20Liste%20des%20produits%20!%202bf37e7305c3490d8ef04cec2537ea91/F4_-_FC220211755%2010.pdf",null,null,"Relais local","🇫🇷 France - Vercoiran (26)","Le Fabuleux Jardin","0","0",null,null,null,"No","No",null,"Magasin","Sauces","No","No","No","No","No",null,null,"Choisissez un nombre d'articles","0"]
["Pesto Rosso - 90g","4,20 €","4.2","Alimentaire Conditionné",null,"Bocaux produits salés","0",null,null,"!%20Liste%20des%20produits%20!%202bf37e7305c3490d8ef04cec2537ea91/F2_-_2203_564703%2013.pdf",null,null,"Biodis","🇫🇷 France ","Emile Noel","0","0",null,null,null,"No","No",null,"Magasin","Sauces","No","No","No","No","No",null,null,"Choisissez un nombre d'articles","0"]
["Pesto Verde - 90g","4,20 €","4.2","Alimentaire Conditionné",null,"Bocaux produits salés","0",null,null,"!%20Liste%20des%20produits%20!%202bf37e7305c3490d8ef04cec2537ea91/F2_-_2203_564703%2014.pdf",null,null,"Biodis","🇫🇷 France ","Emile Noel","0","0",null,null,null,"No","No",null,"Magasin","Sauces","No","No","No","No","No",null,null,"Choisissez un nombre d'articles","0"]
["Petit Epeautre ","7,50 € / kg","7.5","Alimentaire Vrac",null,"Céréales - Légumineuses & Graines","0",null,null,"!%20Liste%20des%20produits%20!%202bf37e7305c3490d8ef04cec2537ea91/F4_-_EPICE_-_FV59545pdf%208.pdf",null,null,"Scop Epice","🇫🇷 France - Drôme","Mab'bio","0","0",null,null,null,"No","No",null,"Magasin","Céréales","No","No","No","No","No",null,null,"Choisissez un poids","0"]
["Petit Sac à thé de Noël","2,50 €","2.5","Zéros déchets et Bocaux",null,null,"0",null,null,"!%20Liste%20des%20produits%20!%202bf37e7305c3490d8ef04cec2537ea91/F1_-_2111_-_FA0014642021%2013.pdf",null,null,"Alterosac","🇫🇷 France - Annemasse (74)","Alterosac","0","0",null,null,null,"No","No",null,"Magasin",null,"No","No","No","No","No",null,null,"Choisissez un nombre d'articles","0"]
["Pignons de Pin","67,00 € / kg","67","Alimentaire Vrac",null,"Céréales - Légumineuses & Graines","0",null,null,"!%20Liste%20des%20produits%20!%202bf37e7305c3490d8ef04cec2537ea91/F1_-_21FV13778_20211129%2050.pdf",null,null,"Actibio","🇷🇺 Russie",null,"0","0",null,null,null,"Yes","Yes",null,"Magasin",null,"No","No","No","No","No",null,null,"Choisissez un poids","0"]
["Pistaches Coques Grillées Salées","35,00 € / kg","35","Alimentaire Vrac","Salés","Biscuits salés & Apéro","0","!%20Liste%20des%20produits%20!%202bf37e7305c3490d8ef04cec2537ea91/image%2086.jpg","May 31, 2024","!%20Liste%20des%20produits%20!%202bf37e7305c3490d8ef04cec2537ea91/F1_-_21FV13778_20211129%2051.pdf, !%20Liste%20des%20produits%20!%202bf37e7305c3490d8ef04cec2537ea91/F2_-_22FV01075_20220127%2014.pdf, !%20Liste%20des%20produits%20!%202bf37e7305c3490d8ef04cec2537ea91/F6_-Facture_411005664_22FV06518_20220531%2011.pdf, !%20Liste%20des%20produits%20!%202bf37e7305c3490d8ef04cec2537ea91/F11_-_23FV00647_20230119%2018.pdf",null,null,"Actibio","🇪🇸 Espagne",null,"0","0",null,null,null,"No","No",null,"Magasin","Biscuits Apéro & salés","No","No","No","No","No",null,null,"Choisissez un poids","0"]
["Pistaches vertes sans coque non salées ","46,00 € / kg","46","Alimentaire Vrac",null,"Biscuits salés & Apéro","0",null,"July 31, 2024","!%20Liste%20des%20produits%20!%202bf37e7305c3490d8ef04cec2537ea91/F10_-_22FV11834_20221102.pdf",null,null,null,"🇪🇸 Espagne",null,"0","0",null,null,null,"No","No",null,"Magasin",null,"No","No","No","No","No",null,null,"Choisissez un poids","0"]
["Pochette à brosse à dent ou à paille","3,50 €","3.5","Zéros déchets et Bocaux",null,null,"0",null,null,"!%20Liste%20des%20produits%20!%202bf37e7305c3490d8ef04cec2537ea91/F8_-_2210_-_FA000589%206.pdf, !%20Liste%20des%20produits%20!%202bf37e7305c3490d8ef04cec2537ea91/F7_-_FA000480-2022%206.pdf, !%20Liste%20des%20produits%20!%202bf37e7305c3490d8ef04cec2537ea91/F6_-_2205_-_FA000338-2022%205.pdf, !%20Liste%20des%20produits%20!%202bf37e7305c3490d8ef04cec2537ea91/F5_-_2203_-_FA000217%203.pdf, !%20Liste%20des%20produits%20!%202bf37e7305c3490d8ef04cec2537ea91/F1_-_2111_-_FA0014642021%2016.pdf",null,null,"Alterosac","🇫🇷 France - Annemasse (74)","Alterosac","0","0",null,null,null,"No","No",null,"Magasin",null,"No","No","No","No","No",null,null,"Choisissez un nombre d'articles","0"]
["Pochette à Goûter ","9,50 €","9.5","Zéros déchets et Bocaux",null,null,"0",null,null,"!%20Liste%20des%20produits%20!%202bf37e7305c3490d8ef04cec2537ea91/F6_-_2205_-_FA000338-2022%206.pdf, !%20Liste%20des%20produits%20!%202bf37e7305c3490d8ef04cec2537ea91/F3_-_2201_-_FA000072-2022%202.pdf, !%20Liste%20des%20produits%20!%202bf37e7305c3490d8ef04cec2537ea91/F2_-_2112_-_FA001595%202.pdf, !%20Liste%20des%20produits%20!%202bf37e7305c3490d8ef04cec2537ea91/F1_-_2111_-_FA0014642021%2017.pdf",null,null,"Alterosac","🇫🇷 France - Annemasse (74)","Alterosac","0","0",null,null,null,"No","No",null,"Magasin",null,"No","No","No","No","No",null,null,"Choisissez un nombre d'articles","0"]
["Pochette à Savon","4,50 €","4.5","Zéros déchets et Bocaux",null,null,"0",null,null,"!%20Liste%20des%20produits%20!%202bf37e7305c3490d8ef04cec2537ea91/F8_-_2210_-_FA000589%207.pdf, !%20Liste%20des%20produits%20!%202bf37e7305c3490d8ef04cec2537ea91/F7_-_FA000480-2022%207.pdf, !%20Liste%20des%20produits%20!%202bf37e7305c3490d8ef04cec2537ea91/F6_-_2205_-_FA000338-2022%207.pdf, !%20Liste%20des%20produits%20!%202bf37e7305c3490d8ef04cec2537ea91/F5_-_2203_-_FA000217%204.pdf, !%20Liste%20des%20produits%20!%202bf37e7305c3490d8ef04cec2537ea91/F3_-_2201_-_FA000072-2022%203.pdf, !%20Liste%20des%20produits%20!%202bf37e7305c3490d8ef04cec2537ea91/F2_-_2112_-_FA001595%203.pdf, !%20Liste%20des%20produits%20!%202bf37e7305c3490d8ef04cec2537ea91/F1_-_2111_-_FA0014642021%2018.pdf",null,null,"Alterosac","🇫🇷 France - Annemasse (74)","Alterosac","0","0",null,null,null,"No","No",null,"Magasin",null,"No","No","No","No","No",null,null,"Choisissez un nombre d'articles","0"]
["Pois chiches","5€ / kg","5","Alimentaire Vrac","Salés","Céréales - Légumineuses & Graines","0","!%20Liste%20des%20produits%20!%202bf37e7305c3490d8ef04cec2537ea91/2AC42F35-F071-4D11-9965-001866831C1F.jpeg","January 1, 2024","!%20Liste%20des%20produits%20!%202bf37e7305c3490d8ef04cec2537ea91/F09_-_EP_-_FV69079%2010.pdf",null,null,null,"🇫🇷 France - Provence ",null,"0","0",null,null,null,"No","No",null,"Magasin",null,"No","No","No","No","No",null,null,"Choisissez un poids","0"]
["Poivre Blanc Grains ","115,00 € / kg","115","Alimentaire Vrac",null,"Epices condiments & sauces","0",null,null,"!%20Liste%20des%20produits%20!%202bf37e7305c3490d8ef04cec2537ea91/F1_-_21FV13778_20211129%2055.pdf",null,null,"Actibio","🇱🇰 Sri Lanka",null,"0","0",null,null,null,"Yes","Yes",null,"Magasin","Epices condiments & sauces","No","No","No","No","No",null,null,"Choisissez un poids","0"]
["Poivre Noir en poudre","50€/kg",50,"Alimentaire Vrac"]
["Poivre Noir Grains ","85,00 € / kg","85","Alimentaire Vrac",null,"Epices condiments & sauces","0",null,null,"!%20Liste%20des%20produits%20!%202bf37e7305c3490d8ef04cec2537ea91/F5_-_Facture_411005664_22FV04713_20220419%2015.pdf",null,null,"Actibio","🇱🇰 Sri Lanka",null,"0","0",null,null,null,"No","No",null,"Magasin","Epices condiments & sauces","No","No","No","No","No",null,null,"Choisissez un poids","0"]
["Polenta instantanée ","3,50 € / kg","3.5","Alimentaire Vrac",null,"Céréales - Légumineuses & Graines","0",null,null,"!%20Liste%20des%20produits%20!%202bf37e7305c3490d8ef04cec2537ea91/F2_-_EPICE_-_FV57470%2016.pdf",null,null,"Scop Epice","🇫🇷 France - Provence",null,"0","0",null,null,null,"No","No",null,"Magasin","Céréales","No","No","No","No","No",null,null,"Choisissez un poids","0"]
["Pommes séchées rondelles ","25,00 € / kg","25",null,null,"Fruits secs & à coques","0",null,null,"!%20Liste%20des%20produits%20!%202bf37e7305c3490d8ef04cec2537ea91/F2_-_2201_-_VF220055%204.pdf",null,null,"Biolonistes","🇹🇷 Turquie",null,"0","0",null,null,null,"Yes","Yes",null,"Magasin","Fruits Secs et à coques","No","No","No","No","No",null,null,"Choisissez un poids","0"]
["Porte savon classic vrac","8,00 €","8","Produits d'hygiène coporelle","Hygiène & Beauté","Accessoires de salle de bain","0",null,null,"!%20Liste%20des%20produits%20!%202bf37e7305c3490d8ef04cec2537ea91/FACT-20211207%2010.pdf",null,null,"Endro","🇫🇷 France - Lannion (22)",null,"0","0",null,null,null,"No","No",null,"Magasin","Crèmes - Baumes & Huiles","No","No","No","No","No",null,null,"Choisissez un nombre d'articles","0"]
["Potion Detoxifiante -  33cl","3,50 €","3.5","Boissons conditionnées",null,"Boissons","0",null,null,"!%20Liste%20des%20produits%20!%202bf37e7305c3490d8ef04cec2537ea91/F4_-_EPICE_-_FV59545pdf%209.pdf, !%20Liste%20des%20produits%20!%202bf37e7305c3490d8ef04cec2537ea91/F2_-_EPICE_-_FV57470%2017.pdf, !%20Liste%20des%20produits%20!%202bf37e7305c3490d8ef04cec2537ea91/F1_-_EPICE_-_FV55099%2013.pdf",null,null,"Scop Epice","🇫🇷 France - (54)","Symples","0","0",null,null,null,"No","No",null,"Magasin",null,"No","No","No","No","No",null,null,"Choisissez un nombre d'articles","0"]
["Potion Detoxifiante - 75cl","5,50€","5.50","Boissons conditionnées",null,"Boissons","0","!%20Liste%20des%20produits%20!%202bf37e7305c3490d8ef04cec2537ea91/5AC78B0D-F137-46C0-ADDC-B2AF928ABC8E.jpeg",null,"!%20Liste%20des%20produits%20!%202bf37e7305c3490d8ef04cec2537ea91/F10_-_EP_-_FV70173%207.pdf",null,null,"Scop Epice","🇫🇷 France - (54)","Symples",null,"0",null,null,null,"No","No",null,null,null,"No","No","No","No","No",null,null,"Choisissez un poids","0"]
["Potion Energisante - 33cl","3,50 €","3.5","Boissons conditionnées",null,"Boissons","0",null,null,"!%20Liste%20des%20produits%20!%202bf37e7305c3490d8ef04cec2537ea91/F4_-_EPICE_-_FV59545pdf%2010.pdf, !%20Liste%20des%20produits%20!%202bf37e7305c3490d8ef04cec2537ea91/F2_-_EPICE_-_FV57470%2018.pdf, !%20Liste%20des%20produits%20!%202bf37e7305c3490d8ef04cec2537ea91/F1_-_EPICE_-_FV55099%2014.pdf",null,null,"Scop Epice","🇫🇷 France - (54)","Symples","0","0",null,null,null,"No","No",null,"Magasin",null,"No","No","No","No","No",null,null,"Choisissez un nombre d'articles","0"]
["Potion Energisante - 75cl","5,50€","5.50","Boissons conditionnées",null,"Boissons","0","!%20Liste%20des%20produits%20!%202bf37e7305c3490d8ef04cec2537ea91/37EDBB04-71D4-45FF-8491-A80947B15386.jpeg","February 1, 2025","!%20Liste%20des%20produits%20!%202bf37e7305c3490d8ef04cec2537ea91/F10_-_EP_-_FV70173%208.pdf",null,null,"Scop Epice","🇫🇷 France - (54)","Symples",null,"0",null,null,null,"No","No",null,null,null,"No","No","No","No","No",null,null,"Choisissez un poids","0"]
["Potion Relaxante -  33cl","3,50 €","3.50","Boissons conditionnées",null,"Boissons","0",null,null,"!%20Liste%20des%20produits%20!%202bf37e7305c3490d8ef04cec2537ea91/F4_-_EPICE_-_FV59545pdf%2011.pdf, !%20Liste%20des%20produits%20!%202bf37e7305c3490d8ef04cec2537ea91/F2_-_EPICE_-_FV57470%2019.pdf",null,null,"Scop Epice","🇫🇷 France - (54)","Symples","0","0",null,null,null,"No","No",null,"Magasin",null,"No","No","No","No","No",null,null,"Choisissez un nombre d'articles","0"]
["Potion Relaxante - 75cl","5,50€","5.50","Boissons conditionnées",null,"Boissons","0","!%20Liste%20des%20produits%20!%202bf37e7305c3490d8ef04cec2537ea91/474B0086-B461-485F-B7A3-7ADBEF674695.jpeg",null,"!%20Liste%20des%20produits%20!%202bf37e7305c3490d8ef04cec2537ea91/F10_-_EP_-_FV70173%209.pdf",null,null,"Scop Epice","🇫🇷 France - (54)","Symples",null,"0",null,null,null,"No","No",null,null,null,"No","No","No","No","No",null,null,"Choisissez un poids","0"]
["Poudre à Lever sans Gluten ","17,90 € / kg","7.9","Alimentaire Vrac",null,"Farine fécules levures & sucres","0",null,null,"!%20Liste%20des%20produits%20!%202bf37e7305c3490d8ef04cec2537ea91/F5_-_Facture_411005664_22FV04713_20220419%2014.pdf",null,null,"Actibio","🇩🇪 Allemagne",null,"0","0",null,null,null,"No","No",null,"Magasin","Levures","No","No","No","No","No",null,null,"Choisissez un poids","0"]
["Poudre d’Amande Blanche ","25€ / kg",25,null,null,"Fruits secs & à coques","0",null,null,"!%20Liste%20des%20produits%20!%202bf37e7305c3490d8ef04cec2537ea91/F2_-_22FV01075_20220127%2015.pdf, !%20Liste%20des%20produits%20!%202bf37e7305c3490d8ef04cec2537ea91/F1_-_21FV13778_20211129%2057.pdf",null,null,"Actibio","🇮🇹 Italie",null,null,"0",null,null,null,"No","No",null,"A re commander","Fruits Secs et à coques","No","No","No","No","No",null,null,"Choisissez un poids","0"]
["Poudre d’amande complète","25€ / kg","25","Alimentaire Vrac",null,"Fruits secs & à coques","0",null,null,"!%20Liste%20des%20produits%20!%202bf37e7305c3490d8ef04cec2537ea91/F09_-_EP_-_FV69079%2011.pdf",null,null,null,"🇪🇸 Espagne",null,"0","0",null,null,null,"No","No",null,"Magasin",null,"No","No","No","No","No",null,null,"Choisissez un poids","0"]
["Protection intime - Protège slip","6,00 €","6","Zéros déchets et Bocaux",null,null,"0",null,null,"!%20Liste%20des%20produits%20!%202bf37e7305c3490d8ef04cec2537ea91/F7_-_FA000480-2022%208.pdf, !%20Liste%20des%20produits%20!%202bf37e7305c3490d8ef04cec2537ea91/F5_-_2203_-_FA000217%205.pdf, !%20Liste%20des%20produits%20!%202bf37e7305c3490d8ef04cec2537ea91/F4_-_2203_-_FA000161%205.pdf, !%20Liste%20des%20produits%20!%202bf37e7305c3490d8ef04cec2537ea91/F1_-_2111_-_FA0014642021%2019.pdf",null,null,"Alterosac","🇫🇷 France - Annemasse (74)","Alterosac","0","0",null,null,null,"No","No",null,"Magasin",null,"No","No","No","No","No",null,null,"Choisissez un nombre d'articles","0"]
["Protection intime - Serviette hygiénique","9€","9","Zéros déchets et Bocaux",null,"Hygiène intime","0",null,null,"!%20Liste%20des%20produits%20!%202bf37e7305c3490d8ef04cec2537ea91/F8_-_2210_-_FA000589%2012.pdf, !%20Liste%20des%20produits%20!%202bf37e7305c3490d8ef04cec2537ea91/F7_-_FA000480-2022%2015.pdf, !%20Liste%20des%20produits%20!%202bf37e7305c3490d8ef04cec2537ea91/F5_-_2203_-_FA000217%2017.pdf, !%20Liste%20des%20produits%20!%202bf37e7305c3490d8ef04cec2537ea91/F4_-_2203_-_FA000161%2017.pdf, !%20Liste%20des%20produits%20!%202bf37e7305c3490d8ef04cec2537ea91/F3_-_2201_-_FA000072-2022%2011.pdf, !%20Liste%20des%20produits%20!%202bf37e7305c3490d8ef04cec2537ea91/F1_-_2111_-_FA0014642021%2035.pdf",null,null,"Alterosac","🇫🇷 France - Annemasse (74)","Alterosac",null,"0",null,null,null,"No","No",null,"Magasin",null,"No","No","No","No","No",null,null,"Choisissez un nombre d'articles","0"]
["Protection intime - Serviette hygiénique Nuit","11€","11","Zéros déchets et Bocaux",null,"Hygiène intime","0",null,null,"!%20Liste%20des%20produits%20!%202bf37e7305c3490d8ef04cec2537ea91/F5_-_2203_-_FA000217%2018.pdf, !%20Liste%20des%20produits%20!%202bf37e7305c3490d8ef04cec2537ea91/F3_-_2201_-_FA000072-2022%2012.pdf, !%20Liste%20des%20produits%20!%202bf37e7305c3490d8ef04cec2537ea91/F1_-_2111_-_FA0014642021%2036.pdf",null,null,"Alterosac","🇫🇷 France - Annemasse (74)","Alterosac",null,"0",null,null,null,"No","No",null,"Magasin",null,"No","No","No","No","No",null,null,"Choisissez un nombre d'articles","0"]
["Pruneaux dénoyautés ","22€ / kg","22","Alimentaire Vrac",null,"Fruits secs & à coques","0",null,null,"!%20Liste%20des%20produits%20!%202bf37e7305c3490d8ef04cec2537ea91/F6_-Facture_411005664_22FV06518_20220531%2013.pdf, !%20Liste%20des%20produits%20!%202bf37e7305c3490d8ef04cec2537ea91/F4_-_Facture_411005664_22FV03404_20220322%2012.pdf",null,null,"Actibio","🇫🇷 France",null,"0","0",null,null,null,"No","No",null,"Magasin","Fruits Secs et à coques","No","No","No","No","No",null,null,"Choisissez un poids","0"]
["Purée Amande 270g - Go Nuts","8,90€","8.9","Alimentaire Conditionné","Pâtes à tartiner","Bocaux produits sucrés","0",null,null,null,null,null,"Relais local","🇫🇷 France - Saint Priest (69)","Go Nuts",null,"0",null,null,null,"No","No",null,"Magasin","Pâte à tartiner","No","No","No","No","No",null,null,"Choisissez un nombre d'articles","0"]
["Purée de Sésame Blanc - France - 350g","6,50€","6.5","Alimentaire Conditionné",null,"Bocaux produits sucrés","0",null,null,"!%20Liste%20des%20produits%20!%202bf37e7305c3490d8ef04cec2537ea91/F5_-_2209_590998%2019.pdf, !%20Liste%20des%20produits%20!%202bf37e7305c3490d8ef04cec2537ea91/F7_-_Facture_411005664_22FV07675_20220627%2015.pdf",null,null,"Biodis","🇫🇷 France ","Jean Hervé",null,"0",null,null,null,"No","No",null,"Magasin","Pâte à tartiner","No","No","No","No","No",null,null,"Choisissez un nombre d'articles","0"]
["Purée Noisette - 270g","8,50€","8.50","Alimentaire Conditionné","Pâtes à tartiner","Bocaux produits sucrés","0",null,null,"!%20Liste%20des%20produits%20!%202bf37e7305c3490d8ef04cec2537ea91/F22_-_RL_-_FC230117497%203.pdf",null,null,"Relais local","🇫🇷 France - Saint Priest (69)","Go Nuts",null,"0",null,null,null,"No","No",null,null,null,"No","No","No","No","No",null,null,"Choisissez un poids","0"]
["Quinoa Complet ","9,50€/kg","9.5","Alimentaire Vrac",null,"Céréales - Légumineuses & Graines","0",null,null,"!%20Liste%20des%20produits%20!%202bf37e7305c3490d8ef04cec2537ea91/F7_-_Facture_411005664_22FV07675_20220627%2016.pdf",null,null,"Actibio","🇫🇷 France",null,null,"0",null,null,null,"No","No",null,"Magasin","Céréales","No","No","No","No","No",null,null,"Choisissez un poids","0"]
["Raisins secs Sultanines","7,90€/kg","7.9","Alimentaire Vrac","Sucrés","Fruits secs & à coques","0","!%20Liste%20des%20produits%20!%202bf37e7305c3490d8ef04cec2537ea91/B48268B4-440B-433D-9630-5E37398F4BF0.jpeg","October 31, 2023","!%20Liste%20des%20produits%20!%202bf37e7305c3490d8ef04cec2537ea91/F09_-_EP_-_FV69079%2012.pdf",null,null,null,"🇹🇷 Turquie",null,null,"0",null,null,null,"Yes","Yes",null,"Magasin",null,"No","No","No","No","No",null,null,"Choisissez un poids","0"]
["Rasoir de sûreté à lame rechargeable","45€","45","Produits d'hygiène coporelle",null,"Accessoires de salle de bain","0",null,null,"!%20Liste%20des%20produits%20!%202bf37e7305c3490d8ef04cec2537ea91/F3-AB-F5731%203.pdf",null,null,null,"🇫🇷 France",null,null,"0",null,null,null,"No","No",null,"Magasin",null,"No","No","No","No","No",null,null,"Choisissez un nombre d'articles","0"]
["Recharge de 10 lames pour rasoir de sûreté","7,50€","7.5","Produits d'hygiène coporelle",null,"Accessoires de salle de bain","0",null,null,"!%20Liste%20des%20produits%20!%202bf37e7305c3490d8ef04cec2537ea91/F3-AB-F5731%202.pdf",null,null,null,"🇫🇷 France",null,null,"0",null,null,null,"No","No",null,"Magasin",null,"No","No","No","No","No",null,null,"Choisissez un nombre d'articles","0"]
["Recouvre bol en coton enduit - Taille à Cake","7€","7","Zéros déchets et Bocaux",null,null,"0",null,null,"!%20Liste%20des%20produits%20!%202bf37e7305c3490d8ef04cec2537ea91/F7_-_FA000480-2022%2010.pdf, !%20Liste%20des%20produits%20!%202bf37e7305c3490d8ef04cec2537ea91/F5_-_2203_-_FA000217%208.pdf, !%20Liste%20des%20produits%20!%202bf37e7305c3490d8ef04cec2537ea91/F4_-_2203_-_FA000161%209.pdf, !%20Liste%20des%20produits%20!%202bf37e7305c3490d8ef04cec2537ea91/F3_-_2201_-_FA000072-2022%206.pdf, !%20Liste%20des%20produits%20!%202bf37e7305c3490d8ef04cec2537ea91/F2_-_2112_-_FA001595%206.pdf, !%20Liste%20des%20produits%20!%202bf37e7305c3490d8ef04cec2537ea91/F1_-_2111_-_FA0014642021%2024.pdf",null,null,"Alterosac","🇫🇷 France - Annemasse (74)","Alterosac",null,"0",null,null,null,"No","No",null,"Magasin",null,"No","No","No","No","No",null,null,"Choisissez un nombre d'articles","0"]
["Recouvre bol en coton enduit - Taille à Gratin","9€","9","Zéros déchets et Bocaux",null,null,"0",null,null,"!%20Liste%20des%20produits%20!%202bf37e7305c3490d8ef04cec2537ea91/F7_-_FA000480-2022%2011.pdf, !%20Liste%20des%20produits%20!%202bf37e7305c3490d8ef04cec2537ea91/F5_-_2203_-_FA000217%209.pdf, !%20Liste%20des%20produits%20!%202bf37e7305c3490d8ef04cec2537ea91/F4_-_2203_-_FA000161%2010.pdf, !%20Liste%20des%20produits%20!%202bf37e7305c3490d8ef04cec2537ea91/F3_-_2201_-_FA000072-2022%207.pdf, !%20Liste%20des%20produits%20!%202bf37e7305c3490d8ef04cec2537ea91/F2_-_2112_-_FA001595%207.pdf, !%20Liste%20des%20produits%20!%202bf37e7305c3490d8ef04cec2537ea91/F1_-_2111_-_FA0014642021%2025.pdf",null,null,"Alterosac","🇫🇷 France - Annemasse (74)","Alterosac",null,"0",null,null,null,"No","No",null,"Magasin",null,"No","No","No","No","No",null,null,"Choisissez un nombre d'articles","0"]
["Recouvre bol en coton enduit - Taille L","9€","9","Zéros déchets et Bocaux",null,null,"0",null,null,"!%20Liste%20des%20produits%20!%202bf37e7305c3490d8ef04cec2537ea91/F8_-_2210_-_FA000589%208.pdf, !%20Liste%20des%20produits%20!%202bf37e7305c3490d8ef04cec2537ea91/F7_-_FA000480-2022%209.pdf, !%20Liste%20des%20produits%20!%202bf37e7305c3490d8ef04cec2537ea91/F6_-_2205_-_FA000338-2022%208.pdf, !%20Liste%20des%20produits%20!%202bf37e7305c3490d8ef04cec2537ea91/F5_-_2203_-_FA000217%206.pdf, !%20Liste%20des%20produits%20!%202bf37e7305c3490d8ef04cec2537ea91/F4_-_2203_-_FA000161%206.pdf, !%20Liste%20des%20produits%20!%202bf37e7305c3490d8ef04cec2537ea91/F3_-_2201_-_FA000072-2022%204.pdf, !%20Liste%20des%20produits%20!%202bf37e7305c3490d8ef04cec2537ea91/F2_-_2112_-_FA001595%204.pdf, !%20Liste%20des%20produits%20!%202bf37e7305c3490d8ef04cec2537ea91/F1_-_2111_-_FA0014642021%2020.pdf",null,null,"Alterosac","🇫🇷 France - Annemasse (74)","Alterosac",null,"0",null,null,null,"No","No",null,"Magasin",null,"No","No","No","No","No",null,null,"Choisissez un nombre d'articles","0"]
["Recouvre bol en coton enduit - Taille M","7€","7","Zéros déchets et Bocaux",null,null,"0",null,null,"!%20Liste%20des%20produits%20!%202bf37e7305c3490d8ef04cec2537ea91/F8_-_2210_-_FA000589%209.pdf, !%20Liste%20des%20produits%20!%202bf37e7305c3490d8ef04cec2537ea91/F5_-_2203_-_FA000217%207.pdf, !%20Liste%20des%20produits%20!%202bf37e7305c3490d8ef04cec2537ea91/F4_-_2203_-_FA000161%207.pdf, !%20Liste%20des%20produits%20!%202bf37e7305c3490d8ef04cec2537ea91/F3_-_2201_-_FA000072-2022%205.pdf, !%20Liste%20des%20produits%20!%202bf37e7305c3490d8ef04cec2537ea91/F2_-_2112_-_FA001595%205.pdf, !%20Liste%20des%20produits%20!%202bf37e7305c3490d8ef04cec2537ea91/F1_-_2111_-_FA0014642021%2021.pdf",null,null,"Alterosac","🇫🇷 France - Annemasse (74)","Alterosac",null,"0",null,null,null,"No","No",null,"Magasin",null,"No","No","No","No","No",null,null,"Choisissez un nombre d'articles","0"]
["Recouvre bol en coton enduit - Taille S","5€","5","Zéros déchets et Bocaux",null,null,"0",null,null,"!%20Liste%20des%20produits%20!%202bf37e7305c3490d8ef04cec2537ea91/F8_-_2210_-_FA000589%2010.pdf, !%20Liste%20des%20produits%20!%202bf37e7305c3490d8ef04cec2537ea91/F4_-_2203_-_FA000161%208.pdf, !%20Liste%20des%20produits%20!%202bf37e7305c3490d8ef04cec2537ea91/F1_-_2111_-_FA0014642021%2022.pdf",null,null,"Alterosac","🇫🇷 France - Annemasse (74)","Alterosac",null,"0",null,null,null,"No","No",null,"Magasin",null,"No","No","No","No","No",null,null,"Choisissez un nombre d'articles","0"]
["Recouvre bol en coton enduit - Taille XS","4€","4","Zéros déchets et Bocaux",null,null,"0",null,null,"!%20Liste%20des%20produits%20!%202bf37e7305c3490d8ef04cec2537ea91/F1_-_2111_-_FA0014642021%2023.pdf",null,null,"Alterosac","🇫🇷 France - Annemasse (74)","Alterosac",null,"0",null,null,null,"No","No",null,"Magasin",null,"No","No","No","No","No",null,null,"Choisissez un nombre d'articles","0"]
["Riz - Trio de Camargue ","6€/kg","6","Alimentaire Vrac","Salés","Pâtes & Riz","0","!%20Liste%20des%20produits%20!%202bf37e7305c3490d8ef04cec2537ea91/9D03D64B-56B0-4DD7-A0F5-CF80FC2D9A93.jpeg","July 1, 2024","!%20Liste%20des%20produits%20!%202bf37e7305c3490d8ef04cec2537ea91/F10_-_EP_-_FV70173%2015.pdf, !%20Liste%20des%20produits%20!%202bf37e7305c3490d8ef04cec2537ea91/F4_-_EPICE_-_FV59545pdf%2013.pdf, !%20Liste%20des%20produits%20!%202bf37e7305c3490d8ef04cec2537ea91/F2_-_EPICE_-_FV57470%2023.pdf",null,null,"Scop Epice","🇫🇷 France - Camargue",null,null,"0",null,null,null,"Yes","Yes",null,"Magasin","Riz","No","No","No","No","No",null,null,"Choisissez un poids","0"]
["Riz Arborio Blanc pour Risotto ","5,50€/kg","5.5","Alimentaire Vrac",null,"Pâtes & Riz","0",null,null,"!%20Liste%20des%20produits%20!%202bf37e7305c3490d8ef04cec2537ea91/F7_-_Facture_411005664_22FV07675_20220627%2017.pdf, !%20Liste%20des%20produits%20!%202bf37e7305c3490d8ef04cec2537ea91/F4_-_Facture_411005664_22FV03404_20220322%2013.pdf, !%20Liste%20des%20produits%20!%202bf37e7305c3490d8ef04cec2537ea91/F1_-_21FV13778_20211129%2061.pdf",null,null,"Actibio","🇮🇹 Italie",null,null,"0",null,null,null,"Yes","Yes",null,"Magasin","Riz","No","No","No","No","No",null,null,"Choisissez un poids","0"]
["Riz Blanc Basmati Blanc ","5,50€/kg","5.50","Alimentaire Vrac",null,"Pâtes & Riz","0","!%20Liste%20des%20produits%20!%202bf37e7305c3490d8ef04cec2537ea91/C12AD1CF-63BD-4978-8026-C20ED22F9B57.jpeg","May 1, 2024","!%20Liste%20des%20produits%20!%202bf37e7305c3490d8ef04cec2537ea91/F10_-_EP_-_FV70173%2010.pdf",null,null,null,"🇵🇰 Pakistan ",null,null,"0",null,null,null,"No","No",null,null,null,"No","No","No","No","No",null,null,"Choisissez un poids","0"]
["Riz Blanc IGP Camargue","5,50€/kg","5.50","Alimentaire Vrac",null,"Pâtes & Riz","0","!%20Liste%20des%20produits%20!%202bf37e7305c3490d8ef04cec2537ea91/5B7B82D6-657D-4411-8410-F692D92A9A73.jpeg","May 1, 2024","!%20Liste%20des%20produits%20!%202bf37e7305c3490d8ef04cec2537ea91/F10_-_EP_-_FV70173%2011.pdf",null,null,null,"🇫🇷 France - Camargue",null,null,"0",null,null,null,"No","No",null,null,null,"No","No","No","No","No",null,null,"Choisissez un poids","0"]
["Riz Long blanc étuvé de Camargue ","4,90€/kg","4.90",null,null,"Pâtes & Riz","0",null,null,"!%20Liste%20des%20produits%20!%202bf37e7305c3490d8ef04cec2537ea91/F7_-_Facture_411005664_22FV07675_20220627%2020.pdf",null,null,"Actibio","🇫🇷 France",null,null,"0",null,null,null,"No","No",null,"Magasin","Riz","No","No","No","No","No",null,null,"Choisissez un poids","0"]
["Riz Long Complet ","4,25€/kg","4.25","Alimentaire Vrac",null,"Pâtes & Riz","0",null,null,"!%20Liste%20des%20produits%20!%202bf37e7305c3490d8ef04cec2537ea91/F4_-_Facture_411005664_22FV03404_20220322%2015.pdf, !%20Liste%20des%20produits%20!%202bf37e7305c3490d8ef04cec2537ea91/F1_-_21FV13778_20211129%2065.pdf",null,null,"Actibio","🇮🇹 Italie",null,null,"0",null,null,null,"Yes","Yes",null,"Magasin","Riz","No","No","No","No","No",null,null,"Choisissez un poids","0"]
["Riz Rond Blanc ",null,null,"/",null,"Pâtes & Riz","0",null,null,"!%20Liste%20des%20produits%20!%202bf37e7305c3490d8ef04cec2537ea91/F1_-_21FV13778_20211129%2066.pdf",null,null,"Actibio","🇮🇹 Italie",null,null,"0",null,null,null,"Yes","Yes",null,"A re commander","Riz","No","No","No","No","No",null,null,"Choisissez un poids","0"]
["Riz Rond blanc IGP Camargue","5,50€","5.50","Alimentaire Vrac",null,"Pâtes & Riz","0","!%20Liste%20des%20produits%20!%202bf37e7305c3490d8ef04cec2537ea91/77101FFF-8A85-4D28-A519-5079637144F7.jpeg",null,"!%20Liste%20des%20produits%20!%202bf37e7305c3490d8ef04cec2537ea91/F10_-_EP_-_FV70173%2012.pdf",null,null,null,"🇫🇷 France - Camargue",null,null,"0",null,null,null,"No","No",null,null,null,"No","No","No","No","No",null,null,"Choisissez un poids","0"]
["Riz semi complet IGP Camargue","4,90€/kg","4.9","Alimentaire Vrac","Salés","Pâtes & Riz","0",null,null,"!%20Liste%20des%20produits%20!%202bf37e7305c3490d8ef04cec2537ea91/F09_-_EP_-_FV69079%2013.pdf",null,null,null,"🇫🇷 France - Camargue",null,null,"0",null,null,null,"No","No",null,"Magasin",null,"No","No","No","No","No",null,null,"Choisissez un poids","0"]
["Romarin feuille ","65€/kg","65","Alimentaire Vrac",null,"Epices condiments & sauces","0",null,null,"!%20Liste%20des%20produits%20!%202bf37e7305c3490d8ef04cec2537ea91/F09_-_EP_-_FV69079%2014.pdf",null,null,"Scop Epice","🇫🇷 France - Drôme",null,null,"0",null,null,null,"No","No",null,"Magasin",null,"No","No","No","No","No",null,null,"Choisissez un poids","0"]
["Rooibos - Earl Grey ","60€/kg","60","Boisson en vrac",null,"Café thés tisanes herbiers","0","!%20Liste%20des%20produits%20!%202bf37e7305c3490d8ef04cec2537ea91/IMG_0099.heic, !%20Liste%20des%20produits%20!%202bf37e7305c3490d8ef04cec2537ea91/IMG_0100.heic","January 1, 2024","!%20Liste%20des%20produits%20!%202bf37e7305c3490d8ef04cec2537ea91/F1_-_2207%206.pdf",null,null,"SolàSol","🇿🇦 Afrique du Sud - Vredendal",null,null,"0",null,null,null,"No","No",null,"Magasin","Thés","No","No","No","No","No",null,null,"Choisissez un poids","0"]
["Rooibos Nature","50€/kg","50","Boisson en vrac",null,"Café thés tisanes herbiers","0",null,null,"!%20Liste%20des%20produits%20!%202bf37e7305c3490d8ef04cec2537ea91/F2_-_EPICE_-_FV57470%2020.pdf",null,null,"Scop Epice","🇿🇦 Afrique du Sud ",null,null,"0",null,null,null,"No","No",null,"Magasin","Thés","No","No","No","No","No",null,null,"Choisissez un poids","0"]
["Sac à congélation - Taille L","8,50€","8.5","Zéros déchets et Bocaux",null,null,"0",null,null,"!%20Liste%20des%20produits%20!%202bf37e7305c3490d8ef04cec2537ea91/F5_-_2203_-_FA000217%2014.pdf, !%20Liste%20des%20produits%20!%202bf37e7305c3490d8ef04cec2537ea91/F4_-_2203_-_FA000161%2015.pdf, !%20Liste%20des%20produits%20!%202bf37e7305c3490d8ef04cec2537ea91/F3_-_2201_-_FA000072-2022%208.pdf, !%20Liste%20des%20produits%20!%202bf37e7305c3490d8ef04cec2537ea91/F2_-_2112_-_FA001595%208.pdf, !%20Liste%20des%20produits%20!%202bf37e7305c3490d8ef04cec2537ea91/F1_-_2111_-_FA0014642021%2031.pdf",null,null,"Alterosac","🇫🇷 France - Annemasse (74)","Alterosac",null,"0",null,null,null,"No","No",null,"Magasin",null,"No","No","No","No","No",null,null,"Choisissez un nombre d'articles","0"]
["Sac à congélation - Taille M","7,50€","7.5","Zéros déchets et Bocaux",null,null,"0",null,null,"!%20Liste%20des%20produits%20!%202bf37e7305c3490d8ef04cec2537ea91/F5_-_2203_-_FA000217%2015.pdf, !%20Liste%20des%20produits%20!%202bf37e7305c3490d8ef04cec2537ea91/F4_-_2203_-_FA000161%2016.pdf, !%20Liste%20des%20produits%20!%202bf37e7305c3490d8ef04cec2537ea91/F3_-_2201_-_FA000072-2022%209.pdf, !%20Liste%20des%20produits%20!%202bf37e7305c3490d8ef04cec2537ea91/F2_-_2112_-_FA001595%209.pdf, !%20Liste%20des%20produits%20!%202bf37e7305c3490d8ef04cec2537ea91/F1_-_2111_-_FA0014642021%2032.pdf",null,null,"Alterosac","🇫🇷 France - Annemasse (74)","Alterosac",null,"0",null,null,null,"No","No",null,"Magasin",null,"No","No","No","No","No",null,null,"Choisissez un nombre d'articles","0"]
["Sac à congélation - Taille S","6,50€","6.5","Zéros déchets et Bocaux",null,null,"0",null,null,"!%20Liste%20des%20produits%20!%202bf37e7305c3490d8ef04cec2537ea91/F5_-_2203_-_FA000217%2016.pdf, !%20Liste%20des%20produits%20!%202bf37e7305c3490d8ef04cec2537ea91/F3_-_2201_-_FA000072-2022%2010.pdf, !%20Liste%20des%20produits%20!%202bf37e7305c3490d8ef04cec2537ea91/F2_-_2112_-_FA001595%2010.pdf, !%20Liste%20des%20produits%20!%202bf37e7305c3490d8ef04cec2537ea91/F1_-_2111_-_FA0014642021%2033.pdf",null,null,"Alterosac","🇫🇷 France - Annemasse (74)","Alterosac",null,"0",null,null,null,"No","No",null,"Magasin",null,"No","No","No","No","No",null,null,"Choisissez un nombre d'articles","0"]
["Sac à vrac en Coton - Taille L","8,50€","8.5","Zéros déchets et Bocaux",null,null,"0",null,null,"!%20Liste%20des%20produits%20!%202bf37e7305c3490d8ef04cec2537ea91/F5_-_2203_-_FA000217%2011.pdf, !%20Liste%20des%20produits%20!%202bf37e7305c3490d8ef04cec2537ea91/F4_-_2203_-_FA000161%2012.pdf, !%20Liste%20des%20produits%20!%202bf37e7305c3490d8ef04cec2537ea91/F1_-_2111_-_FA0014642021%2027.pdf",null,null,"Alterosac","🇫🇷 France - Annemasse (74)","Alterosac",null,"0",null,null,null,"No","No",null,"Magasin",null,"No","No","No","No","No",null,null,"Choisissez un nombre d'articles","0"]
["Sac à vrac en Coton - Taille M","7,50€","7.5","Zéros déchets et Bocaux",null,null,"0",null,null,"!%20Liste%20des%20produits%20!%202bf37e7305c3490d8ef04cec2537ea91/F7_-_FA000480-2022%2013.pdf, !%20Liste%20des%20produits%20!%202bf37e7305c3490d8ef04cec2537ea91/F5_-_2203_-_FA000217%2012.pdf, !%20Liste%20des%20produits%20!%202bf37e7305c3490d8ef04cec2537ea91/F4_-_2203_-_FA000161%2013.pdf, !%20Liste%20des%20produits%20!%202bf37e7305c3490d8ef04cec2537ea91/F1_-_2111_-_FA0014642021%2028.pdf",null,null,"Alterosac","🇫🇷 France - Annemasse (74)","Alterosac",null,"0",null,null,null,"No","No",null,"Magasin",null,"No","No","No","No","No",null,null,"Choisissez un nombre d'articles","0"]
["Sac à vrac en Coton - Taille S","7€","7","Zéros déchets et Bocaux",null,null,"0",null,null,"!%20Liste%20des%20produits%20!%202bf37e7305c3490d8ef04cec2537ea91/F7_-_FA000480-2022%2014.pdf, !%20Liste%20des%20produits%20!%202bf37e7305c3490d8ef04cec2537ea91/F5_-_2203_-_FA000217%2013.pdf, !%20Liste%20des%20produits%20!%202bf37e7305c3490d8ef04cec2537ea91/F4_-_2203_-_FA000161%2014.pdf, !%20Liste%20des%20produits%20!%202bf37e7305c3490d8ef04cec2537ea91/F1_-_2111_-_FA0014642021%2029.pdf",null,null,"Alterosac","🇫🇷 France - Annemasse (74)","Alterosac",null,"0",null,null,null,"No","No",null,"Magasin",null,"No","No","No","No","No",null,null,"Choisissez un nombre d'articles","0"]
["Sarrasin Décortiqué ","7€ / kg",7,"Alimentaire Vrac","Salés","Céréales - Légumineuses & Graines","0",null,null,"!%20Liste%20des%20produits%20!%202bf37e7305c3490d8ef04cec2537ea91/F7_-_Facture_411005664_22FV07675_20220627%2021.pdf",null,null,"Actibio","🇫🇷 France",null,null,"0",null,null,null,"No","No",null,"Magasin","Céréales","No","No","No","No","No",null,null,"Choisissez un poids","0"]
["Savon à froid l’Emir - Clemence & Vivien ",4.5,4.5,"Produits d'hygiène coporelle",null,"Savons pour le corps","0",null,null,"!%20Liste%20des%20produits%20!%202bf37e7305c3490d8ef04cec2537ea91/Facture_5_-_CV060686%208.pdf, !%20Liste%20des%20produits%20!%202bf37e7305c3490d8ef04cec2537ea91/Facture_4_-_CV058684%209.pdf",null,null,"Clémence & Vivien","🇫🇷 France - Chauray (79)","Clémence & Vivien",null,"0",null,null,null,"No","No",null,"Magasin","Savons","No","No","No","No","No",null,null,"Choisissez un nombre d'articles","0"]
["Savon à froid le Chérubin - Clemence & Vivien ",4.2,4.2,"Produits d'hygiène coporelle",null,"Savons pour le corps","0",null,null,"!%20Liste%20des%20produits%20!%202bf37e7305c3490d8ef04cec2537ea91/Facture_6_-_CV063498%204.pdf, !%20Liste%20des%20produits%20!%202bf37e7305c3490d8ef04cec2537ea91/Facture_5_-_CV060686%203.pdf, !%20Liste%20des%20produits%20!%202bf37e7305c3490d8ef04cec2537ea91/Facture_4_-_CV058684%204.pdf, !%20Liste%20des%20produits%20!%202bf37e7305c3490d8ef04cec2537ea91/Facture_3_-_CV056802%207.pdf, !%20Liste%20des%20produits%20!%202bf37e7305c3490d8ef04cec2537ea91/Facture_2_-_CV054805%204.pdf, !%20Liste%20des%20produits%20!%202bf37e7305c3490d8ef04cec2537ea91/Facture_1-_CV052480%2011.pdf",null,null,"Clémence & Vivien","🇫🇷 France - Chauray (79)","Clémence & Vivien",null,"0",null,null,null,"No","No",null,"Magasin","Savons","No","No","No","No","No",null,null,"Choisissez un nombre d'articles","0"]
["Savon à froid le Gandhi - Clemence & Vivien ",4.5,4.5,"Produits d'hygiène coporelle",null,"Savons pour le corps","0",null,null,"!%20Liste%20des%20produits%20!%202bf37e7305c3490d8ef04cec2537ea91/Facture_6_-_CV063498%205.pdf, !%20Liste%20des%20produits%20!%202bf37e7305c3490d8ef04cec2537ea91/Facture_4_-_CV058684%205.pdf, !%20Liste%20des%20produits%20!%202bf37e7305c3490d8ef04cec2537ea91/Facture_2_-_CV054805%205.pdf, !%20Liste%20des%20produits%20!%202bf37e7305c3490d8ef04cec2537ea91/Facture_1-_CV052480%2012.pdf",null,null,"Clémence & Vivien","🇫🇷 France - Chauray (79)","Clémence & Vivien",null,"0",null,null,null,"No","No",null,"Magasin","Savons","No","No","No","No","No",null,null,"Choisissez un nombre d'articles","0"]
["Savon à froid le Gecko - Clemence & Vivien ",4.5,4.5,"Produits d'hygiène coporelle",null,"Savons pour le corps","0",null,null,"!%20Liste%20des%20produits%20!%202bf37e7305c3490d8ef04cec2537ea91/Facture_6_-_CV063498%206.pdf, !%20Liste%20des%20produits%20!%202bf37e7305c3490d8ef04cec2537ea91/Facture_5_-_CV060686%204.pdf, !%20Liste%20des%20produits%20!%202bf37e7305c3490d8ef04cec2537ea91/Facture_4_-_CV058684%206.pdf, !%20Liste%20des%20produits%20!%202bf37e7305c3490d8ef04cec2537ea91/Facture_3_-_CV056802%208.pdf, !%20Liste%20des%20produits%20!%202bf37e7305c3490d8ef04cec2537ea91/Facture_2_-_CV054805%206.pdf",null,null,"Clémence & Vivien","🇫🇷 France - Chauray (79)","Clémence & Vivien",null,"0",null,null,null,"No","No",null,"Magasin","Savons","No","No","No","No","No",null,null,"Choisissez un nombre d'articles","0"]
["Savon à froid le Saint Bernard - Clemence & Vivien ",4.5,4.5,"Produits d'hygiène coporelle",null,"Savons pour le corps","0",null,null,"!%20Liste%20des%20produits%20!%202bf37e7305c3490d8ef04cec2537ea91/Facture_6_-_CV063498%207.pdf, !%20Liste%20des%20produits%20!%202bf37e7305c3490d8ef04cec2537ea91/Facture_5_-_CV060686%205.pdf, !%20Liste%20des%20produits%20!%202bf37e7305c3490d8ef04cec2537ea91/Facture_4_-_CV058684%207.pdf, !%20Liste%20des%20produits%20!%202bf37e7305c3490d8ef04cec2537ea91/Facture_3_-_CV056802%209.pdf, !%20Liste%20des%20produits%20!%202bf37e7305c3490d8ef04cec2537ea91/Facture_2_-_CV054805%207.pdf, !%20Liste%20des%20produits%20!%202bf37e7305c3490d8ef04cec2537ea91/Facture_1-_CV052480%2013.pdf",null,null,"Clémence & Vivien","🇫🇷 France - Chauray (79)","Clémence & Vivien",null,"0",null,null,null,"No","No",null,"Magasin","Savons","No","No","No","No","No",null,null,"Choisissez un nombre d'articles","0"]
["Savon à froid le Suisse - Clemence & Vivien ",4.2,4.2,"Produits d'hygiène coporelle",null,"Savons pour le corps","0",null,null,"!%20Liste%20des%20produits%20!%202bf37e7305c3490d8ef04cec2537ea91/Facture_6_-_CV063498%208.pdf, !%20Liste%20des%20produits%20!%202bf37e7305c3490d8ef04cec2537ea91/Facture_5_-_CV060686%206.pdf, !%20Liste%20des%20produits%20!%202bf37e7305c3490d8ef04cec2537ea91/Facture_3_-_CV056802%2010.pdf, !%20Liste%20des%20produits%20!%202bf37e7305c3490d8ef04cec2537ea91/Facture_2_-_CV054805%208.pdf, !%20Liste%20des%20produits%20!%202bf37e7305c3490d8ef04cec2537ea91/Facture_1-_CV052480%2014.pdf",null,null,"Clémence & Vivien","🇫🇷 France - Chauray (79)","Clémence & Vivien",null,"0",null,null,null,"No","No",null,"Magasin","Savons","No","No","No","No","No",null,null,"Choisissez un nombre d'articles","0"]
["Savon à froid le Vahiné - Clemence & Vivien ",4.5,4.5,"Produits d'hygiène coporelle",null,"Savons pour le corps","0",null,null,"!%20Liste%20des%20produits%20!%202bf37e7305c3490d8ef04cec2537ea91/Facture_6_-_CV063498%209.pdf, !%20Liste%20des%20produits%20!%202bf37e7305c3490d8ef04cec2537ea91/Facture_5_-_CV060686%207.pdf, !%20Liste%20des%20produits%20!%202bf37e7305c3490d8ef04cec2537ea91/Facture_4_-_CV058684%208.pdf, !%20Liste%20des%20produits%20!%202bf37e7305c3490d8ef04cec2537ea91/Facture_3_-_CV056802%2011.pdf, !%20Liste%20des%20produits%20!%202bf37e7305c3490d8ef04cec2537ea91/Facture_2_-_CV054805%209.pdf, !%20Liste%20des%20produits%20!%202bf37e7305c3490d8ef04cec2537ea91/Facture_1-_CV052480%2015.pdf",null,null,"Clémence & Vivien","🇫🇷 France - Chauray (79)","Clémence & Vivien",null,"0",null,null,null,"No","No",null,"Magasin","Savons","No","No","No","No","No",null,null,"Choisissez un nombre d'articles","0"]
["Savon liquide de Marseille à l’huile d’olive & Lavande","6,90€ / kg","6.9","Produits d'hygiène coporelle",null,null,"0",null,null,"!%20Liste%20des%20produits%20!%202bf37e7305c3490d8ef04cec2537ea91/F1_-_2208_-NAB-F2117%208.pdf",null,null,"Aventure Bio","🇫🇷 France - La Ciotat (13)","La savonnerie du Pilon du Roy",null,"0",null,null,null,"No","No",null,"Magasin",null,"No","No","No","No","No",null,null,"Choisissez un poids","0"]
["Savon Noir Tradition - Vrac ","5€ / kg","5","Produits d'entretiens",null,"Liquide d'entretien en vrac","0",null,null,"!%20Liste%20des%20produits%20!%202bf37e7305c3490d8ef04cec2537ea91/F7_-_FC220312424%206.pdf, !%20Liste%20des%20produits%20!%202bf37e7305c3490d8ef04cec2537ea91/F5_-_FC220211840_-_41059.pdf",null,null,"Relais local","🇫🇷 France - Malataverne (26)","Bulle verte",null,"0",null,null,null,"No","No",null,"Magasin",null,"No","No","No","No","No",null,null,"Choisissez un poids","0"]
["Savon Soin Lavant Purifiant - Endro","14,90€","14.9","Produits d'hygiène coporelle","Cosmétiques & soins","Cosmétiques & soins","0",null,null,"!%20Liste%20des%20produits%20!%202bf37e7305c3490d8ef04cec2537ea91/F3-20220928-15395_1664360686.5851%207.pdf",null,null,"Endro","🇫🇷 France - Lannion (22)","Endro",null,"0",null,null,null,"No","No",null,null,"Hygiène solide en vrac","No","No","No","No","No",null,null,"Choisissez un nombre d'articles","0"]
["Sel de Mer Gros - Guérande","3,90€ / kg","3.9","Alimentaire Vrac",null,"Epices condiments & sauces","0",null,null,"!%20Liste%20des%20produits%20!%202bf37e7305c3490d8ef04cec2537ea91/F3_-_Facture-22FV02158%2010.pdf",null,null,"Actibio","🇫🇷 France - Guérande (44)",null,null,"0",null,null,null,"No","No",null,"Magasin","Condiments","No","No","No","No","No",null,null,"Choisissez un poids","0"]
["Sel fin de méditerrannée","3€ / kg","3","Alimentaire Vrac",null,"Epices condiments & sauces","0",null,null,"!%20Liste%20des%20produits%20!%202bf37e7305c3490d8ef04cec2537ea91/F1_-_2112_-_VF216790%206.pdf",null,null,"Biolonistes","🇫🇷 France - Guérande (44)",null,null,"0",null,null,null,"Yes","Yes",null,"Magasin","Condiments","No","No","No","No","No",null,null,"Choisissez un poids","0"]
["Sel régénérant vrac","2,10€ / kg","2.1","Produits d'entretiens",null,null,"0","!%20Liste%20des%20produits%20!%202bf37e7305c3490d8ef04cec2537ea91/image%2093.jpg, !%20Liste%20des%20produits%20!%202bf37e7305c3490d8ef04cec2537ea91/image%2094.jpg",null,"!%20Liste%20des%20produits%20!%202bf37e7305c3490d8ef04cec2537ea91/F18_-_FC221015817%205.pdf",null,null,"Relais local","🇫🇷 France - Malataverne (26)","Bulle Verte",null,"0",null,null,null,"No","No",null,"Magasin",null,"No","No","No","No","No",null,null,"Choisissez un poids","0"]
["Sérum anti-imperfection - Endro","24,90€","24.9","Produits d'hygiène coporelle","Cosmétiques & soins","Cosmétiques & soins","0",null,null,"!%20Liste%20des%20produits%20!%202bf37e7305c3490d8ef04cec2537ea91/F3-20220928-15395_1664360686.5851%208.pdf",null,null,"Endro","🇫🇷 France - Lannion (22)","Endro",null,"0",null,null,null,"No","No",null,"Magasin","Crèmes - Baumes & Huiles","No","No","No","No","No",null,null,"Choisissez un nombre d'articles","0"]
["Sérum désaltérant à l’acide hyaluronique - Clemence & Vivien ",9.1999999999999993,9.1999999999999993,"Produits d'hygiène coporelle",null,"Cosmétiques & soins","0",null,null,"!%20Liste%20des%20produits%20!%202bf37e7305c3490d8ef04cec2537ea91/Facture_5_-_CV060686%2010.pdf, !%20Liste%20des%20produits%20!%202bf37e7305c3490d8ef04cec2537ea91/Facture_3_-_CV056802%2012.pdf, !%20Liste%20des%20produits%20!%202bf37e7305c3490d8ef04cec2537ea91/Facture_1-_CV052480%2016.pdf",null,null,"Clémence & Vivien","🇫🇷 France - Chauray (79)","Clémence & Vivien",null,"0",null,null,null,"No","No",null,"Magasin","Crèmes - Baumes & Huiles","No","No","No","No","No",null,null,"Choisissez un nombre d'articles","0"]
["Sérum Longueurs et pointes - Clemence & Vivien ","8,90€","8.9","Produits d'hygiène coporelle",null,"Cosmétiques & soins","0",null,null,"!%20Liste%20des%20produits%20!%202bf37e7305c3490d8ef04cec2537ea91/Facture_6_-_CV063498%2011.pdf, !%20Liste%20des%20produits%20!%202bf37e7305c3490d8ef04cec2537ea91/Facture_5_-_CV060686%2011.pdf",null,null,"Clémence & Vivien","🇫🇷 France - Chauray (79)","Clémence & Vivien",null,"0",null,null,null,"No","No",null,"Magasin",null,"No","No","No","No","No",null,null,"Choisissez un nombre d'articles","0"]
["Serviette de table","8,50€","8.5","Zéros déchets et Bocaux",null,"Cuisine","0",null,null,"!%20Liste%20des%20produits%20!%202bf37e7305c3490d8ef04cec2537ea91/F1_-_2111_-_FA0014642021%2034.pdf",null,null,"Alterosac","🇫🇷 France - Annemasse (74)","Alterosac",null,"0",null,null,null,"No","No",null,"Magasin",null,"No","No","No","No","No",null,null,"Choisissez un nombre d'articles","0"]
["Set Assiette et cuillère enfant - Bordeaux ","25€","25","Zéros déchets et Bocaux",null,"Accessoires Bébé","0",null,null,"!%20Liste%20des%20produits%20!%202bf37e7305c3490d8ef04cec2537ea91/F2_-_2205_-_002952%208.pdf",null,null,"Cap Bambou","🇫🇷 France - Attignat (01)",null,null,"0",null,null,null,"No","No",null,"Magasin",null,"No","No","No","No","No",null,null,"Choisissez un nombre d'articles","0"]
["Set Assiette et cuillère enfant - Lilas ","25€","25","Zéros déchets et Bocaux",null,"Accessoires Bébé","0",null,null,"!%20Liste%20des%20produits%20!%202bf37e7305c3490d8ef04cec2537ea91/F2_-_2205_-_002952%209.pdf",null,null,"Cap Bambou","🇫🇷 France - Attignat (01)",null,null,"0",null,null,null,"No","No",null,"Magasin",null,"No","No","No","No","No",null,null,"Choisissez un nombre d'articles","0"]
["Set de 3 couverts réutilisables","5,49€","5.49","Zéros déchets et Bocaux",null,"En dehors de la maison","0",null,null,"!%20Liste%20des%20produits%20!%202bf37e7305c3490d8ef04cec2537ea91/F1_-_2111_-_002432%2010.pdf",null,null,"Cap Bambou","🇫🇷 France - Attignat (01)",null,null,"0",null,null,null,"No","No",null,"Magasin",null,"No","No","No","No","No",null,null,"Choisissez un nombre d'articles","0"]
["Set de Repas Bébé - Bleu","23,50€","23.5","Zéros déchets et Bocaux",null,"Accessoires Bébé","0",null,null,"!%20Liste%20des%20produits%20!%202bf37e7305c3490d8ef04cec2537ea91/F1_-_2111_-_002432%2011.pdf",null,null,"Cap Bambou","🇫🇷 France - Attignat (01)",null,null,"0",null,null,null,"No","No",null,"Magasin",null,"No","No","No","No","No",null,null,"Choisissez un nombre d'articles","0"]
["Set de Repas Bébé - Jaune","23,50€","23.5","Zéros déchets et Bocaux",null,"Accessoires Bébé","0",null,null,"!%20Liste%20des%20produits%20!%202bf37e7305c3490d8ef04cec2537ea91/F1_-_2111_-_002432%2012.pdf",null,null,"Cap Bambou","🇫🇷 France - Attignat (01)",null,null,"0",null,null,null,"No","No",null,"Magasin",null,"No","No","No","No","No",null,null,"Choisissez un nombre d'articles","0"]
["Set de Repas Bébé - Rose","23,50€","23.5","Zéros déchets et Bocaux",null,"Accessoires Bébé","0",null,null,"!%20Liste%20des%20produits%20!%202bf37e7305c3490d8ef04cec2537ea91/F1_-_2111_-_002432%2013.pdf",null,null,"Cap Bambou","🇫🇷 France - Attignat (01)",null,null,"0",null,null,null,"No","No",null,"Magasin",null,"No","No","No","No","No",null,null,"Choisissez un nombre d'articles","0"]
["Set de Repas Bébé - Vert","23,50€","23.5","Zéros déchets et Bocaux",null,"Accessoires Bébé","0",null,null,"!%20Liste%20des%20produits%20!%202bf37e7305c3490d8ef04cec2537ea91/F1_-_2111_-_002432%2014.pdf",null,null,"Cap Bambou","🇫🇷 France - Attignat (01)",null,null,"0",null,null,null,"No","No",null,"Magasin",null,"No","No","No","No","No",null,null,"Choisissez un nombre d'articles","0"]
["Set de repas enfants","25€","25","Zéros déchets et Bocaux",null,"Accessoires Bébé","0",null,null,"!%20Liste%20des%20produits%20!%202bf37e7305c3490d8ef04cec2537ea91/F2_-_2205_-_002952%2010.pdf",null,null,"Cap Bambou","🇫🇷 France - Attignat (01)",null,null,"0",null,null,null,"No","No",null,"Magasin",null,"No","No","No","No","No",null,null,"Choisissez un nombre d'articles","0"]
["Set de Table à colorier ","7,50€","7.5","Zéros déchets et Bocaux",null,"Accessoires Bébé","0",null,null,"!%20Liste%20des%20produits%20!%202bf37e7305c3490d8ef04cec2537ea91/F7_-_FA000480-2022%2016.pdf, !%20Liste%20des%20produits%20!%202bf37e7305c3490d8ef04cec2537ea91/F6_-_2205_-_FA000338-2022%209.pdf, !%20Liste%20des%20produits%20!%202bf37e7305c3490d8ef04cec2537ea91/F1_-_2111_-_FA0014642021%2037.pdf",null,null,"Alterosac","🇫🇷 France - Annemasse (74)","Alterosac",null,"0",null,null,null,"No","No",null,"Magasin",null,"No","No","No","No","No",null,null,"Choisissez un nombre d'articles","0"]
["Shampoing Douche à l’huile d’argan - Vrac",14.5,14.5,"Produits d'hygiène coporelle",null,"Hygiène corporelle vrac","0",null,null,"!%20Liste%20des%20produits%20!%202bf37e7305c3490d8ef04cec2537ea91/FACT_2022-03%204.pdf",null,null,"La savonnerie Pilon du Roy","🇫🇷 France - La Ciotat (13)","La savonnerie du Pilon du Roy",null,"0",null,null,null,"No","No",null,"Terminé","Hygiène liquide en vrac","No","No","No","No","No",null,null,"Choisissez un poids","0"]
["Shampoing sec - sans HE - 35ml","8,50€","8.5","Produits d'hygiène coporelle",null,"Hygiène corporelle vrac","0",null,null,"!%20Liste%20des%20produits%20!%202bf37e7305c3490d8ef04cec2537ea91/FACT_220322_-_39710%207.pdf",null,null,"Les Savons de Joya","🇫🇷 France - Douvres-la-Délivrande (14)","Les Savons de Joya",null,"0",null,null,null,"No","No",null,"Magasin","Shampoing sec","No","No","No","No","No",null,null,"Choisissez un nombre d'articles","0"]
["Shampoing sec - sans HE - Recharge ","6€","6","Produits d'hygiène coporelle",null,"Hygiène corporelle vrac","0",null,null,"!%20Liste%20des%20produits%20!%202bf37e7305c3490d8ef04cec2537ea91/FACT_220322_-_39710%208.pdf",null,null,"Les Savons de Joya","🇫🇷 France - Douvres-la-Délivrande (14)","Les Savons de Joya",null,"0",null,null,null,"No","No",null,"Magasin","Shampoing sec","No","No","No","No","No",null,null,"Choisissez un nombre d'articles","0"]
["Shampoing solide - Antipelliculaire - 80g","10,60€","10.6","Produits d'hygiène coporelle",null,"Hygiène corporelle vrac","0",null,null,"!%20Liste%20des%20produits%20!%202bf37e7305c3490d8ef04cec2537ea91/FACT_2209_-_71919_pdf%209.pdf, !%20Liste%20des%20produits%20!%202bf37e7305c3490d8ef04cec2537ea91/FACT_220322_-_39710%209.pdf",null,null,"Les Savons de Joya","🇫🇷 France - Douvres-la-Délivrande (14)","Les Savons de Joya",null,"0",null,null,null,"No","No",null,"Magasin","Shampoing solide","No","No","No","No","No",null,null,"Choisissez un nombre d'articles","0"]
["Shampoing solide - Bleu - 80g","10,60€","10.6","Produits d'hygiène coporelle",null,"Hygiène corporelle vrac","0",null,null,"!%20Liste%20des%20produits%20!%202bf37e7305c3490d8ef04cec2537ea91/FACT_220322_-_39710%2010.pdf",null,null,"Les Savons de Joya","🇫🇷 France - Douvres-la-Délivrande (14)","Les Savons de Joya",null,"0",null,null,null,"No","No",null,"Magasin","Shampoing solide","No","No","No","No","No",null,null,"Choisissez un nombre d'articles","0"]
["Shampoing solide - Cheveux abîmés & colorés - Sans HE - 80g","10,60€","10.6","Produits d'hygiène coporelle",null,"Hygiène corporelle vrac","0",null,null,"!%20Liste%20des%20produits%20!%202bf37e7305c3490d8ef04cec2537ea91/FACT_2209_-_71919_pdf%2010.pdf",null,null,"Les Savons de Joya","🇫🇷 France - Douvres-la-Délivrande (14)","Les Savons de Joya",null,"0",null,null,null,"No","No",null,"Magasin","Shampoing solide","No","No","No","No","No",null,null,"Choisissez un nombre d'articles","0"]
["Shampoing solide - Cheveux abîmés et colorés - 80g","10,60€","10.6","Produits d'hygiène coporelle",null,"Hygiène corporelle vrac","0",null,null,"!%20Liste%20des%20produits%20!%202bf37e7305c3490d8ef04cec2537ea91/FACT_2209_-_71919_pdf%2011.pdf, !%20Liste%20des%20produits%20!%202bf37e7305c3490d8ef04cec2537ea91/FACT_220322_-_39710%2011.pdf",null,null,"Les Savons de Joya","🇫🇷 France - Douvres-la-Délivrande (14)","Les Savons de Joya",null,"0",null,null,null,"No","No",null,"Magasin","Shampoing solide","No","No","No","No","No",null,null,"Choisissez un nombre d'articles","0"]
["Shampoing solide - Cheveux frisés / crépus - 80g","10,60€","10.6","Produits d'hygiène coporelle",null,"Hygiène corporelle vrac","0",null,null,"!%20Liste%20des%20produits%20!%202bf37e7305c3490d8ef04cec2537ea91/FACT_2209_-_71919_pdf%2012.pdf, !%20Liste%20des%20produits%20!%202bf37e7305c3490d8ef04cec2537ea91/FACT_220322_-_39710%2012.pdf",null,null,"Les Savons de Joya","🇫🇷 France - Douvres-la-Délivrande (14)","Les Savons de Joya",null,"0",null,null,null,"No","No",null,"Magasin","Shampoing solide","No","No","No","No","No",null,null,"Choisissez un nombre d'articles","0"]
["Shampoing solide - Cheveux gras - 80g","10,60€","10.6","Produits d'hygiène coporelle",null,"Hygiène corporelle vrac","0",null,null,"!%20Liste%20des%20produits%20!%202bf37e7305c3490d8ef04cec2537ea91/FACT_2209_-_71919_pdf%2013.pdf, !%20Liste%20des%20produits%20!%202bf37e7305c3490d8ef04cec2537ea91/FACT_220322_-_39710%2013.pdf",null,null,"Les Savons de Joya","🇫🇷 France - Douvres-la-Délivrande (14)","Les Savons de Joya",null,"0",null,null,null,"Yes","Yes",null,"Magasin","Shampoing solide","No","No","No","No","No",null,null,"Choisissez un nombre d'articles","0"]
["Shampoing solide - Cheveux gras - Sans HE 80g","10,60€","10.6","Produits d'hygiène coporelle",null,"Hygiène corporelle vrac","0",null,null,"!%20Liste%20des%20produits%20!%202bf37e7305c3490d8ef04cec2537ea91/FACT_2209_-_71919_pdf%2014.pdf",null,null,"Les Savons de Joya","🇫🇷 France - Douvres-la-Délivrande (14)","Les Savons de Joya",null,"0",null,null,null,"No","No",null,"Magasin","Shampoing solide","No","No","No","No","No",null,null,"Choisissez un nombre d'articles","0"]
["Shampoing solide - Sensible - 80g","10,60€","10.6","Produits d'hygiène coporelle",null,"Hygiène corporelle vrac","0",null,null,"!%20Liste%20des%20produits%20!%202bf37e7305c3490d8ef04cec2537ea91/FACT_2209_-_71919_pdf%2015.pdf",null,null,"Les Savons de Joya","🇫🇷 France - Douvres-la-Délivrande (14)","Les Savons de Joya",null,"0",null,null,null,"No","No",null,"Magasin","Shampoing solide","No","No","No","No","No",null,null,"Choisissez un nombre d'articles","0"]
["Shampoing solide - Stimulant - 80g","10,60€","10.6","Produits d'hygiène coporelle",null,"Hygiène corporelle vrac","0",null,null,"!%20Liste%20des%20produits%20!%202bf37e7305c3490d8ef04cec2537ea91/FACT_2209_-_71919_pdf%2016.pdf, !%20Liste%20des%20produits%20!%202bf37e7305c3490d8ef04cec2537ea91/FACT_220322_-_39710%2014.pdf",null,null,"Les Savons de Joya","🇫🇷 France - Douvres-la-Délivrande (14)","Les Savons de Joya",null,"0",null,null,null,"No","No",null,"Magasin","Shampoing solide","No","No","No","No","No",null,null,"Choisissez un nombre d'articles","0"]
["Shampoing solide - Tout type de cheveux - 80g","10,60€","10.6","Produits d'hygiène coporelle",null,"Hygiène corporelle vrac","0",null,null,"!%20Liste%20des%20produits%20!%202bf37e7305c3490d8ef04cec2537ea91/FACT_2209_-_71919_pdf%2017.pdf",null,null,"Les Savons de Joya","🇫🇷 France - Douvres-la-Délivrande (14)","Les Savons de Joya",null,"0",null,null,null,"No","No",null,"Magasin","Shampoing solide","No","No","No","No","No",null,null,"Choisissez un nombre d'articles","0"]
["Sirop d’Erable ","25€/kg","25","Alimentaire Vrac",null,null,"0","!%20Liste%20des%20produits%20!%202bf37e7305c3490d8ef04cec2537ea91/image%2091.jpg",null,"!%20Liste%20des%20produits%20!%202bf37e7305c3490d8ef04cec2537ea91/F8_-_Facture_411005664_22FV10465_20220923%2012.pdf",null,null,"Actibio","🇨🇦 Canada",null,null,"0",null,null,null,"No","No",null,null,"Sucres","No","No","No","No","No",null,null,"Choisissez un poids","0"]
["Sirop de Cassis - 70cl","6,90€","6.9","Alimentaire Conditionné",null,"Sirops","0",null,null,null,null,null,"Scop Epice","🇫🇷 France","Bigallet",null,"0",null,null,null,"No","No",null,"Magasin",null,"No","No","No","No","No",null,null,"Choisissez un nombre d'articles","0"]
["Sirop de Citron ","9,50€/kg","9.5","Boisson en vrac",null,"Sirops","0",null,null,"!%20Liste%20des%20produits%20!%202bf37e7305c3490d8ef04cec2537ea91/F5_-_EPICE_-_FV61181%208.pdf, !%20Liste%20des%20produits%20!%202bf37e7305c3490d8ef04cec2537ea91/F1_-_EPICE_-_FV55099%2015.pdf",null,null,"Scop Epice","🇫🇷 France","Bigallet",null,"0",null,null,null,"No","No",null,"Magasin",null,"No","No","No","No","No",null,null,"Choisissez un poids","0"]
["Sirop de Grenadine","9,50€/kg","9.5","Boisson en vrac",null,"Sirops","0","!%20Liste%20des%20produits%20!%202bf37e7305c3490d8ef04cec2537ea91/D8B2E68A-59DE-40A3-A152-DA8D41484A54.jpeg",null,"!%20Liste%20des%20produits%20!%202bf37e7305c3490d8ef04cec2537ea91/F10_-_EP_-_FV70173%2013.pdf, !%20Liste%20des%20produits%20!%202bf37e7305c3490d8ef04cec2537ea91/F5_-_EPICE_-_FV61181%209.pdf, !%20Liste%20des%20produits%20!%202bf37e7305c3490d8ef04cec2537ea91/F3_-_EPICE_-_FV58436%209.pdf, !%20Liste%20des%20produits%20!%202bf37e7305c3490d8ef04cec2537ea91/F1_-_EPICE_-_FV55099%2016.pdf",null,null,"Scop Epice","🇫🇷 France","Bigallet",null,"0",null,null,null,"No","No",null,"Magasin",null,"No","No","No","No","No",null,null,"Choisissez un poids","0"]
["Sirop de Menthe","9,50€/kg","9.5","Boisson en vrac",null,"Sirops","0",null,null,"!%20Liste%20des%20produits%20!%202bf37e7305c3490d8ef04cec2537ea91/F5_-_EPICE_-_FV61181%2010.pdf, !%20Liste%20des%20produits%20!%202bf37e7305c3490d8ef04cec2537ea91/F1_-_EPICE_-_FV55099%2017.pdf",null,null,"Scop Epice","🇫🇷 France","Bigallet",null,"0",null,null,null,"No","No",null,"Magasin",null,"No","No","No","No","No",null,null,"Choisissez un poids","0"]
["Sirop de Pamplemousse - 70cl ","6,90€","6.9","Alimentaire Conditionné",null,"Sirops","0",null,null,"!%20Liste%20des%20produits%20!%202bf37e7305c3490d8ef04cec2537ea91/F5_-_EPICE_-_FV61181%2011.pdf",null,null,"Scop Epice","🇫🇷 France","Bigallet",null,"0",null,null,null,"No","No",null,"Magasin",null,"No","No","No","No","No",null,null,"Choisissez un nombre d'articles","0"]
["Sirop de Pêche","9,50€/kg","9.5","Boisson en vrac",null,"Sirops","0",null,null,"!%20Liste%20des%20produits%20!%202bf37e7305c3490d8ef04cec2537ea91/F5_-_EPICE_-_FV61181%2012.pdf, !%20Liste%20des%20produits%20!%202bf37e7305c3490d8ef04cec2537ea91/F3_-_EPICE_-_FV58436%2010.pdf",null,null,"Scop Epice","🇫🇷 France","Bigallet",null,"0",null,null,null,"No","No",null,"Magasin",null,"No","No","No","No","No",null,null,"Choisissez un poids","0"]
["Solution hydroalcolique","7,50€/kg","7.5","Produits d'entretiens",null,"Liquide d'entretien en vrac","0",null,null,null,null,null,"Relais local","🇫🇷 France - Malataverne (26)","Bulle verte",null,"0",null,null,null,"Yes","Yes",null,"Magasin",null,"No","No","No","No","No",null,null,"Choisissez un poids","0"]
["Spirales Complètes ","3,30€/kg","3.3","Alimentaire Vrac",null,"Pâtes & Riz","0",null,null,"!%20Liste%20des%20produits%20!%202bf37e7305c3490d8ef04cec2537ea91/F6_-Facture_411005664_22FV06518_20220531%2016.pdf, !%20Liste%20des%20produits%20!%202bf37e7305c3490d8ef04cec2537ea91/F5_-_Facture_411005664_22FV04713_20220419%2019.pdf, !%20Liste%20des%20produits%20!%202bf37e7305c3490d8ef04cec2537ea91/F1_-_21FV13778_20211129%2071.pdf",null,null,"Actibio","🇮🇹 Italie",null,null,"0",null,null,null,"No","No",null,"Magasin","Pâtes","No","No","No","No","No",null,null,"Choisissez un poids","0"]
["Sucre Blanc de Canne","2,95€/kg","2.95","Alimentaire Vrac","Salés","Farine fécules levures & sucres","0","!%20Liste%20des%20produits%20!%202bf37e7305c3490d8ef04cec2537ea91/image%2087.jpg",null,"!%20Liste%20des%20produits%20!%202bf37e7305c3490d8ef04cec2537ea91/F1_-_21FV13778_20211129%2053.pdf, !%20Liste%20des%20produits%20!%202bf37e7305c3490d8ef04cec2537ea91/F4_-_Facture_411005664_22FV03404_20220322%2011.pdf, !%20Liste%20des%20produits%20!%202bf37e7305c3490d8ef04cec2537ea91/F6_-Facture_411005664_22FV06518_20220531%2012.pdf, !%20Liste%20des%20produits%20!%202bf37e7305c3490d8ef04cec2537ea91/F8_-_Facture_411005664_22FV10465_20220923%2010.pdf, !%20Liste%20des%20produits%20!%202bf37e7305c3490d8ef04cec2537ea91/F11_-_23FV00647_20230119%2019.pdf",null,null,"Actibio","🇨🇴 Colombie",null,null,"0",null,null,null,"Yes","Yes",null,"Magasin","Sucres","No","No","No","No","No",null,null,"Choisissez un poids","0"]
["Sucre Blond - Paraguay","3,20€/kg","3.2","Alimentaire Vrac","Sucrés","Farine fécules levures & sucres","0",null,null,"!%20Liste%20des%20produits%20!%202bf37e7305c3490d8ef04cec2537ea91/F11_-_23FV00647_20230119%2020.pdf",null,null,null,"🇵🇾 Paraguay",null,null,"0",null,null,null,"No","No",null,"Magasin",null,"No","No","No","No","No",null,null,"Choisissez un poids","0"]
["Sucre Complet - Rapadura ","4,90€/kg","4.9","Alimentaire Vrac","Sucrés","Farine fécules levures & sucres","0",null,"November 30, 2023","!%20Liste%20des%20produits%20!%202bf37e7305c3490d8ef04cec2537ea91/F3_-_Facture-22FV02158%2012.pdf, !%20Liste%20des%20produits%20!%202bf37e7305c3490d8ef04cec2537ea91/F11_-_23FV00647_20230119%2021.pdf",null,null,"Actibio","🇨🇷 Costa Rica",null,null,"0",null,null,null,"No","No",null,"Magasin","Sucres","No","No","No","No","No",null,null,"Choisissez un poids","0"]
["Sucre de Canne Complet","4,90€/kg","4.90","Alimentaire Vrac",null,"Farine fécules levures & sucres","0",null,null,"!%20Liste%20des%20produits%20!%202bf37e7305c3490d8ef04cec2537ea91/F1_-_21FV13778_20211129%2073.pdf",null,null,"Actibio","🇵🇾 Paraguay",null,null,"0",null,null,null,"Yes","Yes",null,"Magasin","Sucres","No","No","No","No","No",null,null,"Choisissez un poids","0"]
["Sucre de Coco","5,50€/kg","5.50","Alimentaire Vrac",null,"Farine fécules levures & sucres","0",null,null,"!%20Liste%20des%20produits%20!%202bf37e7305c3490d8ef04cec2537ea91/F6_-Facture_411005664_22FV06518_20220531%2018.pdf",null,null,"Actibio","🇮🇩 Indonésie ",null,null,"0",null,null,null,"Yes","Yes",null,"Magasin","Sucres","No","No","No","No","No",null,null,"Choisissez un poids","0"]
["Sucre Glace sans séparateur ","5,50€/kg","5.5","Alimentaire Vrac",null,"Farine fécules levures & sucres","0",null,null,"!%20Liste%20des%20produits%20!%202bf37e7305c3490d8ef04cec2537ea91/F6_-Facture_411005664_22FV06518_20220531%2019.pdf",null,null,"Actibio","🇨🇷 Costa Rica",null,null,"0",null,null,null,"No","No",null,"Magasin","Sucres","No","No","No","No","No",null,null,"Choisissez un poids","0"]
["Sucre Roux Demérara (Cassonade) ","3,50€/kg","3.5","Alimentaire Vrac","Sucrés","Farine fécules levures & sucres","0",null,null,"!%20Liste%20des%20produits%20!%202bf37e7305c3490d8ef04cec2537ea91/F1_-_21FV13778_20211129%2074.pdf, !%20Liste%20des%20produits%20!%202bf37e7305c3490d8ef04cec2537ea91/F5_-_Facture_411005664_22FV04713_20220419%2020.pdf, !%20Liste%20des%20produits%20!%202bf37e7305c3490d8ef04cec2537ea91/F11_-_23FV00647_20230119%2022.pdf",null,null,"Actibio","🇨🇴 Colombie",null,null,"0",null,null,null,"Yes","Yes",null,"Magasin","Sucres","No","No","No","No","No",null,null,"Choisissez un poids","0"]
["Super bain d’huile avant-shampoing - - Clemence & Vivien ","9,90€","9.9","Produits d'hygiène coporelle",null,"Cosmétiques & soins","0",null,null,"!%20Liste%20des%20produits%20!%202bf37e7305c3490d8ef04cec2537ea91/Facture_6_-_CV063498%2010.pdf, !%20Liste%20des%20produits%20!%202bf37e7305c3490d8ef04cec2537ea91/Facture_5_-_CV060686%209.pdf",null,null,"Clémence & Vivien","🇫🇷 France - Chauray (79)","Clémence & Vivien",null,"0",null,null,null,"No","No",null,"Magasin",null,"No","No","No","No","No",null,null,"Choisissez un nombre d'articles","0"]
["Tablettes Lave Vaisselle Vrac","13,60€/kg","13.6","Produits d'entretiens",null,"Entretiens Vrac","0","!%20Liste%20des%20produits%20!%202bf37e7305c3490d8ef04cec2537ea91/image%2095.jpg, !%20Liste%20des%20produits%20!%202bf37e7305c3490d8ef04cec2537ea91/image%2096.jpg",null,"!%20Liste%20des%20produits%20!%202bf37e7305c3490d8ef04cec2537ea91/F18_-_FC221015817%206.pdf, !%20Liste%20des%20produits%20!%202bf37e7305c3490d8ef04cec2537ea91/F10_-_FC220513487%209.pdf",null,null,"Relais local","🇫🇷 France - Malataverne (26)","Bulle Verte",null,"0",null,null,null,"No","No",null,"Magasin",null,"No","No","No","No","No",null,null,"Choisissez un poids","0"]
["Tamari - Vrac","10,80€/kg","10.8","Alimentaire Vrac",null,null,"0",null,null,"!%20Liste%20des%20produits%20!%202bf37e7305c3490d8ef04cec2537ea91/F1_-_21FV13778_20211129%2075.pdf",null,null,"Actibio","🇨🇳 Chine",null,null,"0",null,null,null,"No","No",null,"Magasin",null,"No","No","No","No","No",null,null,"Choisissez un poids","0"]
["Tamari, less salt 25% - 250ml","6,50€","6.5","Alimentaire Conditionné",null,"Bocaux produits salés","0",null,null,"!%20Liste%20des%20produits%20!%202bf37e7305c3490d8ef04cec2537ea91/F5_-_2209_590998%2023.pdf, !%20Liste%20des%20produits%20!%202bf37e7305c3490d8ef04cec2537ea91/F1_-_2202_F558904%2019.pdf",null,null,"Biodis","🇧🇪 Belgique","Lima",null,"0",null,null,null,"No","No",null,"Magasin","Sauces","No","No","No","No","No",null,null,"Choisissez un nombre d'articles","0"]
["Tartinade - de Noël","6€","6","/",null,"Bocaux produits sucrés","0",null,null,"!%20Liste%20des%20produits%20!%202bf37e7305c3490d8ef04cec2537ea91/F3_-_1122_-_F22022_-11140%201.pdf, !%20Liste%20des%20produits%20!%202bf37e7305c3490d8ef04cec2537ea91/F4_-_1222_-_F22034_-_3980%201.pdf, !%20Liste%20des%20produits%20!%202bf37e7305c3490d8ef04cec2537ea91/F6_-_0323_-_F23011_%202.pdf, !%20Liste%20des%20produits%20!%202bf37e7305c3490d8ef04cec2537ea91/F5_-_1222_-_F22036_-_11820%202.pdf",null,null,"Les confitures d'à côté","🇫🇷 France - Chatillon sur Chalaronne (01)",null,null,"0",null,null,null,"No","No",null,null,null,"No","No","No","No","No",null,null,"Choisissez un nombre d'articles","0"]
["Tartinade Apéro - Aubergine Paprika fumé","5,50€","5.5","Alimentaire Conditionné","Apéro","Bocaux produits salés","0",null,null,"!%20Liste%20des%20produits%20!%202bf37e7305c3490d8ef04cec2537ea91/Facture-22-02-7-du-04-02-2022-Grain_de_Luce.pdf",null,null,"Bocalerie des gourmets","🇫🇷 France - Fareins (01)","Bocalerie des gourmets","0","0",null,null,null,"No","No",null,"Magasin","Bocaux apéro","No","No","No","No","No",null,null,"Choisissez un nombre d'articles","0"]
["Tartinade Apéro - Betterave Grains moutarde","5,50€","5.5","Alimentaire Conditionné","Apéro","Bocaux produits salés","0",null,null,"!%20Liste%20des%20produits%20!%202bf37e7305c3490d8ef04cec2537ea91/Facture-22-02-7-du-04-02-2022-Grain_de_Luce%201.pdf",null,null,"Bocalerie des gourmets","🇫🇷 France - Fareins (01)","Bocalerie des gourmets","0","0",null,null,null,"No","No",null,"Magasin","Bocaux apéro","No","No","No","No","No",null,null,"Choisissez un nombre d'articles","0"]
["Tartinade Apéro - Butternut verveine citron","5,50€","5.5","Alimentaire Conditionné","Apéro","Bocaux produits salés","0",null,null,"!%20Liste%20des%20produits%20!%202bf37e7305c3490d8ef04cec2537ea91/Facture-22-02-7-du-04-02-2022-Grain_de_Luce%202.pdf",null,null,"Bocalerie des gourmets","🇫🇷 France - Fareins (01)","Bocalerie des gourmets","0","0",null,null,null,"No","No",null,"Magasin","Bocaux apéro","No","No","No","No","No",null,null,"Choisissez un nombre d'articles","0"]
["Tartinade Apéro - Carotte cumin","5,50€","5.5","Alimentaire Conditionné","Apéro","Bocaux produits salés","0",null,null,"!%20Liste%20des%20produits%20!%202bf37e7305c3490d8ef04cec2537ea91/Facture-22-02-7-du-04-02-2022-Grain_de_Luce%203.pdf",null,null,"Bocalerie des gourmets","🇫🇷 France - Fareins (01)","Bocalerie des gourmets","0","0",null,null,null,"No","No",null,"Magasin","Bocaux apéro","No","No","No","No","No",null,null,"Choisissez un nombre d'articles","0"]
["Tartinade Apéro - Chou fleur Ail noir","5,50€","5.5","Alimentaire Conditionné","Apéro","Bocaux produits salés","0",null,null,"!%20Liste%20des%20produits%20!%202bf37e7305c3490d8ef04cec2537ea91/Facture-22-02-7-du-04-02-2022-Grain_de_Luce%204.pdf",null,null,"Bocalerie des gourmets","🇫🇷 France - Fareins (01)","Bocalerie des gourmets","0","0",null,null,null,"No","No",null,"Magasin","Bocaux apéro","No","No","No","No","No",null,null,"Choisissez un nombre d'articles","0"]
["Tartinade Apéro - Courgette Thym","5,50€","5.5","Alimentaire Conditionné","Apéro","Bocaux produits salés","0",null,null,"!%20Liste%20des%20produits%20!%202bf37e7305c3490d8ef04cec2537ea91/Facture-22-02-7-du-04-02-2022-Grain_de_Luce%205.pdf",null,null,"Bocalerie des gourmets","🇫🇷 France - Fareins (01)","Bocalerie des gourmets","0","0",null,null,null,"No","No",null,"Magasin","Bocaux apéro","No","No","No","No","No",null,null,"Choisissez un nombre d'articles","0"]
["Tartinade Apéro - Gwacamole 130g","4,50€","4.5","Alimentaire Conditionné",null,"Apéro","0",null,null,null,null,null,"Scop Epice","🇫🇷 France ",null,"0","0",null,null,null,"No","No",null,"Magasin",null,"No","No","No","No","No",null,null,"Choisissez un poids","0"]
["Tartinade Apéro - Poichichade au paprika - 100g","4,50 €","4.5","Alimentaire Conditionné",null,"Biscuits salés & Apéro","0",null,null,"!%20Liste%20des%20produits%20!%202bf37e7305c3490d8ef04cec2537ea91/F5_-_EPICE_-_FV61181%206.pdf",null,null,"Scop Epice","🇫🇷 France - Provence",null,"0","0",null,null,null,"No","No",null,"Magasin","Bocaux apéro","No","No","No","No","No",null,null,"Choisissez un nombre d'articles","0"]
["Tartinade Apéro - Poichichade traditionnelle - 100g","4,00 €","4","Alimentaire Conditionné",null,"Biscuits salés & Apéro","0",null,null,"!%20Liste%20des%20produits%20!%202bf37e7305c3490d8ef04cec2537ea91/F5_-_EPICE_-_FV61181%207.pdf",null,null,"Scop Epice","🇫🇷 France - Provence",null,"0","0",null,null,null,"No","No",null,"Magasin","Bocaux apéro","No","No","No","No","No",null,null,"Choisissez un nombre d'articles","0"]
["Tartinade Apéro - Pois chiches Graines de Nigelle","5,50€","5.5","Alimentaire Conditionné","Apéro","Bocaux produits salés","0",null,null,"!%20Liste%20des%20produits%20!%202bf37e7305c3490d8ef04cec2537ea91/Facture-22-02-7-du-04-02-2022-Grain_de_Luce%206.pdf",null,null,"Bocalerie des gourmets","🇫🇷 France - Fareins (01)","Bocalerie des gourmets","0","0",null,null,null,"No","No",null,"Magasin","Bocaux apéro","No","No","No","No","No",null,null,"Choisissez un nombre d'articles","0"]
["Tartinade Apéro - Tomates Sarriette","5,50€","5.50","/","Apéro","Bocaux produits salés","0",null,null,"!%20Liste%20des%20produits%20!%202bf37e7305c3490d8ef04cec2537ea91/Facture-22-02-7-du-04-02-2022-Grain_de_Luce%207.pdf",null,null,"Bocalerie des gourmets","🇫🇷 France - Fareins (01)","Bocalerie des gourmets",null,"0",null,null,null,"No","No",null,"Terminé","Bocaux apéro","No","No","No","No","No",null,null,"Choisissez un poids","0"]
["Tartine Craquante Sarrasin - 300g","5,50€","5.50","Alimentaire Conditionné","Petit déjeuner","Céréales du petit déjeuner","0",null,null,"!%20Liste%20des%20produits%20!%202bf37e7305c3490d8ef04cec2537ea91/F22_-_RL_-_FC230117497%206.pdf",null,null,"Relais local","🇫🇷 France - Peaugres (07)","Le pain des fleurs",null,"0",null,null,null,"No","No",null,null,null,"No","No","No","No","No",null,null,"Choisissez un poids","0"]
["Tête rechargeable pour Brosse vaisselle","2,70€","2.7","Produits d'entretiens",null,"Accessoires de cuisine","0","!%20Liste%20des%20produits%20!%202bf37e7305c3490d8ef04cec2537ea91/image%2098.jpg",null,"!%20Liste%20des%20produits%20!%202bf37e7305c3490d8ef04cec2537ea91/F2-NAB-F4138%207.pdf, !%20Liste%20des%20produits%20!%202bf37e7305c3490d8ef04cec2537ea91/F1_-_2208_-NAB-F2117%209.pdf",null,null,"Aventure Bio","🇫🇷 France - Marseille (13)","Another way",null,"0",null,null,null,"No","No",null,"Magasin",null,"No","No","No","No","No",null,null,"Choisissez un nombre d'articles","0"]
["Thé Noir - Darjeling ","50€/kg","50","Boisson en vrac",null,"Café thés tisanes herbiers","0","!%20Liste%20des%20produits%20!%202bf37e7305c3490d8ef04cec2537ea91/IMG_0119.heic, !%20Liste%20des%20produits%20!%202bf37e7305c3490d8ef04cec2537ea91/IMG_0120.heic","July 1, 2025","!%20Liste%20des%20produits%20!%202bf37e7305c3490d8ef04cec2537ea91/F1_-_2207%207.pdf",null,null,"SolàSol","🇮🇳 Inde",null,null,"0",null,null,null,"No","No",null,"Magasin","Thés","No","No","No","No","No",null,null,"Choisissez un poids","0","C’est un thé noir assez corsé et légèrement épicé, sans amertume, il laisse un goût dans le palais agréable même après plusieurs tasses. Ses pointes dorées sont un délice pour les yeux. C’est un excellent thé du matin pour accompagner le petit-déjeuner."]
["Thé Noir - Earl Grey ","60€/kg","60","Boisson en vrac",null,"Café thés tisanes herbiers","0","!%20Liste%20des%20produits%20!%202bf37e7305c3490d8ef04cec2537ea91/IMG_0117.heic, !%20Liste%20des%20produits%20!%202bf37e7305c3490d8ef04cec2537ea91/IMG_0118.heic","December 1, 2023","!%20Liste%20des%20produits%20!%202bf37e7305c3490d8ef04cec2537ea91/F1_-_2207%208.pdf",null,null,"SolàSol","Asie",null,null,"0",null,null,null,"No","No","!%20Liste%20des%20produits%20!%202bf37e7305c3490d8ef04cec2537ea91/Bons_de_livraison_-_2%202.pdf","Magasin","Thés","No","No","No","No","No",null,null,"Choisissez un poids","0","Un subtil mélange de thés noirs d'Asie parfumés à la bergamote et à l'orange pour fins amateurs. Les pétales de souci y déposent une touche de soleil."]
["Thé Noir - Noël","69€/kg","60","Boisson en vrac",null,"Café thés tisanes herbiers","0","!%20Liste%20des%20produits%20!%202bf37e7305c3490d8ef04cec2537ea91/IMG_0117.heic, !%20Liste%20des%20produits%20!%202bf37e7305c3490d8ef04cec2537ea91/IMG_0118.heic","December 1, 2023","!%20Liste%20des%20produits%20!%202bf37e7305c3490d8ef04cec2537ea91/F1_-_2207%208.pdf",null,null,"SolàSol","Asie",null,null,"0",null,null,null,"No","No","!%20Liste%20des%20produits%20!%202bf37e7305c3490d8ef04cec2537ea91/Bons_de_livraison_-_2%202.pdf","Magasin","Thés","No","No","No","No","No",null,null,"Choisissez un poids","0","Un subtil mélange de thés noirs d'Asie parfumés à la bergamote et à l'orange pour fins amateurs. Les pétales de souci y déposent une touche de soleil."]
["Thé Vert - Au chant des cigales ","60€/kg","60","Boisson en vrac",null,"Café thés tisanes herbiers","0","!%20Liste%20des%20produits%20!%202bf37e7305c3490d8ef04cec2537ea91/IMG_0113.heic, !%20Liste%20des%20produits%20!%202bf37e7305c3490d8ef04cec2537ea91/IMG_0114.heic","May 1, 2025","!%20Liste%20des%20produits%20!%202bf37e7305c3490d8ef04cec2537ea91/F1_-_2207%209.pdf",null,null,"SolàSol","Asie",null,null,"0",null,null,null,"No","No",null,"Magasin","Thés","No","No","No","No","No",null,null,"Choisissez un poids","0"]
["Thé Vert - Earl Grey Azur ","60€/kg","60","Boisson en vrac",null,"Café thés tisanes herbiers","0","!%20Liste%20des%20produits%20!%202bf37e7305c3490d8ef04cec2537ea91/IMG_0109.heic, !%20Liste%20des%20produits%20!%202bf37e7305c3490d8ef04cec2537ea91/IMG_0110.heic","December 1, 2023","!%20Liste%20des%20produits%20!%202bf37e7305c3490d8ef04cec2537ea91/F1_-_2207%2010.pdf",null,null,"SolàSol","Asie",null,null,"0",null,null,null,"No","No",null,"Magasin","Thés","No","No","No","No","No",null,null,"Choisissez un poids","0"]
["Thé Vert - Fruité Tropical","60€/kg","60","Boisson en vrac",null,"Café thés tisanes herbiers","0","!%20Liste%20des%20produits%20!%202bf37e7305c3490d8ef04cec2537ea91/IMG_0115.heic, !%20Liste%20des%20produits%20!%202bf37e7305c3490d8ef04cec2537ea91/IMG_0116.heic","December 1, 2023","!%20Liste%20des%20produits%20!%202bf37e7305c3490d8ef04cec2537ea91/F1_-_2207%2011.pdf",null,null,"SolàSol","Asie",null,null,"0",null,null,null,"No","No",null,"Magasin","Thés","No","No","No","No","No",null,null,"Choisissez un poids","0"]
["Thé Vert - Gunpowder ","50€/kg","50","Boisson en vrac",null,"Café thés tisanes herbiers","0","!%20Liste%20des%20produits%20!%202bf37e7305c3490d8ef04cec2537ea91/IMG_0111.heic, !%20Liste%20des%20produits%20!%202bf37e7305c3490d8ef04cec2537ea91/IMG_0112.heic","July 1, 2023","!%20Liste%20des%20produits%20!%202bf37e7305c3490d8ef04cec2537ea91/F1_-_2207%2012.pdf",null,null,"SolàSol","Asie",null,null,"0",null,null,null,"No","No",null,"Magasin","Thés","No","No","No","No","No",null,null,"Choisissez un poids","0"]
["Thé Vert - Jasmin","65€/kg","65","Boisson en vrac",null,"Café thés tisanes herbiers","0",null,null,null,null,null,"SolàSol","Asie",null,null,"0",null,null,null,"No","No","!%20Liste%20des%20produits%20!%202bf37e7305c3490d8ef04cec2537ea91/Bons_de_livraison_-_2%207.pdf","Magasin",null,"No","No","No","No","No",null,null,"Choisissez un poids","0","Un thé de grande qualité, une récolte des deux dernières feuilles et du bourgeon. Son goût est fin, il séduit par son arôme délicat et persistant."]
["Thé Vert - Mandarine Pamplemousse","60€/kg","60","Boisson en vrac","Boisson","Café thés tisanes herbiers","0",null,null,"!%20Liste%20des%20produits%20!%202bf37e7305c3490d8ef04cec2537ea91/0322_-_FC212485%205.pdf",null,null,"Café Dagobert","🇩🇪 Allemagne / 🇫🇷 Chatillon sur chalaronne",null,null,"0",null,null,null,"No","No",null,"Magasin","Thés","No","No","No","No","No",null,null,"Choisissez un poids","0"]
["Thé Vert - Menthe Marrakech","60€/kg","60","Boisson en vrac","Boisson","Café thés tisanes herbiers","0",null,null,"!%20Liste%20des%20produits%20!%202bf37e7305c3490d8ef04cec2537ea91/0322_-_FC212485%206.pdf",null,null,"Café Dagobert","🇲🇦 Maroc / 🇫🇷 Chatillon sur chalaronne",null,null,"0",null,null,null,"No","No",null,"Magasin","Thés","No","No","No","No","No",null,null,"Choisissez un poids","0"]
["Thym Feuilles ","140€/kg","140","Alimentaire Vrac","Salés","Epices condiments & sauces","0",null,null,"!%20Liste%20des%20produits%20!%202bf37e7305c3490d8ef04cec2537ea91/F3_-_Facture-22FV02158%2013.pdf",null,null,"Actibio","🇹🇷 Turquie",null,null,"0",null,null,null,"No","No",null,"Magasin","Epices condiments & sauces","No","No","No","No","No",null,null,"Choisissez un poids","0"]
["Tisane - Après Repas","50€/kg","50","Boisson en vrac",null,"Café thés tisanes herbiers","0","!%20Liste%20des%20produits%20!%202bf37e7305c3490d8ef04cec2537ea91/IMG_0122.heic, !%20Liste%20des%20produits%20!%202bf37e7305c3490d8ef04cec2537ea91/IMG_0121.heic","May 1, 2025","!%20Liste%20des%20produits%20!%202bf37e7305c3490d8ef04cec2537ea91/F1_-_2207%2013.pdf",null,null,"SolàSol","🇫🇷 France - Sud Est",null,null,"0",null,null,null,"No","No","!%20Liste%20des%20produits%20!%202bf37e7305c3490d8ef04cec2537ea91/Bons_de_livraison_-_2%203.pdf","Magasin","Tisanes","No","No","No","No","No",null,null,"Choisissez un poids","0","Une infusion fraîche et douce, toute en légèreté, idéale pour l'après-repas."]
["Tisane - Camomille","60€/kg","60","Boisson en vrac",null,"Café thés tisanes herbiers","0","!%20Liste%20des%20produits%20!%202bf37e7305c3490d8ef04cec2537ea91/IMG_0101.heic, !%20Liste%20des%20produits%20!%202bf37e7305c3490d8ef04cec2537ea91/IMG_0102.heic","May 1, 2025","!%20Liste%20des%20produits%20!%202bf37e7305c3490d8ef04cec2537ea91/F1_-_2207%2014.pdf",null,null,"SolàSol","🇫🇷 France - Sud Est",null,null,"0",null,null,null,"No","No",null,"Magasin","Tisanes","No","No","No","No","No",null,null,"Choisissez un poids","0","Un grand classique des plantes de l'après-repas et des moments de détente avant une bonne nuit."]
["Tisane - Des elfes","60€/kg","60","Boisson en vrac","Boisson","Café thés tisanes herbiers","0",null,null,"!%20Liste%20des%20produits%20!%202bf37e7305c3490d8ef04cec2537ea91/0722_-_FC213622%206.pdf, !%20Liste%20des%20produits%20!%202bf37e7305c3490d8ef04cec2537ea91/0322_-_FC212485%204.pdf",null,null,"Café Dagobert","🇩🇪 Allemagne / 🇫🇷 Chatillon sur chalaronne",null,null,"0",null,null,null,"No","No",null,"Magasin","Tisanes","No","No","No","No","No",null,null,"Choisissez un poids","0"]
["Tisane - Du soir ","50€/kg","50","Boisson en vrac",null,"Café thés tisanes herbiers","12.5","!%20Liste%20des%20produits%20!%202bf37e7305c3490d8ef04cec2537ea91/IMG_0123.heic, !%20Liste%20des%20produits%20!%202bf37e7305c3490d8ef04cec2537ea91/IMG_0124.heic","May 1, 2025","!%20Liste%20des%20produits%20!%202bf37e7305c3490d8ef04cec2537ea91/F1_-_2207%2015.pdf",null,null,"SolàSol","🇫🇷 France - Sud Est",null,null,"0",null,null,null,"No","No","!%20Liste%20des%20produits%20!%202bf37e7305c3490d8ef04cec2537ea91/Bons_de_livraison_-_2%204.pdf","Magasin","Tisanes","No","No","Yes","No","Yes","Choisissez une quantité",null,"Choisissez un poids","12.5","Un moment de détente pour une transition tout en douceur avant de tomber dans les bras de Morphée."]
["Tisane - Hibiscus","50€/kg","50","Boisson en vrac",null,"Café thés tisanes herbiers","0","!%20Liste%20des%20produits%20!%202bf37e7305c3490d8ef04cec2537ea91/IMG_0105.heic, !%20Liste%20des%20produits%20!%202bf37e7305c3490d8ef04cec2537ea91/IMG_0106.heic","July 1, 2025","!%20Liste%20des%20produits%20!%202bf37e7305c3490d8ef04cec2537ea91/F1_-_2207%2016.pdf",null,null,"SolàSol","🇫🇷 France - Sud Est",null,null,"0",null,null,null,"No","No",null,"Magasin","Tisanes","No","No","No","No","No",null,null,"Choisissez un poids","0","Consommé traditionnellement en Afrique, où il est appelé aussi Karkadé ou Bissap. Son infusion est florale et parfumée et peut-être sucrée. En été laissez-le infuser et ajouter ensuite des glaçons."]
["Tisane - La mésange bleue ","50€/kg","50","Boisson en vrac",null,"Café thés tisanes herbiers","0","!%20Liste%20des%20produits%20!%202bf37e7305c3490d8ef04cec2537ea91/IMG_0107.heic, !%20Liste%20des%20produits%20!%202bf37e7305c3490d8ef04cec2537ea91/IMG_0108.heic","June 1, 2025","!%20Liste%20des%20produits%20!%202bf37e7305c3490d8ef04cec2537ea91/F1_-_2207%2017.pdf",null,null,"SolàSol","🇫🇷 France - Sud Est",null,null,"0",null,null,null,"No","No","!%20Liste%20des%20produits%20!%202bf37e7305c3490d8ef04cec2537ea91/Bons_de_livraison_-_2%205.pdf","Magasin","Tisanes","No","No","No","No","No",null,null,"Choisissez un poids","0","Cette tisane de fruits est fraîche avec des notes d’agrumes. Elle donne une tasse rosée, sa saveur est acidulée comme le chant de la mésange bleue."]
["Tisane - Verveine citronnée ","50€/kg","50","Boisson en vrac",null,"Café thés tisanes herbiers","0","!%20Liste%20des%20produits%20!%202bf37e7305c3490d8ef04cec2537ea91/IMG_0103.heic, !%20Liste%20des%20produits%20!%202bf37e7305c3490d8ef04cec2537ea91/IMG_0104.heic","February 1, 2025","!%20Liste%20des%20produits%20!%202bf37e7305c3490d8ef04cec2537ea91/F1_-_2207%2018.pdf",null,null,"SolàSol","🇫🇷 France - Sud Est",null,null,"0",null,null,null,"No","No","!%20Liste%20des%20produits%20!%202bf37e7305c3490d8ef04cec2537ea91/Bons_de_livraison_-_2%206.pdf","Magasin","Tisanes","No","No","No","No","No",null,null,"Choisissez un poids","0","Délicieuse et rafraîchissante, cette plante aux longues feuilles vertes, favorise la digestion et serait aussi un allié pour lutter contre les troubles du sommeil."]
["Vermicelles demi complets","2,95€/kg","2.95","Alimentaire Vrac",null,"Pâtes & Riz","0","!%20Liste%20des%20produits%20!%202bf37e7305c3490d8ef04cec2537ea91/image%2099.jpg, !%20Liste%20des%20produits%20!%202bf37e7305c3490d8ef04cec2537ea91/image%20100.jpg","February 9, 2025","!%20Liste%20des%20produits%20!%202bf37e7305c3490d8ef04cec2537ea91/F1_-_21FV13778_20211129%2077.pdf, !%20Liste%20des%20produits%20!%202bf37e7305c3490d8ef04cec2537ea91/F2_-_22FV01075_20220127%2017.pdf, !%20Liste%20des%20produits%20!%202bf37e7305c3490d8ef04cec2537ea91/F10_-_22FV11834_20221102%2018.pdf",null,null,"Actibio","🇫🇷 France",null,null,"0",null,null,null,"Yes","Yes",null,"Magasin","Pâtes","No","No","No","No","No",null,null,"Choisissez un poids","0"]
["Vinaigre Balsamique","8,50€/kg","8.5","Alimentaire Vrac",null,"Huiles & Vinaigres","0","!%20Liste%20des%20produits%20!%202bf37e7305c3490d8ef04cec2537ea91/image%20101.jpg","December 15, 2026","!%20Liste%20des%20produits%20!%202bf37e7305c3490d8ef04cec2537ea91/F1_-_21FV13778_20211129%2078.pdf, !%20Liste%20des%20produits%20!%202bf37e7305c3490d8ef04cec2537ea91/F5_-_Facture_411005664_22FV04713_20220419%2021.pdf, !%20Liste%20des%20produits%20!%202bf37e7305c3490d8ef04cec2537ea91/F10_-_22FV11834_20221102%2019.pdf",null,null,"Actibio","🇮🇹 Italie",null,null,"0",null,null,null,"No","No",null,"Magasin","Huiles","No","No","No","No","No",null,null,"Choisissez un poids","0"]
["Vinaigre balsamique de Modène - 50cl","5,50€/kg","5.5","Alimentaire Conditionné",null,"Bocaux produits salés","0",null,null,"!%20Liste%20des%20produits%20!%202bf37e7305c3490d8ef04cec2537ea91/F3_-_2205_571501%2021.pdf",null,null,"Biodis","🇮🇹 Italie","Luce",null,"0",null,null,null,"No","No",null,"Magasin","Huiles & Vinaigres","No","No","No","No","No",null,null,"Choisissez un poids","0"]
["Vinaigre Blanc Naturel 14° - Vrac","4,90€/kg","4.9","Produits d'entretiens",null,"Entretiens Vrac","0",null,null,"!%20Liste%20des%20produits%20!%202bf37e7305c3490d8ef04cec2537ea91/F22_-_RL_-_FC230117497%208.pdf, !%20Liste%20des%20produits%20!%202bf37e7305c3490d8ef04cec2537ea91/F18_-_FC221015817%207.pdf, !%20Liste%20des%20produits%20!%202bf37e7305c3490d8ef04cec2537ea91/F8_-_FC220312603%207.pdf, !%20Liste%20des%20produits%20!%202bf37e7305c3490d8ef04cec2537ea91/F5_-_FC220211840_-_41059%201.pdf, !%20Liste%20des%20produits%20!%202bf37e7305c3490d8ef04cec2537ea91/F3_-_FC220111443%206.pdf",null,null,"Relais local","🇫🇷 France - Malataverne (26)","Bulle Verte",null,"0",null,null,null,"No","No",null,"Magasin",null,"No","No","No","No","No",null,null,"Choisissez un poids","0"]
["Vinaigre de Cidre ","4,50€/kg","4.5","Alimentaire Vrac",null,"Huiles & Vinaigres","0",null,null,"!%20Liste%20des%20produits%20!%202bf37e7305c3490d8ef04cec2537ea91/F8_-_Facture_411005664_22FV10465_20220923%2013.pdf, !%20Liste%20des%20produits%20!%202bf37e7305c3490d8ef04cec2537ea91/F7_-_Facture_411005664_22FV07675_20220627%2023.pdf, !%20Liste%20des%20produits%20!%202bf37e7305c3490d8ef04cec2537ea91/F1_-_21FV13778_20211129%2079.pdf",null,null,"Actibio","🇫🇷 France",null,null,"0",null,null,null,"No","No",null,"Magasin","Huiles","No","No","No","No","No",null,null,"Choisissez un poids","0"]
["Vinaigre de Vin Rouge","3,75€/kg","3.75","Alimentaire Vrac",null,"Huiles & Vinaigres","0",null,null,"!%20Liste%20des%20produits%20!%202bf37e7305c3490d8ef04cec2537ea91/F7_-_Facture_411005664_22FV07675_20220627%2024.pdf, !%20Liste%20des%20produits%20!%202bf37e7305c3490d8ef04cec2537ea91/F1_-_21FV13778_20211129%2080.pdf",null,null,"Actibio","🇫🇷 France",null,null,"0",null,null,null,"No","No",null,"Magasin","Huiles","No","No","No","No","No",null,null,"Choisissez un poids","0"]
[null,null,null,null,null,null,"0",null,null,null,null,null,null,null,null,null,"0",null,null,null,"No","No",null,null,null,"No","No","No","No","No",null,null,"Choisissez un poids","0"]
[null,null,null,null,null,null,"0",null,null,null,null,null,null,null,null,null,"0",null,null,null,"No","No",null,null,null,"No","No","No","No","No",null,null,"Choisissez un poids","0"]
[null,null,null,null,null,null,"0",null,null,null,null,null,null,null,null,null,"0",null,null,null,"No","No",null,null,null,"No","No","No","No","No",null,null,"Choisissez un poids","0"]
[null,null,null,null,null,null,"0",null,null,null,null,null,null,null,null,null,"0",null,null,null,"No","No",null,null,null,"No","No","No","No","No",null,null,"Choisissez un poids","0"]
[null,null,null,null,null,null,"0",null,null,null,null,null,null,null,null,null,"0",null,null,null,"No","No",null,null,null,"No","No","No","No","No",null,null,"Choisissez un poids","0"]
[null,null,null,null,null,null,"0",null,null,null,null,null,null,null,null,null,"0",null,null,null,"No","No",null,null,null,"No","No","No","No","No",null,null,"Choisissez un poids","0"]
[null,null,null,null,null,null,"0",null,null,null,null,null,null,null,null,null,"0",null,null,null,"No","No",null,null,null,"No","No","No","No","No",null,null,"Choisissez un poids","0"]

{"sheet":"🥜 Tous les produits","index":12,"n_rows":1002,"n_cols":10,"rows_kept":1002,"cut":false,"hidden":true,"merged":[]}
["🥜 Produits","💲Prix de vente","Prix au kilo","Grandes Catégories","😋  J'en veux!","⚖️ Quantité","Quantité format formule","Quantité en format nombre","💰 Montant","🇫🇷 Provenance"]
["Abricots secs","13,90€ / kg",13.9,{"$f":"VLOOKUP(A2,Import!A:D,4)","v":"Alimentaire Vrac"},false,{"$f":"VLOOKUP(A2,'Alimentaire vrac'!A:F,6)","v":0},{"$f":"IF(F2=\"100G\",0.1,IF(F2=\"250G\",0.25,IF(F2=\"500G\",0.5,IF(F2=\"1 Kilo\",1,F2))))","v":0},{"$f":"IFERROR(__xludf.DUMMYFUNCTION(\"TO_PURE_NUMBER(G2)\"),0)","v":0},{"$f":"H2*C2","v":0}]
["Ail des ours ","120€ / kg","120",{"$f":"VLOOKUP(A3,Import!A:D,4)","v":"Alimentaire Vrac"},false,{"$f":"VLOOKUP(A3,'Alimentaire vrac'!A:F,6)","v":0},0,{"$f":"IFERROR(__xludf.DUMMYFUNCTION(\"TO_PURE_NUMBER(G3)\"),0)","v":0},0]
["Ail en granulé 1-2mm ","50€ / kg","50",{"$f":"VLOOKUP(A4,Import!A:D,4)","v":"Alimentaire Vrac"},false,{"$f":"VLOOKUP(A4,'Alimentaire vrac'!A:F,6)","v":0},0,{"$f":"IFERROR(__xludf.DUMMYFUNCTION(\"TO_PURE_NUMBER(G4)\"),0)","v":0},0]
["Ail en Poudre ","49€ / kg","49",{"$f":"VLOOKUP(A5,Import!A:D,4)","v":"Alimentaire Vrac"},false,{"$f":"VLOOKUP(A5,'Alimentaire vrac'!A:F,6)","v":0},0,{"$f":"IFERROR(__xludf.DUMMYFUNCTION(\"TO_PURE_NUMBER(G5)\"),0)","v":0},0]
["Amande sésame Miel","35€ / kg","35",{"$f":"VLOOKUP(A6,Import!A:D,4)","v":"Alimentaire Vrac"},false,{"$f":"VLOOKUP(A6,'Alimentaire vrac'!A:F,6)","v":0},0,{"$f":"IFERROR(__xludf.DUMMYFUNCTION(\"TO_PURE_NUMBER(G6)\"),0)","v":0},0]
["Amandes décortiquées entières ","19,9€ / kg","19,9",{"$f":"VLOOKUP(A7,Import!A:D,4)","v":"Alimentaire Vrac"},false,{"$f":"VLOOKUP(A7,'Alimentaire vrac'!A:F,6)","v":0},0,{"$f":"IFERROR(__xludf.DUMMYFUNCTION(\"TO_PURE_NUMBER(G7)\"),0.5)","v":0.5},9.9499999999999993]
["Amidon de maïs","5,50€ / kg","5,5",{"$f":"VLOOKUP(A8,Import!A:D,4)","v":"Alimentaire Vrac"},false,{"$f":"VLOOKUP(A8,'Alimentaire vrac'!A:F,6)","v":0},0,{"$f":"IFERROR(__xludf.DUMMYFUNCTION(\"TO_PURE_NUMBER(G8)\"),0)","v":0},0]
["Après shampoing - Cheveux abimés & secs","12,50€ / kg","12,5",{"$f":"VLOOKUP(A9,Import!A:D,4)","v":"Alimentaire Vrac"},false,0,0,{"$f":"IFERROR(__xludf.DUMMYFUNCTION(\"TO_PURE_NUMBER(G9)\"),0)","v":0},0]
["Après shampoing - Cheveux abîmés & secs - sans HE - 80g ","12,50€ / kg","12,5",{"$f":"VLOOKUP(A10,Import!A:D,4)","v":"Alimentaire Vrac"},false,0,0,{"$f":"IFERROR(__xludf.DUMMYFUNCTION(\"TO_PURE_NUMBER(G10)\"),0)","v":0},0]
["Après shampoing - Nourrissant & démêlant ","12,50 € / kg","12,5",{"$f":"VLOOKUP(A11,Import!A:D,4)","v":"Alimentaire Vrac"},false,0,0,{"$f":"IFERROR(__xludf.DUMMYFUNCTION(\"TO_PURE_NUMBER(G11)\"),0)","v":0},0]
["Après shampoing vrac - Huile d’argan","29,00 € / kg","29",{"$f":"VLOOKUP(A12,Import!A:D,4)","v":"Produits d'hygiène coporelle"},false,0,0,{"$f":"IFERROR(__xludf.DUMMYFUNCTION(\"TO_PURE_NUMBER(G12)\"),0)","v":0},0]
["Arachides décortiquées grillées nature","12€ / kg","12",{"$f":"VLOOKUP(A13,Import!A:D,4)","v":"Alimentaire Vrac"},false,{"$f":"VLOOKUP(A13,'Alimentaire vrac'!A:F,6)","v":0},0,{"$f":"IFERROR(__xludf.DUMMYFUNCTION(\"TO_PURE_NUMBER(G13)\"),0)","v":0},0]
["Asperges vertes - 185g","4,90€","4,9",{"$f":"VLOOKUP(A14,Import!A:D,4)","v":"Alimentaire Vrac"},false,0,0,{"$f":"IFERROR(__xludf.DUMMYFUNCTION(\"TO_PURE_NUMBER(G14)\"),0)","v":0},0]
["Assouplissant","5,00€","5",{"$f":"VLOOKUP(A15,Import!A:D,4)","v":"Alimentaire Vrac"},false,0,0,{"$f":"IFERROR(__xludf.DUMMYFUNCTION(\"TO_PURE_NUMBER(G15)\"),0)","v":0},0]
["Baie de Goji ","29,90€ / kg","29,9",{"$f":"VLOOKUP(A16,Import!A:D,4)","v":"Produits d'entretiens"},false,{"$f":"VLOOKUP(A16,'Alimentaire vrac'!A:F,6)","v":0},0,{"$f":"IFERROR(__xludf.DUMMYFUNCTION(\"TO_PURE_NUMBER(G16)\"),0)","v":0},0]
["Basilic Feuilles","27,00€ / kg","27",{"$f":"VLOOKUP(A17,Import!A:D,4)","v":"Alimentaire Vrac"},false,{"$f":"VLOOKUP(A17,'Alimentaire vrac'!A:F,6)","v":0},0,{"$f":"IFERROR(__xludf.DUMMYFUNCTION(\"TO_PURE_NUMBER(G17)\"),0)","v":0},0]
["Baume à lèvre Agrumes ","7,50€","7,5",{"$f":"VLOOKUP(A18,Import!A:D,4)","v":"Produits d'hygiène coporelle"},false,0,0,{"$f":"IFERROR(__xludf.DUMMYFUNCTION(\"TO_PURE_NUMBER(G18)\"),0)","v":0},0]
["Baume à lèvre Fruits Rouges","7,00€","7",{"$f":"VLOOKUP(A19,Import!A:D,4)","v":"Produits d'hygiène coporelle"},false,0,0,{"$f":"IFERROR(__xludf.DUMMYFUNCTION(\"TO_PURE_NUMBER(G19)\"),0)","v":0},0]
["Baume Mini  Multi-usages Fleurs d’été","5,90€","5,9",{"$f":"VLOOKUP(A20,Import!A:D,4)","v":"Produits d'hygiène coporelle"},false,0,0,{"$f":"IFERROR(__xludf.DUMMYFUNCTION(\"TO_PURE_NUMBER(G20)\"),0)","v":0},0]
["Baume Mini Multi-usages Lait d’amande","5,90€","5,9",{"$f":"VLOOKUP(A21,Import!A:D,4)","v":"Produits d'hygiène coporelle"},false,0,0,{"$f":"IFERROR(__xludf.DUMMYFUNCTION(\"TO_PURE_NUMBER(G21)\"),0)","v":0},0]
["Baume Multi-usages Fleurs d’été","11,90€","11,9",{"$f":"VLOOKUP(A22,Import!A:D,4)","v":"Produits d'hygiène coporelle"},false,0,0,{"$f":"IFERROR(__xludf.DUMMYFUNCTION(\"TO_PURE_NUMBER(G22)\"),0)","v":0},0]
["Baume Multi-usages Lait d’amande","11,90€","11,9",{"$f":"VLOOKUP(A23,Import!A:D,4)","v":"Produits d'hygiène coporelle"},false,0,0,{"$f":"IFERROR(__xludf.DUMMYFUNCTION(\"TO_PURE_NUMBER(G23)\"),0)","v":0},0]
["Bavoir - Petit","9,50€","9,5",{"$f":"VLOOKUP(A24,Import!A:D,4)","v":"Zéros déchets et Bocaux"},false,0,0,{"$f":"IFERROR(__xludf.DUMMYFUNCTION(\"TO_PURE_NUMBER(G24)\"),0)","v":0},0]
["Beurre de Cacahuète Extra Crunchy - Go Nuts - 270g","4,90 €","4,9",{"$f":"VLOOKUP(A25,Import!A:D,4)","v":"Zéros déchets et Bocaux"},false,0,0,{"$f":"IFERROR(__xludf.DUMMYFUNCTION(\"TO_PURE_NUMBER(G25)\"),0)","v":0},0]
["Beurre de cacahuètes - Go Nuts - 270g","4,95 €",4.95,{"$f":"VLOOKUP(A26,Import!A:D,4)","v":"Alimentaire Conditionné"},false,0,0,{"$f":"IFERROR(__xludf.DUMMYFUNCTION(\"TO_PURE_NUMBER(G26)\"),0)","v":0},0]
["Beurre de cacahuètes- Go Nuts - 500g","8,90 €","8,9",{"$f":"VLOOKUP(A27,Import!A:D,4)","v":"Alimentaire Conditionné"},false,0,0,{"$f":"IFERROR(__xludf.DUMMYFUNCTION(\"TO_PURE_NUMBER(G27)\"),0)","v":0},0]
["Beurre de cacao Iris ","8,50 €","8,5",{"$f":"VLOOKUP(A28,Import!A:D,4)","v":"Alimentaire Conditionné"},false,0,0,{"$f":"IFERROR(__xludf.DUMMYFUNCTION(\"TO_PURE_NUMBER(G28)\"),0)","v":0},0]
["Bicarbonate de soude","4,90 € / kg","4,9",{"$f":"VLOOKUP(A29,Import!A:D,4)","v":"Produits d'hygiène coporelle"},false,0,0,{"$f":"IFERROR(__xludf.DUMMYFUNCTION(\"TO_PURE_NUMBER(G29)\"),0)","v":0},0]
["Biere Blanche - La St Bonn’Beer - 33cl","3,00 €","3",{"$f":"VLOOKUP(A30,Import!A:D,4)","v":"Boissons conditionnées"},false,0,0,{"$f":"IFERROR(__xludf.DUMMYFUNCTION(\"TO_PURE_NUMBER(G30)\"),0)","v":0},0]
["Biere Blanche - La St Bonn’Beer - 75cl","6,50 €","6,5",{"$f":"VLOOKUP(A31,Import!A:D,4)","v":"Boissons conditionnées"},false,0,0,{"$f":"IFERROR(__xludf.DUMMYFUNCTION(\"TO_PURE_NUMBER(G31)\"),0)","v":0},0]
["Biere Blonde - La Promesse - 33cl","3,00 €","3",{"$f":"VLOOKUP(A32,Import!A:D,4)","v":"Boissons conditionnées"},false,0,0,{"$f":"IFERROR(__xludf.DUMMYFUNCTION(\"TO_PURE_NUMBER(G32)\"),0)","v":0},0]
["Biere Blonde - La Promesse - 75cl","6,50 €","6,5",{"$f":"VLOOKUP(A33,Import!A:D,4)","v":"Boissons conditionnées"},false,0,0,{"$f":"IFERROR(__xludf.DUMMYFUNCTION(\"TO_PURE_NUMBER(G33)\"),0)","v":0},0]
["Bière Blonde - S’Platine","6,50 €","6,5",{"$f":"VLOOKUP(A34,Import!A:D,4)","v":"Boissons conditionnées"},false,0,0,{"$f":"IFERROR(__xludf.DUMMYFUNCTION(\"TO_PURE_NUMBER(G34)\"),0)","v":0},0]
["Biere IPA - La Gonette - 33cl","3,00 €","3",{"$f":"VLOOKUP(A35,Import!A:D,4)","v":"Boissons conditionnées"},false,0,0,{"$f":"IFERROR(__xludf.DUMMYFUNCTION(\"TO_PURE_NUMBER(G35)\"),0)","v":0},0]
["Biere IPA - La Gonette - 75cl","6,50 €","6,5",{"$f":"VLOOKUP(A36,Import!A:D,4)","v":"Boissons conditionnées"},false,0,0,{"$f":"IFERROR(__xludf.DUMMYFUNCTION(\"TO_PURE_NUMBER(G36)\"),0)","v":0},0]
["Bière IPA - S’Hoppy","7,00 €","7",{"$f":"VLOOKUP(A37,Import!A:D,4)","v":"Boissons conditionnées"},false,0,0,{"$f":"IFERROR(__xludf.DUMMYFUNCTION(\"TO_PURE_NUMBER(G37)\"),0)","v":0},0]
["Biosoy Nature - 1L","2,10 €","2,1",{"$f":"VLOOKUP(A38,Import!A:D,4)","v":"Boissons conditionnées"},false,0,0,{"$f":"IFERROR(__xludf.DUMMYFUNCTION(\"TO_PURE_NUMBER(G38)\"),0)","v":0},0]
["Biscuits P’tit Dej - Avoine Miel","18,00€ / kg","18",{"$f":"VLOOKUP(A39,Import!A:D,4)","v":"Alimentaire Vrac"},false,{"$f":"VLOOKUP(A39,'Alimentaire vrac'!A:F,6)","v":0},0,{"$f":"IFERROR(__xludf.DUMMYFUNCTION(\"TO_PURE_NUMBER(G39)\"),0)","v":0},0]
["Biscuits P’tit Dej - Cacao Pépites Chocolat","18,00€ / kg","18",{"$f":"VLOOKUP(A40,Import!A:D,4)","v":"Alimentaire Vrac"},false,{"$f":"VLOOKUP(A40,'Alimentaire vrac'!A:F,6)","v":0},0,{"$f":"IFERROR(__xludf.DUMMYFUNCTION(\"TO_PURE_NUMBER(G40)\"),0)","v":0},0]
["Biscuits Apéro - Cajou Oignon sans gluten","50€ / kg","50",{"$f":"VLOOKUP(A41,Import!A:D,4)","v":"Alimentaire Vrac"},false,0,0,{"$f":"IFERROR(__xludf.DUMMYFUNCTION(\"TO_PURE_NUMBER(G41)\"),0)","v":0},0]
["Biscuits Apéro - Comté","50,00€ / kg","50",{"$f":"VLOOKUP(A42,Import!A:D,4)","v":"Alimentaire Vrac"},false,0,0,{"$f":"IFERROR(__xludf.DUMMYFUNCTION(\"TO_PURE_NUMBER(G42)\"),0)","v":0},0]
["Biscuits Apéro - Cumin & pois chiches","30,00€ / kg","30",{"$f":"VLOOKUP(A43,Import!A:D,4)","v":"Alimentaire Vrac"},false,0,0,{"$f":"IFERROR(__xludf.DUMMYFUNCTION(\"TO_PURE_NUMBER(G43)\"),0)","v":0},0]
["Biscuits Apéro - Gruyères","30,50€ / kg","30,5",{"$f":"VLOOKUP(A44,Import!A:D,4)","v":"Alimentaire Vrac"},false,0,0,{"$f":"IFERROR(__xludf.DUMMYFUNCTION(\"TO_PURE_NUMBER(G44)\"),0)","v":0},0]
["Biscuits Apéro - Moutarde à l’ancienne","30,50€ / kg","30,5",{"$f":"VLOOKUP(A45,Import!A:D,4)","v":"Alimentaire Vrac"},false,0,0,{"$f":"IFERROR(__xludf.DUMMYFUNCTION(\"TO_PURE_NUMBER(G45)\"),0)","v":0},0]
["Biscuits Apéro - Oignon Paprika","30,00€ / kg","30",{"$f":"VLOOKUP(A46,Import!A:D,4)","v":"Alimentaire Vrac"},false,0,0,{"$f":"IFERROR(__xludf.DUMMYFUNCTION(\"TO_PURE_NUMBER(G46)\"),0)","v":0},0]
["Biscuits Apéro - tomate & oignons","30,00€ / kg","30",{"$f":"VLOOKUP(A47,Import!A:D,4)","v":"Alimentaire Vrac"},false,0,0,{"$f":"IFERROR(__xludf.DUMMYFUNCTION(\"TO_PURE_NUMBER(G47)\"),0)","v":0},0]
["Biscuits Sucrés - Chocolat","25,00€ / kg","25",{"$f":"VLOOKUP(A48,Import!A:D,4)","v":"Alimentaire Vrac"},false,{"$f":"VLOOKUP(A48,'Alimentaire vrac'!A:F,6)","v":0},0,{"$f":"IFERROR(__xludf.DUMMYFUNCTION(\"TO_PURE_NUMBER(G48)\"),0)","v":0},0]
["Biscuits Sucrés - Nature au Beurre","30,00€ / kg","30",{"$f":"VLOOKUP(A49,Import!A:D,4)","v":"Alimentaire Vrac"},false,{"$f":"VLOOKUP(A49,'Alimentaire vrac'!A:F,6)","v":0},0,{"$f":"IFERROR(__xludf.DUMMYFUNCTION(\"TO_PURE_NUMBER(G49)\"),0)","v":0},0]
["Biscuits sucrés - Pomme au beurre ","25,00€ / kg","25",{"$f":"VLOOKUP(A50,Import!A:D,4)","v":"Alimentaire Vrac"},false,{"$f":"VLOOKUP(A50,'Alimentaire vrac'!A:F,6)","v":0},0,{"$f":"IFERROR(__xludf.DUMMYFUNCTION(\"TO_PURE_NUMBER(G50)\"),0)","v":0},0]
["Blé Pré cuit mondé","4,00€ / kg","4",{"$f":"VLOOKUP(A51,Import!A:D,4)","v":"Alimentaire Vrac"},false,{"$f":"VLOOKUP(A51,'Alimentaire vrac'!A:F,6)","v":0},0,{"$f":"IFERROR(__xludf.DUMMYFUNCTION(\"TO_PURE_NUMBER(G51)\"),0)","v":0},0]
["Bocal Aubergine Paprika fumé","5,50€","5,5",{"$f":"VLOOKUP(A52,Import!A:D,4)","v":"Alimentaire Conditionné"},false,{"$f":"VLOOKUP(A52,'Alimentaire vrac'!A:F,6)","v":0},0,{"$f":"IFERROR(__xludf.DUMMYFUNCTION(\"TO_PURE_NUMBER(G52)\"),0)","v":0},0]
["Bocal Betterave Grains moutarde","5,50€","5,5",{"$f":"VLOOKUP(A53,Import!A:D,4)","v":"Alimentaire Conditionné"},false,{"$f":"VLOOKUP(A53,'Alimentaire vrac'!A:F,6)","v":0},0,{"$f":"IFERROR(__xludf.DUMMYFUNCTION(\"TO_PURE_NUMBER(G53)\"),0)","v":0},0]
["Bocal Butternut verveine citron","5,50€","5,5",{"$f":"VLOOKUP(A54,Import!A:D,4)","v":"Alimentaire Conditionné"},false,{"$f":"VLOOKUP(A54,'Alimentaire vrac'!A:F,6)","v":0},0,{"$f":"IFERROR(__xludf.DUMMYFUNCTION(\"TO_PURE_NUMBER(G54)\"),0)","v":0},0]
["Bocal Carotte cumin","5,50€","5,5",{"$f":"VLOOKUP(A55,Import!A:D,4)","v":"Alimentaire Conditionné"},false,{"$f":"VLOOKUP(A55,'Alimentaire vrac'!A:F,6)","v":0},0,{"$f":"IFERROR(__xludf.DUMMYFUNCTION(\"TO_PURE_NUMBER(G55)\"),0)","v":0},0]
["Bocal Chou fleur Ail noir","5,50€","5,5",{"$f":"VLOOKUP(A56,Import!A:D,4)","v":"Alimentaire Conditionné"},false,{"$f":"VLOOKUP(A56,'Alimentaire vrac'!A:F,6)","v":0},0,{"$f":"IFERROR(__xludf.DUMMYFUNCTION(\"TO_PURE_NUMBER(G56)\"),0)","v":0},0]
["Bocal Courgette Thym","5,50€","5,5",{"$f":"VLOOKUP(A57,Import!A:D,4)","v":"Alimentaire Conditionné"},false,{"$f":"VLOOKUP(A57,'Alimentaire vrac'!A:F,6)","v":0},0,{"$f":"IFERROR(__xludf.DUMMYFUNCTION(\"TO_PURE_NUMBER(G57)\"),0)","v":0},0]
["Bocal Pois chiches Graines de Nigelle","5,50€","5,5",{"$f":"VLOOKUP(A58,Import!A:D,4)","v":"Alimentaire Conditionné"},false,{"$f":"VLOOKUP(A58,'Alimentaire vrac'!A:F,6)","v":0},0,{"$f":"IFERROR(__xludf.DUMMYFUNCTION(\"TO_PURE_NUMBER(G58)\"),0)","v":0},0]
["Boisson So amande Nature UHT - 1L","2,60 €","2,6",{"$f":"VLOOKUP(A59,Import!A:D,4)","v":"Alimentaire Conditionné"},false,0,0,{"$f":"IFERROR(__xludf.DUMMYFUNCTION(\"TO_PURE_NUMBER(G59)\"),0)","v":0},0]
["Bol 15x7 Gravé Cap Bambou","14,90 €","14,9",{"$f":"VLOOKUP(A60,Import!A:D,4)","v":"Zéros déchets et Bocaux"},false,0,0,{"$f":"IFERROR(__xludf.DUMMYFUNCTION(\"TO_PURE_NUMBER(G60)\"),0)","v":0},0]
["Bonbons - Vers acidulés","20,50€ / kg","20,5",{"$f":"VLOOKUP(A61,Import!A:D,4)","v":"Zéros déchets et Bocaux"},false,{"$f":"VLOOKUP(A61,'Alimentaire vrac'!A:F,6)","v":0},0,{"$f":"IFERROR(__xludf.DUMMYFUNCTION(\"TO_PURE_NUMBER(G61)\"),0)","v":0},0]
["Bougies Parfumées - Grandes","18,00 €","18",{"$f":"VLOOKUP(A62,Import!A:D,4)","v":"Zéros déchets et Bocaux"},false,0,0,{"$f":"IFERROR(__xludf.DUMMYFUNCTION(\"TO_PURE_NUMBER(G62)\"),0)","v":0},0]
["Bougies Parfumées - Petites","11,00 €","11",{"$f":"VLOOKUP(A63,Import!A:D,4)","v":"Zéros déchets et Bocaux"},false,0,0,{"$f":"IFERROR(__xludf.DUMMYFUNCTION(\"TO_PURE_NUMBER(G63)\"),0)","v":0},0]
["Bouillon de légumes poudre sans levure sans palme","24,00€ / kg","24",{"$f":"VLOOKUP(A64,Import!A:D,4)","v":"Alimentaire Vrac"},false,{"$f":"VLOOKUP(A64,'Alimentaire vrac'!A:F,6)","v":0},0,{"$f":"IFERROR(__xludf.DUMMYFUNCTION(\"TO_PURE_NUMBER(G64)\"),0)","v":0},0]
["Boulgour","3,10€ / kg","3,1",{"$f":"VLOOKUP(A65,Import!A:D,4)","v":"Alimentaire Vrac"},false,{"$f":"VLOOKUP(A65,'Alimentaire vrac'!A:F,6)","v":0},0,{"$f":"IFERROR(__xludf.DUMMYFUNCTION(\"TO_PURE_NUMBER(G65)\"),0)","v":0},0]
["Brosse à cheveux Bébé","9,50 €","9,5",{"$f":"VLOOKUP(A66,Import!A:D,4)","v":"Produits d'hygiène coporelle"},false,0,0,{"$f":"IFERROR(__xludf.DUMMYFUNCTION(\"TO_PURE_NUMBER(G66)\"),0)","v":0},0]
["Brosse à cheveux Démélante","14,90 €","14,9",{"$f":"VLOOKUP(A67,Import!A:D,4)","v":"Produits d'hygiène coporelle"},false,0,0,{"$f":"IFERROR(__xludf.DUMMYFUNCTION(\"TO_PURE_NUMBER(G67)\"),0)","v":0},0]
["Brosse à cheveux Démélante Enfants","8,99 €",8.99,{"$f":"VLOOKUP(A68,Import!A:D,4)","v":"Produits d'hygiène coporelle"},false,0,0,{"$f":"IFERROR(__xludf.DUMMYFUNCTION(\"TO_PURE_NUMBER(G68)\"),0)","v":0},0]
["Brosse à dent à tête rechargeable - hêtre","8,50 €","8,5",{"$f":"VLOOKUP(A69,Import!A:D,4)","v":"Produits d'hygiène coporelle"},false,0,0,{"$f":"IFERROR(__xludf.DUMMYFUNCTION(\"TO_PURE_NUMBER(G69)\"),0)","v":0},0]
["Brosse à dents adultes","3,99 €",3.99,{"$f":"VLOOKUP(A70,Import!A:D,4)","v":0},false,0,0,{"$f":"IFERROR(__xludf.DUMMYFUNCTION(\"TO_PURE_NUMBER(G70)\"),0)","v":0},0]
["Brosse à vaisselle à tête rechargeable - Bravo et merci","24,90 €","24,9",{"$f":"VLOOKUP(A71,Import!A:D,4)","v":0},false,0,0,{"$f":"IFERROR(__xludf.DUMMYFUNCTION(\"TO_PURE_NUMBER(G71)\"),0)","v":0},0]
["Brosse à vaisselle en bois","6,50 €","6,5",{"$f":"VLOOKUP(A72,Import!A:D,4)","v":0},false,0,0,{"$f":"IFERROR(__xludf.DUMMYFUNCTION(\"TO_PURE_NUMBER(G72)\"),0)","v":0},0]
["Brosse à vaisselle petite ","5,50 €","5,5",{"$f":"VLOOKUP(A73,Import!A:D,4)","v":0},false,0,0,{"$f":"IFERROR(__xludf.DUMMYFUNCTION(\"TO_PURE_NUMBER(G73)\"),0)","v":0},0]
["Brosses à dents enfants - Jaune","3,50 €","3,5",{"$f":"VLOOKUP(A74,Import!A:D,4)","v":"Produits d'hygiène coporelle"},false,0,0,{"$f":"IFERROR(__xludf.DUMMYFUNCTION(\"TO_PURE_NUMBER(G74)\"),0)","v":0},0]
["Brosses à dents enfants - Violet","3,50 €","3,5",{"$f":"VLOOKUP(A75,Import!A:D,4)","v":"Produits d'hygiène coporelle"},false,0,0,{"$f":"IFERROR(__xludf.DUMMYFUNCTION(\"TO_PURE_NUMBER(G75)\"),0)","v":0},0]
["Brûle Parfum","15,50 €","15,5",{"$f":"VLOOKUP(A76,Import!A:D,4)","v":"Produits d'hygiène coporelle"},false,0,0,{"$f":"IFERROR(__xludf.DUMMYFUNCTION(\"TO_PURE_NUMBER(G76)\"),0)","v":0},0]
["Bulles d’orange - 25cl","3,00 €","3",{"$f":"VLOOKUP(A77,Import!A:D,4)","v":"Produits d'hygiène coporelle"},false,0,0,{"$f":"IFERROR(__xludf.DUMMYFUNCTION(\"TO_PURE_NUMBER(G77)\"),0)","v":0},0]
["Café - Grains - Moka Djimmah ","19,50€ / kg","19,5",{"$f":"VLOOKUP(A78,Import!A:D,4)","v":"Boisson en vrac"},false,0,0,{"$f":"IFERROR(__xludf.DUMMYFUNCTION(\"TO_PURE_NUMBER(G78)\"),0)","v":0},0]
["Cannelle en Poudre","56,00€ / kg","56",{"$f":"VLOOKUP(A79,Import!A:D,4)","v":"Alimentaire Vrac"},false,{"$f":"VLOOKUP(A79,'Alimentaire vrac'!A:F,6)","v":0},0,{"$f":"IFERROR(__xludf.DUMMYFUNCTION(\"TO_PURE_NUMBER(G79)\"),0)","v":0},0]
["Cannelle en Tuyau","62,00€ / kg","62",{"$f":"VLOOKUP(A80,Import!A:D,4)","v":"Alimentaire Vrac"},false,{"$f":"VLOOKUP(A80,'Alimentaire vrac'!A:F,6)","v":0},0,{"$f":"IFERROR(__xludf.DUMMYFUNCTION(\"TO_PURE_NUMBER(G80)\"),0)","v":0},0]
["Carrés démaquillants - Lot de 5","7,50 €","7,5",{"$f":"VLOOKUP(A81,Import!A:D,4)","v":"Alimentaire Vrac"},false,0,0,{"$f":"IFERROR(__xludf.DUMMYFUNCTION(\"TO_PURE_NUMBER(G81)\"),0)","v":0},0]
["Chicorée torréfiée soluble - 200g","6,50 €","6,5",{"$f":"VLOOKUP(A82,Import!A:D,4)","v":"Boisson en vrac"},false,0,0,{"$f":"IFERROR(__xludf.DUMMYFUNCTION(\"TO_PURE_NUMBER(G82)\"),0)","v":0},0]
["Chili végétarien - 355g","4,50 €","4,5",{"$f":"VLOOKUP(A83,Import!A:D,4)","v":"Boisson en vrac"},false,0,0,{"$f":"IFERROR(__xludf.DUMMYFUNCTION(\"TO_PURE_NUMBER(G83)\"),0)","v":0},0]
["Chili végétarien - 670g","5,95 €",5.95,{"$f":"VLOOKUP(A84,Import!A:D,4)","v":"Boisson en vrac"},false,0,0,{"$f":"IFERROR(__xludf.DUMMYFUNCTION(\"TO_PURE_NUMBER(G84)\"),0)","v":0},0]
["Chips de Banane au Miel ","15,00 € / kg","15",{"$f":"VLOOKUP(A85,Import!A:D,4)","v":"Alimentaire Vrac"},false,{"$f":"VLOOKUP(A85,'Alimentaire vrac'!A:F,6)","v":0},0,{"$f":"IFERROR(__xludf.DUMMYFUNCTION(\"TO_PURE_NUMBER(G85)\"),0.5)","v":0.5},7.5]
["Choco crisp ","9,50 € / kg","9,5",{"$f":"VLOOKUP(A86,Import!A:D,4)","v":"Alimentaire Vrac"},false,{"$f":"VLOOKUP(A86,'Alimentaire vrac'!A:F,6)","v":0},0,{"$f":"IFERROR(__xludf.DUMMYFUNCTION(\"TO_PURE_NUMBER(G86)\"),0)","v":0},0]
["Chocolat Lait - Pépites ","20,00 € / kg","20",{"$f":"VLOOKUP(A87,Import!A:D,4)","v":"Alimentaire Vrac"},false,{"$f":"VLOOKUP(A87,'Alimentaire vrac'!A:F,6)","v":0},0,{"$f":"IFERROR(__xludf.DUMMYFUNCTION(\"TO_PURE_NUMBER(G87)\"),0)","v":0},0]
["Chocolat Noir - Pépites ","20,00 € / kg","20",{"$f":"VLOOKUP(A88,Import!A:D,4)","v":"Alimentaire Vrac"},false,{"$f":"VLOOKUP(A88,'Alimentaire vrac'!A:F,6)","v":0},0,{"$f":"IFERROR(__xludf.DUMMYFUNCTION(\"TO_PURE_NUMBER(G88)\"),0)","v":0},0]
["Chocolat Noir Poudre Instantané - Cacao et Sucre","90,00 € / kg","90",{"$f":"VLOOKUP(A89,Import!A:D,4)","v":"Alimentaire Vrac"},false,{"$f":"VLOOKUP(A89,'Alimentaire vrac'!A:F,6)","v":0},0,{"$f":"IFERROR(__xludf.DUMMYFUNCTION(\"TO_PURE_NUMBER(G89)\"),0)","v":0},0]
["Chouchou","4,50 €","4,5",{"$f":"VLOOKUP(A90,Import!A:D,4)","v":"Zéros déchets et Bocaux"},false,0,0,{"$f":"IFERROR(__xludf.DUMMYFUNCTION(\"TO_PURE_NUMBER(G90)\"),0)","v":0},0]
["Ciboulette Feuilles ","80,00 € / kg","80",{"$f":"VLOOKUP(A91,Import!A:D,4)","v":"Alimentaire Vrac"},false,{"$f":"VLOOKUP(A91,'Alimentaire vrac'!A:F,6)","v":0},0,{"$f":"IFERROR(__xludf.DUMMYFUNCTION(\"TO_PURE_NUMBER(G91)\"),0)","v":0},0]
["Cidre Brut 75cl","5,90 €","5,9",{"$f":"VLOOKUP(A92,Import!A:D,4)","v":"Boissons conditionnées"},false,0,0,{"$f":"IFERROR(__xludf.DUMMYFUNCTION(\"TO_PURE_NUMBER(G92)\"),0)","v":0},0]
["Cinq baies concassées","114,00 € / kg","114",{"$f":"VLOOKUP(A93,Import!A:D,4)","v":"Alimentaire Vrac"},false,{"$f":"VLOOKUP(A93,'Alimentaire vrac'!A:F,6)","v":0},0,{"$f":"IFERROR(__xludf.DUMMYFUNCTION(\"TO_PURE_NUMBER(G93)\"),0)","v":0},0]
["Citronnade pur jus de citron jaune - 75cl","3,50 €","3,5",{"$f":"VLOOKUP(A94,Import!A:D,4)","v":"Boissons conditionnées"},false,0,0,{"$f":"IFERROR(__xludf.DUMMYFUNCTION(\"TO_PURE_NUMBER(G94)\"),0)","v":0},0]
["Cocotte Indienne haricots blancs, riz complet, tofu - 360g","4,50 €","4,5",{"$f":"VLOOKUP(A95,Import!A:D,4)","v":"Boissons conditionnées"},false,0,0,{"$f":"IFERROR(__xludf.DUMMYFUNCTION(\"TO_PURE_NUMBER(G95)\"),0)","v":0},0]
["Coffret de 3 petits pots","12€","6",{"$f":"VLOOKUP(A96,Import!A:D,4)","v":"Boissons conditionnées"},false,0,0,{"$f":"IFERROR(__xludf.DUMMYFUNCTION(\"TO_PURE_NUMBER(G96)\"),0)","v":0},0]
["Compote Allégée - Pomme Abricot - 660g","5 €","4,1",{"$f":"VLOOKUP(A97,Import!A:D,4)","v":"Alimentaire Conditionné"},false,0,0,{"$f":"IFERROR(__xludf.DUMMYFUNCTION(\"TO_PURE_NUMBER(G97)\"),0)","v":0},0]
["Compote Pomme - 480g - Jardins Bellerive","3,50 €","3,5",{"$f":"VLOOKUP(A98,Import!A:D,4)","v":"Alimentaire Conditionné"},false,0,0,{"$f":"IFERROR(__xludf.DUMMYFUNCTION(\"TO_PURE_NUMBER(G98)\"),0)","v":0},0]
["Compote Pomme Framboise - 480g - Jardins Bellerive","4,50 €","4,5",{"$f":"VLOOKUP(A99,Import!A:D,4)","v":"Alimentaire Conditionné"},false,0,0,{"$f":"IFERROR(__xludf.DUMMYFUNCTION(\"TO_PURE_NUMBER(G99)\"),0)","v":0},0]
["Concentré de Tomate - 200g","2,30 €","2,3",{"$f":"VLOOKUP(A100,Import!A:D,4)","v":"Alimentaire Conditionné"},false,0,0,{"$f":"IFERROR(__xludf.DUMMYFUNCTION(\"TO_PURE_NUMBER(G100)\"),0)","v":0},0]
["Confiture Abricot - 340g - Collines","4,90 €","4,9",{"$f":"VLOOKUP(A101,Import!A:D,4)","v":"Alimentaire Conditionné"},false,0,0,{"$f":"IFERROR(__xludf.DUMMYFUNCTION(\"TO_PURE_NUMBER(G101)\"),0)","v":0},0]
["Confiture de Figue 340g","4,90 €","4,9",{"$f":"VLOOKUP(A102,Import!A:D,4)","v":"Alimentaire Conditionné"},false,0,0,{"$f":"IFERROR(__xludf.DUMMYFUNCTION(\"TO_PURE_NUMBER(G102)\"),0)","v":0},0]
["Confiture de Fraise - 370g ","4,90 €","4,9",{"$f":"VLOOKUP(A103,Import!A:D,4)","v":"Alimentaire Conditionné"},false,0,0,{"$f":"IFERROR(__xludf.DUMMYFUNCTION(\"TO_PURE_NUMBER(G103)\"),0)","v":0},0]
["Confiture de Fruits des Bois 370g ","5,50 €","5,5",{"$f":"VLOOKUP(A104,Import!A:D,4)","v":"Alimentaire Conditionné"},false,0,0,{"$f":"IFERROR(__xludf.DUMMYFUNCTION(\"TO_PURE_NUMBER(G104)\"),0)","v":0},0]
["Confiture de Myrtille - 370g - Jardins Bellerive","4,90 €","4,9",{"$f":"VLOOKUP(A105,Import!A:D,4)","v":"Alimentaire Conditionné"},false,0,0,{"$f":"IFERROR(__xludf.DUMMYFUNCTION(\"TO_PURE_NUMBER(G105)\"),0)","v":0},0]
["Cookie Vegan bio","23,00€ / kg","23",{"$f":"VLOOKUP(A106,Import!A:D,4)","v":"Alimentaire Conditionné"},false,{"$f":"VLOOKUP(A106,'Alimentaire vrac'!A:F,6)","v":0},0,{"$f":"IFERROR(__xludf.DUMMYFUNCTION(\"TO_PURE_NUMBER(G106)\"),0)","v":0},0]
["Coquillettes Blanches","3€ / kg","3",{"$f":"VLOOKUP(A107,Import!A:D,4)","v":"Alimentaire Conditionné"},false,{"$f":"VLOOKUP(A107,'Alimentaire vrac'!A:F,6)","v":0},0,{"$f":"IFERROR(__xludf.DUMMYFUNCTION(\"TO_PURE_NUMBER(G107)\"),0)","v":0},0]
["Coquillettes Semi Complètes","3€ / kg","3",{"$f":"VLOOKUP(A108,Import!A:D,4)","v":"Alimentaire Conditionné"},false,{"$f":"VLOOKUP(A108,'Alimentaire vrac'!A:F,6)","v":0},0,{"$f":"IFERROR(__xludf.DUMMYFUNCTION(\"TO_PURE_NUMBER(G108)\"),0)","v":0},0]
["Corn Flakes ","8,50€ / kg","8,5",{"$f":"VLOOKUP(A109,Import!A:D,4)","v":"Alimentaire Conditionné"},false,{"$f":"VLOOKUP(A109,'Alimentaire vrac'!A:F,6)","v":0},0,{"$f":"IFERROR(__xludf.DUMMYFUNCTION(\"TO_PURE_NUMBER(G109)\"),0)","v":0},0]
["Cornichons au vinaigre 37cl - 185g","7,50 €","7,5",{"$f":"VLOOKUP(A110,Import!A:D,4)","v":"Alimentaire Conditionné"},false,0,0,{"$f":"IFERROR(__xludf.DUMMYFUNCTION(\"TO_PURE_NUMBER(G110)\"),0)","v":0},0]
["Cotons tiges x 100","1,95 €",1.95,{"$f":"VLOOKUP(A111,Import!A:D,4)","v":"Produits d'hygiène coporelle"},false,0,0,{"$f":"IFERROR(__xludf.DUMMYFUNCTION(\"TO_PURE_NUMBER(G111)\"),0)","v":0},0]
["Cotons tiges x 200","3,59 €",3.59,{"$f":"VLOOKUP(A112,Import!A:D,4)","v":"Produits d'hygiène coporelle"},false,0,0,{"$f":"IFERROR(__xludf.DUMMYFUNCTION(\"TO_PURE_NUMBER(G112)\"),0)","v":0},0]
["Couscous aux 7 légumes - 1kg","6,95 €",6.95,{"$f":"VLOOKUP(A113,Import!A:D,4)","v":"Alimentaire Conditionné"},false,0,0,{"$f":"IFERROR(__xludf.DUMMYFUNCTION(\"TO_PURE_NUMBER(G113)\"),0)","v":0},0]
["Couscous Complet ","3,50€","3,5",{"$f":"VLOOKUP(A114,Import!A:D,4)","v":"Alimentaire Vrac"},false,{"$f":"VLOOKUP(A114,'Alimentaire vrac'!A:F,6)","v":0},0,{"$f":"IFERROR(__xludf.DUMMYFUNCTION(\"TO_PURE_NUMBER(G114)\"),0.5)","v":0.5},1.75]
["Couteau Réutilisable ","2€","2",{"$f":"VLOOKUP(A115,Import!A:D,4)","v":"Alimentaire Vrac"},false,0,0,{"$f":"IFERROR(__xludf.DUMMYFUNCTION(\"TO_PURE_NUMBER(G115)\"),0)","v":0},0]
["Cranberries Demi séchées au sucre de Canne","17,50€ / kg","17,5",{"$f":"VLOOKUP(A116,Import!A:D,4)","v":"Alimentaire Vrac"},false,{"$f":"VLOOKUP(A116,'Alimentaire vrac'!A:F,6)","v":0},0,{"$f":"IFERROR(__xludf.DUMMYFUNCTION(\"TO_PURE_NUMBER(G116)\"),0)","v":0},0]
["Crème corps hydratant - Fleur de coton","15,60 €","15,6",{"$f":"VLOOKUP(A117,Import!A:D,4)","v":"Alimentaire Vrac"},false,0,0,{"$f":"IFERROR(__xludf.DUMMYFUNCTION(\"TO_PURE_NUMBER(G117)\"),0)","v":0},0]
["Crème corps nourrissante - douceur iodée","12,90 €","12,9",{"$f":"VLOOKUP(A118,Import!A:D,4)","v":"Produits d'hygiène coporelle"},false,0,0,{"$f":"IFERROR(__xludf.DUMMYFUNCTION(\"TO_PURE_NUMBER(G118)\"),0)","v":0},0]
["Crème de Marron - 320g ","5,90 €","5,9",{"$f":"VLOOKUP(A119,Import!A:D,4)","v":"Alimentaire Conditionné"},false,0,0,{"$f":"IFERROR(__xludf.DUMMYFUNCTION(\"TO_PURE_NUMBER(G119)\"),0)","v":0},0]
["Crème solaire SPF 30 - 50ml","18,90 €","18,9",{"$f":"VLOOKUP(A120,Import!A:D,4)","v":"Produits d'hygiène coporelle"},false,0,0,{"$f":"IFERROR(__xludf.DUMMYFUNCTION(\"TO_PURE_NUMBER(G120)\"),0)","v":0},0]
["Crème solaire SPF 50 - 100ml","24,90 €","24,9",{"$f":"VLOOKUP(A121,Import!A:D,4)","v":"Produits d'hygiène coporelle"},false,0,0,{"$f":"IFERROR(__xludf.DUMMYFUNCTION(\"TO_PURE_NUMBER(G121)\"),0)","v":0},0]
["Crème solaire SPF 50 - 50ml","19,90 €","19,9",{"$f":"VLOOKUP(A122,Import!A:D,4)","v":"Produits d'hygiène coporelle"},false,0,0,{"$f":"IFERROR(__xludf.DUMMYFUNCTION(\"TO_PURE_NUMBER(G122)\"),0)","v":0},0]
["Crème visage - bonne mine","13,60 €","13,6",{"$f":"VLOOKUP(A123,Import!A:D,4)","v":"Produits d'hygiène coporelle"},false,0,0,{"$f":"IFERROR(__xludf.DUMMYFUNCTION(\"TO_PURE_NUMBER(G123)\"),0)","v":0},0]
["Crosti Choco Noisettes ","11,00€ / kg","11",{"$f":"VLOOKUP(A124,Import!A:D,4)","v":"Produits d'hygiène coporelle"},false,{"$f":"VLOOKUP(A124,'Alimentaire vrac'!A:F,6)","v":0},0,{"$f":"IFERROR(__xludf.DUMMYFUNCTION(\"TO_PURE_NUMBER(G124)\"),0)","v":0},0]
["Crozets Sarrasin","9,00€ / Kg","9",{"$f":"VLOOKUP(A125,Import!A:D,4)","v":"Alimentaire Vrac"},false,{"$f":"VLOOKUP(A125,'Alimentaire vrac'!A:F,6)","v":0},0,{"$f":"IFERROR(__xludf.DUMMYFUNCTION(\"TO_PURE_NUMBER(G125)\"),0)","v":0},0]
["Cuillère réutilisable","1,50 €","1,5",{"$f":"VLOOKUP(A126,Import!A:D,4)","v":"Produits d'entretiens"},false,0,0,{"$f":"IFERROR(__xludf.DUMMYFUNCTION(\"TO_PURE_NUMBER(G126)\"),0)","v":0},0]
["Cumin moulu poudre","55,00€ / kg","55",{"$f":"VLOOKUP(A127,Import!A:D,4)","v":"Alimentaire Vrac"},false,{"$f":"VLOOKUP(A127,'Alimentaire vrac'!A:F,6)","v":0},0,{"$f":"IFERROR(__xludf.DUMMYFUNCTION(\"TO_PURE_NUMBER(G127)\"),0)","v":0},0]
["Curry de lentilles coco - 345g","4,50 €","4,5",{"$f":"VLOOKUP(A128,Import!A:D,4)","v":"Produits d'hygiène coporelle"},false,0,0,{"$f":"IFERROR(__xludf.DUMMYFUNCTION(\"TO_PURE_NUMBER(G128)\"),0)","v":0},0]
["Curry Poudre","42,00€ / kg","42",{"$f":"VLOOKUP(A129,Import!A:D,4)","v":"Alimentaire Vrac"},false,{"$f":"VLOOKUP(A129,'Alimentaire vrac'!A:F,6)","v":0},0,{"$f":"IFERROR(__xludf.DUMMYFUNCTION(\"TO_PURE_NUMBER(G129)\"),0)","v":0},0]
["Dagosette colombie (capsule)","0,40€",0.4,{"$f":"VLOOKUP(A130,Import!A:D,4)","v":"Alimentaire Vrac"},false,{"$f":"VLOOKUP(A130,'Alimentaire vrac'!A:F,6)","v":0},0,{"$f":"IFERROR(__xludf.DUMMYFUNCTION(\"TO_PURE_NUMBER(G130)\"),0)","v":0},0]
["Dattes Dénoyautés ","10,50€ / kg","10,5",{"$f":"VLOOKUP(A131,Import!A:D,4)","v":"Alimentaire Vrac"},false,{"$f":"VLOOKUP(A131,'Alimentaire vrac'!A:F,6)","v":0},0,{"$f":"IFERROR(__xludf.DUMMYFUNCTION(\"TO_PURE_NUMBER(G131)\"),0)","v":0},0]
["Dentifrice bio à croquer Menthe Fraîche - 1200 ","180,00€ / kg","180",{"$f":"VLOOKUP(A132,Import!A:D,4)","v":"Produits d'hygiène coporelle"},false,0,0,{"$f":"IFERROR(__xludf.DUMMYFUNCTION(\"TO_PURE_NUMBER(G132)\"),0)","v":0},0]
["Dentifrice Naturel - Fruits Rouges","10,60€","10,6",{"$f":"VLOOKUP(A133,Import!A:D,4)","v":"Produits d'hygiène coporelle"},false,0,0,{"$f":"IFERROR(__xludf.DUMMYFUNCTION(\"TO_PURE_NUMBER(G133)\"),0)","v":0},0]
["Dentifrice Naturel - Menthe Givrée","10,60€","10,6",{"$f":"VLOOKUP(A134,Import!A:D,4)","v":"Produits d'hygiène coporelle"},false,0,0,{"$f":"IFERROR(__xludf.DUMMYFUNCTION(\"TO_PURE_NUMBER(G134)\"),0)","v":0},0]
["Dentifrice Naturel - Zeste citronné","10,60€","10,6",{"$f":"VLOOKUP(A135,Import!A:D,4)","v":"Produits d'hygiène coporelle"},false,0,0,{"$f":"IFERROR(__xludf.DUMMYFUNCTION(\"TO_PURE_NUMBER(G135)\"),0)","v":0},0]
["Dentifrice solide - Citron&Romarin","10,60€","10,6",{"$f":"VLOOKUP(A136,Import!A:D,4)","v":"Produits d'hygiène coporelle"},false,0,0,{"$f":"IFERROR(__xludf.DUMMYFUNCTION(\"TO_PURE_NUMBER(G136)\"),0)","v":0},0]
["Dentifrice solide - Citron&Romarin - Recharge ","8,90€","8,9",{"$f":"VLOOKUP(A137,Import!A:D,4)","v":"Produits d'hygiène coporelle"},false,0,0,{"$f":"IFERROR(__xludf.DUMMYFUNCTION(\"TO_PURE_NUMBER(G137)\"),0)","v":0},0]
["Dentifrice solide - Framboise","10,60€","10,6",{"$f":"VLOOKUP(A138,Import!A:D,4)","v":"Produits d'hygiène coporelle"},false,0,0,{"$f":"IFERROR(__xludf.DUMMYFUNCTION(\"TO_PURE_NUMBER(G138)\"),0)","v":0},0]
["Dentifrice solide - Framboise - Recharge ","8,90€","8,9",{"$f":"VLOOKUP(A139,Import!A:D,4)","v":"Produits d'hygiène coporelle"},false,0,0,{"$f":"IFERROR(__xludf.DUMMYFUNCTION(\"TO_PURE_NUMBER(G139)\"),0)","v":0},0]
["Dentifrice solide - Menthe","10,60€","10,6",{"$f":"VLOOKUP(A140,Import!A:D,4)","v":"Produits d'hygiène coporelle"},false,0,0,{"$f":"IFERROR(__xludf.DUMMYFUNCTION(\"TO_PURE_NUMBER(G140)\"),0)","v":0},0]
["Dentifrice solide - Menthe - Recharge ","8,90€","8,9",{"$f":"VLOOKUP(A141,Import!A:D,4)","v":"Produits d'hygiène coporelle"},false,0,0,{"$f":"IFERROR(__xludf.DUMMYFUNCTION(\"TO_PURE_NUMBER(G141)\"),0)","v":0},0]
["Déodorant - Bergamote / Arbre à thé","9,80€","9,8",{"$f":"VLOOKUP(A142,Import!A:D,4)","v":"Produits d'hygiène coporelle"},false,0,0,{"$f":"IFERROR(__xludf.DUMMYFUNCTION(\"TO_PURE_NUMBER(G142)\"),0)","v":0},0]
["Déodorant - L’Herbacé","7,90€","7,9",{"$f":"VLOOKUP(A143,Import!A:D,4)","v":"Produits d'hygiène coporelle"},false,0,0,{"$f":"IFERROR(__xludf.DUMMYFUNCTION(\"TO_PURE_NUMBER(G143)\"),0)","v":0},0]
["Déodorant - Le Fleuri","7,90€","7,9",{"$f":"VLOOKUP(A144,Import!A:D,4)","v":"Produits d'hygiène coporelle"},false,0,0,{"$f":"IFERROR(__xludf.DUMMYFUNCTION(\"TO_PURE_NUMBER(G144)\"),0)","v":0},0]
["Déodorant - Le Poudré","7,90€","7,9",{"$f":"VLOOKUP(A145,Import!A:D,4)","v":"Produits d'hygiène coporelle"},false,0,0,{"$f":"IFERROR(__xludf.DUMMYFUNCTION(\"TO_PURE_NUMBER(G145)\"),0)","v":0},0]
["Déodorant - Le Sucré","7,90€","7,9",{"$f":"VLOOKUP(A146,Import!A:D,4)","v":"Produits d'hygiène coporelle"},false,0,0,{"$f":"IFERROR(__xludf.DUMMYFUNCTION(\"TO_PURE_NUMBER(G146)\"),0)","v":0},0]
["Déodorant - Menthe Poivrée / Cèdre","9,80€","9,8",{"$f":"VLOOKUP(A147,Import!A:D,4)","v":"Produits d'hygiène coporelle"},false,0,0,{"$f":"IFERROR(__xludf.DUMMYFUNCTION(\"TO_PURE_NUMBER(G147)\"),0)","v":0},0]
["Déodorant - Palmarosa / Géranium","9,80€","9,8",{"$f":"VLOOKUP(A148,Import!A:D,4)","v":"Produits d'hygiène coporelle"},false,0,0,{"$f":"IFERROR(__xludf.DUMMYFUNCTION(\"TO_PURE_NUMBER(G148)\"),0)","v":0},0]
["Déodorant - Sensible Mandarinne","7,90€","7,9",{"$f":"VLOOKUP(A149,Import!A:D,4)","v":"Produits d'hygiène coporelle"},false,0,0,{"$f":"IFERROR(__xludf.DUMMYFUNCTION(\"TO_PURE_NUMBER(G149)\"),0)","v":0},0]
["Déodorant - Sensible Vanille","7,90€","7,9",{"$f":"VLOOKUP(A150,Import!A:D,4)","v":"Produits d'hygiène coporelle"},false,0,0,{"$f":"IFERROR(__xludf.DUMMYFUNCTION(\"TO_PURE_NUMBER(G150)\"),0)","v":0},0]
["Déodorant stick - Cèdre Vétiver - 75g","12,50 €","12,5",{"$f":"VLOOKUP(A151,Import!A:D,4)","v":"Produits d'hygiène coporelle"},false,0,0,{"$f":"IFERROR(__xludf.DUMMYFUNCTION(\"TO_PURE_NUMBER(G151)\"),0)","v":0},0]
["Déodorant stick - Citron & Mandarine - 25g","7,90 €","7,9",{"$f":"VLOOKUP(A152,Import!A:D,4)","v":"Produits d'hygiène coporelle"},false,0,0,{"$f":"IFERROR(__xludf.DUMMYFUNCTION(\"TO_PURE_NUMBER(G152)\"),0)","v":0},0]
["Déodorant stick - Citron & Mandarine - 25g - Recharge","5,20 €","5,2",{"$f":"VLOOKUP(A153,Import!A:D,4)","v":"Produits d'hygiène coporelle"},false,0,0,{"$f":"IFERROR(__xludf.DUMMYFUNCTION(\"TO_PURE_NUMBER(G153)\"),0)","v":0},0]
["Déodorant stick - Rose, 0 bicarbonate - 25g","7,90 €","7,9",{"$f":"VLOOKUP(A154,Import!A:D,4)","v":"Produits d'hygiène coporelle"},false,0,0,{"$f":"IFERROR(__xludf.DUMMYFUNCTION(\"TO_PURE_NUMBER(G154)\"),0)","v":0},0]
["Déodorant stick - Rose, 0 bicarbonate - 75g","12,50 €","12,5",{"$f":"VLOOKUP(A155,Import!A:D,4)","v":"Produits d'hygiène coporelle"},false,0,0,{"$f":"IFERROR(__xludf.DUMMYFUNCTION(\"TO_PURE_NUMBER(G155)\"),0)","v":0},0]
["Déodorant stick - Rose, 0 bicarbonate - 75g - Recharge","8,90 €","8,9",{"$f":"VLOOKUP(A156,Import!A:D,4)","v":"Produits d'hygiène coporelle"},false,0,0,{"$f":"IFERROR(__xludf.DUMMYFUNCTION(\"TO_PURE_NUMBER(G156)\"),0)","v":0},0]
["Dosette Americ’ain (senseo)","0,20 €",0.2,{"$f":"VLOOKUP(A157,Import!A:D,4)","v":"Produits d'entretiens"},false,{"$f":"VLOOKUP(A157,'Alimentaire vrac'!A:F,6)","v":0},0,{"$f":"IFERROR(__xludf.DUMMYFUNCTION(\"TO_PURE_NUMBER(G157)\"),0)","v":0},0]
["Emballage 1L Plat + Bouchon - Bulle verte","2 €","2",{"$f":"VLOOKUP(A158,Import!A:D,4)","v":"Produits d'entretiens"},false,0,0,{"$f":"IFERROR(__xludf.DUMMYFUNCTION(\"TO_PURE_NUMBER(G158)\"),0)","v":0},0]
["Emballage 3L + Bouchon","4 €","4",{"$f":"VLOOKUP(A159,Import!A:D,4)","v":"Produits d'entretiens"},false,0,0,{"$f":"IFERROR(__xludf.DUMMYFUNCTION(\"TO_PURE_NUMBER(G159)\"),0)","v":0},0]
["Emballage WC 750ml + Bouchon","2,50 €","2,5",{"$f":"VLOOKUP(A160,Import!A:D,4)","v":"Produits d'entretiens"},false,0,0,{"$f":"IFERROR(__xludf.DUMMYFUNCTION(\"TO_PURE_NUMBER(G160)\"),0)","v":0},0]
["Epinards en branches - 445g","6,20 €","6,2",{"$f":"VLOOKUP(A161,Import!A:D,4)","v":"Produits d'entretiens"},false,0,0,{"$f":"IFERROR(__xludf.DUMMYFUNCTION(\"TO_PURE_NUMBER(G161)\"),0)","v":0},0]
["Essuie tout blanc, 100% recyclés, 200f x 12","2 €","2",{"$f":"VLOOKUP(A162,Import!A:D,4)","v":"Produits d'entretiens"},false,0,0,{"$f":"IFERROR(__xludf.DUMMYFUNCTION(\"TO_PURE_NUMBER(G162)\"),0)","v":0},0]
["Essuie-tout - Lot de 5 Multicolore","10,00 €","10",{"$f":"VLOOKUP(A163,Import!A:D,4)","v":"Zéros déchets et Bocaux"},false,0,0,{"$f":"IFERROR(__xludf.DUMMYFUNCTION(\"TO_PURE_NUMBER(G163)\"),0)","v":0},0]
["Farfalles Blanches - Italie - 5kg","3,30€ / kg","3,3",{"$f":"VLOOKUP(A164,Import!A:D,4)","v":"Zéros déchets et Bocaux"},false,{"$f":"VLOOKUP(A164,'Alimentaire vrac'!A:F,6)","v":0},0,{"$f":"IFERROR(__xludf.DUMMYFUNCTION(\"TO_PURE_NUMBER(G164)\"),0)","v":0},0]
["Farine de blé - T110","2,00€ / kg","2",{"$f":"VLOOKUP(A165,Import!A:D,4)","v":"Alimentaire Vrac"},false,{"$f":"VLOOKUP(A165,'Alimentaire vrac'!A:F,6)","v":0},0,{"$f":"IFERROR(__xludf.DUMMYFUNCTION(\"TO_PURE_NUMBER(G165)\"),0)","v":0},0]
["Farine de blé - T55 ","2,10€ / kg","2,1",{"$f":"VLOOKUP(A166,Import!A:D,4)","v":"Alimentaire Vrac"},false,{"$f":"VLOOKUP(A166,'Alimentaire vrac'!A:F,6)","v":0},0,{"$f":"IFERROR(__xludf.DUMMYFUNCTION(\"TO_PURE_NUMBER(G166)\"),0)","v":0},0]
["Farine de blé - T65 ","2,00€ / kg","2",{"$f":"VLOOKUP(A167,Import!A:D,4)","v":"Alimentaire Vrac"},false,{"$f":"VLOOKUP(A167,'Alimentaire vrac'!A:F,6)","v":0},0,{"$f":"IFERROR(__xludf.DUMMYFUNCTION(\"TO_PURE_NUMBER(G167)\"),\"\")","v":""},{"$error":"#VALUE!"}]
["Farine de Maïs - France - 5kg","2,95€ / kg",2.95,{"$f":"VLOOKUP(A168,Import!A:D,4)","v":"Alimentaire Vrac"},false,{"$f":"VLOOKUP(A168,'Alimentaire vrac'!A:F,6)","v":0},0,{"$f":"IFERROR(__xludf.DUMMYFUNCTION(\"TO_PURE_NUMBER(G168)\"),0)","v":0},0]
["Farine de Petit épeautre - 5kg","6,00€ / kg","6",{"$f":"VLOOKUP(A169,Import!A:D,4)","v":"Alimentaire Vrac"},false,{"$f":"VLOOKUP(A169,'Alimentaire vrac'!A:F,6)","v":0},0,{"$f":"IFERROR(__xludf.DUMMYFUNCTION(\"TO_PURE_NUMBER(G169)\"),0)","v":0},0]
["Farine de Pois chiches ","5,40€ / kg","5,4",{"$f":"VLOOKUP(A170,Import!A:D,4)","v":"Alimentaire Vrac"},false,{"$f":"VLOOKUP(A170,'Alimentaire vrac'!A:F,6)","v":0},0,{"$f":"IFERROR(__xludf.DUMMYFUNCTION(\"TO_PURE_NUMBER(G170)\"),0)","v":0},0]
["Farine de Riz ","3,50€ / kg","3,5",{"$f":"VLOOKUP(A171,Import!A:D,4)","v":"Alimentaire Conditionné"},false,{"$f":"VLOOKUP(A171,'Alimentaire vrac'!A:F,6)","v":0},0,{"$f":"IFERROR(__xludf.DUMMYFUNCTION(\"TO_PURE_NUMBER(G171)\"),0)","v":0},0]
["Fécule de Pomme de Terre ","4,90€ / kg","4,9",{"$f":"VLOOKUP(A172,Import!A:D,4)","v":"Alimentaire Vrac"},false,{"$f":"VLOOKUP(A172,'Alimentaire vrac'!A:F,6)","v":0},0,{"$f":"IFERROR(__xludf.DUMMYFUNCTION(\"TO_PURE_NUMBER(G172)\"),0)","v":0},0]
["Figues Entières Industrie ","12,00€ / kg","12",{"$f":"VLOOKUP(A173,Import!A:D,4)","v":"Alimentaire Vrac"},false,{"$f":"VLOOKUP(A173,'Alimentaire vrac'!A:F,6)","v":0},0,{"$f":"IFERROR(__xludf.DUMMYFUNCTION(\"TO_PURE_NUMBER(G173)\"),0.5)","v":0.5},6]
["Filet à fruits et légumes - Taille L","8,50€","8,5",{"$f":"VLOOKUP(A174,Import!A:D,4)","v":"Zéros déchets et Bocaux"},false,0,0,{"$f":"IFERROR(__xludf.DUMMYFUNCTION(\"TO_PURE_NUMBER(G174)\"),0)","v":0},0]
["Filet à fruits et légumes - Taille M","9,50€","9,5",{"$f":"VLOOKUP(A175,Import!A:D,4)","v":"Zéros déchets et Bocaux"},false,0,0,{"$f":"IFERROR(__xludf.DUMMYFUNCTION(\"TO_PURE_NUMBER(G175)\"),0)","v":0},0]
["Filtre à café","4,50€","4,5",{"$f":"VLOOKUP(A176,Import!A:D,4)","v":"Zéros déchets et Bocaux"},false,0,0,{"$f":"IFERROR(__xludf.DUMMYFUNCTION(\"TO_PURE_NUMBER(G176)\"),0)","v":0},0]
["Filtre à Infusion ","4,50€","4,5",{"$f":"VLOOKUP(A177,Import!A:D,4)","v":"Zéros déchets et Bocaux"},false,0,0,{"$f":"IFERROR(__xludf.DUMMYFUNCTION(\"TO_PURE_NUMBER(G177)\"),0)","v":0},0]
["Filtre à thé ","4,00€","4",{"$f":"VLOOKUP(A178,Import!A:D,4)","v":"Zéros déchets et Bocaux"},false,0,0,{"$f":"IFERROR(__xludf.DUMMYFUNCTION(\"TO_PURE_NUMBER(G178)\"),0)","v":0},0]
["Filtre à théière inox forme théière","5,50€","5,5",{"$f":"VLOOKUP(A179,Import!A:D,4)","v":"Zéros déchets et Bocaux"},false,0,0,{"$f":"IFERROR(__xludf.DUMMYFUNCTION(\"TO_PURE_NUMBER(G179)\"),0)","v":0},0]
["Flageolets","6,50€ / kg","6,5",{"$f":"VLOOKUP(A180,Import!A:D,4)","v":"Alimentaire Vrac"},false,{"$f":"VLOOKUP(A180,'Alimentaire vrac'!A:F,6)","v":0},0,{"$f":"IFERROR(__xludf.DUMMYFUNCTION(\"TO_PURE_NUMBER(G180)\"),0)","v":0},0]
["Flageolets Demeter - 215g","3,30€","3,3",{"$f":"VLOOKUP(A181,Import!A:D,4)","v":"Alimentaire Vrac"},false,0,0,{"$f":"IFERROR(__xludf.DUMMYFUNCTION(\"TO_PURE_NUMBER(G181)\"),0)","v":0},0]
["Flocons Avoine Gros ","3,50€ / kg","3,5",{"$f":"VLOOKUP(A182,Import!A:D,4)","v":"Alimentaire Vrac"},false,{"$f":"VLOOKUP(A182,'Alimentaire vrac'!A:F,6)","v":0},0,{"$f":"IFERROR(__xludf.DUMMYFUNCTION(\"TO_PURE_NUMBER(G182)\"),0)","v":0},0]
["Flocons Avoine Petit","2,90€ / kg","2,9",{"$f":"VLOOKUP(A183,Import!A:D,4)","v":"Alimentaire Vrac"},false,{"$f":"VLOOKUP(A183,'Alimentaire vrac'!A:F,6)","v":0},0,{"$f":"IFERROR(__xludf.DUMMYFUNCTION(\"TO_PURE_NUMBER(G183)\"),0)","v":0},0]
["Fondants Parfumés","3,50€","3,5",{"$f":"VLOOKUP(A184,Import!A:D,4)","v":"Alimentaire Vrac"},false,0,0,{"$f":"IFERROR(__xludf.DUMMYFUNCTION(\"TO_PURE_NUMBER(G184)\"),0)","v":0},0]
["Fourchette réutilisable","2,00€","2",{"$f":"VLOOKUP(A185,Import!A:D,4)","v":"Zéros déchets et Bocaux"},false,0,0,{"$f":"IFERROR(__xludf.DUMMYFUNCTION(\"TO_PURE_NUMBER(G185)\"),0)","v":0},0]
["Furoshikis - Taille M","6,50€","6,5",{"$f":"VLOOKUP(A186,Import!A:D,4)","v":"Zéros déchets et Bocaux"},false,0,0,{"$f":"IFERROR(__xludf.DUMMYFUNCTION(\"TO_PURE_NUMBER(G186)\"),0)","v":0},0]
["Furoshikis - Taille S","5,00€","5",{"$f":"VLOOKUP(A187,Import!A:D,4)","v":"Zéros déchets et Bocaux"},false,0,0,{"$f":"IFERROR(__xludf.DUMMYFUNCTION(\"TO_PURE_NUMBER(G187)\"),0)","v":0},0]
["Fusilli Riz Quinoa ","12,00€ / kg","12",{"$f":"VLOOKUP(A188,Import!A:D,4)","v":"Alimentaire Vrac"},false,{"$f":"VLOOKUP(A188,'Alimentaire vrac'!A:F,6)","v":0},0,{"$f":"IFERROR(__xludf.DUMMYFUNCTION(\"TO_PURE_NUMBER(G188)\"),0)","v":0},0]
["Gant de toilette","5,50€","5,5",{"$f":"VLOOKUP(A189,Import!A:D,4)","v":"Zéros déchets et Bocaux"},false,0,0,{"$f":"IFERROR(__xludf.DUMMYFUNCTION(\"TO_PURE_NUMBER(G189)\"),0)","v":0},0]
["Gel douche vrac - Karité verveine","8,30€ / kg","8,3",{"$f":"VLOOKUP(A190,Import!A:D,4)","v":"Produits d'entretiens"},false,0,0,{"$f":"IFERROR(__xludf.DUMMYFUNCTION(\"TO_PURE_NUMBER(G190)\"),0)","v":0},0]
["Gel WC ","5,90€ / kg","5,9",{"$f":"VLOOKUP(A191,Import!A:D,4)","v":"Produits d'entretiens"},false,0,0,{"$f":"IFERROR(__xludf.DUMMYFUNCTION(\"TO_PURE_NUMBER(G191)\"),0)","v":0},0]
["Gingembre Confit irréguliers - Chine - 5kg","14,50€ / kg","14,5",{"$f":"VLOOKUP(A192,Import!A:D,4)","v":"Alimentaire Vrac"},false,{"$f":"VLOOKUP(A192,'Alimentaire vrac'!A:F,6)","v":0},0,{"$f":"IFERROR(__xludf.DUMMYFUNCTION(\"TO_PURE_NUMBER(G192)\"),0)","v":0},0]
["Gingembre en Poudre ","50,00€ / kg","50",{"$f":"VLOOKUP(A193,Import!A:D,4)","v":"Alimentaire Vrac"},false,{"$f":"VLOOKUP(A193,'Alimentaire vrac'!A:F,6)","v":0},0,{"$f":"IFERROR(__xludf.DUMMYFUNCTION(\"TO_PURE_NUMBER(G193)\"),0)","v":0},0]
["Gomasio","12,50€ / kg","12,5",{"$f":"VLOOKUP(A194,Import!A:D,4)","v":"Alimentaire Vrac"},false,{"$f":"VLOOKUP(A194,'Alimentaire vrac'!A:F,6)","v":0},0,{"$f":"IFERROR(__xludf.DUMMYFUNCTION(\"TO_PURE_NUMBER(G194)\"),0)","v":0},0]
["Gommage visage Douce Aloe","14,90€","14,9",{"$f":"VLOOKUP(A195,Import!A:D,4)","v":"Produits d'hygiène coporelle"},false,0,0,{"$f":"IFERROR(__xludf.DUMMYFUNCTION(\"TO_PURE_NUMBER(G195)\"),0)","v":0},0]
["Goupillon","1,15€",1.1499999999999999,{"$f":"VLOOKUP(A196,Import!A:D,4)","v":"Produits d'hygiène coporelle"},false,0,0,{"$f":"IFERROR(__xludf.DUMMYFUNCTION(\"TO_PURE_NUMBER(G196)\"),0)","v":0},0]
["Graine de Courge Foncées ","18,50€ / kg","18,5",{"$f":"VLOOKUP(A197,Import!A:D,4)","v":"Zéros déchets et Bocaux"},false,{"$f":"VLOOKUP(A197,'Alimentaire vrac'!A:F,6)","v":0},0,{"$f":"IFERROR(__xludf.DUMMYFUNCTION(\"TO_PURE_NUMBER(G197)\"),0)","v":0},0]
["Graines de Chia ","50€ / kg","5",{"$f":"VLOOKUP(A198,Import!A:D,4)","v":"Alimentaire Vrac"},false,{"$f":"VLOOKUP(A198,'Alimentaire vrac'!A:F,6)","v":0},0,{"$f":"IFERROR(__xludf.DUMMYFUNCTION(\"TO_PURE_NUMBER(G198)\"),0)","v":0},0]
["Graines de Lin Brun - France - 5kg","6,20€ / kg","6,2",{"$f":"VLOOKUP(A199,Import!A:D,4)","v":"Alimentaire Vrac"},false,{"$f":"VLOOKUP(A199,'Alimentaire vrac'!A:F,6)","v":0},0,{"$f":"IFERROR(__xludf.DUMMYFUNCTION(\"TO_PURE_NUMBER(G199)\"),0)","v":0},0]
["Graines de Sésame ","30€ / kg","30",{"$f":"VLOOKUP(A200,Import!A:D,4)","v":"Alimentaire Vrac"},false,{"$f":"VLOOKUP(A200,'Alimentaire vrac'!A:F,6)","v":0},0,{"$f":"IFERROR(__xludf.DUMMYFUNCTION(\"TO_PURE_NUMBER(G200)\"),0)","v":0},0]
["Gwacamole 130g","4,50€","4,5",{"$f":"VLOOKUP(A201,Import!A:D,4)","v":"Alimentaire Vrac"},false,0,0,{"$f":"IFERROR(__xludf.DUMMYFUNCTION(\"TO_PURE_NUMBER(G201)\"),0)","v":0},0]
["Haricots beurre extra fins - 180g","2,90 €","2,9",{"$f":"VLOOKUP(A202,Import!A:D,4)","v":"Alimentaire Vrac"},false,0,0,{"$f":"IFERROR(__xludf.DUMMYFUNCTION(\"TO_PURE_NUMBER(G202)\"),0)","v":0},0]
["Haricots Blancs - Turquie - 25kg","6,00€ / kg","6",{"$f":"VLOOKUP(A203,Import!A:D,4)","v":"Alimentaire Vrac"},false,{"$f":"VLOOKUP(A203,'Alimentaire vrac'!A:F,6)","v":0},0,{"$f":"IFERROR(__xludf.DUMMYFUNCTION(\"TO_PURE_NUMBER(G203)\"),0)","v":0},0]
["Haricots Coco - 690g","4,50€","45",{"$f":"VLOOKUP(A204,Import!A:D,4)","v":"Alimentaire Vrac"},false,0,0,{"$f":"IFERROR(__xludf.DUMMYFUNCTION(\"TO_PURE_NUMBER(G204)\"),0)","v":0},0]
["Haricots Noirs","7,50€ / kg","7,5",{"$f":"VLOOKUP(A205,Import!A:D,4)","v":"Alimentaire Vrac"},false,{"$f":"VLOOKUP(A205,'Alimentaire vrac'!A:F,6)","v":0},0,{"$f":"IFERROR(__xludf.DUMMYFUNCTION(\"TO_PURE_NUMBER(G205)\"),0)","v":0},0]
["Haricots Rouges ","7,50€ /kg","7,5",{"$f":"VLOOKUP(A206,Import!A:D,4)","v":"Alimentaire Vrac"},false,{"$f":"VLOOKUP(A206,'Alimentaire vrac'!A:F,6)","v":0},0,{"$f":"IFERROR(__xludf.DUMMYFUNCTION(\"TO_PURE_NUMBER(G206)\"),0)","v":0},0]
["Haricots Rouges - 255g","3,20€","3,2",{"$f":"VLOOKUP(A207,Import!A:D,4)","v":"Alimentaire Vrac"},false,0,0,{"$f":"IFERROR(__xludf.DUMMYFUNCTION(\"TO_PURE_NUMBER(G207)\"),0)","v":0},0]
["Haricots verts extra fins - 345g","4,20€","4,2",{"$f":"VLOOKUP(A208,Import!A:D,4)","v":"Alimentaire Vrac"},false,0,0,{"$f":"IFERROR(__xludf.DUMMYFUNCTION(\"TO_PURE_NUMBER(G208)\"),0)","v":0},0]
["Herbes de provence ","54,00€ / kg","54",{"$f":"VLOOKUP(A209,Import!A:D,4)","v":"Alimentaire Vrac"},false,{"$f":"VLOOKUP(A209,'Alimentaire vrac'!A:F,6)","v":0},0,{"$f":"IFERROR(__xludf.DUMMYFUNCTION(\"TO_PURE_NUMBER(G209)\"),0)","v":0},0]
["Huile d’Olive extra vierge ","8,90€ / kg","8,9",{"$f":"VLOOKUP(A210,Import!A:D,4)","v":"Alimentaire Vrac"},false,{"$f":"VLOOKUP(A210,'Alimentaire vrac'!A:F,6)","v":0},0,{"$f":"IFERROR(__xludf.DUMMYFUNCTION(\"TO_PURE_NUMBER(G210)\"),0)","v":0},0]
["Huile d’olive Luce - 1L","9,50€","9,5",{"$f":"VLOOKUP(A211,Import!A:D,4)","v":"Alimentaire Conditionné"},false,0,0,{"$f":"IFERROR(__xludf.DUMMYFUNCTION(\"TO_PURE_NUMBER(G211)\"),0)","v":0},0]
["Huile de Cameline - 25cl","10,50€","10,5",{"$f":"VLOOKUP(A212,Import!A:D,4)","v":"Alimentaire Conditionné"},false,0,0,{"$f":"IFERROR(__xludf.DUMMYFUNCTION(\"TO_PURE_NUMBER(G212)\"),0)","v":0},0]
["Huile de Chanvre - 25cl","11,50€","11,5",{"$f":"VLOOKUP(A213,Import!A:D,4)","v":"Alimentaire Conditionné"},false,0,0,{"$f":"IFERROR(__xludf.DUMMYFUNCTION(\"TO_PURE_NUMBER(G213)\"),0)","v":0},0]
["Huile de Coco vierge","12,00€ / kg","12",{"$f":"VLOOKUP(A214,Import!A:D,4)","v":"Alimentaire Vrac"},false,{"$f":"VLOOKUP(A214,'Alimentaire vrac'!A:F,6)","v":0},0,{"$f":"IFERROR(__xludf.DUMMYFUNCTION(\"TO_PURE_NUMBER(G214)\"),0)","v":0},0]
["Huile de Colza Biologique - 1L","14,00€","14",{"$f":"VLOOKUP(A215,Import!A:D,4)","v":"Alimentaire Vrac"},false,0,0,{"$f":"IFERROR(__xludf.DUMMYFUNCTION(\"TO_PURE_NUMBER(G215)\"),0)","v":0},0]
["Huile de Colza Biologique - 50cl","7,00€","7",{"$f":"VLOOKUP(A216,Import!A:D,4)","v":"Alimentaire Vrac"},false,0,0,{"$f":"IFERROR(__xludf.DUMMYFUNCTION(\"TO_PURE_NUMBER(G216)\"),0)","v":0},0]
["Huile de Colza Biologique - Vrac","11,00€","11",{"$f":"VLOOKUP(A217,Import!A:D,4)","v":"Alimentaire Vrac"},false,{"$f":"VLOOKUP(A217,'Alimentaire vrac'!A:F,6)","v":0},0,{"$f":"IFERROR(__xludf.DUMMYFUNCTION(\"TO_PURE_NUMBER(G217)\"),0)","v":0},0]
["Huile de Lin Biologique - 25cl ","7,50€","7,5",{"$f":"VLOOKUP(A218,Import!A:D,4)","v":"Alimentaire Conditionné"},false,0,0,{"$f":"IFERROR(__xludf.DUMMYFUNCTION(\"TO_PURE_NUMBER(G218)\"),0)","v":0},0]
["Huile de soin Antixiodante ","11,90€","11,9",{"$f":"VLOOKUP(A219,Import!A:D,4)","v":"Alimentaire Conditionné"},false,0,0,{"$f":"IFERROR(__xludf.DUMMYFUNCTION(\"TO_PURE_NUMBER(G219)\"),0)","v":0},0]
["Huile de soin Peaux Mixtes","11,90€","11,9",{"$f":"VLOOKUP(A220,Import!A:D,4)","v":"Produits d'hygiène coporelle"},false,0,0,{"$f":"IFERROR(__xludf.DUMMYFUNCTION(\"TO_PURE_NUMBER(G220)\"),0)","v":0},0]
["Huile de soin Peaux Sèches","11,90€","11,9",{"$f":"VLOOKUP(A221,Import!A:D,4)","v":"Produits d'hygiène coporelle"},false,0,0,{"$f":"IFERROR(__xludf.DUMMYFUNCTION(\"TO_PURE_NUMBER(G221)\"),0)","v":0},0]
["Huile de Tournesol Biologique - 1L","12,00€","12",{"$f":"VLOOKUP(A222,Import!A:D,4)","v":"Alimentaire Vrac"},false,0,0,{"$f":"IFERROR(__xludf.DUMMYFUNCTION(\"TO_PURE_NUMBER(G222)\"),0)","v":0},0]
["Huile de Tournesol Biologique - 50cl","6,00€","6",{"$f":"VLOOKUP(A223,Import!A:D,4)","v":"Alimentaire Vrac"},false,0,0,{"$f":"IFERROR(__xludf.DUMMYFUNCTION(\"TO_PURE_NUMBER(G223)\"),0)","v":0},0]
["Huile de Tournesol Biologique - Vrac","7,90€ / kg","7,9",{"$f":"VLOOKUP(A224,Import!A:D,4)","v":"Alimentaire Vrac"},false,{"$f":"VLOOKUP(A224,'Alimentaire vrac'!A:F,6)","v":0},0,{"$f":"IFERROR(__xludf.DUMMYFUNCTION(\"TO_PURE_NUMBER(G224)\"),0)","v":0},0]
["Huile démaquillante toute douce Amande","11,90€","11,9",{"$f":"VLOOKUP(A225,Import!A:D,4)","v":"Alimentaire Vrac"},false,0,0,{"$f":"IFERROR(__xludf.DUMMYFUNCTION(\"TO_PURE_NUMBER(G225)\"),0)","v":0},0]
["Huile démaquillante toute douce Rose-Muguet","11,90€","11,9",{"$f":"VLOOKUP(A226,Import!A:D,4)","v":"Produits d'hygiène coporelle"},false,0,0,{"$f":"IFERROR(__xludf.DUMMYFUNCTION(\"TO_PURE_NUMBER(G226)\"),0)","v":0},0]
["Huile Sèche 3 en 1","19,90€","19,9",{"$f":"VLOOKUP(A227,Import!A:D,4)","v":"Produits d'hygiène coporelle"},false,0,0,{"$f":"IFERROR(__xludf.DUMMYFUNCTION(\"TO_PURE_NUMBER(G227)\"),0)","v":0},0]
["Jus d’orange du Maroc - 75cl","4€","4",{"$f":"VLOOKUP(A228,Import!A:D,4)","v":"Boissons conditionnées"},false,0,0,{"$f":"IFERROR(__xludf.DUMMYFUNCTION(\"TO_PURE_NUMBER(G228)\"),0)","v":0},0]
["Jus de citron Sicile - 1L","5,90€","5,9",{"$f":"VLOOKUP(A229,Import!A:D,4)","v":"Boissons conditionnées"},false,0,0,{"$f":"IFERROR(__xludf.DUMMYFUNCTION(\"TO_PURE_NUMBER(G229)\"),0)","v":0},0]
["Jus de citron Sicile - 50cl","3,50€","3,5",{"$f":"VLOOKUP(A230,Import!A:D,4)","v":"Boissons conditionnées"},false,0,0,{"$f":"IFERROR(__xludf.DUMMYFUNCTION(\"TO_PURE_NUMBER(G230)\"),0)","v":0},0]
["Jus de Pamplemousse rose Demeter - 75cl","4,50€","4,5",{"$f":"VLOOKUP(A231,Import!A:D,4)","v":"Boissons conditionnées"},false,0,0,{"$f":"IFERROR(__xludf.DUMMYFUNCTION(\"TO_PURE_NUMBER(G231)\"),0)","v":0},0]
["Jus de Pomme 1L ","4,50€","4",{"$f":"VLOOKUP(A232,Import!A:D,4)","v":"Boissons conditionnées"},false,0,0,{"$f":"IFERROR(__xludf.DUMMYFUNCTION(\"TO_PURE_NUMBER(G232)\"),0)","v":0},0]
["Jus de Pomme Cassis - 75cl","4€","4",{"$f":"VLOOKUP(A233,Import!A:D,4)","v":"Boissons conditionnées"},false,0,0,{"$f":"IFERROR(__xludf.DUMMYFUNCTION(\"TO_PURE_NUMBER(G233)\"),0)","v":0},0]
["Jus de Pomme. 1L","3,50€","3,5",{"$f":"VLOOKUP(A234,Import!A:D,4)","v":"Boissons conditionnées"},false,0,0,{"$f":"IFERROR(__xludf.DUMMYFUNCTION(\"TO_PURE_NUMBER(G234)\"),0)","v":0},0]
["Jus de Raisin 1L","4,50€",null,{"$f":"VLOOKUP(A235,Import!A:D,4)","v":"Boissons conditionnées"},false,0,0,{"$f":"IFERROR(__xludf.DUMMYFUNCTION(\"TO_PURE_NUMBER(G235)\"),0)","v":0},0]
["Jus Pomme Cassis 1L ","4,50€","4,5",{"$f":"VLOOKUP(A236,Import!A:D,4)","v":"Boissons conditionnées"},false,0,0,{"$f":"IFERROR(__xludf.DUMMYFUNCTION(\"TO_PURE_NUMBER(G236)\"),0)","v":0},0]
["Jus Pomme Framboise - 1L","4,90€",null,{"$f":"VLOOKUP(A237,Import!A:D,4)","v":"Boissons conditionnées"},false,0,0,{"$f":"IFERROR(__xludf.DUMMYFUNCTION(\"TO_PURE_NUMBER(G237)\"),0)","v":0},0]
["Ketchup bouteille - 500g","3,50€","3,5",{"$f":"VLOOKUP(A238,Import!A:D,4)","v":"Alimentaire Conditionné"},false,0,0,{"$f":"IFERROR(__xludf.DUMMYFUNCTION(\"TO_PURE_NUMBER(G238)\"),0)","v":0},0]
["Korma de légumes 680g","6,50€","6,5",{"$f":"VLOOKUP(A239,Import!A:D,4)","v":"Boissons conditionnées"},false,0,0,{"$f":"IFERROR(__xludf.DUMMYFUNCTION(\"TO_PURE_NUMBER(G239)\"),0)","v":0},0]
["Krounchy 3 chocola","10,00€ / kg","10",{"$f":"VLOOKUP(A240,Import!A:D,4)","v":"Boissons conditionnées"},false,0,0,{"$f":"IFERROR(__xludf.DUMMYFUNCTION(\"TO_PURE_NUMBER(G240)\"),0)","v":0},0]
["Lait après-soleil - 100ml","14,90€","14,9",{"$f":"VLOOKUP(A241,Import!A:D,4)","v":"Produits d'hygiène coporelle"},false,0,0,{"$f":"IFERROR(__xludf.DUMMYFUNCTION(\"TO_PURE_NUMBER(G241)\"),0)","v":0},0]
["Lait après-soleil - 50ml","9,90€","9,9",{"$f":"VLOOKUP(A242,Import!A:D,4)","v":"Produits d'hygiène coporelle"},false,0,0,{"$f":"IFERROR(__xludf.DUMMYFUNCTION(\"TO_PURE_NUMBER(G242)\"),0)","v":0},0]
["Lait corps au beurre de Karité","31,00€","31",{"$f":"VLOOKUP(A243,Import!A:D,4)","v":"Produits d'hygiène coporelle"},false,0,0,{"$f":"IFERROR(__xludf.DUMMYFUNCTION(\"TO_PURE_NUMBER(G243)\"),0)","v":0},0]
["Lait UHT 1/2 écrémé - 1L","1,50€","1,5",{"$f":"VLOOKUP(A244,Import!A:D,4)","v":"Boissons conditionnées"},false,0,0,{"$f":"IFERROR(__xludf.DUMMYFUNCTION(\"TO_PURE_NUMBER(G244)\"),0)","v":0},0]
["Lait UHT entier - 1L","1,95€",1.95,{"$f":"VLOOKUP(A245,Import!A:D,4)","v":"Boissons conditionnées"},false,0,0,{"$f":"IFERROR(__xludf.DUMMYFUNCTION(\"TO_PURE_NUMBER(G245)\"),0)","v":0},0]
["Lasagnes Blanches - Italie - 5kg","6,00€ / kg","6",{"$f":"VLOOKUP(A246,Import!A:D,4)","v":"Boissons conditionnées"},false,{"$f":"VLOOKUP(A246,'Alimentaire vrac'!A:F,6)","v":0},0,{"$f":"IFERROR(__xludf.DUMMYFUNCTION(\"TO_PURE_NUMBER(G246)\"),0)","v":0},0]
["Lentilles Corail"," 8,50€ / kg","8,5",{"$f":"VLOOKUP(A247,Import!A:D,4)","v":"Alimentaire Vrac"},false,{"$f":"VLOOKUP(A247,'Alimentaire vrac'!A:F,6)","v":0},0,{"$f":"IFERROR(__xludf.DUMMYFUNCTION(\"TO_PURE_NUMBER(G247)\"),0)","v":0},0]
["Lentilles vertes aux petits légumes - 420g","4,50€","4,5",{"$f":"VLOOKUP(A248,Import!A:D,4)","v":"Alimentaire Vrac"},false,0,0,{"$f":"IFERROR(__xludf.DUMMYFUNCTION(\"TO_PURE_NUMBER(G248)\"),0)","v":0},0]
["Lessive Fleur à Savon ","4,35€ / kg",4.3499999999999996,{"$f":"VLOOKUP(A249,Import!A:D,4)","v":"Produits d'entretiens"},false,0,0,{"$f":"IFERROR(__xludf.DUMMYFUNCTION(\"TO_PURE_NUMBER(G249)\"),0)","v":0},0]
["Lessive Hypoallergénique","5,90€ / kg","5,9",{"$f":"VLOOKUP(A250,Import!A:D,4)","v":"Produits d'entretiens"},false,0,0,{"$f":"IFERROR(__xludf.DUMMYFUNCTION(\"TO_PURE_NUMBER(G250)\"),0)","v":0},0]
["Levure paillettes maltée","9,50€ / kg","9,5",{"$f":"VLOOKUP(A251,Import!A:D,4)","v":"Produits d'entretiens"},false,{"$f":"VLOOKUP(A251,'Alimentaire vrac'!A:F,6)","v":0},0,{"$f":"IFERROR(__xludf.DUMMYFUNCTION(\"TO_PURE_NUMBER(G251)\"),0)","v":0},0]
["Limonade Sucre de Canne 1L","4€","4",{"$f":"VLOOKUP(A252,Import!A:D,4)","v":"Boissons conditionnées"},false,0,0,{"$f":"IFERROR(__xludf.DUMMYFUNCTION(\"TO_PURE_NUMBER(G252)\"),0)","v":0},0]
["Liquide Vaisselle Main - Vrac ","3,80€ / kg","3,8",{"$f":"VLOOKUP(A253,Import!A:D,4)","v":"Produits d'entretiens"},false,0,0,{"$f":"IFERROR(__xludf.DUMMYFUNCTION(\"TO_PURE_NUMBER(G253)\"),0)","v":0},0]
["Macaronis blanches - Italie - 5kg","3,00€ / kg","3",{"$f":"VLOOKUP(A254,Import!A:D,4)","v":"Produits d'entretiens"},false,{"$f":"VLOOKUP(A254,'Alimentaire vrac'!A:F,6)","v":0},0,{"$f":"IFERROR(__xludf.DUMMYFUNCTION(\"TO_PURE_NUMBER(G254)\"),0)","v":0},0]
["Macédoine de légumes - 230g","2,90 €","2,9",{"$f":"VLOOKUP(A255,Import!A:D,4)","v":"Produits d'entretiens"},false,0,0,{"$f":"IFERROR(__xludf.DUMMYFUNCTION(\"TO_PURE_NUMBER(G255)\"),0)","v":0},0]
["Mais doux - 240g","2,90€","2,9",{"$f":"VLOOKUP(A256,Import!A:D,4)","v":"Produits d'entretiens"},false,0,0,{"$f":"IFERROR(__xludf.DUMMYFUNCTION(\"TO_PURE_NUMBER(G256)\"),0)","v":0},0]
["Maïs Popcorn ","4,50€ / kg","4,5",{"$f":"VLOOKUP(A257,Import!A:D,4)","v":"Alimentaire Vrac"},false,{"$f":"VLOOKUP(A257,'Alimentaire vrac'!A:F,6)","v":0},{"$f":"IF(F257=\"100G\",0.1,IF(F257=\"250G\",0.25,IF(F257=\"500G\",0.5,IF(F257=\"1 Kilo\",1,F257))))","v":0},{"$f":"IFERROR(__xludf.DUMMYFUNCTION(\"TO_PURE_NUMBER(G257)\"),0)","v":0},{"$f":"H257*C257","v":0}]
["Mangues séchées","27,50€ / kg","27,5",{"$f":"VLOOKUP(A258,Import!A:D,4)","v":"Alimentaire Vrac"},false,{"$f":"VLOOKUP(A258,'Alimentaire vrac'!A:F,6)","v":0},0,{"$f":"IFERROR(__xludf.DUMMYFUNCTION(\"TO_PURE_NUMBER(G258)\"),0)","v":0},0]
["Masque Visage Purifiant","24,90 €","24,9",{"$f":"VLOOKUP(A259,Import!A:D,4)","v":"Alimentaire Vrac"},false,0,0,{"$f":"IFERROR(__xludf.DUMMYFUNCTION(\"TO_PURE_NUMBER(G259)\"),0)","v":0},0]
["Maté Nature - 1kg","45€ / kg","45",{"$f":"VLOOKUP(A260,Import!A:D,4)","v":"Produits d'hygiène coporelle"},false,0,0,{"$f":"IFERROR(__xludf.DUMMYFUNCTION(\"TO_PURE_NUMBER(G260)\"),0)","v":0},0]
["Mayonnaise dijonnaise - 185g","3,50 €","3,5",{"$f":"VLOOKUP(A261,Import!A:D,4)","v":"Alimentaire Conditionné"},false,0,0,{"$f":"IFERROR(__xludf.DUMMYFUNCTION(\"TO_PURE_NUMBER(G261)\"),0)","v":0},0]
["Mayonnaise nature - 325g","5€","5",{"$f":"VLOOKUP(A262,Import!A:D,4)","v":"Alimentaire Conditionné"},false,0,0,{"$f":"IFERROR(__xludf.DUMMYFUNCTION(\"TO_PURE_NUMBER(G262)\"),0)","v":0},0]
["Mélange Détox","20,50 € / kg","20,5",{"$f":"VLOOKUP(A263,Import!A:D,4)","v":"Alimentaire Vrac"},false,{"$f":"VLOOKUP(A263,'Alimentaire vrac'!A:F,6)","v":0},0,{"$f":"IFERROR(__xludf.DUMMYFUNCTION(\"TO_PURE_NUMBER(G263)\"),0)","v":0},0]
["Mélange Energie","18,50 € /kg","18,5",{"$f":"VLOOKUP(A264,Import!A:D,4)","v":"Alimentaire Vrac"},false,{"$f":"VLOOKUP(A264,'Alimentaire vrac'!A:F,6)","v":0},0,{"$f":"IFERROR(__xludf.DUMMYFUNCTION(\"TO_PURE_NUMBER(G264)\"),0)","v":0},0]
["Mélange Exotique","18,50 € / kg","18,5",{"$f":"VLOOKUP(A265,Import!A:D,4)","v":"Alimentaire Vrac"},false,{"$f":"VLOOKUP(A265,'Alimentaire vrac'!A:F,6)","v":0},0,{"$f":"IFERROR(__xludf.DUMMYFUNCTION(\"TO_PURE_NUMBER(G265)\"),0)","v":0},0]
["Mélange Rando ","18,50 € / kg","18,5",{"$f":"VLOOKUP(A266,Import!A:D,4)","v":"Alimentaire Vrac"},false,{"$f":"VLOOKUP(A266,'Alimentaire vrac'!A:F,6)","v":0},0,{"$f":"IFERROR(__xludf.DUMMYFUNCTION(\"TO_PURE_NUMBER(G266)\"),0)","v":0},0]
["Mélange Salade","15,50€/kg","15,5",{"$f":"VLOOKUP(A267,Import!A:D,4)","v":"Alimentaire Vrac"},false,{"$f":"VLOOKUP(A267,'Alimentaire vrac'!A:F,6)","v":0},0,{"$f":"IFERROR(__xludf.DUMMYFUNCTION(\"TO_PURE_NUMBER(G267)\"),0)","v":0},0]
["Miel d’Acacia - 250g","6,90 €","6,9",{"$f":"VLOOKUP(A268,Import!A:D,4)","v":"Alimentaire Conditionné"},false,0,0,{"$f":"IFERROR(__xludf.DUMMYFUNCTION(\"TO_PURE_NUMBER(G268)\"),0)","v":0},0]
["Miel d’Acacia - 500g","12,50 €","12,5",{"$f":"VLOOKUP(A269,Import!A:D,4)","v":"Alimentaire Conditionné"},false,0,0,{"$f":"IFERROR(__xludf.DUMMYFUNCTION(\"TO_PURE_NUMBER(G269)\"),0)","v":0},0]
["Miel de Foret - 250g - Thouvard","7,20 €","7,2",{"$f":"VLOOKUP(A270,Import!A:D,4)","v":"Alimentaire Conditionné"},false,0,0,{"$f":"IFERROR(__xludf.DUMMYFUNCTION(\"TO_PURE_NUMBER(G270)\"),0)","v":0},0]
["Miel de Lavande - 250g","8,50 €","8,5",{"$f":"VLOOKUP(A271,Import!A:D,4)","v":"Alimentaire Conditionné"},false,0,0,{"$f":"IFERROR(__xludf.DUMMYFUNCTION(\"TO_PURE_NUMBER(G271)\"),0)","v":0},0]
["Miel de Lavande - 500g","14,90 €","14,9",{"$f":"VLOOKUP(A272,Import!A:D,4)","v":"Alimentaire Conditionné"},false,0,0,{"$f":"IFERROR(__xludf.DUMMYFUNCTION(\"TO_PURE_NUMBER(G272)\"),0)","v":0},0]
["Miel de Printemps - 250g","6,90 €","6,9",{"$f":"VLOOKUP(A273,Import!A:D,4)","v":"Alimentaire Conditionné"},false,0,0,{"$f":"IFERROR(__xludf.DUMMYFUNCTION(\"TO_PURE_NUMBER(G273)\"),0)","v":0},0]
["Miel de Printemps - 500g","12€","12",{"$f":"VLOOKUP(A274,Import!A:D,4)","v":"Alimentaire Conditionné"},false,0,0,{"$f":"IFERROR(__xludf.DUMMYFUNCTION(\"TO_PURE_NUMBER(G274)\"),0)","v":0},0]
["Miel de Sapin - 250g","8,50 €","8,5",{"$f":"VLOOKUP(A275,Import!A:D,4)","v":"Alimentaire Conditionné"},false,0,0,{"$f":"IFERROR(__xludf.DUMMYFUNCTION(\"TO_PURE_NUMBER(G275)\"),0)","v":0},0]
["Miel de Sapin - 500g","15,00 €","15",{"$f":"VLOOKUP(A276,Import!A:D,4)","v":"Alimentaire Conditionné"},false,0,0,{"$f":"IFERROR(__xludf.DUMMYFUNCTION(\"TO_PURE_NUMBER(G276)\"),0)","v":0},0]
["Miel de Tilleul - 250g","7,50 €","7,5",{"$f":"VLOOKUP(A277,Import!A:D,4)","v":"Alimentaire Conditionné"},false,0,0,{"$f":"IFERROR(__xludf.DUMMYFUNCTION(\"TO_PURE_NUMBER(G277)\"),0)","v":0},0]
["Miel de Tilleul - 500g","12,50 €","12,5",{"$f":"VLOOKUP(A278,Import!A:D,4)","v":"Alimentaire Conditionné"},false,0,0,{"$f":"IFERROR(__xludf.DUMMYFUNCTION(\"TO_PURE_NUMBER(G278)\"),0)","v":0},0]
["Miel Polyfloral - 250g","6,50 €","6,5",{"$f":"VLOOKUP(A279,Import!A:D,4)","v":"Alimentaire Conditionné"},false,0,0,{"$f":"IFERROR(__xludf.DUMMYFUNCTION(\"TO_PURE_NUMBER(G279)\"),0)","v":0},0]
["Miel Polyfloral - 500g","11,50 €","11,5",{"$f":"VLOOKUP(A280,Import!A:D,4)","v":"Alimentaire Conditionné"},false,0,0,{"$f":"IFERROR(__xludf.DUMMYFUNCTION(\"TO_PURE_NUMBER(G280)\"),0)","v":0},0]
["Mini Filet à chute de savon","3,50 €","3,5",{"$f":"VLOOKUP(A281,Import!A:D,4)","v":"Zéros déchets et Bocaux"},false,0,0,{"$f":"IFERROR(__xludf.DUMMYFUNCTION(\"TO_PURE_NUMBER(G281)\"),0)","v":0},0]
["Mops Miel","9,80€ / kg","9,8",{"$f":"VLOOKUP(A282,Import!A:D,4)","v":"Zéros déchets et Bocaux"},false,{"$f":"VLOOKUP(A282,'Alimentaire vrac'!A:F,6)","v":0},0,{"$f":"IFERROR(__xludf.DUMMYFUNCTION(\"TO_PURE_NUMBER(G282)\"),0)","v":0},0]
["Mouchoirs","9,50 €","9,5",{"$f":"VLOOKUP(A283,Import!A:D,4)","v":"Zéros déchets et Bocaux"},false,0,0,{"$f":"IFERROR(__xludf.DUMMYFUNCTION(\"TO_PURE_NUMBER(G283)\"),0)","v":0},0]
["Moussaka vegan, Aubergines, soja, légumes - 345g","4,50 €","4,5",{"$f":"VLOOKUP(A284,Import!A:D,4)","v":"Zéros déchets et Bocaux"},false,0,0,{"$f":"IFERROR(__xludf.DUMMYFUNCTION(\"TO_PURE_NUMBER(G284)\"),0)","v":0},0]
["Moutarde à l’ancienne - 350g","4,20€",null,{"$f":"VLOOKUP(A285,Import!A:D,4)","v":"Alimentaire Conditionné"},false,0,0,{"$f":"IFERROR(__xludf.DUMMYFUNCTION(\"TO_PURE_NUMBER(G285)\"),0)","v":0},0]
["Moutarde de Dijon - 350g","4,20€","4,2",{"$f":"VLOOKUP(A286,Import!A:D,4)","v":"Alimentaire Conditionné"},false,0,0,{"$f":"IFERROR(__xludf.DUMMYFUNCTION(\"TO_PURE_NUMBER(G286)\"),0)","v":0},0]
["Muesli aux fruits","5,90 € / kg","5,9",{"$f":"VLOOKUP(A287,Import!A:D,4)","v":"Alimentaire Vrac"},false,{"$f":"VLOOKUP(A287,'Alimentaire vrac'!A:F,6)","v":0},0,{"$f":"IFERROR(__xludf.DUMMYFUNCTION(\"TO_PURE_NUMBER(G287)\"),0)","v":0},0]
["Muesli croustillant chocolat ","10,50 € / kg","10,5",{"$f":"VLOOKUP(A288,Import!A:D,4)","v":"Alimentaire Vrac"},false,{"$f":"VLOOKUP(A288,'Alimentaire vrac'!A:F,6)","v":0},0,{"$f":"IFERROR(__xludf.DUMMYFUNCTION(\"TO_PURE_NUMBER(G288)\"),1)","v":1},10.5]
["Muscade Noix Poudre ","76€ / kg","76",{"$f":"VLOOKUP(A289,Import!A:D,4)","v":"Alimentaire Vrac"},false,{"$f":"VLOOKUP(A289,'Alimentaire vrac'!A:F,6)","v":0},0,{"$f":"IFERROR(__xludf.DUMMYFUNCTION(\"TO_PURE_NUMBER(G289)\"),0)","v":0},0]
["Nectar d’abricot 75cl - Jardins Bellerive","4,50 €","4,5",{"$f":"VLOOKUP(A290,Import!A:D,4)","v":"Boissons conditionnées"},false,0,0,{"$f":"IFERROR(__xludf.DUMMYFUNCTION(\"TO_PURE_NUMBER(G290)\"),0)","v":0},0]
["Nectar de Pêche - 75cl - Jardins Bellerive","4,50 €","4,5",{"$f":"VLOOKUP(A291,Import!A:D,4)","v":"Boissons conditionnées"},false,0,0,{"$f":"IFERROR(__xludf.DUMMYFUNCTION(\"TO_PURE_NUMBER(G291)\"),0)","v":0},0]
["Nectar de Poire - 75cl - Jardins Bellerive","4,50 €","4,5",{"$f":"VLOOKUP(A292,Import!A:D,4)","v":"Boissons conditionnées"},false,0,0,{"$f":"IFERROR(__xludf.DUMMYFUNCTION(\"TO_PURE_NUMBER(G292)\"),0)","v":0},0]
["Nettoyant visage - Peau sèche Hibiscus ","8,90 €","8,9",{"$f":"VLOOKUP(A293,Import!A:D,4)","v":"Produits d'hygiène coporelle"},false,0,0,{"$f":"IFERROR(__xludf.DUMMYFUNCTION(\"TO_PURE_NUMBER(G293)\"),0)","v":0},0]
["Nids de pâtes de riz thai complet ","17,50 € / kg","17,5",{"$f":"VLOOKUP(A294,Import!A:D,4)","v":"Alimentaire Vrac"},false,{"$f":"VLOOKUP(A294,'Alimentaire vrac'!A:F,6)","v":0},0,{"$f":"IFERROR(__xludf.DUMMYFUNCTION(\"TO_PURE_NUMBER(G294)\"),0)","v":0},0]
["Noisettes décortiquées","18,90 € / kg","18,9",{"$f":"VLOOKUP(A295,Import!A:D,4)","v":"Alimentaire Vrac"},false,{"$f":"VLOOKUP(A295,'Alimentaire vrac'!A:F,6)","v":0},0,{"$f":"IFERROR(__xludf.DUMMYFUNCTION(\"TO_PURE_NUMBER(G295)\"),0)","v":0},0]
["Noix Cerneaux Brisures 3-12m","28,50 € / kg","28,5",{"$f":"VLOOKUP(A296,Import!A:D,4)","v":"Alimentaire Vrac"},false,{"$f":"VLOOKUP(A296,'Alimentaire vrac'!A:F,6)","v":0},0,{"$f":"IFERROR(__xludf.DUMMYFUNCTION(\"TO_PURE_NUMBER(G296)\"),0)","v":0},0]
["Noix de Cajou","23,50 € / kg","2,5",{"$f":"VLOOKUP(A297,Import!A:D,4)","v":"Alimentaire Vrac"},false,{"$f":"VLOOKUP(A297,'Alimentaire vrac'!A:F,6)","v":0},0,{"$f":"IFERROR(__xludf.DUMMYFUNCTION(\"TO_PURE_NUMBER(G297)\"),1)","v":1},2.5]
["Noix de Cajou -  Poivre de Kampot","34,50€ / kg",34.5,{"$f":"VLOOKUP(A298,Import!A:D,4)","v":"Alimentaire Vrac"},false,{"$f":"VLOOKUP(A298,'Alimentaire vrac'!A:F,6)","v":0},0,{"$f":"IFERROR(__xludf.DUMMYFUNCTION(\"TO_PURE_NUMBER(G298)\"),1)","v":1},34.5]
["Noix de Cajou - Curry","34,50€ / kg",34.5,{"$f":"VLOOKUP(A299,Import!A:D,4)","v":"Alimentaire Vrac"},false,{"$f":"VLOOKUP(A299,'Alimentaire vrac'!A:F,6)","v":0},0,{"$f":"IFERROR(__xludf.DUMMYFUNCTION(\"TO_PURE_NUMBER(G299)\"),0)","v":0},0]
["Noix de Cajou - Herbes de Provence","34,50€ / kg",34.5,{"$f":"VLOOKUP(A300,Import!A:D,4)","v":"Alimentaire Vrac"},false,{"$f":"VLOOKUP(A300,'Alimentaire vrac'!A:F,6)","v":0},0,{"$f":"IFERROR(__xludf.DUMMYFUNCTION(\"TO_PURE_NUMBER(G300)\"),0)","v":0},0]
["Noix de cajou - Sweet chili","34,50€ / kg",34.5,{"$f":"VLOOKUP(A301,Import!A:D,4)","v":"Alimentaire Vrac"},false,{"$f":"VLOOKUP(A301,'Alimentaire vrac'!A:F,6)","v":0},0,{"$f":"IFERROR(__xludf.DUMMYFUNCTION(\"TO_PURE_NUMBER(G301)\"),0)","v":0},0]
["Noix de Cajou - Tandoori","34,50€ / kg",34.5,{"$f":"VLOOKUP(A302,Import!A:D,4)","v":"Alimentaire Vrac"},false,{"$f":"VLOOKUP(A302,'Alimentaire vrac'!A:F,6)","v":0},0,{"$f":"IFERROR(__xludf.DUMMYFUNCTION(\"TO_PURE_NUMBER(G302)\"),0)","v":0},0]
["Noix de coco Chips ","12,00 € / kg","12",{"$f":"VLOOKUP(A303,Import!A:D,4)","v":"Alimentaire Vrac"},false,{"$f":"VLOOKUP(A303,'Alimentaire vrac'!A:F,6)","v":0},0,{"$f":"IFERROR(__xludf.DUMMYFUNCTION(\"TO_PURE_NUMBER(G303)\"),0)","v":0},0]
["Noix de Coco Râpée ","8€ / kg","8",{"$f":"VLOOKUP(A304,Import!A:D,4)","v":"Alimentaire Vrac"},false,{"$f":"VLOOKUP(A304,'Alimentaire vrac'!A:F,6)","v":0},0,{"$f":"IFERROR(__xludf.DUMMYFUNCTION(\"TO_PURE_NUMBER(G304)\"),0)","v":0},0]
["Noix de Pécan - Gros Morceaux ","29,00 € / kg","29",{"$f":"VLOOKUP(A305,Import!A:D,4)","v":"Alimentaire Vrac"},false,{"$f":"VLOOKUP(A305,'Alimentaire vrac'!A:F,6)","v":0},0,{"$f":"IFERROR(__xludf.DUMMYFUNCTION(\"TO_PURE_NUMBER(G305)\"),0)","v":0},0]
["Noix du brésil ","22,00 € / kg","22",{"$f":"VLOOKUP(A306,Import!A:D,4)","v":"Alimentaire Vrac"},false,{"$f":"VLOOKUP(A306,'Alimentaire vrac'!A:F,6)","v":0},0,{"$f":"IFERROR(__xludf.DUMMYFUNCTION(\"TO_PURE_NUMBER(G306)\"),0)","v":0},0]
["Oeufs frais bio ","0,50 €",0.5,{"$f":"VLOOKUP(A307,Import!A:D,4)","v":"Alimentaire Vrac"},false,0,0,{"$f":"IFERROR(__xludf.DUMMYFUNCTION(\"TO_PURE_NUMBER(G307)\"),0)","v":0},0]
["Oriculi en bioplastique - vert","4,50 €","4,5",{"$f":"VLOOKUP(A308,Import!A:D,4)","v":"Produits d'hygiène coporelle"},false,0,0,{"$f":"IFERROR(__xludf.DUMMYFUNCTION(\"TO_PURE_NUMBER(G308)\"),0)","v":0},0]
["Paille Courte - 13cm Gravée","1,49 €",1.49,{"$f":"VLOOKUP(A309,Import!A:D,4)","v":"Zéros déchets et Bocaux"},false,0,0,{"$f":"IFERROR(__xludf.DUMMYFUNCTION(\"TO_PURE_NUMBER(G309)\"),0)","v":0},0]
["Paille Longue - 20cm Gravée","1,69 €",1.69,{"$f":"VLOOKUP(A310,Import!A:D,4)","v":"Zéros déchets et Bocaux"},false,0,0,{"$f":"IFERROR(__xludf.DUMMYFUNCTION(\"TO_PURE_NUMBER(G310)\"),0)","v":0},0]
["Palets - Chocolat Lait - Belgique","16,00 € / kg","16",{"$f":"VLOOKUP(A311,Import!A:D,4)","v":"Produits d'entretiens"},false,{"$f":"VLOOKUP(A311,'Alimentaire vrac'!A:F,6)","v":0},0,{"$f":"IFERROR(__xludf.DUMMYFUNCTION(\"TO_PURE_NUMBER(G311)\"),0)","v":0},0]
["Palets - Chocolat Noir - Rep Dominicaine","18,00 € / kg","18",{"$f":"VLOOKUP(A312,Import!A:D,4)","v":"Produits d'entretiens"},false,{"$f":"VLOOKUP(A312,'Alimentaire vrac'!A:F,6)","v":0},0,{"$f":"IFERROR(__xludf.DUMMYFUNCTION(\"TO_PURE_NUMBER(G312)\"),0)","v":0},0]
["Panier de rangement (Panier seul)","9,50 €","9,5",{"$f":"VLOOKUP(A313,Import!A:D,4)","v":"Zéros déchets et Bocaux"},false,0,0,{"$f":"IFERROR(__xludf.DUMMYFUNCTION(\"TO_PURE_NUMBER(G313)\"),0)","v":0},0]
["Papier toilette 600 feuilles non blanchi","0,95 €",0.95,{"$f":"VLOOKUP(A314,Import!A:D,4)","v":"Produits d'entretiens"},false,0,0,{"$f":"IFERROR(__xludf.DUMMYFUNCTION(\"TO_PURE_NUMBER(G314)\"),0)","v":0},0]
["Paprika Doux Poudre ","67,00 € / kg","67",{"$f":"VLOOKUP(A315,Import!A:D,4)","v":"Alimentaire Vrac"},false,{"$f":"VLOOKUP(A315,'Alimentaire vrac'!A:F,6)","v":0},0,{"$f":"IFERROR(__xludf.DUMMYFUNCTION(\"TO_PURE_NUMBER(G315)\"),0)","v":0},0]
["Paprika Fort moulu","88,00 € / kg","88",{"$f":"VLOOKUP(A316,Import!A:D,4)","v":"Alimentaire Vrac"},false,{"$f":"VLOOKUP(A316,'Alimentaire vrac'!A:F,6)","v":0},0,{"$f":"IFERROR(__xludf.DUMMYFUNCTION(\"TO_PURE_NUMBER(G316)\"),0)","v":0},0]
["Passata Basilic - 680g","2,50 €","2,5",{"$f":"VLOOKUP(A317,Import!A:D,4)","v":"Alimentaire Vrac"},false,0,0,{"$f":"IFERROR(__xludf.DUMMYFUNCTION(\"TO_PURE_NUMBER(G317)\"),0)","v":0},0]
["Passata Nature - 680g","2,50 €","2,5",{"$f":"VLOOKUP(A318,Import!A:D,4)","v":"Alimentaire Vrac"},false,0,0,{"$f":"IFERROR(__xludf.DUMMYFUNCTION(\"TO_PURE_NUMBER(G318)\"),0)","v":0},0]
["Pâte à tartiner - Amande sésame miel","7,50€","7,5",{"$f":"VLOOKUP(A319,Import!A:D,4)","v":"Alimentaire Conditionné"},false,0,0,{"$f":"IFERROR(__xludf.DUMMYFUNCTION(\"TO_PURE_NUMBER(G319)\"),0)","v":0},0]
["Pâte à tartiner - Cajou coco miel bio","7,50€","7,5",{"$f":"VLOOKUP(A320,Import!A:D,4)","v":"Alimentaire Conditionné"},false,0,0,{"$f":"IFERROR(__xludf.DUMMYFUNCTION(\"TO_PURE_NUMBER(G320)\"),0)","v":0},0]
["Pâte à tartiner Amande Miel - 280g ","10,50€",null,{"$f":"VLOOKUP(A321,Import!A:D,4)","v":"Alimentaire Conditionné"},false,0,0,{"$f":"IFERROR(__xludf.DUMMYFUNCTION(\"TO_PURE_NUMBER(G321)\"),0)","v":0},0]
["Pâte à tartiner Choc-Noisettes - 265g - Go Nuts","9,90€","9,9",{"$f":"VLOOKUP(A322,Import!A:D,4)","v":"Alimentaire Conditionné"},false,0,0,{"$f":"IFERROR(__xludf.DUMMYFUNCTION(\"TO_PURE_NUMBER(G322)\"),0)","v":0},0]
["Pavot","135€ / kg","135",{"$f":"VLOOKUP(A323,Import!A:D,4)","v":"Alimentaire Vrac"},false,{"$f":"VLOOKUP(A323,'Alimentaire vrac'!A:F,6)","v":0},0,{"$f":"IFERROR(__xludf.DUMMYFUNCTION(\"TO_PURE_NUMBER(G323)\"),0)","v":0},0]
["Peigne Démeloir à manche","6,49 €",6.49,{"$f":"VLOOKUP(A324,Import!A:D,4)","v":"Produits d'hygiène coporelle"},false,0,0,{"$f":"IFERROR(__xludf.DUMMYFUNCTION(\"TO_PURE_NUMBER(G324)\"),0)","v":0},0]
["Peigne Démêloir sans manche","6,49 €",6.49,{"$f":"VLOOKUP(A325,Import!A:D,4)","v":"Produits d'hygiène coporelle"},false,0,0,{"$f":"IFERROR(__xludf.DUMMYFUNCTION(\"TO_PURE_NUMBER(G325)\"),0)","v":0},0]
["Penne Blanches","4,20€ / kg","4,2",{"$f":"VLOOKUP(A326,Import!A:D,4)","v":0},false,{"$f":"VLOOKUP(A326,'Alimentaire vrac'!A:F,6)","v":0},0,{"$f":"IFERROR(__xludf.DUMMYFUNCTION(\"TO_PURE_NUMBER(G326)\"),0)","v":0},0]
["Penne Semi Complets","4,50€ / kg","4,5",{"$f":"VLOOKUP(A327,Import!A:D,4)","v":0},false,{"$f":"VLOOKUP(A327,'Alimentaire vrac'!A:F,6)","v":0},0,{"$f":"IFERROR(__xludf.DUMMYFUNCTION(\"TO_PURE_NUMBER(G327)\"),0)","v":0},0]
["Pesto Basilic classique - Le Fabuleux Jardins","4,20 €","4,2",{"$f":"VLOOKUP(A328,Import!A:D,4)","v":"Alimentaire Conditionné"},false,0,0,{"$f":"IFERROR(__xludf.DUMMYFUNCTION(\"TO_PURE_NUMBER(G328)\"),0)","v":0},0]
["Pesto Rosso - 90g","4,20 €","4,2",{"$f":"VLOOKUP(A329,Import!A:D,4)","v":"Alimentaire Conditionné"},false,0,0,{"$f":"IFERROR(__xludf.DUMMYFUNCTION(\"TO_PURE_NUMBER(G329)\"),0)","v":0},0]
["Pesto Verde - 90g","4,20 €","4,2",{"$f":"VLOOKUP(A330,Import!A:D,4)","v":"Alimentaire Conditionné"},false,0,0,{"$f":"IFERROR(__xludf.DUMMYFUNCTION(\"TO_PURE_NUMBER(G330)\"),0)","v":0},0]
["Petit Epeautre ","7,50 € / kg","7,5",{"$f":"VLOOKUP(A331,Import!A:D,4)","v":"Alimentaire Vrac"},false,{"$f":"VLOOKUP(A331,'Alimentaire vrac'!A:F,6)","v":0},0,{"$f":"IFERROR(__xludf.DUMMYFUNCTION(\"TO_PURE_NUMBER(G331)\"),0)","v":0},0]
["Petit Sac à thé de Noël","2,50 €","2,5",{"$f":"VLOOKUP(A332,Import!A:D,4)","v":"Zéros déchets et Bocaux"},false,0,0,{"$f":"IFERROR(__xludf.DUMMYFUNCTION(\"TO_PURE_NUMBER(G332)\"),0)","v":0},0]
["Petits pois extra fins - 240g","3,50 €","3,5",{"$f":"VLOOKUP(A333,Import!A:D,4)","v":"Zéros déchets et Bocaux"},false,0,0,{"$f":"IFERROR(__xludf.DUMMYFUNCTION(\"TO_PURE_NUMBER(G333)\"),0)","v":0},0]
["Petits pois extra fins - 445g","5,10 €","5,1",{"$f":"VLOOKUP(A334,Import!A:D,4)","v":"Zéros déchets et Bocaux"},false,0,0,{"$f":"IFERROR(__xludf.DUMMYFUNCTION(\"TO_PURE_NUMBER(G334)\"),0)","v":0},0]
["Petits Pois très fins et carottes - 425g","5,50 €","5,5",{"$f":"VLOOKUP(A335,Import!A:D,4)","v":"Zéros déchets et Bocaux"},false,0,0,{"$f":"IFERROR(__xludf.DUMMYFUNCTION(\"TO_PURE_NUMBER(G335)\"),0)","v":0},0]
["Pignon de Pin","67,00 € / kg","67",{"$f":"VLOOKUP(A336,Import!A:D,4)","v":"Zéros déchets et Bocaux"},false,{"$f":"VLOOKUP(A336,'Alimentaire vrac'!A:F,6)","v":0},0,{"$f":"IFERROR(__xludf.DUMMYFUNCTION(\"TO_PURE_NUMBER(G336)\"),0)","v":0},0]
["Pistaches Coques Grillées Salées","35,00 € / kg","35",{"$f":"VLOOKUP(A337,Import!A:D,4)","v":"Alimentaire Vrac"},false,{"$f":"VLOOKUP(A337,'Alimentaire vrac'!A:F,6)","v":0},0,{"$f":"IFERROR(__xludf.DUMMYFUNCTION(\"TO_PURE_NUMBER(G337)\"),0)","v":0},0]
["Pistaches vertes sans coque non salées ","46,00 € / kg","46",{"$f":"VLOOKUP(A338,Import!A:D,4)","v":"Alimentaire Vrac"},false,{"$f":"VLOOKUP(A338,'Alimentaire vrac'!A:F,6)","v":0},0,{"$f":"IFERROR(__xludf.DUMMYFUNCTION(\"TO_PURE_NUMBER(G338)\"),0)","v":0},0]
["Pochette à brosse à dent ou à paille","3,50 €","3,5",{"$f":"VLOOKUP(A339,Import!A:D,4)","v":"Zéros déchets et Bocaux"},false,0,0,{"$f":"IFERROR(__xludf.DUMMYFUNCTION(\"TO_PURE_NUMBER(G339)\"),0)","v":0},0]
["Pochette à Goûter ","9,50 €","9,5",{"$f":"VLOOKUP(A340,Import!A:D,4)","v":"Zéros déchets et Bocaux"},false,0,0,{"$f":"IFERROR(__xludf.DUMMYFUNCTION(\"TO_PURE_NUMBER(G340)\"),0)","v":0},0]
["Pochette à Savon","4,50 €","4,5",{"$f":"VLOOKUP(A341,Import!A:D,4)","v":"Zéros déchets et Bocaux"},false,0,0,{"$f":"IFERROR(__xludf.DUMMYFUNCTION(\"TO_PURE_NUMBER(G341)\"),0)","v":0},0]
["Poichichade au paprika - 100g","4,50 €","4,5",{"$f":"VLOOKUP(A342,Import!A:D,4)","v":"Zéros déchets et Bocaux"},false,0,0,{"$f":"IFERROR(__xludf.DUMMYFUNCTION(\"TO_PURE_NUMBER(G342)\"),0)","v":0},0]
["Poichichade traditionnelle - 100g","4,00 €","4",{"$f":"VLOOKUP(A343,Import!A:D,4)","v":"Zéros déchets et Bocaux"},false,0,0,{"$f":"IFERROR(__xludf.DUMMYFUNCTION(\"TO_PURE_NUMBER(G343)\"),0)","v":0},0]
["Pois Chiche - 230g","3,50 €","3,5",{"$f":"VLOOKUP(A344,Import!A:D,4)","v":"Zéros déchets et Bocaux"},false,0,0,{"$f":"IFERROR(__xludf.DUMMYFUNCTION(\"TO_PURE_NUMBER(G344)\"),0)","v":0},0]
["Pois Chiche sans sel - 230g","3,50 €","3,5",{"$f":"VLOOKUP(A345,Import!A:D,4)","v":"Zéros déchets et Bocaux"},false,0,0,{"$f":"IFERROR(__xludf.DUMMYFUNCTION(\"TO_PURE_NUMBER(G345)\"),0)","v":0},0]
["Pois chiches","5€ / kg","5",{"$f":"VLOOKUP(A346,Import!A:D,4)","v":"Alimentaire Vrac"},false,{"$f":"VLOOKUP(A346,'Alimentaire vrac'!A:F,6)","v":0},0,{"$f":"IFERROR(__xludf.DUMMYFUNCTION(\"TO_PURE_NUMBER(G346)\"),0)","v":0},0]
["Pois Chiches - 420g","5,00 €","5",{"$f":"VLOOKUP(A347,Import!A:D,4)","v":"Alimentaire Vrac"},false,0,0,{"$f":"IFERROR(__xludf.DUMMYFUNCTION(\"TO_PURE_NUMBER(G347)\"),0)","v":0},0]
["Poivre Blanc Grains ","115,00 € / kg","115",{"$f":"VLOOKUP(A348,Import!A:D,4)","v":"Alimentaire Vrac"},false,{"$f":"VLOOKUP(A348,'Alimentaire vrac'!A:F,6)","v":0},0,{"$f":"IFERROR(__xludf.DUMMYFUNCTION(\"TO_PURE_NUMBER(G348)\"),0)","v":0},0]
["Poivre Noir Grains ","85,00 € / kg","85",{"$f":"VLOOKUP(A349,Import!A:D,4)","v":"Alimentaire Vrac"},false,{"$f":"VLOOKUP(A349,'Alimentaire vrac'!A:F,6)","v":0},0,{"$f":"IFERROR(__xludf.DUMMYFUNCTION(\"TO_PURE_NUMBER(G349)\"),0)","v":0},0]
["Polenta instantanée ","3,50 € / kg","3,5",{"$f":"VLOOKUP(A350,Import!A:D,4)","v":"Alimentaire Vrac"},false,{"$f":"VLOOKUP(A350,'Alimentaire vrac'!A:F,6)","v":0},0,{"$f":"IFERROR(__xludf.DUMMYFUNCTION(\"TO_PURE_NUMBER(G350)\"),0)","v":0},0]
["Pommes séchées rondelles ","25,00 € / kg","25",{"$f":"VLOOKUP(A351,Import!A:D,4)","v":0},false,{"$f":"VLOOKUP(A351,'Alimentaire vrac'!A:F,6)","v":0},0,{"$f":"IFERROR(__xludf.DUMMYFUNCTION(\"TO_PURE_NUMBER(G351)\"),0)","v":0},0]
["Porte savon classic vrac","8,00 €","8",{"$f":"VLOOKUP(A352,Import!A:D,4)","v":"Produits d'hygiène coporelle"},false,0,0,{"$f":"IFERROR(__xludf.DUMMYFUNCTION(\"TO_PURE_NUMBER(G352)\"),0)","v":0},0]
["Potion Detoxifiante -  33cl","3,50 €","3,5",{"$f":"VLOOKUP(A353,Import!A:D,4)","v":"Boissons conditionnées"},false,0,0,{"$f":"IFERROR(__xludf.DUMMYFUNCTION(\"TO_PURE_NUMBER(G353)\"),0)","v":0},0]
["Potion Detoxifiante - 75cl","5,50€",null,{"$f":"VLOOKUP(A354,Import!A:D,4)","v":"Boissons conditionnées"},false,0,0,{"$f":"IFERROR(__xludf.DUMMYFUNCTION(\"TO_PURE_NUMBER(G354)\"),0)","v":0},0]
["Potion Energisante - 33cl","3,50 €","3,5",{"$f":"VLOOKUP(A355,Import!A:D,4)","v":"Boissons conditionnées"},false,0,0,{"$f":"IFERROR(__xludf.DUMMYFUNCTION(\"TO_PURE_NUMBER(G355)\"),0)","v":0},0]
["Potion Energisante - 75cl","5,50€",null,{"$f":"VLOOKUP(A356,Import!A:D,4)","v":"Boissons conditionnées"},false,0,0,{"$f":"IFERROR(__xludf.DUMMYFUNCTION(\"TO_PURE_NUMBER(G356)\"),0)","v":0},0]
["Potion Relaxante -  33cl","3,50 €",null,{"$f":"VLOOKUP(A357,Import!A:D,4)","v":"Boissons conditionnées"},false,0,0,{"$f":"IFERROR(__xludf.DUMMYFUNCTION(\"TO_PURE_NUMBER(G357)\"),0)","v":0},0]
["Potion Relaxante - 75cl","5,50€",null,{"$f":"VLOOKUP(A358,Import!A:D,4)","v":"Boissons conditionnées"},false,0,0,{"$f":"IFERROR(__xludf.DUMMYFUNCTION(\"TO_PURE_NUMBER(G358)\"),0)","v":0},0]
["Poudre à Lever sans Gluten ","17,90 € / kg","7,9",{"$f":"VLOOKUP(A359,Import!A:D,4)","v":"Alimentaire Vrac"},false,{"$f":"VLOOKUP(A359,'Alimentaire vrac'!A:F,6)","v":0},0,{"$f":"IFERROR(__xludf.DUMMYFUNCTION(\"TO_PURE_NUMBER(G359)\"),0)","v":0},0]
["Poudre d’amande complète","25€ / kg","25",{"$f":"VLOOKUP(A360,Import!A:D,4)","v":"Alimentaire Vrac"},false,{"$f":"VLOOKUP(A360,'Alimentaire vrac'!A:F,6)","v":0},0,{"$f":"IFERROR(__xludf.DUMMYFUNCTION(\"TO_PURE_NUMBER(G360)\"),0)","v":0},0]
["Prépa tarte aux poireaux 345g","4,50€","4,5",{"$f":"VLOOKUP(A361,Import!A:D,4)","v":"Alimentaire Vrac"},false,0,0,{"$f":"IFERROR(__xludf.DUMMYFUNCTION(\"TO_PURE_NUMBER(G361)\"),0)","v":0},0]
["Prépa tarte oignons","4,50€","4,5",{"$f":"VLOOKUP(A362,Import!A:D,4)","v":"Alimentaire Vrac"},false,0,0,{"$f":"IFERROR(__xludf.DUMMYFUNCTION(\"TO_PURE_NUMBER(G362)\"),0)","v":0},0]
["Protège slip","6,00 €","6",{"$f":"VLOOKUP(A363,Import!A:D,4)","v":"Zéros déchets et Bocaux"},false,0,0,{"$f":"IFERROR(__xludf.DUMMYFUNCTION(\"TO_PURE_NUMBER(G363)\"),0)","v":0},0]
["Pruneaux dénoyautés ","22€ / kg","22",{"$f":"VLOOKUP(A364,Import!A:D,4)","v":"Alimentaire Vrac"},false,{"$f":"VLOOKUP(A364,'Alimentaire vrac'!A:F,6)","v":0},0,{"$f":"IFERROR(__xludf.DUMMYFUNCTION(\"TO_PURE_NUMBER(G364)\"),0)","v":0},0]
["Purée Amande 270g - Go Nuts","8,90€","8,9",{"$f":"VLOOKUP(A365,Import!A:D,4)","v":"Alimentaire Conditionné"},false,0,0,{"$f":"IFERROR(__xludf.DUMMYFUNCTION(\"TO_PURE_NUMBER(G365)\"),0)","v":0},0]
["Purée de Sésame Blanc - France - 350gx6","6,50€","6,5",{"$f":"VLOOKUP(A366,Import!A:D,4)","v":"Alimentaire Conditionné"},false,0,0,{"$f":"IFERROR(__xludf.DUMMYFUNCTION(\"TO_PURE_NUMBER(G366)\"),0)","v":0},0]
["Purée Noisette - 270g","8,50€",null,{"$f":"VLOOKUP(A367,Import!A:D,4)","v":"Alimentaire Conditionné"},false,0,0,{"$f":"IFERROR(__xludf.DUMMYFUNCTION(\"TO_PURE_NUMBER(G367)\"),0)","v":0},0]
["Quinoa Complet ","9,50€/kg","9,5",{"$f":"VLOOKUP(A368,Import!A:D,4)","v":"Alimentaire Vrac"},false,{"$f":"VLOOKUP(A368,'Alimentaire vrac'!A:F,6)","v":0},0,{"$f":"IFERROR(__xludf.DUMMYFUNCTION(\"TO_PURE_NUMBER(G368)\"),0.5)","v":0.5},4.75]
["Raisins secs Sultanines","7,90€/kg","7,9",{"$f":"VLOOKUP(A369,Import!A:D,4)","v":"Alimentaire Vrac"},false,{"$f":"VLOOKUP(A369,'Alimentaire vrac'!A:F,6)","v":0},0,{"$f":"IFERROR(__xludf.DUMMYFUNCTION(\"TO_PURE_NUMBER(G369)\"),0)","v":0},0]
["Rasoir de sûreté à lame rechargeable","45€","45",{"$f":"VLOOKUP(A370,Import!A:D,4)","v":"Produits d'hygiène coporelle"},false,0,0,{"$f":"IFERROR(__xludf.DUMMYFUNCTION(\"TO_PURE_NUMBER(G370)\"),0)","v":0},0]
["Ratatouille à la provençale - 650g","5,10€","5,1",{"$f":"VLOOKUP(A371,Import!A:D,4)","v":"Produits d'hygiène coporelle"},false,0,0,{"$f":"IFERROR(__xludf.DUMMYFUNCTION(\"TO_PURE_NUMBER(G371)\"),0)","v":0},0]
["Recharge de 10 lames pour rasoir de sûreté","7,50€","7,5",{"$f":"VLOOKUP(A372,Import!A:D,4)","v":"Produits d'hygiène coporelle"},false,0,0,{"$f":"IFERROR(__xludf.DUMMYFUNCTION(\"TO_PURE_NUMBER(G372)\"),0)","v":0},0]
["Recouvre bol en coton enduit - Taille à Cake","7€","7",{"$f":"VLOOKUP(A373,Import!A:D,4)","v":"Zéros déchets et Bocaux"},false,0,0,{"$f":"IFERROR(__xludf.DUMMYFUNCTION(\"TO_PURE_NUMBER(G373)\"),0)","v":0},0]
["Recouvre bol en coton enduit - Taille à Gratin","9€","9",{"$f":"VLOOKUP(A374,Import!A:D,4)","v":"Zéros déchets et Bocaux"},false,0,0,{"$f":"IFERROR(__xludf.DUMMYFUNCTION(\"TO_PURE_NUMBER(G374)\"),0)","v":0},0]
["Recouvre bol en coton enduit - Taille L","9€","9",{"$f":"VLOOKUP(A375,Import!A:D,4)","v":"Zéros déchets et Bocaux"},false,0,0,{"$f":"IFERROR(__xludf.DUMMYFUNCTION(\"TO_PURE_NUMBER(G375)\"),0)","v":0},0]
["Recouvre bol en coton enduit - Taille M","7€","7",{"$f":"VLOOKUP(A376,Import!A:D,4)","v":"Zéros déchets et Bocaux"},false,0,0,{"$f":"IFERROR(__xludf.DUMMYFUNCTION(\"TO_PURE_NUMBER(G376)\"),0)","v":0},0]
["Recouvre bol en coton enduit - Taille S","5€","5",{"$f":"VLOOKUP(A377,Import!A:D,4)","v":"Zéros déchets et Bocaux"},false,0,0,{"$f":"IFERROR(__xludf.DUMMYFUNCTION(\"TO_PURE_NUMBER(G377)\"),0)","v":0},0]
["Recouvre bol en coton enduit - Taille XS","4€","4",{"$f":"VLOOKUP(A378,Import!A:D,4)","v":"Zéros déchets et Bocaux"},false,0,0,{"$f":"IFERROR(__xludf.DUMMYFUNCTION(\"TO_PURE_NUMBER(G378)\"),0)","v":0},0]
["Risotto d’automne -350g","4,90€","4,9",{"$f":"VLOOKUP(A379,Import!A:D,4)","v":"Zéros déchets et Bocaux"},false,0,0,{"$f":"IFERROR(__xludf.DUMMYFUNCTION(\"TO_PURE_NUMBER(G379)\"),0)","v":0},0]
["Riz Arborio blanc Risotto ","5,50€/kg","5,5",{"$f":"VLOOKUP(A380,Import!A:D,4)","v":"Alimentaire Vrac"},false,{"$f":"VLOOKUP(A380,'Alimentaire vrac'!A:F,6)","v":0},0,{"$f":"IFERROR(__xludf.DUMMYFUNCTION(\"TO_PURE_NUMBER(G380)\"),0)","v":0},0]
["Riz Basmati blanc ","5,50€",null,{"$f":"VLOOKUP(A381,Import!A:D,4)","v":"Alimentaire Vrac"},false,{"$f":"VLOOKUP(A381,'Alimentaire vrac'!A:F,6)","v":0},0,{"$f":"IFERROR(__xludf.DUMMYFUNCTION(\"TO_PURE_NUMBER(G381)\"),0)","v":0},0]
["Riz Blanc IGP Camargue","5,50€/kg",null,{"$f":"VLOOKUP(A382,Import!A:D,4)","v":"Alimentaire Vrac"},false,{"$f":"VLOOKUP(A382,'Alimentaire vrac'!A:F,6)","v":0},0,{"$f":"IFERROR(__xludf.DUMMYFUNCTION(\"TO_PURE_NUMBER(G382)\"),0)","v":0},0]
["Riz Long Complet ","4,25€/kg",4.25,{"$f":"VLOOKUP(A383,Import!A:D,4)","v":"Alimentaire Vrac"},false,{"$f":"VLOOKUP(A383,'Alimentaire vrac'!A:F,6)","v":0},0,{"$f":"IFERROR(__xludf.DUMMYFUNCTION(\"TO_PURE_NUMBER(G383)\"),0)","v":0},0]
["Riz Rond blanc IGP Camargue","5,50€",null,{"$f":"VLOOKUP(A384,Import!A:D,4)","v":"Alimentaire Vrac"},false,{"$f":"VLOOKUP(A384,'Alimentaire vrac'!A:F,6)","v":0},0,{"$f":"IFERROR(__xludf.DUMMYFUNCTION(\"TO_PURE_NUMBER(G384)\"),0)","v":0},0]
["Riz semi complet IGP Camargue","4,90€/kg","4,9",{"$f":"VLOOKUP(A385,Import!A:D,4)","v":"Alimentaire Vrac"},false,{"$f":"VLOOKUP(A385,'Alimentaire vrac'!A:F,6)","v":0},0,{"$f":"IFERROR(__xludf.DUMMYFUNCTION(\"TO_PURE_NUMBER(G385)\"),0.5)","v":0.5},2.4500000000000002]
["Romarin feuille ","65€/kg","65",{"$f":"VLOOKUP(A386,Import!A:D,4)","v":"Alimentaire Vrac"},false,{"$f":"VLOOKUP(A386,'Alimentaire vrac'!A:F,6)","v":0},0,{"$f":"IFERROR(__xludf.DUMMYFUNCTION(\"TO_PURE_NUMBER(G386)\"),0)","v":0},0]
["Ronds démaquillants - Lot de 5","7€","7",{"$f":"VLOOKUP(A387,Import!A:D,4)","v":"Alimentaire Vrac"},false,0,0,{"$f":"IFERROR(__xludf.DUMMYFUNCTION(\"TO_PURE_NUMBER(G387)\"),0)","v":0},0]
["Rooibos - Earl Grey ","60€/kg","60",{"$f":"VLOOKUP(A388,Import!A:D,4)","v":"Boisson en vrac"},false,0,0,{"$f":"IFERROR(__xludf.DUMMYFUNCTION(\"TO_PURE_NUMBER(G388)\"),0)","v":0},0]
["Rooibos Nature","50€/kg","50",{"$f":"VLOOKUP(A389,Import!A:D,4)","v":"Boisson en vrac"},false,{"$f":"VLOOKUP(A389,'Alimentaire vrac'!A:F,6)","v":0},0,{"$f":"IFERROR(__xludf.DUMMYFUNCTION(\"TO_PURE_NUMBER(G389)\"),0)","v":0},0]
["Sac à congélation - Taille L","8,50€","8,5",{"$f":"VLOOKUP(A390,Import!A:D,4)","v":"Zéros déchets et Bocaux"},false,0,0,{"$f":"IFERROR(__xludf.DUMMYFUNCTION(\"TO_PURE_NUMBER(G390)\"),0)","v":0},0]
["Sac à congélation - Taille M","7,50€","7,5",{"$f":"VLOOKUP(A391,Import!A:D,4)","v":"Zéros déchets et Bocaux"},false,0,0,{"$f":"IFERROR(__xludf.DUMMYFUNCTION(\"TO_PURE_NUMBER(G391)\"),0)","v":0},0]
["Sac à congélation - Taille S","6,50€","6,5",{"$f":"VLOOKUP(A392,Import!A:D,4)","v":"Zéros déchets et Bocaux"},false,0,0,{"$f":"IFERROR(__xludf.DUMMYFUNCTION(\"TO_PURE_NUMBER(G392)\"),0)","v":0},0]
["Sac en Coton - Taille L","8,50€","8,5",{"$f":"VLOOKUP(A393,Import!A:D,4)","v":"Zéros déchets et Bocaux"},false,0,0,{"$f":"IFERROR(__xludf.DUMMYFUNCTION(\"TO_PURE_NUMBER(G393)\"),0)","v":0},0]
["Sac en Coton - Taille M","7,50€","7,5",{"$f":"VLOOKUP(A394,Import!A:D,4)","v":"Zéros déchets et Bocaux"},false,0,0,{"$f":"IFERROR(__xludf.DUMMYFUNCTION(\"TO_PURE_NUMBER(G394)\"),0)","v":0},0]
["Sac en Coton - Taille S","7€","7",{"$f":"VLOOKUP(A395,Import!A:D,4)","v":"Zéros déchets et Bocaux"},false,0,0,{"$f":"IFERROR(__xludf.DUMMYFUNCTION(\"TO_PURE_NUMBER(G395)\"),0)","v":0},0]
["Sarrasin Décortiqué - France - 5kg","7€ / kg",null,{"$f":"VLOOKUP(A396,Import!A:D,4)","v":"Alimentaire Vrac"},false,{"$f":"VLOOKUP(A396,'Alimentaire vrac'!A:F,6)","v":0},0,{"$f":"IFERROR(__xludf.DUMMYFUNCTION(\"TO_PURE_NUMBER(G396)\"),0)","v":0},0]
["Sauce bolognaise végétale au soja - 340g","3,30€","3,3",{"$f":"VLOOKUP(A397,Import!A:D,4)","v":"Alimentaire Vrac"},false,0,0,{"$f":"IFERROR(__xludf.DUMMYFUNCTION(\"TO_PURE_NUMBER(G397)\"),0)","v":0},0]
["Sauce Vegan - 185g","3,50€","3,5",{"$f":"VLOOKUP(A398,Import!A:D,4)","v":"Alimentaire Vrac"},false,0,0,{"$f":"IFERROR(__xludf.DUMMYFUNCTION(\"TO_PURE_NUMBER(G398)\"),0)","v":0},0]
["Savon à froid l’Emir","3,90€","3,9",{"$f":"VLOOKUP(A399,Import!A:D,4)","v":"Alimentaire Vrac"},false,0,0,{"$f":"IFERROR(__xludf.DUMMYFUNCTION(\"TO_PURE_NUMBER(G399)\"),0)","v":0},0]
["Savon à froid le Chérubin","3,90€","3,9",{"$f":"VLOOKUP(A400,Import!A:D,4)","v":"Produits d'hygiène coporelle"},false,0,0,{"$f":"IFERROR(__xludf.DUMMYFUNCTION(\"TO_PURE_NUMBER(G400)\"),0)","v":0},0]
["Savon à froid le Gandhi","3,90€","3,9",{"$f":"VLOOKUP(A401,Import!A:D,4)","v":"Produits d'hygiène coporelle"},false,0,0,{"$f":"IFERROR(__xludf.DUMMYFUNCTION(\"TO_PURE_NUMBER(G401)\"),0)","v":0},0]
["Savon à froid le Gecko","3,90€","3,9",{"$f":"VLOOKUP(A402,Import!A:D,4)","v":"Produits d'hygiène coporelle"},false,0,0,{"$f":"IFERROR(__xludf.DUMMYFUNCTION(\"TO_PURE_NUMBER(G402)\"),0)","v":0},0]
["Savon à froid le Saint Bernard","3,90€","3,9",{"$f":"VLOOKUP(A403,Import!A:D,4)","v":"Produits d'hygiène coporelle"},false,0,0,{"$f":"IFERROR(__xludf.DUMMYFUNCTION(\"TO_PURE_NUMBER(G403)\"),0)","v":0},0]
["Savon à froid le Suisse","3,90€","3,9",{"$f":"VLOOKUP(A404,Import!A:D,4)","v":"Produits d'hygiène coporelle"},false,0,0,{"$f":"IFERROR(__xludf.DUMMYFUNCTION(\"TO_PURE_NUMBER(G404)\"),0)","v":0},0]
["Savon à froid le Vahiné","3,90€","3,9",{"$f":"VLOOKUP(A405,Import!A:D,4)","v":"Produits d'hygiène coporelle"},false,0,0,{"$f":"IFERROR(__xludf.DUMMYFUNCTION(\"TO_PURE_NUMBER(G405)\"),0)","v":0},0]
["Savon liquide de Marseille à l’huile d’olive & Lavande","6,90€ / kg","6,9",{"$f":"VLOOKUP(A406,Import!A:D,4)","v":"Produits d'hygiène coporelle"},false,0,0,{"$f":"IFERROR(__xludf.DUMMYFUNCTION(\"TO_PURE_NUMBER(G406)\"),0)","v":0},0]
["Savon Noir Tradition - Vrac ","5€ / kg","5",{"$f":"VLOOKUP(A407,Import!A:D,4)","v":"Produits d'entretiens"},false,0,0,{"$f":"IFERROR(__xludf.DUMMYFUNCTION(\"TO_PURE_NUMBER(G407)\"),0)","v":0},0]
["Sel de Mer Gros - Guérande","3,90€ / kg","3,9",{"$f":"VLOOKUP(A408,Import!A:D,4)","v":"Alimentaire Vrac"},false,{"$f":"VLOOKUP(A408,'Alimentaire vrac'!A:F,6)","v":0},0,{"$f":"IFERROR(__xludf.DUMMYFUNCTION(\"TO_PURE_NUMBER(G408)\"),0)","v":0},0]
["Sel fin de méditerrannée","3€ / kg","3",{"$f":"VLOOKUP(A409,Import!A:D,4)","v":"Alimentaire Vrac"},false,{"$f":"VLOOKUP(A409,'Alimentaire vrac'!A:F,6)","v":0},0,{"$f":"IFERROR(__xludf.DUMMYFUNCTION(\"TO_PURE_NUMBER(G409)\"),0)","v":0},0]
["Sel régénérant vrac","2,10€ / kg","2,1",{"$f":"VLOOKUP(A410,Import!A:D,4)","v":"Produits d'entretiens"},false,0,0,{"$f":"IFERROR(__xludf.DUMMYFUNCTION(\"TO_PURE_NUMBER(G410)\"),0)","v":0},0]
["Sérum anti-imperfection 30ml","24,90€","24,9",{"$f":"VLOOKUP(A411,Import!A:D,4)","v":"Produits d'hygiène coporelle"},false,0,0,{"$f":"IFERROR(__xludf.DUMMYFUNCTION(\"TO_PURE_NUMBER(G411)\"),0)","v":0},0]
["Sérum désaltérant à l’acide hyaluronique ","8,90€","8,9",{"$f":"VLOOKUP(A412,Import!A:D,4)","v":"Produits d'hygiène coporelle"},false,0,0,{"$f":"IFERROR(__xludf.DUMMYFUNCTION(\"TO_PURE_NUMBER(G412)\"),0)","v":0},0]
["Sérum Longueurs et pointes","8,90€","8,9",{"$f":"VLOOKUP(A413,Import!A:D,4)","v":"Produits d'hygiène coporelle"},false,0,0,{"$f":"IFERROR(__xludf.DUMMYFUNCTION(\"TO_PURE_NUMBER(G413)\"),0)","v":0},0]
["Serviette de table","8,50€","8,5",{"$f":"VLOOKUP(A414,Import!A:D,4)","v":"Zéros déchets et Bocaux"},false,0,0,{"$f":"IFERROR(__xludf.DUMMYFUNCTION(\"TO_PURE_NUMBER(G414)\"),0)","v":0},0]
["Serviette hygiénique ","9€","9",{"$f":"VLOOKUP(A415,Import!A:D,4)","v":"Zéros déchets et Bocaux"},false,0,0,{"$f":"IFERROR(__xludf.DUMMYFUNCTION(\"TO_PURE_NUMBER(G415)\"),0)","v":0},0]
["Serviette hygiénique Nuit","11€","11",{"$f":"VLOOKUP(A416,Import!A:D,4)","v":"Zéros déchets et Bocaux"},false,0,0,{"$f":"IFERROR(__xludf.DUMMYFUNCTION(\"TO_PURE_NUMBER(G416)\"),0)","v":0},0]
["Set Assiette et cuillère enfant - Bordeaux ","25€","25",{"$f":"VLOOKUP(A417,Import!A:D,4)","v":"Zéros déchets et Bocaux"},false,0,0,{"$f":"IFERROR(__xludf.DUMMYFUNCTION(\"TO_PURE_NUMBER(G417)\"),0)","v":0},0]
["Set Assiette et cuillère enfant - Lilas ","25€","25",{"$f":"VLOOKUP(A418,Import!A:D,4)","v":"Zéros déchets et Bocaux"},false,0,0,{"$f":"IFERROR(__xludf.DUMMYFUNCTION(\"TO_PURE_NUMBER(G418)\"),0)","v":0},0]
["Set de 3 couverts réutilisables","5,49€",5.49,{"$f":"VLOOKUP(A419,Import!A:D,4)","v":"Zéros déchets et Bocaux"},false,0,0,{"$f":"IFERROR(__xludf.DUMMYFUNCTION(\"TO_PURE_NUMBER(G419)\"),0)","v":0},0]
["Set de Repas Bébé - Bleu","23,50€","23,5",{"$f":"VLOOKUP(A420,Import!A:D,4)","v":"Zéros déchets et Bocaux"},false,0,0,{"$f":"IFERROR(__xludf.DUMMYFUNCTION(\"TO_PURE_NUMBER(G420)\"),0)","v":0},0]
["Set de Repas Bébé - Jaune","23,50€","23,5",{"$f":"VLOOKUP(A421,Import!A:D,4)","v":"Zéros déchets et Bocaux"},false,0,0,{"$f":"IFERROR(__xludf.DUMMYFUNCTION(\"TO_PURE_NUMBER(G421)\"),0)","v":0},0]
["Set de Repas Bébé - Rose","23,50€","23,5",{"$f":"VLOOKUP(A422,Import!A:D,4)","v":"Zéros déchets et Bocaux"},false,0,0,{"$f":"IFERROR(__xludf.DUMMYFUNCTION(\"TO_PURE_NUMBER(G422)\"),0)","v":0},0]
["Set de Repas Bébé - Vert","23,50€","23,5",{"$f":"VLOOKUP(A423,Import!A:D,4)","v":"Zéros déchets et Bocaux"},false,0,0,{"$f":"IFERROR(__xludf.DUMMYFUNCTION(\"TO_PURE_NUMBER(G423)\"),0)","v":0},0]
["Set de repas enfants","25€","25",{"$f":"VLOOKUP(A424,Import!A:D,4)","v":"Zéros déchets et Bocaux"},false,0,0,{"$f":"IFERROR(__xludf.DUMMYFUNCTION(\"TO_PURE_NUMBER(G424)\"),0)","v":0},0]
["Set de Table à colorier ","7,50€","7,5",{"$f":"VLOOKUP(A425,Import!A:D,4)","v":"Zéros déchets et Bocaux"},false,0,0,{"$f":"IFERROR(__xludf.DUMMYFUNCTION(\"TO_PURE_NUMBER(G425)\"),0)","v":0},0]
["Shampoing sec - sans HE - 35ml","8,50€","8,5",{"$f":"VLOOKUP(A426,Import!A:D,4)","v":"Produits d'hygiène coporelle"},false,0,0,{"$f":"IFERROR(__xludf.DUMMYFUNCTION(\"TO_PURE_NUMBER(G426)\"),0)","v":0},0]
["Shampoing sec - sans HE - Recharge ","6€","6",{"$f":"VLOOKUP(A427,Import!A:D,4)","v":"Produits d'hygiène coporelle"},false,0,0,{"$f":"IFERROR(__xludf.DUMMYFUNCTION(\"TO_PURE_NUMBER(G427)\"),0)","v":0},0]
["Shampoing solide - Antipelliculaire - 80g","10,60€","10,6",{"$f":"VLOOKUP(A428,Import!A:D,4)","v":"Produits d'hygiène coporelle"},false,0,0,{"$f":"IFERROR(__xludf.DUMMYFUNCTION(\"TO_PURE_NUMBER(G428)\"),0)","v":0},0]
["Shampoing solide - Bleu - 80g","10,60€","10,6",{"$f":"VLOOKUP(A429,Import!A:D,4)","v":"Produits d'hygiène coporelle"},false,0,0,{"$f":"IFERROR(__xludf.DUMMYFUNCTION(\"TO_PURE_NUMBER(G429)\"),0)","v":0},0]
["Shampoing solide - Cheveux abîmés & colorés - Sans HE - 80g","10,60€","10,6",{"$f":"VLOOKUP(A430,Import!A:D,4)","v":"Produits d'hygiène coporelle"},false,0,0,{"$f":"IFERROR(__xludf.DUMMYFUNCTION(\"TO_PURE_NUMBER(G430)\"),0)","v":0},0]
["Shampoing solide - Cheveux abîmés et colorés - 80g","10,60€","10,6",{"$f":"VLOOKUP(A431,Import!A:D,4)","v":"Produits d'hygiène coporelle"},false,0,0,{"$f":"IFERROR(__xludf.DUMMYFUNCTION(\"TO_PURE_NUMBER(G431)\"),0)","v":0},0]
["Shampoing solide - Cheveux frisés / crépus - 80g","10,60€","10,6",{"$f":"VLOOKUP(A432,Import!A:D,4)","v":"Produits d'hygiène coporelle"},false,0,0,{"$f":"IFERROR(__xludf.DUMMYFUNCTION(\"TO_PURE_NUMBER(G432)\"),0)","v":0},0]
["Shampoing solide - Cheveux gras - 80g","10,60€","10,6",{"$f":"VLOOKUP(A433,Import!A:D,4)","v":"Produits d'hygiène coporelle"},false,0,0,{"$f":"IFERROR(__xludf.DUMMYFUNCTION(\"TO_PURE_NUMBER(G433)\"),0)","v":0},0]
["Shampoing solide - Cheveux gras - Sans HE 80g","10,60€","10,6",{"$f":"VLOOKUP(A434,Import!A:D,4)","v":"Produits d'hygiène coporelle"},false,0,0,{"$f":"IFERROR(__xludf.DUMMYFUNCTION(\"TO_PURE_NUMBER(G434)\"),0)","v":0},0]
["Shampoing solide - Sensible - 80g","10,60€","10,6",{"$f":"VLOOKUP(A435,Import!A:D,4)","v":"Produits d'hygiène coporelle"},false,0,0,{"$f":"IFERROR(__xludf.DUMMYFUNCTION(\"TO_PURE_NUMBER(G435)\"),0)","v":0},0]
["Shampoing solide - Stimulant - 80g","10,60€","10,6",{"$f":"VLOOKUP(A436,Import!A:D,4)","v":"Produits d'hygiène coporelle"},false,0,0,{"$f":"IFERROR(__xludf.DUMMYFUNCTION(\"TO_PURE_NUMBER(G436)\"),0)","v":0},0]
["Shampoing solide - Tout type de cheveux - 80g","10,60€","10,6",{"$f":"VLOOKUP(A437,Import!A:D,4)","v":"Produits d'hygiène coporelle"},false,0,0,{"$f":"IFERROR(__xludf.DUMMYFUNCTION(\"TO_PURE_NUMBER(G437)\"),0)","v":0},0]
["Sirop d’Erable ","25€/kg","25",{"$f":"VLOOKUP(A438,Import!A:D,4)","v":"Alimentaire Vrac"},false,{"$f":"VLOOKUP(A438,'Alimentaire vrac'!A:F,6)","v":0},0,{"$f":"IFERROR(__xludf.DUMMYFUNCTION(\"TO_PURE_NUMBER(G438)\"),0)","v":0},0]
["Sirop de Cassis - 70cl","6,90€","6,9",{"$f":"VLOOKUP(A439,Import!A:D,4)","v":"Alimentaire Conditionné"},false,0,0,{"$f":"IFERROR(__xludf.DUMMYFUNCTION(\"TO_PURE_NUMBER(G439)\"),0)","v":0},0]
["Sirop de Citron ","9,50€/kg","9,5",{"$f":"VLOOKUP(A440,Import!A:D,4)","v":"Boisson en vrac"},false,0,0,{"$f":"IFERROR(__xludf.DUMMYFUNCTION(\"TO_PURE_NUMBER(G440)\"),0)","v":0},0]
["Sirop de Grenadine","9,50€/kg","9,5",{"$f":"VLOOKUP(A441,Import!A:D,4)","v":"Boisson en vrac"},false,0,0,{"$f":"IFERROR(__xludf.DUMMYFUNCTION(\"TO_PURE_NUMBER(G441)\"),0)","v":0},0]
["Sirop de Menthe","9,50€/kg","9,5",{"$f":"VLOOKUP(A442,Import!A:D,4)","v":"Boisson en vrac"},false,0,0,{"$f":"IFERROR(__xludf.DUMMYFUNCTION(\"TO_PURE_NUMBER(G442)\"),0)","v":0},0]
["Sirop de Pamplemousse - 70cl ","6,90€","6,9",{"$f":"VLOOKUP(A443,Import!A:D,4)","v":"Alimentaire Conditionné"},false,0,0,{"$f":"IFERROR(__xludf.DUMMYFUNCTION(\"TO_PURE_NUMBER(G443)\"),0)","v":0},0]
["Sirop de Pêche","9,50€/kg","9,5",{"$f":"VLOOKUP(A444,Import!A:D,4)","v":"Boisson en vrac"},false,0,0,{"$f":"IFERROR(__xludf.DUMMYFUNCTION(\"TO_PURE_NUMBER(G444)\"),0)","v":0},0]
["Soin Lavant Purifiant ","14,90€","14,9",{"$f":"VLOOKUP(A445,Import!A:D,4)","v":"Boisson en vrac"},false,0,0,{"$f":"IFERROR(__xludf.DUMMYFUNCTION(\"TO_PURE_NUMBER(G445)\"),0)","v":0},0]
["Sojade UHT Calcium - 1L","2,60€","2,6",{"$f":"VLOOKUP(A446,Import!A:D,4)","v":"Boisson en vrac"},false,0,0,{"$f":"IFERROR(__xludf.DUMMYFUNCTION(\"TO_PURE_NUMBER(G446)\"),0)","v":0},0]
["Solution hydroalcolique","7,50€/kg","7,5",{"$f":"VLOOKUP(A447,Import!A:D,4)","v":"Produits d'entretiens"},false,0,0,{"$f":"IFERROR(__xludf.DUMMYFUNCTION(\"TO_PURE_NUMBER(G447)\"),0)","v":0},0]
["Soya cuisine briquette - 20cl","1,95€",1.95,{"$f":"VLOOKUP(A448,Import!A:D,4)","v":"Produits d'entretiens"},false,0,0,{"$f":"IFERROR(__xludf.DUMMYFUNCTION(\"TO_PURE_NUMBER(G448)\"),0)","v":0},0]
["Spaghettis Blancs","3,30€/kg","3,3",{"$f":"VLOOKUP(A449,Import!A:D,4)","v":"Produits d'entretiens"},false,{"$f":"VLOOKUP(A449,'Alimentaire vrac'!A:F,6)","v":0},0,{"$f":"IFERROR(__xludf.DUMMYFUNCTION(\"TO_PURE_NUMBER(G449)\"),0)","v":0},0]
["Spaghettis Complets","3,30€/kg","3,3",{"$f":"VLOOKUP(A450,Import!A:D,4)","v":"Produits d'entretiens"},false,{"$f":"VLOOKUP(A450,'Alimentaire vrac'!A:F,6)","v":0},0,{"$f":"IFERROR(__xludf.DUMMYFUNCTION(\"TO_PURE_NUMBER(G450)\"),0)","v":0},0]
["Spirales Complètes ","3,30€/kg","3,3",{"$f":"VLOOKUP(A451,Import!A:D,4)","v":"Alimentaire Vrac"},false,{"$f":"VLOOKUP(A451,'Alimentaire vrac'!A:F,6)","v":0},0,{"$f":"IFERROR(__xludf.DUMMYFUNCTION(\"TO_PURE_NUMBER(G451)\"),0)","v":0},0]
["Sucre Blond - Paraguay","3,20€/kg","3,2",{"$f":"VLOOKUP(A452,Import!A:D,4)","v":"Alimentaire Vrac"},false,{"$f":"VLOOKUP(A452,'Alimentaire vrac'!A:F,6)","v":0},0,{"$f":"IFERROR(__xludf.DUMMYFUNCTION(\"TO_PURE_NUMBER(G452)\"),0)","v":0},0]
["Sucre Complet - Rapadura ","4,90€/kg","4,9",{"$f":"VLOOKUP(A453,Import!A:D,4)","v":"Alimentaire Vrac"},false,{"$f":"VLOOKUP(A453,'Alimentaire vrac'!A:F,6)","v":0},0,{"$f":"IFERROR(__xludf.DUMMYFUNCTION(\"TO_PURE_NUMBER(G453)\"),0)","v":0},0]
["Sucre Glace sans séparateur ","5,50€/kg","5,5",{"$f":"VLOOKUP(A454,Import!A:D,4)","v":"Alimentaire Vrac"},false,{"$f":"VLOOKUP(A454,'Alimentaire vrac'!A:F,6)","v":0},0,{"$f":"IFERROR(__xludf.DUMMYFUNCTION(\"TO_PURE_NUMBER(G454)\"),0)","v":0},0]
["Sucre Roux Demérara (Cassonade) ","3,50€/kg","3,5",{"$f":"VLOOKUP(A455,Import!A:D,4)","v":"Alimentaire Vrac"},false,{"$f":"VLOOKUP(A455,'Alimentaire vrac'!A:F,6)","v":0},0,{"$f":"IFERROR(__xludf.DUMMYFUNCTION(\"TO_PURE_NUMBER(G455)\"),0)","v":0},0]
["Super bain d’huile avant-shampoing ","9,90€","9,9",{"$f":"VLOOKUP(A456,Import!A:D,4)","v":"Alimentaire Vrac"},false,0,0,{"$f":"IFERROR(__xludf.DUMMYFUNCTION(\"TO_PURE_NUMBER(G456)\"),0)","v":0},0]
["Suspensions parfumées","6€","6",{"$f":"VLOOKUP(A457,Import!A:D,4)","v":"Produits d'hygiène coporelle"},false,0,0,{"$f":"IFERROR(__xludf.DUMMYFUNCTION(\"TO_PURE_NUMBER(G457)\"),0)","v":0},0]
["Tablettes Lave Vaisselle Vrac","13,60€/kg","13,6",{"$f":"VLOOKUP(A458,Import!A:D,4)","v":"Produits d'entretiens"},false,0,0,{"$f":"IFERROR(__xludf.DUMMYFUNCTION(\"TO_PURE_NUMBER(G458)\"),0)","v":0},0]
["Tagliatelles Nature sans oeufs","4,50€/kg","4,5",{"$f":"VLOOKUP(A459,Import!A:D,4)","v":"Produits d'entretiens"},false,{"$f":"VLOOKUP(A459,'Alimentaire vrac'!A:F,6)","v":0},0,{"$f":"IFERROR(__xludf.DUMMYFUNCTION(\"TO_PURE_NUMBER(G459)\"),0)","v":0},0]
["Tamari - Chine ","10,80€/kg","10,8",{"$f":"VLOOKUP(A460,Import!A:D,4)","v":"Produits d'entretiens"},false,{"$f":"VLOOKUP(A460,'Alimentaire vrac'!A:F,6)","v":0},0,{"$f":"IFERROR(__xludf.DUMMYFUNCTION(\"TO_PURE_NUMBER(G460)\"),0)","v":0},0]
["Tamari, less salt 25% - 250ml","6,50€","6,5",{"$f":"VLOOKUP(A461,Import!A:D,4)","v":"Alimentaire Conditionné"},false,0,0,{"$f":"IFERROR(__xludf.DUMMYFUNCTION(\"TO_PURE_NUMBER(G461)\"),0)","v":0},0]
["Tartinade - Abricot","6€","6",{"$f":"VLOOKUP(A462,Import!A:D,4)","v":"Alimentaire Conditionné"},false,0,0,{"$f":"IFERROR(__xludf.DUMMYFUNCTION(\"TO_PURE_NUMBER(G462)\"),0)","v":0},0]
["Tartinade - Ananas Vanille","6€","6",{"$f":"VLOOKUP(A463,Import!A:D,4)","v":"Alimentaire Conditionné"},false,0,0,{"$f":"IFERROR(__xludf.DUMMYFUNCTION(\"TO_PURE_NUMBER(G463)\"),0)","v":0},0]
["Tartinade - Cerise","6€","6",{"$f":"VLOOKUP(A464,Import!A:D,4)","v":"Alimentaire Conditionné"},false,0,0,{"$f":"IFERROR(__xludf.DUMMYFUNCTION(\"TO_PURE_NUMBER(G464)\"),0)","v":0},0]
["Tartinade - Clémentine","6€","6",{"$f":"VLOOKUP(A465,Import!A:D,4)","v":"Alimentaire Conditionné"},false,0,0,{"$f":"IFERROR(__xludf.DUMMYFUNCTION(\"TO_PURE_NUMBER(G465)\"),0)","v":0},0]
["Tartinade - de Noël","6€","6",{"$f":"VLOOKUP(A466,Import!A:D,4)","v":"/"},false,0,0,{"$f":"IFERROR(__xludf.DUMMYFUNCTION(\"TO_PURE_NUMBER(G466)\"),0)","v":0},0]
["Tartinade - Figue","6€","6",{"$f":"VLOOKUP(A467,Import!A:D,4)","v":"/"},false,0,0,{"$f":"IFERROR(__xludf.DUMMYFUNCTION(\"TO_PURE_NUMBER(G467)\"),0)","v":0},0]
["Tartinade - Melon Vanille","6€","6",{"$f":"VLOOKUP(A468,Import!A:D,4)","v":"/"},false,0,0,{"$f":"IFERROR(__xludf.DUMMYFUNCTION(\"TO_PURE_NUMBER(G468)\"),0)","v":0},0]
["Tartinade - Mirabelle ","6€","6",{"$f":"VLOOKUP(A469,Import!A:D,4)","v":"/"},false,0,0,{"$f":"IFERROR(__xludf.DUMMYFUNCTION(\"TO_PURE_NUMBER(G469)\"),0)","v":0},0]
["Tartinade - Mûre sauvage","6€","6",{"$f":"VLOOKUP(A470,Import!A:D,4)","v":"/"},false,0,0,{"$f":"IFERROR(__xludf.DUMMYFUNCTION(\"TO_PURE_NUMBER(G470)\"),0)","v":0},0]
["Tartinade - Nectarine Pêche","6€","6",{"$f":"VLOOKUP(A471,Import!A:D,4)","v":"/"},false,0,0,{"$f":"IFERROR(__xludf.DUMMYFUNCTION(\"TO_PURE_NUMBER(G471)\"),0)","v":0},0]
["Tartinade - Nectarine Vanille","6€","6",{"$f":"VLOOKUP(A472,Import!A:D,4)","v":"/"},false,0,0,{"$f":"IFERROR(__xludf.DUMMYFUNCTION(\"TO_PURE_NUMBER(G472)\"),0)","v":0},0]
["Tartinade - Pêche ","6€","6",{"$f":"VLOOKUP(A473,Import!A:D,4)","v":"/"},false,0,0,{"$f":"IFERROR(__xludf.DUMMYFUNCTION(\"TO_PURE_NUMBER(G473)\"),0)","v":0},0]
["Tartinade - Poire Tonka","6€","6",{"$f":"VLOOKUP(A474,Import!A:D,4)","v":"/"},false,0,0,{"$f":"IFERROR(__xludf.DUMMYFUNCTION(\"TO_PURE_NUMBER(G474)\"),0)","v":0},0]
["Tartinade - Pomme Cannelle","6€","6",{"$f":"VLOOKUP(A475,Import!A:D,4)","v":"/"},false,0,0,{"$f":"IFERROR(__xludf.DUMMYFUNCTION(\"TO_PURE_NUMBER(G475)\"),0)","v":0},0]
["Tartinade - Pomme Caramel ","6€","6",{"$f":"VLOOKUP(A476,Import!A:D,4)","v":"/"},false,0,0,{"$f":"IFERROR(__xludf.DUMMYFUNCTION(\"TO_PURE_NUMBER(G476)\"),0)","v":0},0]
["Tartinade - Questche","6€","6",{"$f":"VLOOKUP(A477,Import!A:D,4)","v":"/"},false,0,0,{"$f":"IFERROR(__xludf.DUMMYFUNCTION(\"TO_PURE_NUMBER(G477)\"),0)","v":0},0]
["Tartinade - Tomate verte aux épices ","5€","5",{"$f":"VLOOKUP(A478,Import!A:D,4)","v":"/"},false,0,0,{"$f":"IFERROR(__xludf.DUMMYFUNCTION(\"TO_PURE_NUMBER(G478)\"),0)","v":0},0]
["Tête rechargeable pour brosse vaisselle","2,70€","2,7",{"$f":"VLOOKUP(A479,Import!A:D,4)","v":"Produits d'entretiens"},false,0,0,{"$f":"IFERROR(__xludf.DUMMYFUNCTION(\"TO_PURE_NUMBER(G479)\"),0)","v":0},0]
["Thé Noir - Darjeling ","50€/kg","50",{"$f":"VLOOKUP(A480,Import!A:D,4)","v":"Boisson en vrac"},false,0,0,{"$f":"IFERROR(__xludf.DUMMYFUNCTION(\"TO_PURE_NUMBER(G480)\"),0)","v":0},0]
["Thé Noir - Earl Grey ","60€/kg","60",{"$f":"VLOOKUP(A481,Import!A:D,4)","v":"Boisson en vrac"},false,0,0,{"$f":"IFERROR(__xludf.DUMMYFUNCTION(\"TO_PURE_NUMBER(G481)\"),0)","v":0},0]
["Thé Vert - Au chant des cigales ","60€/kg","60",{"$f":"VLOOKUP(A482,Import!A:D,4)","v":"Boisson en vrac"},false,0,0,{"$f":"IFERROR(__xludf.DUMMYFUNCTION(\"TO_PURE_NUMBER(G482)\"),0)","v":0},0]
["Thé Vert - Earl Grey Azur ","60€/kg","60",{"$f":"VLOOKUP(A483,Import!A:D,4)","v":"Boisson en vrac"},false,0,0,{"$f":"IFERROR(__xludf.DUMMYFUNCTION(\"TO_PURE_NUMBER(G483)\"),0)","v":0},0]
["Thé Vert - Fruité Tropical","60€/kg","60",{"$f":"VLOOKUP(A484,Import!A:D,4)","v":"Boisson en vrac"},false,0,0,{"$f":"IFERROR(__xludf.DUMMYFUNCTION(\"TO_PURE_NUMBER(G484)\"),0)","v":0},0]
["Thé Vert - Gunpowder ","50€/kg","50",{"$f":"VLOOKUP(A485,Import!A:D,4)","v":"Boisson en vrac"},false,0,0,{"$f":"IFERROR(__xludf.DUMMYFUNCTION(\"TO_PURE_NUMBER(G485)\"),0)","v":0},0]
["Thé Vert - Jasmin","65€/kg","65",{"$f":"VLOOKUP(A486,Import!A:D,4)","v":"Boisson en vrac"},false,0,0,{"$f":"IFERROR(__xludf.DUMMYFUNCTION(\"TO_PURE_NUMBER(G486)\"),0)","v":0},0]
["Thé vert mandarine Pamplemousse","60€/kg","60",{"$f":"VLOOKUP(A487,Import!A:D,4)","v":"Boisson en vrac"},false,0,0,{"$f":"IFERROR(__xludf.DUMMYFUNCTION(\"TO_PURE_NUMBER(G487)\"),0)","v":0},0]
["Thé vert menthe Marrakech","60€/kg","60",{"$f":"VLOOKUP(A488,Import!A:D,4)","v":"Boisson en vrac"},false,0,0,{"$f":"IFERROR(__xludf.DUMMYFUNCTION(\"TO_PURE_NUMBER(G488)\"),0)","v":0},0]
["Thym Feuilles ","140€/kg","140",{"$f":"VLOOKUP(A489,Import!A:D,4)","v":"Alimentaire Vrac"},false,{"$f":"VLOOKUP(A489,'Alimentaire vrac'!A:F,6)","v":0},0,{"$f":"IFERROR(__xludf.DUMMYFUNCTION(\"TO_PURE_NUMBER(G489)\"),0)","v":0},0]
["Tikka Masala aux légumes et pois chiches - 360g","4,50€","4,5",{"$f":"VLOOKUP(A490,Import!A:D,4)","v":"Alimentaire Vrac"},false,0,0,{"$f":"IFERROR(__xludf.DUMMYFUNCTION(\"TO_PURE_NUMBER(G490)\"),0)","v":0},0]
["Tisane - Après Repas","50€/kg","50",{"$f":"VLOOKUP(A491,Import!A:D,4)","v":"Boisson en vrac"},false,0,0,{"$f":"IFERROR(__xludf.DUMMYFUNCTION(\"TO_PURE_NUMBER(G491)\"),0)","v":0},0]
["Tisane - Camomille","60€/kg","60",{"$f":"VLOOKUP(A492,Import!A:D,4)","v":"Boisson en vrac"},false,0,0,{"$f":"IFERROR(__xludf.DUMMYFUNCTION(\"TO_PURE_NUMBER(G492)\"),0)","v":0},0]
["Tisane - Du soir ","50€/kg","50",{"$f":"VLOOKUP(A493,Import!A:D,4)","v":"Boisson en vrac"},false,0,0,{"$f":"IFERROR(__xludf.DUMMYFUNCTION(\"TO_PURE_NUMBER(G493)\"),0)","v":0},0]
["Tisane - Hibiscus","50€/kg","50",{"$f":"VLOOKUP(A494,Import!A:D,4)","v":"Boisson en vrac"},false,0,0,{"$f":"IFERROR(__xludf.DUMMYFUNCTION(\"TO_PURE_NUMBER(G494)\"),0)","v":0},0]
["Tisane - La mésange bleue ","50€/kg","50",{"$f":"VLOOKUP(A495,Import!A:D,4)","v":"Boisson en vrac"},false,0,0,{"$f":"IFERROR(__xludf.DUMMYFUNCTION(\"TO_PURE_NUMBER(G495)\"),0)","v":0},0]
["Tisane - Verveine citronnée ","50€/kg","50",{"$f":"VLOOKUP(A496,Import!A:D,4)","v":"Boisson en vrac"},false,0,0,{"$f":"IFERROR(__xludf.DUMMYFUNCTION(\"TO_PURE_NUMBER(G496)\"),0)","v":0},0]
["Tisane des elfes","60€/kg","60",{"$f":"VLOOKUP(A497,Import!A:D,4)","v":"Boisson en vrac"},false,0,0,{"$f":"IFERROR(__xludf.DUMMYFUNCTION(\"TO_PURE_NUMBER(G497)\"),0)","v":0},0]
["Tortillas ","29€/kg","29",{"$f":"VLOOKUP(A498,Import!A:D,4)","v":"Boisson en vrac"},false,{"$f":"VLOOKUP(A498,'Alimentaire vrac'!A:F,6)","v":0},0,{"$f":"IFERROR(__xludf.DUMMYFUNCTION(\"TO_PURE_NUMBER(G498)\"),0)","v":0},0]
["Tranches d’Ananas Séchées","25€/kg","22",{"$f":"VLOOKUP(A499,Import!A:D,4)","v":"Boisson en vrac"},false,{"$f":"VLOOKUP(A499,'Alimentaire vrac'!A:F,6)","v":0},0,{"$f":"IFERROR(__xludf.DUMMYFUNCTION(\"TO_PURE_NUMBER(G499)\"),0)","v":0},0]
["Trio de Riz de Camargue ","6€/kg","6",{"$f":"VLOOKUP(A500,Import!A:D,4)","v":"Boisson en vrac"},false,{"$f":"VLOOKUP(A500,'Alimentaire vrac'!A:F,6)","v":0},0,{"$f":"IFERROR(__xludf.DUMMYFUNCTION(\"TO_PURE_NUMBER(G500)\"),0)","v":0},0]
["Vermicelles Blanches","2,95€/kg",2.95,{"$f":"VLOOKUP(A501,Import!A:D,4)","v":"Boisson en vrac"},false,{"$f":"VLOOKUP(A501,'Alimentaire vrac'!A:F,6)","v":0},0,{"$f":"IFERROR(__xludf.DUMMYFUNCTION(\"TO_PURE_NUMBER(G501)\"),0)","v":0},0]
["Vinaigre Balsamique","8,50€/kg","8,5",{"$f":"VLOOKUP(A502,Import!A:D,4)","v":"Alimentaire Vrac"},false,{"$f":"VLOOKUP(A502,'Alimentaire vrac'!A:F,6)","v":0},0,{"$f":"IFERROR(__xludf.DUMMYFUNCTION(\"TO_PURE_NUMBER(G502)\"),0)","v":0},0]
["Vinaigre balsamique de Modène - 50cl","5,50€/kg","5,5",{"$f":"VLOOKUP(A503,Import!A:D,4)","v":"Alimentaire Conditionné"},false,0,0,{"$f":"IFERROR(__xludf.DUMMYFUNCTION(\"TO_PURE_NUMBER(G503)\"),0)","v":0},0]
["Vinaigre Blanc Naturel 14° Vrac- Bulle Verte","4,90€/kg","4,9",{"$f":"VLOOKUP(A504,Import!A:D,4)","v":"Produits d'entretiens"},false,0,0,{"$f":"IFERROR(__xludf.DUMMYFUNCTION(\"TO_PURE_NUMBER(G504)\"),0)","v":0},0]
["Vinaigre de Cidre ","4,50€/kg","4,5",{"$f":"VLOOKUP(A505,Import!A:D,4)","v":"Alimentaire Vrac"},false,{"$f":"VLOOKUP(A505,'Alimentaire vrac'!A:F,6)","v":0},0,{"$f":"IFERROR(__xludf.DUMMYFUNCTION(\"TO_PURE_NUMBER(G505)\"),0)","v":0},0]
["Vinaigre de Vin Rouge","3,75€/kg",3.75,{"$f":"VLOOKUP(A506,Import!A:D,4)","v":"Alimentaire Vrac"},false,{"$f":"VLOOKUP(A506,'Alimentaire vrac'!A:F,6)","v":0},0,{"$f":"IFERROR(__xludf.DUMMYFUNCTION(\"TO_PURE_NUMBER(G506)\"),0)","v":0},0]
[null,null,null,null,false]
[null,null,null,null,false]
[null,null,null,null,false]
[null,null,null,null,false]
[null,null,null,null,false]
[null,null,null,null,false]
[null,null,null,null,false]
[null,null,null,null,false]
[null,null,null,null,false]
[null,null,null,null,false]
[null,null,null,null,false]
[null,null,null,null,false]
[null,null,null,null,false]
[null,null,null,null,false]
[null,null,null,null,false]
[null,null,null,null,false]
[null,null,null,null,false]
[null,null,null,null,false]
[null,null,null,null,false]
[null,null,null,null,false]
[null,null,null,null,false]
[null,null,null,null,false]
[null,null,null,null,false]
[null,null,null,null,false]
[null,null,null,null,false]
[null,null,null,null,false]
[null,null,null,null,false]
[null,null,null,null,false]
[null,null,null,null,false]
[null,null,null,null,false]
[null,null,null,null,false]
[null,null,null,null,false]
[null,null,null,null,false]
[null,null,null,null,false]
[null,null,null,null,false]
[null,null,null,null,false]
[null,null,null,null,false]
[null,null,null,null,false]
[null,null,null,null,false]
[null,null,null,null,false]
[null,null,null,null,false]
[null,null,null,null,false]
[null,null,null,null,false]
[null,null,null,null,false]
[null,null,null,null,false]
[null,null,null,null,false]
[null,null,null,null,false]
[null,null,null,null,false]
[null,null,null,null,false]
[null,null,null,null,false]
[null,null,null,null,false]
[null,null,null,null,false]
[null,null,null,null,false]
[null,null,null,null,false]
[null,null,null,null,false]
[null,null,null,null,false]
[null,null,null,null,false]
[null,null,null,null,false]
[null,null,null,null,false]
[null,null,null,null,false]
[null,null,null,null,false]
[null,null,null,null,false]
[null,null,null,null,false]
[null,null,null,null,false]
[null,null,null,null,false]
[null,null,null,null,false]
[null,null,null,null,false]
[null,null,null,null,false]
[null,null,null,null,false]
[null,null,null,null,false]
[null,null,null,null,false]
[null,null,null,null,false]
[null,null,null,null,false]
[null,null,null,null,false]
[null,null,null,null,false]
[null,null,null,null,false]
[null,null,null,null,false]
[null,null,null,null,false]
[null,null,null,null,false]
[null,null,null,null,false]
[null,null,null,null,false]
[null,null,null,null,false]
[null,null,null,null,false]
[null,null,null,null,false]
[null,null,null,null,false]
[null,null,null,null,false]
[null,null,null,null,false]
[null,null,null,null,false]
[null,null,null,null,false]
[null,null,null,null,false]
[null,null,null,null,false]
[null,null,null,null,false]
[null,null,null,null,false]
[null,null,null,null,false]
[null,null,null,null,false]
[null,null,null,null,false]
[null,null,null,null,false]
[null,null,null,null,false]
[null,null,null,null,false]
[null,null,null,null,false]
[null,null,null,null,false]
[null,null,null,null,false]
[null,null,null,null,false]
[null,null,null,null,false]
[null,null,null,null,false]
[null,null,null,null,false]
[null,null,null,null,false]
[null,null,null,null,false]
[null,null,null,null,false]
[null,null,null,null,false]
[null,null,null,null,false]
[null,null,null,null,false]
[null,null,null,null,false]
[null,null,null,null,false]
[null,null,null,null,false]
[null,null,null,null,false]
[null,null,null,null,false]
[null,null,null,null,false]
[null,null,null,null,false]
[null,null,null,null,false]
[null,null,null,null,false]
[null,null,null,null,false]
[null,null,null,null,false]
[null,null,null,null,false]
[null,null,null,null,false]
[null,null,null,null,false]
[null,null,null,null,false]
[null,null,null,null,false]
[null,null,null,null,false]
[null,null,null,null,false]
[null,null,null,null,false]
[null,null,null,null,false]
[null,null,null,null,false]
[null,null,null,null,false]
[null,null,null,null,false]
[null,null,null,null,false]
[null,null,null,null,false]
[null,null,null,null,false]
[null,null,null,null,false]
[null,null,null,null,false]
[null,null,null,null,false]
[null,null,null,null,false]
[null,null,null,null,false]
[null,null,null,null,false]
[null,null,null,null,false]
[null,null,null,null,false]
[null,null,null,null,false]
[null,null,null,null,false]
[null,null,null,null,false]
[null,null,null,null,false]
[null,null,null,null,false]
[null,null,null,null,false]
[null,null,null,null,false]
[null,null,null,null,false]
[null,null,null,null,false]
[null,null,null,null,false]
[null,null,null,null,false]
[null,null,null,null,false]
[null,null,null,null,false]
[null,null,null,null,false]
[null,null,null,null,false]
[null,null,null,null,false]
[null,null,null,null,false]
[null,null,null,null,false]
[null,null,null,null,false]
[null,null,null,null,false]
[null,null,null,null,false]
[null,null,null,null,false]
[null,null,null,null,false]
[null,null,null,null,false]
[null,null,null,null,false]
[null,null,null,null,false]
[null,null,null,null,false]
[null,null,null,null,false]
[null,null,null,null,false]
[null,null,null,null,false]
[null,null,null,null,false]
[null,null,null,null,false]
[null,null,null,null,false]
[null,null,null,null,false]
[null,null,null,null,false]
[null,null,null,null,false]
[null,null,null,null,false]
[null,null,null,null,false]
[null,null,null,null,false]
[null,null,null,null,false]
[null,null,null,null,false]
[null,null,null,null,false]
[null,null,null,null,false]
[null,null,null,null,false]
[null,null,null,null,false]
[null,null,null,null,false]
[null,null,null,null,false]
[null,null,null,null,false]
[null,null,null,null,false]
[null,null,null,null,false]
[null,null,null,null,false]
[null,null,null,null,false]
[null,null,null,null,false]
[null,null,null,null,false]
[null,null,null,null,false]
[null,null,null,null,false]
[null,null,null,null,false]
[null,null,null,null,false]
[null,null,null,null,false]
[null,null,null,null,false]
[null,null,null,null,false]
[null,null,null,null,false]
[null,null,null,null,false]
[null,null,null,null,false]
[null,null,null,null,false]
[null,null,null,null,false]
[null,null,null,null,false]
[null,null,null,null,false]
[null,null,null,null,false]
[null,null,null,null,false]
[null,null,null,null,false]
[null,null,null,null,false]
[null,null,null,null,false]
[null,null,null,null,false]
[null,null,null,null,false]
[null,null,null,null,false]
[null,null,null,null,false]
[null,null,null,null,false]
[null,null,null,null,false]
[null,null,null,null,false]
[null,null,null,null,false]
[null,null,null,null,false]
[null,null,null,null,false]
[null,null,null,null,false]
[null,null,null,null,false]
[null,null,null,null,false]
[null,null,null,null,false]
[null,null,null,null,false]
[null,null,null,null,false]
[null,null,null,null,false]
[null,null,null,null,false]
[null,null,null,null,false]
[null,null,null,null,false]
[null,null,null,null,false]
[null,null,null,null,false]
[null,null,null,null,false]
[null,null,null,null,false]
[null,null,null,null,false]
[null,null,null,null,false]
[null,null,null,null,false]
[null,null,null,null,false]
[null,null,null,null,false]
[null,null,null,null,false]
[null,null,null,null,false]
[null,null,null,null,false]
[null,null,null,null,false]
[null,null,null,null,false]
[null,null,null,null,false]
[null,null,null,null,false]
[null,null,null,null,false]
[null,null,null,null,false]
[null,null,null,null,false]
[null,null,null,null,false]
[null,null,null,null,false]
[null,null,null,null,false]
[null,null,null,null,false]
[null,null,null,null,false]
[null,null,null,null,false]
[null,null,null,null,false]
[null,null,null,null,false]
[null,null,null,null,false]
[null,null,null,null,false]
[null,null,null,null,false]
[null,null,null,null,false]
[null,null,null,null,false]
[null,null,null,null,false]
[null,null,null,null,false]
[null,null,null,null,false]
[null,null,null,null,false]
[null,null,null,null,false]
[null,null,null,null,false]
[null,null,null,null,false]
[null,null,null,null,false]
[null,null,null,null,false]
[null,null,null,null,false]
[null,null,null,null,false]
[null,null,null,null,false]
[null,null,null,null,false]
[null,null,null,null,false]
[null,null,null,null,false]
[null,null,null,null,false]
[null,null,null,null,false]
[null,null,null,null,false]
[null,null,null,null,false]
[null,null,null,null,false]
[null,null,null,null,false]
[null,null,null,null,false]
[null,null,null,null,false]
[null,null,null,null,false]
[null,null,null,null,false]
[null,null,null,null,false]
[null,null,null,null,false]
[null,null,null,null,false]
[null,null,null,null,false]
[null,null,null,null,false]
[null,null,null,null,false]
[null,null,null,null,false]
[null,null,null,null,false]
[null,null,null,null,false]
[null,null,null,null,false]
[null,null,null,null,false]
[null,null,null,null,false]
[null,null,null,null,false]
[null,null,null,null,false]
[null,null,null,null,false]
[null,null,null,null,false]
[null,null,null,null,false]
[null,null,null,null,false]
[null,null,null,null,false]
[null,null,null,null,false]
[null,null,null,null,false]
[null,null,null,null,false]
[null,null,null,null,false]
[null,null,null,null,false]
[null,null,null,null,false]
[null,null,null,null,false]
[null,null,null,null,false]
[null,null,null,null,false]
[null,null,null,null,false]
[null,null,null,null,false]
[null,null,null,null,false]
[null,null,null,null,false]
[null,null,null,null,false]
[null,null,null,null,false]
[null,null,null,null,false]
[null,null,null,null,false]
[null,null,null,null,false]
[null,null,null,null,false]
[null,null,null,null,false]
[null,null,null,null,false]
[null,null,null,null,false]
[null,null,null,null,false]
[null,null,null,null,false]
[null,null,null,null,false]
[null,null,null,null,false]
[null,null,null,null,false]
[null,null,null,null,false]
[null,null,null,null,false]
[null,null,null,null,false]
[null,null,null,null,false]
[null,null,null,null,false]
[null,null,null,null,false]
[null,null,null,null,false]
[null,null,null,null,false]
[null,null,null,null,false]
[null,null,null,null,false]
[null,null,null,null,false]
[null,null,null,null,false]
[null,null,null,null,false]
[null,null,null,null,false]
[null,null,null,null,false]
[null,null,null,null,false]
[null,null,null,null,false]
[null,null,null,null,false]
[null,null,null,null,false]
[null,null,null,null,false]
[null,null,null,null,false]
[null,null,null,null,false]
[null,null,null,null,false]
[null,null,null,null,false]
[null,null,null,null,false]
[null,null,null,null,false]
[null,null,null,null,false]
[null,null,null,null,false]
[null,null,null,null,false]
[null,null,null,null,false]
[null,null,null,null,false]
[null,null,null,null,false]
[null,null,null,null,false]
[null,null,null,null,false]
[null,null,null,null,false]
[null,null,null,null,false]
[null,null,null,null,false]
[null,null,null,null,false]
[null,null,null,null,false]
[null,null,null,null,false]
[null,null,null,null,false]
[null,null,null,null,false]
[null,null,null,null,false]
[null,null,null,null,false]
[null,null,null,null,false]
[null,null,null,null,false]
[null,null,null,null,false]
[null,null,null,null,false]
[null,null,null,null,false]
[null,null,null,null,false]
[null,null,null,null,false]
[null,null,null,null,false]
[null,null,null,null,false]
[null,null,null,null,false]
[null,null,null,null,false]
[null,null,null,null,false]
[null,null,null,null,false]
[null,null,null,null,false]
[null,null,null,null,false]
[null,null,null,null,false]
[null,null,null,null,false]
[null,null,null,null,false]
[null,null,null,null,false]
[null,null,null,null,false]
[null,null,null,null,false]
[null,null,null,null,false]
[null,null,null,null,false]
[null,null,null,null,false]
[null,null,null,null,false]
[null,null,null,null,false]
[null,null,null,null,false]
[null,null,null,null,false]
[null,null,null,null,false]
[null,null,null,null,false]
[null,null,null,null,false]
[null,null,null,null,false]
[null,null,null,null,false]
[null,null,null,null,false]
[null,null,null,null,false]
[null,null,null,null,false]
[null,null,null,null,false]
[null,null,null,null,false]
[null,null,null,null,false]
[null,null,null,null,false]
[null,null,null,null,false]
[null,null,null,null,false]
[null,null,null,null,false]
[null,null,null,null,false]
[null,null,null,null,false]
[null,null,null,null,false]
[null,null,null,null,false]
[null,null,null,null,false]
[null,null,null,null,false]
[null,null,null,null,false]
[null,null,null,null,false]
[null,null,null,null,false]
[null,null,null,null,false]
[null,null,null,null,false]
[null,null,null,null,false]
[null,null,null,null,false]
[null,null,null,null,false]
[null,null,null,null,false]
[null,null,null,null,false]
[null,null,null,null,false]
[null,null,null,null,false]
[null,null,null,null,false]
[null,null,null,null,false]
[null,null,null,null,false]
[null,null,null,null,false]
[null,null,null,null,false]
[null,null,null,null,false]
[null,null,null,null,false]
[null,null,null,null,false]
[null,null,null,null,false]
[null,null,null,null,false]
[null,null,null,null,false]
[null,null,null,null,false]
[null,null,null,null,false]
[null,null,null,null,false]
[null,null,null,null,false]
[null,null,null,null,false]
[null,null,null,null,false]
[null,null,null,null,false]
[null,null,null,null,false]
[null,null,null,null,false]
[null,null,null,null,false]
[null,null,null,null,false]
[null,null,null,null,false]
[null,null,null,null,false]
[null,null,null,null,false]
[null,null,null,null,false]
[null,null,null,null,false]
[null,null,null,null,false]
[null,null,null,null,false]
[null,null,null,null,false]
[null,null,null,null,false]
[null,null,null,null,false]
[null,null,null,null,false]
[null,null,null,null,false]
[null,null,null,null,false]
[null,null,null,null,false]
[null,null,null,null,false]
[null,null,null,null,false]
[null,null,null,null,false]
[null,null,null,null,false]
[null,null,null,null,false]
[null,null,null,null,false]
[null,null,null,null,false]
[null,null,null,null,false]
[null,null,null,null,false]
[null,null,null,null,false]
[null,null,null,null,false]
[null,null,null,null,false]
[null,null,null,null,false]

{"sheet":"Données","index":13,"n_rows":18,"n_cols":1,"rows_kept":18,"cut":false,"hidden":false,"merged":[]}
[0]
["100G"]
["250G"]
["500G"]
["1 Kilo"]
[1]
[2]
[3]
[4]
[5]
[0]
["10G"]
["50G"]
["100G"]
["250G"]
["500G"]
["1 Kilo"]
[0]